{"text_format":"1","workbook":"xlsx","n_sheets":26,"sheets":["ÍNDICE DE CONTENIDOS","Datos Generales Edificio","Resumen requerimientos","Tablas2","Resumen Recintos","Ingreso de resultados previos","Evaluacion ARQ.CAI Obligat.","Evaluacion INST.CAI Obligat.","Evaluacion ARQ.Energia Obligat.","Evaluacion ARQ.Agua Obligat.","Evaluacion INST.Energia Obligat","Evaluacion INST.AGUA Obligat","Evaluacion CONST.Residuos Oblig","Resumen Criterios","Evaluacion ARQ.CAI Voluntarios","Evaluacion ARQ.Energia Voluntar","Evaluacion ARQ.Agua Voluntarios","Evaluacion ARQ.Residuos Volunta","Evaluacion INST.CAI Voluntarios","Evaluacion INST.Energia Volunta","Evaluacion INST.AGUA Voluntario","Evaluacion CONST.Residuos Volun","Evaluacion GESTION Voluntarios","RESUMEN GENERAL","Documentos","Informe"],"not_rendered":{"charts":0,"images":3,"macros":1,"external_links":0,"defined_names":69,"comments":7,"pivot_tables":0},"unopened":[],"bounds":{"document_bytes":16777216,"sheet_cells":100000,"rows_first":2000,"rows_last":500,"rows_between":2000,"halvings":0,"cell_chars":16384,"cell_head_chars":4096},"cells_cut":0,"cells_raw":0,"read":"whole","date_system":"1900"}

{"sheet":"ÍNDICE DE CONTENIDOS","index":0,"n_rows":33,"n_cols":5,"rows_kept":33,"cut":false,"hidden":false,"merged":[[23,1,28,1],[1,1,1,4],[2,1,2,2],[4,1,4,4],[5,1,5,3],[7,1,7,4],[8,1,8,2],[9,1,9,2],[9,3,10,3],[10,1,10,2],[12,1,18,1]]}
[]
[null,"HERRAMIENTA DE EVALUACIÓN CES"]
[null,"Versión: 1.3.beta_2014.12.22"]
[]
[null,"La herramienta de Evaluación es una planilla creada con el software Microsoft® Excel, la cual permite realizar la evaluación de cumplimiento de los requerimientos del sistema de certificación. La evaluación se realiza en base a los valores de los indicadores ingresados por el usuario para los distintos parámetros del edificio y/o de los grupos de recintos. Para descargar el manual de uso, ir a:\n\n"]
[null,"http://www.certificacionsustentable.cl/descarga-de-documentos"]
[]
[null,"INDICE"]
[null,"Datos Generales Edificio",null,"Nota 1: Debe ser consistente con el documento de solicitud del cliente","pag. 2"]
[null,"Resumen Recintos",null,"Nota 2: Completar datos solo en el caso de haber utilizado la Herramienta de Cálculo CES para evaluación de Energía, Iluminación y Ventilación natural","pag. 3"]
[null,"Ingreso de resultados previos",null,null,"pag. 4"]
[]
[null,"Requerimientos Obligatorios","Evaluación Requerimientos ARQ.CAI ","requerimientos 2R, 3R y 4R...………………………………………………………………..","pag. 5"]
[null,null,"Evaluación Requerimientos ARQ.Energia ","requerimientos 5R y 6R….……………………………………………………………………..","pag. 6"]
[null,null,"Evaluación Requerimientos ARQ.Agua ","requerimiento 8R..…………………………………………………………………………………","pag. 7"]
[null,null,"Evaluación Requerimientos INST.CAI ","requerimientos 11R1, 11R2, 11R3, 13R y 14R…..…………………………………","pag. 8"]
[null,null,"Evaluación Requerimientos INST.Energia ","requerimiento 16R…………….…………………………………………………………………..","pag. 9"]
[null,null,"Evaluación Requerimientos INST.AGUA ","requerimientos 19R y 20R……………………………………………………………………..","pag. 10"]
[null,null,"Evaluación Requerimientos CONST.Residuos ","requerimiento 21R……..………………………………………………………………………….","pag. 11"]
[]
[null,null,"Evaluación Requerimientos ARQ.CAI ","requerimientos 1, 2.1, 2.2, 3.1, 3.2, 4.1 y 4.2………………………………………..","pag. 12"]
[null,null,"Evaluación Requerimientos ARQ.Energia ","requerimientos 5, 6 y 7……………………………….…………………………………………","pag. 13"]
[null,null,"Evaluación Requerimientos ARQ.Agua ","requerimientos 8 y 9…………..………………………………………………………………….","pag. 14"]
[null,"Requerimientos Voluntarios","Evaluación Requerimientos ARQ.Residuos ","requerimiento 10………….………………………………………………………………………..","pag. 15"]
[null,null,"Evaluación Requerimientos INST.CAI ","requerimientos 11.1, 11.2, 11.3, 12, 13 y 14…….…………………………………..","pag. 16"]
[null,null,"Evaluación Requerimientos INST.Energia ","requerimientos 15.1, 15.2, 16.1, 16.2, 17 y 18………………………………………","pag. 17"]
[null,null,"Evaluación Requerimientos INST.AGUA ","requerimientos 19.1, 19.2 y 20…………...………………………………………………..","pag. 18"]
[null,null,"Evaluación Requerimientos CONST.Residuos ","requerimiento 21……………………..…………………………………………………………….","pag. 19"]
[null,null,"Evaluación Requerimientos GESTION ","requerimientos 22 y 23.…………………………………………………………………………","pag. 20"]
[]
[null,null,"RESUMEN GENERAL","………………………………………………………………………………………………………","pag. 21"]
[null,null,"Checklist de Documentos","………………………………………………………………………………………………………","pag. 22"]
[null,null,"Informe de Evaluación","………………………………………………………………………………………………………","pag. 23"]

{"sheet":"Datos Generales Edificio","index":1,"n_rows":54,"n_cols":15,"rows_kept":54,"cut":false,"hidden":false,"merged":[[11,6,11,7],[12,6,12,7],[13,6,13,7],[13,8,13,10],[9,8,9,10],[10,8,10,10],[11,8,11,10],[12,8,12,10],[5,11,5,12],[6,11,6,12],[7,11,7,12],[8,11,8,12],[9,11,9,12],[10,11,10,12],[9,6,9,7],[10,6,10,7],[2,8,2,10],[3,8,3,10],[2,6,2,7],[3,6,3,7],[4,6,4,7],[5,6,5,7],[6,6,6,7],[7,6,7,7],[8,6,8,7],[4,8,4,10],[5,8,5,10],[6,8,6,10],[7,8,7,10],[8,8,8,10],[13,1,13,2],[31,5,31,6],[31,1,31,4],[27,5,27,6],[28,5,28,6],[29,5,29,6],[26,1,26,4],[26,5,26,6],[29,1,29,4],[30,1,30,4],[30,5,30,6],[25,1,25,12],[16,1,18,12],[20,1,22,12],[13,11,13,12],[53,5,53,6],[53,1,53,4],[52,8,52,12],[53,8,53,12],[46,8,46,12],[47,8,47,12],[46,5,46,6],[47,5,47,6],[48,5,48,6],[49,8,49,12],[48,8,48,12],[50,8,50,12],[51,8,51,12],[44,5,44,6],[52,1,52,4],[52,5,52,6],[45,1,45,4],[43,5,43,6],[45,5,45,6],[47,1,47,4],[49,5,49,6],[48,1,48,4],[49,1,49,4],[46,1,46,4],[50,1,50,4],[51,1,51,4],[50,5,50,6],[51,5,51,6],[45,8,45,12],[42,8,42,12],[43,8,43,12],[5,2,5,5],[3,2,3,5],[7,1,7,2],[8,1,8,2],[10,1,10,2],[27,1,27,4],[28,1,28,4],[26,8,26,12],[32,5,32,6],[32,1,32,4],[42,1,42,4],[28,8,28,12],[29,8,29,12],[31,8,31,12],[30,8,30,12],[33,1,33,4],[44,8,44,12],[37,8,37,12],[32,8,32,12],[43,1,43,4],[44,1,44,4],[1,1,1,12],[3,11,3,12],[4,11,4,12],[2,11,2,12],[2,2,2,5],[4,2,4,5],[9,3,9,5],[38,1,38,4],[34,1,34,4],[34,5,34,6],[37,5,37,6],[37,1,37,4],[27,8,27,12],[6,2,6,3],[11,1,11,2],[12,1,12,2],[19,1,19,12],[15,1,15,12],[12,3,12,5],[11,11,11,12],[12,11,12,12],[11,3,11,5],[10,3,10,5],[13,3,13,5],[42,5,42,6],[33,8,33,12],[38,5,38,6],[38,8,38,12],[39,8,39,12],[34,8,34,12],[39,1,39,4],[39,5,39,6],[40,1,40,4],[40,5,40,6],[41,1,41,4],[41,5,41,6],[33,5,33,6],[35,1,35,4],[35,5,35,6],[36,1,36,4],[36,5,36,6]]}
[null,"Volver al índice"]
[null,"Identificación del Proyecto"]
[null,"Nombre del proyecto","Escuela Proceres del Bío Bío",null,null,null,"Especialista",null,"Nombre del especialista",null,null,"R.U.T"]
[null,"Destino","Oficinas",null,null,null,"Arquitecto",null,"arq",null,null,"15.339.379-6"]
[null,"Región","RM - Región Metropolitana de Santiago",null,null,null,"EE o Sustentabilidad",null,"asesor ",null,null,"rut asesor"]
[null,"Comuna","San José de Maipo",null,null,null,"Clima y ventilación",null,"clima",null,null,"rut clima"]
[null,"Calle","El río",null,"N°",2050,"Electricidad",null,"elec",null,null,"rut elec"]
[null,"Permiso de edificación N°",null,null,"Fecha",null,"Iluminación",null,"ilumin",null,null,"rut ilumin"]
[null,"Recepción municipal",null,null,"Fecha",null,"Sanitario",null,"sanit",null,null,"rut sanit"]
[null,"Propietario",null,null,null,null,"Acústico",null,"acústico",null,null,"rut acústico",null,null,"se eliminó al encargado del proyecto"]
[null,"Mandante",null,null,null,null,"Residuos",null,"Residuos",null,null,"rut residuos"]
[null,"Evaluador CES",null,null,null,null,"Paisajismo y riego",null,"paisajismo",null,null,"rut paisaj"]
[null,"Rut Evaluador CES",null,null,null,null,"Otro (anotar)",null,"otro 1",null,null,"rut otro 1"]
[null,"Versión de la certificación",null,null,null,null,"Otro (anotar)",null,"otro 2",null,null,"rut otro 2"]
[]
[null,"Descripción de estrategia y recursos utilizados (redactar):"]
[]
[]
[]
[null,"Identificación de software utilizados (nombre y versión)"]
[]
[]
[]
[]
[]
[null,"Caracterización general del Proyecto"]
[null,"Características Generales",null,null,null,"Información",null,"Unidad","Ubicación de la información",null,null,null,null,null,"Se reordenaron todos estos recuadros"]
[null,"Zona climática",null,null,null,"CI - Central Interior",null,"NCh 1079","NCh 1079 of2008"]
[null,"Superficie construida sin estacionamientos",null,null,null,25000,null,"[m²]","Proyecto / Formulario INE"]
[null,"Superficie útil sin estacionamientos",null,null,null,24000,null,"[m²]","Cuadro de superficies"]
[null,"Superficie de estacionamientos",null,null,null,2000,null,"[m²]","Cuadro de superficies",null,null,null,null,null,"se agregó  superficie estacionamientos"]
[null,"Altura útil ",null,null,null,2.5,null,"[m]",null,null,null,null,null,null,"se eliminó uso principal  ya que está en sección Destino en Identificación"]
[null,"Pisos sobre nivel 0",null,null,null,2,null,"Pisos","Planos de arquitectura"]
[null,"Es un edificio nuevo?",null,null,null,"Si",null,"si/no"]
[null,"Características de la Ventilación",null,null,null,"Información",null,"Unidad","Ubicación de la información"]
[null,"¿El edificio posee ventilación mecánica?",null,null,null,"No",null,"si/no"]
[null,"¿El edificio posee ventilación natural?",null,null,null,"No",null,"si/no"]
[null,"Metodología de cálculo para las RAH por ventilación natural (Variable ARQ.CAI.3.1)",null,null,null,"TDR MOP (opción 1)",null,"Opción",null,null,null,null,null,null,"se eliminan daos de ventilación natural"]
[null,"Especifique criterio de Caudal de Aire Mínimo (CAM) (Variable ARQ.CAI.3.1)",null,null,null,"ASHRAE 62.1 - 2007",null,"Criterio de cálculo"]
[null,"¿Se especifica extracción forzada para recintos con fuentes contaminantes? (Variable INST.CAI.11.1)",null,null,null,"No hay recintos contaminantes en el edificio",null,"si/no/\nno hay RC",null,null,null,null,null,null,"verificar si opción \"No hay recintos contaminantes en el edificio\" otorga máximo puntaje o no"]
[null,"El edificio posee lucernarios en cubierta (variable ARQ.Energia 5)",null,null,null,"No",null,"si/no"]
[null,"Cantidad de materiales estructurales del edificio (variable ARQ.ENERGIA 7 y ARQ.AGUA 9)",null,null,null,2,null,"Cantidad materiales"]
[null,"Características acústicas",null,null,null,"Información",null,"Unidad","Ubicación de la información"]
[null,"Nivel Equivalente Diurno (NED) (Variable ARQ.CAI 4.1)",null,null,null,60,null,"[dB(A)]"]
[null,"Características de los equipos de climatización",null,null,null,"Información",null,"Unidad","Ubicación de la información"]
[null,"Espesor aislación de cañerías de conducción de LÍQUIDO para CLIMATIZACION (requerimiento obligatorio INST. Energía 16R)",null,null,null,20,null,"[mm]","Memoria técnica - Si el proyecto no considera este ítem, deje el campo en blanco"]
[null,"Espesor aislación de cañerías de AGUA CALIENTE SANITARIA (requerimiento obligatorio INST. Energía 16R)",null,null,null,10,null,"[mm]","Memoria técnica - Si el proyecto no considera este ítem, deje el campo en blanco"]
[null,"Espesor de aislación de ductos de AIRE para CLIMATIZACIÓN en el INTERIOR de la envolvente (requerimiento obligatorio INST. Energía 16R)",null,null,null,20,null,"[mm]","Memoria técnica - Si el proyecto no considera este ítem, deje el campo en blanco"]
[null,"Espesor de aislación de ductos de AIRE para CLIMATIZACIÓN en el EXTERIOR de la envolvente (requerimiento obligatorio INST. Energía 16R)",null,null,null,20,null,"[mm]","Memoria técnica - Si el proyecto no considera este ítem, deje el campo en blanco"]
[null,"Sistema calefacción  (Variable INST. Energía 16.2 - Opción 2)",null,null,null,"Calefacción por combustión",null,"[-]","Proyecto",null,null,null,null,null,"arreglar opciones "]
[null,"Seleccione sistema de calefacción (Variable INST.ENERGIA 15 a 18 - Opción 1)",null,null,null,"Caldera Petróleo",null,"Sistema de calefacción","Tabla 28 del apéndice 9 , del Manual de Evaluación y Calificación"]
[null,"Seleccione sistema de refrigeración (Variable INST.ENERGIA 15 a 18 - Opción 1)",null,null,null,"Compresor - centrífugo",null,"Sistema de refrigeración","Tabla 28 del apéndice 9 , del Manual de Evaluación y Calificación"]
[null,"Característica consumo de agua y riego",null,null,null,"Información",null,"Unidad","Ubicación de la información"]
[null,"Indique el nivel de precipitaciones de la zona donde se encuentra el edificio (Requisito INST.Agua 20R)",null,null,null,"menor a 500 mm",null,"[mm]"]

{"sheet":"Resumen requerimientos","index":2,"n_rows":104,"n_cols":36,"rows_kept":104,"cut":false,"hidden":true,"merged":[]}
[null,null,null,null,"o","o",null,null,null,"o","o",null,null,null,"o","o",null,null,null,"o","Disminución demanda de energía [%]",0.18,0.18,1,null,"No",null,"No"]
[]
[1,2,3,4,5,6,7,8,9,10,11,12,13,14,15,16,17,18,19,20,21,22,23,24,25,26,27,28,27,28,29,30,31,32,33,34]
["Correlativo","Código metodología","Código Referencia","Crédito / Requisito","N categoria","Categoría todos","Categoría","% categoría","% categoría educ. y salud","N variable","Variable todas","Variable","% Variable","% Variable educ. y salud","N subvariable","Sub Variable todas","Sub Variable","% sub variable","% educación y salud","N requerimienti","Indicador / requerimiento","Puntaje Requerimiento Oficinas y Servicios","Puntaje Educación y Salud","Opción","Total opciones","Simultáneo","Total simultáneo","Adicional","Prescriptiva","Prestacional Estática","Prestacional Dinámica","Análisis realizado","Puntaje obtenido","Cumplimiento RequisitoMinimo","Cómo se puede resolver","va a ir siempre?"]
[1,"ARQ.CAI.1",{"$f":"+CONCATENATE(E5,\".\",J5,\".\",O5)","v":"1.1.1"},"C",1,"Arquitectura - CAI","Arquitectura - CAI",{"$f":"+SUM(M5:M25)","v":4.3650000000000002},{"$f":"+SUM(N5:N25)","v":4.3550000000000004},1,"Confort térmico pasivo","Confort térmico pasivo",{"$f":"+SUM(R5:R6)","v":0.16},{"$f":"+SUM(S5:S6)","v":0.1},1,"Confort térmico pasivo","Confort térmico pasivo",{"$f":"+MAX(V5:V6)","v":0.16},{"$f":"+MAX(W5:W6)","v":0.1},1,"Reducción % horas de disconfort Taire",0.08,0.05,1,2,0,0,"No",null,"x",null,{"$f":"+IFERROR(VLOOKUP(C5,#REF!,13,0),\"\")","v":""},{"$f":"+IFERROR(INDIRECT(CONCATENATE(\"Puntaje!O\",MATCH(C5,#REF!,0)+4)),\"\")","v":""},{"$f":"+IF(IFERROR(VLOOKUP(C5,#REF!,1,0),\"-\")=\"-\",\"-\",IF(VLOOKUP(C5,#REF!,21,0)>0,\"NO\",\"SI\"))","v":"-"},"1.1.1",1]
[{"$f":"1+A5","v":2},"ARQ.CAI.1","1.1.1","C",{"$f":"+IF(F6=F5,E5,E5+1)","v":1},"Arquitectura - CAI",{"$f":"+IF(F6=F5,\"\",F6)","v":""},null,null,{"$f":"+IF(K6=K5,J5,J5+1)","v":1},"Confort térmico pasivo",{"$f":"+IF(K6=K5,\"\",K6)","v":""},null,null,{"$f":"+IF(P6=P5,O5,O5+1)","v":1},"Confort térmico pasivo",{"$f":"+IF(P6=P5,\"\",P6)","v":""},null,null,2,"Reducción % horas de disconfort Top y HR",0.16,0.1,2,2,0,0,"No",null,null,"x",{"$f":"+IFERROR(VLOOKUP(C6,#REF!,13,0),\"\")","v":""},{"$f":"+IFERROR(INDIRECT(CONCATENATE(\"Puntaje!O\",MATCH(C6,#REF!,0)+4)),\"\")","v":""}]
[3,"ARQ.CAI.2.1","1.2.2","C",{"$f":"+IF(F7=F6,E6,E6+1)","v":1},"Arquitectura - CAI",{"$f":"+IF(F7=F6,\"\",F7)","v":""},null,null,{"$f":"+IF(K7=K6,J6,J6+1)","v":2},"Confort visual pasivo",{"$f":"+IF(K7=K6,\"\",K7)","v":"Confort visual pasivo"},{"$f":"+SUM(R7:R13)","v":1.08},{"$f":"+SUM(S7:S13)","v":1.1000000000000001},{"$f":"+IF(P7=P6,O6,O6+1)","v":2},"Aporte luz natural",{"$f":"+IF(P7=P6,\"\",P7)","v":"Aporte luz natural"},{"$f":"+MAX(V7:V9)+MAX(V10)","v":6.9999999999999993E-2},{"$f":"+MAX(W7:W9)+MAX(W10)","v":8.4999999999999992E-2},3,"FLD",0.06,7.4999999999999997E-2,1,3,0,0,"No",null,null,null,{"$f":"+IFERROR(VLOOKUP(C7,#REF!,13,0),\"\")","v":""},{"$f":"+IFERROR(INDIRECT(CONCATENATE(\"Puntaje!O\",MATCH(C7,#REF!,0)+4)),\"\")","v":""},{"$f":"+IF(IFERROR(VLOOKUP(C7,#REF!,1,0),\"-\")=\"-\",\"-\",IF(VLOOKUP(C7,#REF!,21,0)>0,\"NO\",\"SI\"))","v":"-"},"0.1.1",1]
[4,"ARQ.CAI.2.1","1.2.2","C",1,"Arquitectura - CAI","",null,null,2,"Confort visual pasivo","",null,null,2,"Aporte luz natural","",null,null,4,"Iluminancia útil",0.06,7.4999999999999997E-2,2,3,0,0,"No",null,null,null,{"$f":"+IFERROR(VLOOKUP(C8,#REF!,13,0),\"\")","v":""},{"$f":"+IFERROR(INDIRECT(CONCATENATE(\"Puntaje!O\",MATCH(C8,#REF!,0)+4)),\"\")","v":""}]
[5,"ARQ.CAI.2.1","1.2.2","C",1,"Arquitectura - CAI","",null,null,2,"Confort visual pasivo","",null,null,2,"Aporte luz natural","",null,null,5,"Spatial Daylight Autonomy",0.06,7.4999999999999997E-2,3,3,0,0,"No",null,null,null,{"$f":"+IFERROR(VLOOKUP(C9,#REF!,13,0),\"\")","v":""},{"$f":"+IFERROR(INDIRECT(CONCATENATE(\"Puntaje!O\",MATCH(C9,#REF!,0)+4)),\"\")","v":""},{"$f":"+IF(IFERROR(VLOOKUP(C9,#REF!,1,0),\"-\")=\"-\",\"-\",IF(VLOOKUP(C9,#REF!,21,0)>0,\"NO\",\"SI\"))","v":"-"},"1.0.0",1]
[6,"ARQ.CAI.2.1","1.2.2","C",1,"Arquitectura - CAI","",null,null,2,"Confort visual pasivo","",null,null,2,"Aporte luz natural","",null,null,6,"Índice de probabilidad de deslumbramiento",0.01,0.01,1,1,0,0,"Si",null,null,null,{"$f":"+IFERROR(VLOOKUP(C10,#REF!,13,0),\"\")","v":""},{"$f":"+IFERROR(INDIRECT(CONCATENATE(\"Puntaje!O\",MATCH(C10,#REF!,0)+4)),\"\")","v":""},{"$f":"+IF(IFERROR(VLOOKUP(C10,#REF!,1,0),\"-\")=\"-\",\"-\",IF(VLOOKUP(C10,#REF!,21,0)>0,\"NO\",\"SI\"))","v":"-"},"0.1.1",0]
[7,"ARQ.CAI.2.2","1.2.3","C",1,"Arquitectura - CAI","",null,null,2,"Confort visual pasivo","",null,null,3,"Acceso visual al exterior","Acceso visual al exterior",{"$f":"+MAX(V11)","v":0.01},{"$f":"+MAX(W11)","v":1.4999999999999999E-2},7,"% de áreas con acceso visual al exterior",0.01,1.4999999999999999E-2,1,1,0,0,"No",null,null,null,{"$f":"+IFERROR(VLOOKUP(C11,#REF!,13,0),\"\")","v":""},{"$f":"+IFERROR(INDIRECT(CONCATENATE(\"Puntaje!O\",MATCH(C11,#REF!,0)+4)),\"\")","v":""},{"$f":"+IF(IFERROR(VLOOKUP(C11,#REF!,1,0),\"-\")=\"-\",\"-\",IF(VLOOKUP(C11,#REF!,21,0)>0,\"NO\",\"SI\"))","v":"-"},"1.0.0",0]
[8,"2R","1.2.4","R",1,"Arquitectura - CAI","",null,null,2,"Confort visual pasivo","",null,null,4,"Factor luz día o iluminancia útil mínimos","Factor luz día o iluminancia útil mínimos",{"$f":"+MAX(V12:V13)","v":1},{"$f":"+MAX(W12:W13)","v":1},8,"Factor Luz Día [FLD]",1,1,1,2,0,0,"No"]
[9,"2R","1.2.4","R",1,"Arquitectura - CAI","",null,null,2,"Confort visual pasivo","",null,null,4,"Factor luz día o iluminancia útil mínimos","",null,null,9,"Iluminancia útil [%]",1,1,2,2,0,0,"No"]
[10,"ARQ.CAI.3.1","1.3.5","C",1,"Arquitectura - CAI","",null,null,3,"Calidad del aire interior","Calidad del aire interior",{"$f":"+SUM(R14:R19)","v":1.085},{"$f":"+SUM(S14:S19)","v":1.105},5,"Cobertura de las tasas de renovación","Cobertura de las tasas de renovación",{"$f":"+MAX(V14)","v":0.06},{"$f":"+MAX(W14)","v":7.4999999999999997E-2},10,"Cobertura de tasas de renovaciones de aire hora [RAH]",0.06,7.4999999999999997E-2,1,1,0,0,"No",null,null,null,{"$f":"+IFERROR(VLOOKUP(C14,#REF!,13,0),\"\")","v":""},{"$f":"+IFERROR(INDIRECT(CONCATENATE(\"Puntaje!O\",MATCH(C14,#REF!,0)+4)),\"\")","v":""},{"$f":"+IF(IFERROR(VLOOKUP(C14,#REF!,1,0),\"-\")=\"-\",\"-\",IF(VLOOKUP(C14,#REF!,21,0)>0,\"NO\",\"SI\"))","v":"-"},"0.1.1",1]
[11,"ARQ.CAI.3.2","1.3.6","C",1,"Arquitectura - CAI","",null,null,3,"Calidad del aire interior","",null,null,6,"Concentraciones de compuestos orgánicos volátiles","Concentraciones de compuestos orgánicos volátiles",{"$f":"+MAX(V15:V17)","v":2.5000000000000001E-2},{"$f":"+MAX(W15:W17)","v":0.03},11,"Nº de grupos que cumplen con las características Opción 1",2.5000000000000001E-2,0.03,1,3,0,0,"No",null,null,null,{"$f":"+IFERROR(VLOOKUP(C15,#REF!,13,0),\"\")","v":""},{"$f":"+IFERROR(INDIRECT(CONCATENATE(\"Puntaje!O\",MATCH(C15,#REF!,0)+4)),\"\")","v":""},{"$f":"+IF(IFERROR(VLOOKUP(C15,#REF!,1,0),\"-\")=\"-\",\"-\",IF(VLOOKUP(C15,#REF!,21,0)>0,\"NO\",\"SI\"))","v":"-"},"1.1.0",1]
[12,"ARQ.CAI.3.2","1.3.6","C",1,"Arquitectura - CAI","",null,null,3,"Calidad del aire interior","",null,null,6,"Concentraciones de compuestos orgánicos volátiles","",null,null,12,"Nº de grupos que cumplen con la concentración límite de COV de Opción 2",2.5000000000000001E-2,0.03,2,3,0,0,"No",null,null,null,{"$f":"+IFERROR(VLOOKUP(C16,#REF!,13,0),\"\")","v":""},{"$f":"+IFERROR(INDIRECT(CONCATENATE(\"Puntaje!O\",MATCH(C16,#REF!,0)+4)),\"\")","v":""},{"$f":"+IF(IFERROR(VLOOKUP(C16,#REF!,1,0),\"-\")=\"-\",\"-\",IF(VLOOKUP(C16,#REF!,21,0)>0,\"NO\",\"SI\"))","v":"-"},"1.0.0",1]
[13,"ARQ.CAI.3.2","1.3.6","C",1,"Arquitectura - CAI","",null,null,3,"Calidad del aire interior","",null,null,6,"Concentraciones de compuestos orgánicos volátiles","",null,null,13,"Reducción de la concentración ponderada de COV",2.5000000000000001E-2,0.03,3,3,0,0,"No",null,null,null,{"$f":"+IFERROR(VLOOKUP(C17,#REF!,13,0),\"\")","v":""},{"$f":"+IFERROR(INDIRECT(CONCATENATE(\"Puntaje!O\",MATCH(C17,#REF!,0)+4)),\"\")","v":""},{"$f":"+IF(IFERROR(VLOOKUP(C17,#REF!,1,0),\"-\")=\"-\",\"-\",IF(VLOOKUP(C17,#REF!,21,0)>0,\"NO\",\"SI\"))","v":"-"},"1.0.0",1]
[14,"3R",{"$f":"+CONCATENATE(E18,\".\",J18,\".\",O18)","v":"1.3.7"},"R",{"$f":"+IF(F18=F17,E17,E17+1)","v":1},"Arquitectura - CAI",{"$f":"+IF(F18=F17,\"\",F18)","v":""},null,null,{"$f":"+IF(K18=K17,J17,J17+1)","v":3},"Calidad del aire interior",{"$f":"+IF(K18=K17,\"\",K18)","v":""},null,null,{"$f":"+IF(P18=P17,O17,O17+1)","v":7},"Superficie mínima de ventana o caudal mínimo de aire",{"$f":"+IF(P18=P17,\"\",P18)","v":"Superficie mínima de ventana o caudal mínimo de aire"},1,1,14,"Superficie practicable de las ventanas",1,1,1,2,0,0,"No"]
[15,"3R",{"$f":"+CONCATENATE(E19,\".\",J19,\".\",O19)","v":"1.3.7"},"R",{"$f":"+IF(F19=F18,E18,E18+1)","v":1},"Arquitectura - CAI",{"$f":"+IF(F19=F18,\"\",F19)","v":""},null,null,{"$f":"+IF(K19=K18,J18,J18+1)","v":3},"Calidad del aire interior",{"$f":"+IF(K19=K18,\"\",K19)","v":""},null,null,{"$f":"+IF(P19=P18,O18,O18+1)","v":7},"Superficie mínima de ventana o caudal mínimo de aire",{"$f":"+IF(P19=P18,\"\",P19)","v":""},null,null,15,"Renovaciones de aire hora [RAH]",1,1,2,2,0,0,"No"]
[16,"ARQ.CAI.4.1","1.4.8","C",1,"Arquitectura - CAI","",null,null,4,"Confort Acústico","Confort Acústico",{"$f":"+SUM(R20:R25)","v":2.04},{"$f":"+SUM(S20:S25)","v":2.0499999999999998},8,"Aislamiento acústico","Aislamiento acústico",{"$f":"+MAX(V20:V21)","v":0.02},{"$f":"+MAX(W20:W21)","v":0.03},16,"Aislamiento acústico de fachada [dB(A)]",0.02,0.03,1,1,1,1,"No",null,null,null,{"$f":"+IFERROR(VLOOKUP(C20,#REF!,13,0),\"\")","v":""},{"$f":"+IFERROR(INDIRECT(CONCATENATE(\"Puntaje!O\",MATCH(C20,#REF!,0)+4)),\"\")","v":""},{"$f":"+IF(IFERROR(VLOOKUP(C20,#REF!,1,0),\"-\")=\"-\",\"-\",IF(VLOOKUP(C20,#REF!,21,0)>0,\"NO\",\"SI\"))","v":"-"},"1.0.0",1]
[17,"ARQ.CAI.4.1","1.4.8","C",1,"Arquitectura - CAI","",null,null,4,"Confort Acústico","",null,null,8,"Aislamiento acústico","",null,null,17,"Aislamiento acústico entre recintos [dB(A)]",0.01,0.02,1,1,1,1,"si",null,null,null,{"$f":"+IFERROR(VLOOKUP(C21,#REF!,13,0),\"\")","v":""},{"$f":"+IFERROR(INDIRECT(CONCATENATE(\"Puntaje!O\",MATCH(C21,#REF!,0)+4)),\"\")","v":""},{"$f":"+IF(IFERROR(VLOOKUP(C21,#REF!,1,0),\"-\")=\"-\",\"-\",IF(VLOOKUP(C21,#REF!,21,0)>0,\"NO\",\"SI\"))","v":"-"},"1.0.0",0]
[18,"ARQ.CAI.4.2","1.4.9","C",1,"Arquitectura - CAI","",null,null,4,"Confort Acústico","",null,null,9,"Acondicionamiento acústico","Acondicionamiento acústico",{"$f":"+MAX(V22:V23)+MAX(V24)+MAX(V25)","v":1.02},{"$f":"+MAX(W22:W23)+MAX(W24)+MAX(W25)","v":1.02},18,"Tiempo de reverberación [s]",1.4999999999999999E-2,1.4999999999999999E-2,1,2,0,0,"No",null,null,null,{"$f":"+IFERROR(VLOOKUP(C22,#REF!,13,0),\"\")","v":""},{"$f":"+IFERROR(INDIRECT(CONCATENATE(\"Puntaje!O\",MATCH(C22,#REF!,0)+4)),\"\")","v":""},{"$f":"+IF(IFERROR(VLOOKUP(C22,#REF!,1,0),\"-\")=\"-\",\"-\",IF(VLOOKUP(C22,#REF!,21,0)>0,\"NO\",\"SI\"))","v":"-"},"1.0.0",0]
[19,"ARQ.CAI.4.2","1.4.9","C",1,"Arquitectura - CAI","",null,null,4,"Confort Acústico","",null,null,9,"Acondicionamiento acústico","",null,null,19,"Inteligibidad de la palabra",5.0000000000000001E-3,5.0000000000000001E-3,1,2,0,0,"si",null,null,null,{"$f":"+IFERROR(VLOOKUP(C23,#REF!,13,0),\"\")","v":""},{"$f":"+IFERROR(INDIRECT(CONCATENATE(\"Puntaje!O\",MATCH(C23,#REF!,0)+4)),\"\")","v":""},{"$f":"+IF(IFERROR(VLOOKUP(C23,#REF!,1,0),\"-\")=\"-\",\"-\",IF(VLOOKUP(C23,#REF!,21,0)>0,\"NO\",\"SI\"))","v":"-"},"1.0.0",0]
[20,"ARQ.CAI.4.2","1.4.9","C",1,"Arquitectura - CAI","",null,null,4,"Confort Acústico","",null,null,9,"Acondicionamiento acústico","",null,null,20,"Material absorbente para Aulas y Auditorios",5.0000000000000001E-3,5.0000000000000001E-3,2,2,0,0,"Si"]
[21,"4R","1.4.10","R",1,"Arquitectura - CAI","",null,null,4,"Confort Acústico","",null,null,10,"Aislación acústica mínima de fachadas exteriores","Aislación acústica mínima de fachadas exteriores",{"$f":"+MAX(V25)","v":1},{"$f":"+MAX(W25)","v":1},21,"Aislamiento acústico de fachada [dB(A)]",1,1,1,1,0,0,"No","x",null,"x"]
[22,"ARQ.ENERGIA.5","2.5.11","C",2,"Arquitectura - Energía","Arquitectura - Energía",{"$f":"+SUM(M26:M43)","v":6.25},{"$f":"+SUM(N26:N43)","v":6.25},5,"Demanda de energía","Demanda de energía",{"$f":"+SUM(R26:R33)","v":5.18},{"$f":"+SUM(S26:S33)","v":5.18},11,"Demanda de energía","Demanda de energía",{"$f":"+MAX(V26:V31)","v":0.18},{"$f":"+MAX(W26:W31)","v":0.18},22,"Mejora de U en cubierta [W/m2K] ",0.03,0.03,2,2,1,2,"si",null,null,null,{"$f":"+IFERROR(VLOOKUP(C26,#REF!,13,0),\"\")","v":""},{"$f":"+IFERROR(INDIRECT(CONCATENATE(\"Puntaje!O\",MATCH(C26,#REF!,0)+4)),\"\")","v":""}]
[23,"ARQ.ENERGIA.5","2.5.11","C",2,"Arquitectura - Energía","",null,null,5,"Demanda de energía","",null,null,11,"Demanda de energía","",null,null,23,"Mejora de U [W/m2K] en muros",0.06,0.06,2,2,1,8,"si",null,null,null,{"$f":"+IFERROR(VLOOKUP(C27,#REF!,13,0),\"\")","v":""},{"$f":"+IFERROR(INDIRECT(CONCATENATE(\"Puntaje!O\",MATCH(C27,#REF!,0)+4)),\"\")","v":""}]
[24,"ARQ.ENERGIA.5",{"$f":"+CONCATENATE(E28,\".\",J28,\".\",O28)","v":"2.5.11"},"C",2,"Arquitectura - Energía","",null,null,5,"Demanda de energía","",null,null,11,"Demanda de energía","",null,null,24,"Mejora de U [W/m2K] en ventanas",0.06,0.06,2,2,2,8,"si"]
[25,"ARQ.ENERGIA.5",{"$f":"+CONCATENATE(E29,\".\",J29,\".\",O29)","v":"2.5.11"},"C",2,"Arquitectura - Energía","",null,null,5,"Demanda de energía","",null,null,11,"Demanda de energía","",null,null,25,"Mejora FSM - Norte",0.06,0.06,2,2,3,8,"si"]
[26,"ARQ.ENERGIA.5",{"$f":"+CONCATENATE(E30,\".\",J30,\".\",O30)","v":"2.5.11"},"C",2,"Arquitectura - Energía","",null,null,5,"Demanda de energía","",null,null,11,"Demanda de energía","",null,null,26,"Mejora FSM - Este",0.06,0.06,2,2,6,8,"si"]
[27,"ARQ.ENERGIA.5",{"$f":"+CONCATENATE(E31,\".\",J31,\".\",O31)","v":"2.5.11"},"C",2,"Arquitectura - Energía","",null,null,5,"Demanda de energía","",null,null,11,"Demanda de energía","",null,null,27,"Disminución demanda de energía [%]",0.18,0.18,1,2,0,0,"No"]
[28,"5R","2.5.12","R",2,"Arquitectura - Energía","",null,null,5,"Demanda de energía","",null,null,12,"Transmitancia térmica de la envolvente y Factor Solar Modificado","Transmitancia térmica de la envolvente y Factor Solar Modificado",{"$f":"+MAX(V32:V32)+MAX(V33:V33)+MAX(V34:V34)+MAX(V35:V35)+MAX(V36:V36)","v":5},{"$f":"+MAX(W32:W32)+MAX(W33:W33)+MAX(W34:W34)+MAX(W35:W35)+MAX(W36:W36)","v":5},28,"Transmitancia Térmica Cubierta [W/m2K]",1,1,1,1,1,9,"No","x"]
[29,"5R","2.5.12","R",2,"Arquitectura - Energía","",null,null,5,"Demanda de energía","",null,null,12,"Transmitancia térmica de la envolvente y Factor Solar Modificado","",null,null,29,"Transmitancia Térmica Muro [W/m2K]",1,1,1,1,3,9,"No","x"]
[30,"5R","2.5.12","R",2,"Arquitectura - Energía","",null,null,5,"Demanda de energía","",null,null,12,"Transmitancia térmica de la envolvente y Factor Solar Modificado","",null,null,30,"Transmitancia Térmica Ventana [W/m2K]",1,1,1,1,4,9,"No"]
[31,"5R","2.5.12","R",2,"Arquitectura - Energía","",null,null,5,"Demanda de energía","",null,null,12,"Transmitancia térmica de la envolvente y Factor Solar Modificado","",null,null,31,"FSM - Norte",1,1,1,1,5,9,"No"]
[32,"5R","2.5.12","R",2,"Arquitectura - Energía","",null,null,5,"Demanda de energía","",null,null,12,"Transmitancia térmica de la envolvente y Factor Solar Modificado","",null,null,32,"FSM - Este",1,1,1,1,8,9,"No"]
[33,"ARQ.ENERGIA.6","2.6.13","C",2,"Arquitectura - Energía","",null,null,6,"Hermeticidad de la envolvente","Hermeticidad de la envolvente",{"$f":"+SUM(R37:R39)","v":0.03},{"$f":"+SUM(S37:S39)","v":0.03},13,"Hermeticidad de la envolvente","Hermeticidad de la envolvente",{"$f":"+MAX(V37:V39)","v":0.03},{"$f":"+MAX(W37:W39)","v":0.03},33,"Infiltración de aire por la envolvente [RAH]",0.03,0.03,1,2,0,0,"No",null,null,null,{"$f":"+IFERROR(VLOOKUP(C37,#REF!,13,0),\"\")","v":""},{"$f":"+IFERROR(INDIRECT(CONCATENATE(\"Puntaje!O\",MATCH(C37,#REF!,0)+4)),\"\")","v":""}]
[34,"ARQ.ENERGIA.6","2.6.13","C",2,"Arquitectura - Energía","",null,null,6,"Hermeticidad de la envolvente","",null,null,13,"Hermeticidad de la envolvente","",null,null,34,"Permeabilidad al aire de carpintería de ventanas",0.03,0.03,2,2,0,0,"No",null,null,null,{"$f":"+IFERROR(VLOOKUP(C38,#REF!,13,0),\"\")","v":""},{"$f":"+IFERROR(INDIRECT(CONCATENATE(\"Puntaje!O\",MATCH(C38,#REF!,0)+4)),\"\")","v":""}]
[35,"ARQ.ENERGIA.6","2.6.13","C",2,"Arquitectura - Energía","",null,null,6,"Hermeticidad de la envolvente","",null,null,13,"Hermeticidad de la envolvente","",null,null,35,"Tipo de abertura de la ventana",0.01,0.01,null,null,0,0,"No",null,null,null,{"$f":"+IFERROR(VLOOKUP(C39,#REF!,13,0),\"\")","v":""},{"$f":"+IFERROR(INDIRECT(CONCATENATE(\"Puntaje!O\",MATCH(C39,#REF!,0)+4)),\"\")","v":""},{"$f":"+IF(IFERROR(VLOOKUP(C39,#REF!,1,0),\"-\")=\"-\",\"-\",IF(VLOOKUP(C39,#REF!,21,0)>0,\"NO\",\"SI\"))","v":"-"},"1.1.1",1]
[36,"6R","2.7.14","R",2,"Arquitectura - Energía","",null,null,7,"Hermeticidad de la envolvente mínima","Hermeticidad de la envolvente mínima",{"$f":"+SUM(R40)","v":1},{"$f":"+SUM(S40)","v":1},14,"Sellos exteriores para carpintería y paso de instalaciones","Sellos exteriores para carpintería y paso de instalaciones",{"$f":"+MAX(V40)","v":1},{"$f":"+MAX(W40)","v":1},36,"Especificación de sellos",1,1,1,1,0,0,"No","x"]
[37,"ARQ.ENERGIA.7","2.8.15","C",2,"Arquitectura - Energía","",null,null,8,"Energía incorporada en los materiales estructurales del edificio","Energía incorporada en los materiales estructurales del edificio",{"$f":"+SUM(R41:R43)","v":0.04},{"$f":"+SUM(S41:S43)","v":0.04},15,"Energía incorporada en los materiales estructurales del edificio","Energía incorporada en los materiales estructurales del edificio",{"$f":"+MAX(V41:V43)","v":0.04},{"$f":"+MAX(W41:W43)","v":0.04},37,"Energía incorporada en base a UNE-EN-ISO 14.024",0.04,0.04,1,3,0,0,"No",null,null,null,{"$f":"+IFERROR(VLOOKUP(C41,#REF!,13,0),\"\")","v":""},{"$f":"+IFERROR(INDIRECT(CONCATENATE(\"Puntaje!O\",MATCH(C41,#REF!,0)+4)),\"\")","v":""},{"$f":"+IF(IFERROR(VLOOKUP(C41,#REF!,1,0),\"-\")=\"-\",\"-\",IF(VLOOKUP(C41,#REF!,21,0)>0,\"NO\",\"SI\"))","v":"-"},"1.1.1",1]
[38,"ARQ.ENERGIA.7","2.8.15","C",2,"Arquitectura - Energía","",null,null,8,"Energía incorporada en los materiales estructurales del edificio","",null,null,15,"Energía incorporada en los materiales estructurales del edificio","",null,null,38,"Energía incorporada en base a UNE-EN-ISO 14.025",0.04,0.04,2,3,0,0,"No",null,null,null,{"$f":"+IFERROR(VLOOKUP(C42,#REF!,13,0),\"\")","v":""},{"$f":"+IFERROR(INDIRECT(CONCATENATE(\"Puntaje!O\",MATCH(C42,#REF!,0)+4)),\"\")","v":""},{"$f":"+IF(IFERROR(VLOOKUP(C42,#REF!,1,0),\"-\")=\"-\",\"-\",IF(VLOOKUP(C42,#REF!,21,0)>0,\"NO\",\"SI\"))","v":"-"},"1.1.0",1]
[39,"ARQ.ENERGIA.7","2.8.15","C",2,"Arquitectura - Energía","",null,null,8,"Energía incorporada en los materiales estructurales del edificio","",null,null,15,"Energía incorporada en los materiales estructurales del edificio","",null,null,39,"% de superficie de elementos estructurales mantenidos de edificios existentes",0.04,0.04,3,3,0,0,"No",null,null,null,{"$f":"+IFERROR(VLOOKUP(C43,#REF!,13,0),\"\")","v":""},{"$f":"+IFERROR(INDIRECT(CONCATENATE(\"Puntaje!O\",MATCH(C43,#REF!,0)+4)),\"\")","v":""},{"$f":"+IF(IFERROR(VLOOKUP(C43,#REF!,1,0),\"-\")=\"-\",\"-\",IF(VLOOKUP(C43,#REF!,21,0)>0,\"NO\",\"SI\"))","v":"-"},"0.1.0",1]
[40,"ARQ.AGUA.8",{"$f":"+CONCATENATE(E44,\".\",J44,\".\",O44)","v":"3.9.16"},"C",3,"Arquitectura - Agua","Arquitectura - Agua",{"$f":"+SUM(M44:M46)","v":1.03},{"$f":"+SUM(N44:N46)","v":1.03},9,"Paisajismo","Paisajismo",{"$f":"+SUM(R44)","v":0.02},0.02,16,"Disminución de la demanda de agua","Disminución de la demanda de agua",{"$f":"+MAX(V44)","v":0.02},0.02,40,"Porcentaje de disminución de la evapotranspiración",0.02,0.02,1,1,0,0,"No",null,null,null,{"$f":"+IFERROR(VLOOKUP(C44,#REF!,13,0),\"\")","v":""},{"$f":"+IFERROR(INDIRECT(CONCATENATE(\"Puntaje!O\",MATCH(C44,#REF!,0)+4)),\"\")","v":""},{"$f":"+IF(IFERROR(VLOOKUP(C44,#REF!,1,0),\"-\")=\"-\",\"-\",IF(VLOOKUP(C44,#REF!,21,0)>0,\"NO\",\"SI\"))","v":"-"},"0.1.0",1]
[41,"8R","3.9.17","R",3,"Arquitectura - Agua","",null,null,9,"Paisajismo","",1,1,17,"Reducir 20% evapotransiración de proyecto de paisajismo","Reducir 20% evapotransiración de proyecto de paisajismo",1,1,41,"Disminución de la evapotranspiración [%]",1,1,1,1,0,0,"No",null,"x"]
[42,"ARQ.AGUA.9","3.10.18","C",3,"Arquitectura - Agua","",null,null,10,"Agua incorporada en los materiales estructurales del edificio","Agua incorporada en los materiales estructurales del edificio",0.01,0.01,18,"Agua incorporada en los materiales estructurales del edificio [%]","Agua incorporada en los materiales estructurales del edificio [%]",0.01,0.01,42,"Cantidad de categorías de materiales en que se declara la información de agua incorporada según UNE-14024",0.01,0.01,1,3,0,0,"No",null,null,null,{"$f":"+IFERROR(VLOOKUP(C46,#REF!,13,0),\"\")","v":""},{"$f":"+IFERROR(INDIRECT(CONCATENATE(\"Puntaje!O\",MATCH(C46,#REF!,0)+4)),\"\")","v":""},{"$f":"+IF(IFERROR(VLOOKUP(C46,#REF!,1,0),\"-\")=\"-\",\"-\",IF(VLOOKUP(C46,#REF!,21,0)>0,\"NO\",\"SI\"))","v":"-"},"1.0.0",1]
[43,"ARQ.RESIDUOS.10","4.11.19","C",4,"Arquitectura - Residuos","Arquitectura - Residuos",{"$f":"+SUM(M47)","v":0.01},{"$f":"+SUM(N47)","v":1.4999999999999999E-2},11,"Equipamiento para el Manejo de Residuos durante la operación del edificio","Equipamiento para el Manejo de Residuos durante la operación del edificio",0.01,1.4999999999999999E-2,19,"Equipamiento para el Manejo de Residuos durante la operación del edificio","Equipamiento para el Manejo de Residuos durante la operación del edificio",0.01,1.4999999999999999E-2,43,"Equipamiento para el manejo de residuos durante la operación del edificio",0.01,1.4999999999999999E-2,1,1,0,0,"No",null,null,null,{"$f":"+IFERROR(VLOOKUP(C47,#REF!,13,0),\"\")","v":""},{"$f":"+IFERROR(INDIRECT(CONCATENATE(\"Puntaje!O\",MATCH(C47,#REF!,0)+4)),\"\")","v":""},{"$f":"+IF(IFERROR(VLOOKUP(C47,#REF!,1,0),\"-\")=\"-\",\"-\",IF(VLOOKUP(C47,#REF!,21,0)>0,\"NO\",\"SI\"))","v":"-"},"1.1.1",0]
[44,"INST.CAI.11.1","5.12.20","C",5,"Instalaciones - CAI","Instalaciones - CAI",{"$f":"+SUM(M48:M65)","v":7.2099999999999991},{"$f":"+SUM(N48:N65)","v":7.2099999999999991},12,"Ventilación mecánica","Ventilación mecánica",{"$f":"+SUM(R48:R49)","v":0.08},{"$f":"+SUM(S48:S49)","v":0.08},20,"Caudal","Caudal",0.06,0.06,44,"Aumento del caudal de ventilación [litros/seg]",0.06,0.06,1,1,0,0,"No",null,null,null,{"$f":"+IFERROR(VLOOKUP(C48,#REF!,13,0),\"\")","v":""},{"$f":"+IFERROR(INDIRECT(CONCATENATE(\"Puntaje!O\",MATCH(C48,#REF!,0)+4)),\"\")","v":""},{"$f":"+IF(IFERROR(VLOOKUP(C48,#REF!,1,0),\"-\")=\"-\",\"-\",IF(VLOOKUP(C48,#REF!,21,0)>0,\"NO\",\"SI\"))","v":"-"}]
[45,"INST.CAI.11.2","5.12.21","C",5,"Instalaciones - CAI","",null,null,12,"Ventilación mecánica","",null,null,21,"Filtraje","Filtraje",{"$f":"+MAX(V49:V49)","v":0.02},{"$f":"+MAX(W49:W49)","v":0.02},45,"Eficiencia promedio filtraje [% ]",0.02,0.02,1,1,0,0,"No",null,null,null,{"$f":"+IFERROR(VLOOKUP(C49,#REF!,13,0),\"\")","v":""},{"$f":"+IFERROR(INDIRECT(CONCATENATE(\"Puntaje!O\",MATCH(C49,#REF!,0)+4)),\"\")","v":""},{"$f":"+IF(IFERROR(VLOOKUP(C49,#REF!,1,0),\"-\")=\"-\",\"-\",IF(VLOOKUP(C49,#REF!,21,0)>0,\"NO\",\"SI\"))","v":"-"},"1.0.0",0]
[46,"INST.CAI.11.3","5.13.22","C",5,"Instalaciones - CAI","",null,null,13,"Monitoreo Calidad del aire","Monitoreo Calidad del aire",{"$f":"+SUM(R50)","v":0.01},{"$f":"+SUM(S50)","v":0.01},22,"Monitoreo Calidad del aire","Monitoreo Calidad del aire",{"$f":"+MAX(V50)","v":0.01},0.01,46,"Sistema de monitoreo de concentración de CO2",0.01,0.01,1,1,0,0,"No",null,null,null,{"$f":"+IFERROR(VLOOKUP(C50,#REF!,13,0),\"\")","v":""},{"$f":"+IFERROR(INDIRECT(CONCATENATE(\"Puntaje!O\",MATCH(C50,#REF!,0)+4)),\"\")","v":""},{"$f":"+IF(IFERROR(VLOOKUP(C50,#REF!,1,0),\"-\")=\"-\",\"-\",IF(VLOOKUP(C50,#REF!,21,0)>0,\"NO\",\"SI\"))","v":"-"},"1.0.0",0]
[47,"11R3","5.14.23","R",5,"Instalaciones - CAI","",null,null,14,"Ventilación mecánica","Ventilación mecánica",{"$f":"+SUM(R51:R54)","v":3},{"$f":"+SUM(S51:S54)","v":3},23,"No utlizar sistemas de calefacción de combustión en base a llama abierta","No utlizar sistemas de calefacción de combustión en base a llama abierta",1,1,47,"Sistemas de calefacción utilizados",1,1,1,1,0,0,"No","x"]
[48,"11R2","5.14.24","R",5,"Instalaciones - CAI","",null,null,14,"Ventilación mecánica","",null,null,24,"Eficiencia promedio de filtraje","Eficiencia promedio de filtraje",{"$f":"+MAX(V52:V53)","v":1},{"$f":"+MAX(W52:W53)","v":1},48,"Requisito Eficiencia promedio filtraje [% o MERV]",1,1,1,1,0,0,"No","x"]
[49,"11R2","5.14.24","R",5,"Instalaciones - CAI","",null,null,14,"Ventilación mecánica","",null,null,24,"Eficiencia promedio de filtraje","",null,null,49,"Requisito Eficiencia promedio filtraje [MERV]",1,1,2,2,0,0,"No"]
[50,"11R1","5.14.25","R",5,"Instalaciones - CAI","",null,null,14,"Ventilación mecánica","",null,null,25,"Cumplir con las tasas mínimas de ventilación indicadas","Cumplir con las tasas mínimas de ventilación indicadas",1,1,50,"Caudal de diseño del sistema de ventilación mecánica",1,1,1,1,0,0,"No","x"]
[51,"INST.CAI.12.1","5.15.26","C",5,"Instalaciones - CAI","",null,null,15,"Control del ruido y vibraciones provenientes de equipos","Control del ruido y vibraciones provenientes de equipos",{"$f":"+SUM(R55:R56)","v":0.02},{"$f":"+SUM(S55:S56)","v":0.02},26,"Control del ruido y vibraciones provenientes de equipos","Control del ruido y vibraciones provenientes de equipos",{"$f":"+MAX(V56:V57)","v":0.02},{"$f":"+MAX(W56:W57)","v":0.02},51,"Valores máximos del nivel sonoro",0.01,5.0000000000000001E-3,1,2,0,0,"No",null,null,null,{"$f":"+IFERROR(VLOOKUP(C55,#REF!,13,0),\"\")","v":""},{"$f":"+IFERROR(INDIRECT(CONCATENATE(\"Puntaje!O\",MATCH(C55,#REF!,0)+4)),\"\")","v":""},{"$f":"+IF(IFERROR(VLOOKUP(C55,#REF!,1,0),\"-\")=\"-\",\"-\",IF(VLOOKUP(C55,#REF!,21,0)>0,\"NO\",\"SI\"))","v":"-"}]
[52,"INST.CAI.12.1","5.15.26","C",5,"Instalaciones - CAI","",null,null,15,"Control del ruido y vibraciones provenientes de equipos","",null,null,26,"Control del ruido y vibraciones provenientes de equipos","",null,null,52,"Elección de equipos y diseño",5.0000000000000001E-3,5.0000000000000001E-3,2,2,0,0,"No",null,null,null,{"$f":"+IFERROR(VLOOKUP(C56,#REF!,13,0),\"\")","v":""},{"$f":"+IFERROR(INDIRECT(CONCATENATE(\"Puntaje!O\",MATCH(C56,#REF!,0)+4)),\"\")","v":""},{"$f":"+IF(IFERROR(VLOOKUP(C56,#REF!,1,0),\"-\")=\"-\",\"-\",IF(VLOOKUP(C56,#REF!,21,0)>0,\"NO\",\"SI\"))","v":"-"},"1.0.0",1]
[53,"INST.CAI.13","5.16.27","C",5,"Instalaciones - CAI","",null,null,16,"Confort visual activo","Confort visual activo",{"$f":"+SUM(R57:R63)","v":3.08},{"$f":"+SUM(S57:S63)","v":3.08},27,"Confort visual activo","Confort visual activo",{"$f":"+MAX(V57)+MAX(V58)+MAX(V59)+MAX(V60)","v":0.08},{"$f":"+MAX(W57)+MAX(W58)+MAX(W59)+MAX(W60)","v":0.08},53,"Iluminancia mínima",0.02,0.02,1,1,1,4,"No",null,null,null,{"$f":"+IFERROR(VLOOKUP(C57,#REF!,13,0),\"\")","v":""},{"$f":"+IFERROR(INDIRECT(CONCATENATE(\"Puntaje!O\",MATCH(C57,#REF!,0)+4)),\"\")","v":""},{"$f":"+IF(IFERROR(VLOOKUP(C57,#REF!,1,0),\"-\")=\"-\",\"-\",IF(VLOOKUP(C57,#REF!,21,0)>0,\"NO\",\"SI\"))","v":"-"},"0.1.0",0]
[54,"INST.CAI.13","5.16.27","C",5,"Instalaciones - CAI","",null,null,16,"Confort visual activo","",null,null,27,"Confort visual activo","",null,null,54,"Uniformidad media",0.02,0.02,1,1,2,4,"No"]
[55,"INST.CAI.13","5.16.27","C",5,"Instalaciones - CAI","",null,null,16,"Confort visual activo","",null,null,27,"Confort visual activo","",null,null,55,"Rendimiento Cromático",0.02,0.02,1,1,3,4,"No"]
[56,"INST.CAI.13","5.16.27","C",5,"Instalaciones - CAI","",null,null,16,"Confort visual activo","",null,null,27,"Confort visual activo","",null,null,56,"Deslumbramiento",0.02,0.02,1,1,4,4,"No"]
[57,"13R","5.16.28","R",5,"Instalaciones - CAI","",null,null,16,"Confort visual activo","",null,null,28,"Nivel mínimo de Iluminancia, rendimiento cromático y deslumbramiento","Nivel mínimo de Iluminancia, rendimiento cromático y deslumbramiento",{"$f":"+MAX(V61)+MAX(V62)+MAX(V63)","v":3},{"$f":"+MAX(W61)+MAX(W62)+MAX(W63)","v":3},57,"Iluminancia mínima [lux]",1,1,1,1,1,3,"No","x"]
[58,"13R","5.16.28","R",5,"Instalaciones - CAI","",null,null,16,"Confort visual activo","",null,null,28,"Nivel mínimo de Iluminancia, rendimiento cromático y deslumbramiento","",null,null,58,"Índice de rendimiento cromático [IRC]",1,1,1,1,2,3,"No","x"]
[59,"13R","5.16.28","R",5,"Instalaciones - CAI","",null,null,16,"Confort visual activo","",null,null,28,"Nivel mínimo de Iluminancia, rendimiento cromático y deslumbramiento","",null,null,59,"Índice de deslumbramiento unificado [UGR]",1,1,1,1,3,3,"No","x"]
[60,"INST.CAI.14","5.17.29","C",5,"Instalaciones - CAI","",null,null,17,"Confort térmico activo","Confort térmico activo",{"$f":"+SUM(R64:R65)","v":1.02},{"$f":"+SUM(S64:S65)","v":1.02},29,"Diseño y control del sistema","Diseño y control del sistema",{"$f":"+MAX(V64)","v":0.02},{"$f":"+MAX(W64)","v":0.02},60,"Cantidad y distribución de los controles del sistema de climatización",0.02,0.02,1,1,0,0,"No",null,null,null,{"$f":"+IFERROR(VLOOKUP(C64,#REF!,13,0),\"\")","v":""},{"$f":"+IFERROR(INDIRECT(CONCATENATE(\"Puntaje!O\",MATCH(C64,#REF!,0)+4)),\"\")","v":""},{"$f":"+IF(IFERROR(VLOOKUP(C64,#REF!,1,0),\"-\")=\"-\",\"-\",IF(VLOOKUP(C64,#REF!,21,0)>0,\"NO\",\"SI\"))","v":"-"},"0.1.0",1]
[61,"14R","5.17.30","R",5,"Instalaciones - CAI","",null,null,17,"Confort térmico activo","",null,null,30,"Definir condiciones de diseño del proyecto de climatización","Definir condiciones de diseño del proyecto de climatización",{"$f":"+MAX(V65)","v":1},{"$f":"+MAX(W65)","v":1},61,"Declaración de condiciones de diseño del proyeto de climatización",1,1,1,1,0,0,"No","x"]
[62,"INST.ENERGIA.15.1","6.18.31","C",6,"Instalaciones - Energía","Instalaciones - Energía",{"$f":"+SUM(M66:M82)","v":4.1849999999999996},{"$f":"+SUM(N66:N82)","v":4.1849999999999996},18,"Iluminación artificial","Iluminación artificial",{"$f":"+SUM(R66:R69)","v":0.05},{"$f":"+SUM(S66:S69)","v":0.05},31,"Potencia Instalada","Potencia Instalada",{"$f":"+MAX(V66:V67)","v":0.03},{"$f":"+MAX(W66:W67)","v":0.03},62,"Reducción de potencia instalada de iluminación artificial [%]",0.03,0.03,1,2,0,0,"No",null,null,null,{"$f":"+IFERROR(VLOOKUP(C66,#REF!,13,0),\"\")","v":""},{"$f":"+IFERROR(INDIRECT(CONCATENATE(\"Puntaje!O\",MATCH(C66,#REF!,0)+4)),\"\")","v":""},{"$f":"+IF(IFERROR(VLOOKUP(C66,#REF!,1,0),\"-\")=\"-\",\"-\",IF(VLOOKUP(C66,#REF!,21,0)>0,\"NO\",\"SI\"))","v":"-"},"0.1.0",0]
[63,"INST.ENERGIA.15.1","6.18.31","C",6,"Instalaciones - Energía","",null,null,18,"Iluminación artificial","",null,null,31,"Potencia Instalada","",null,null,63,"Disminución de consumo de energía en iluminación",0.03,0.03,2,2,0,0,"No",null,null,null,{"$f":"+IFERROR(VLOOKUP(C67,#REF!,13,0),\"\")","v":""},{"$f":"+IFERROR(INDIRECT(CONCATENATE(\"Puntaje!O\",MATCH(C67,#REF!,0)+4)),\"\")","v":""}]
[64,"INST.ENERGIA.15.2","6.18.32","C",6,"Instalaciones - Energía","",null,null,18,"Iluminación artificial","",null,null,32,"Sistemas de control","Sistemas de control",{"$f":"+MAX(V68:V69)","v":0.02},{"$f":"+MAX(W68:W69)","v":0.02},64,"Incorporación de sistemas de control",0.02,0.02,1,2,0,0,"No",null,null,null,{"$f":"+IFERROR(VLOOKUP(C68,#REF!,13,0),\"\")","v":""},{"$f":"+IFERROR(INDIRECT(CONCATENATE(\"Puntaje!O\",MATCH(C68,#REF!,0)+4)),\"\")","v":""}]
[65,"INST.ENERGIA.15.2","6.18.32","C",6,"Instalaciones - Energía","",null,null,18,"Iluminación artificial","",null,null,32,"Sistemas de control","",null,null,65,"Disminución de consumo de energía en iluminación",0.02,0.02,2,2,0,0,"No",null,null,null,{"$f":"+IFERROR(VLOOKUP(C69,#REF!,13,0),\"\")","v":""},{"$f":"+IFERROR(INDIRECT(CONCATENATE(\"Puntaje!O\",MATCH(C69,#REF!,0)+4)),\"\")","v":""}]
[66,"INST.ENERGIA.16.1","6.19.33","C",6,"Instalaciones - Energía","",null,null,19,"Climatización y ACS","Climatización y ACS",{"$f":"+SUM(R70:R76)","v":4.1050000000000004},{"$f":"+SUM(S70:S76)","v":4.1050000000000004},33,"Relación de la potencia requerida e instalada","Relación de la potencia requerida e instalada",{"$f":"+MAX(V70)+MAX(V71)+MAX(V72)","v":2.5000000000000001E-2},{"$f":"+MAX(W70)+MAX(W71)+MAX(W72)","v":2.5000000000000001E-2},66,"Cobertura de Potencia requerida en climatización y ACS",1.4999999999999999E-2,1.4999999999999999E-2,1,2,0,0,"No",null,null,null,{"$f":"+IFERROR(VLOOKUP(C70,#REF!,13,0),\"\")","v":""},{"$f":"+IFERROR(INDIRECT(CONCATENATE(\"Puntaje!O\",MATCH(C70,#REF!,0)+4)),\"\")","v":""}]
[67,"INST.ENERGIA.16.1","6.19.33","C",6,"Instalaciones - Energía","",null,null,19,"Climatización y ACS","",null,null,33,"Relación de la potencia requerida e instalada","",null,null,67,"Sobredimensionamiento de Potencia requerida en calefacción",5.0000000000000001E-3,5.0000000000000001E-3,2,2,1,2,"Si"]
[68,"INST.ENERGIA.16.1","6.19.33","C",6,"Instalaciones - Energía","",null,null,19,"Climatización y ACS",{"$f":"+IF(K72=K71,\"\",K72)","v":""},null,null,33,"Relación de la potencia requerida e instalada","",null,null,68,"Sobredimensionamiento de Potencia requerida en refrigeración",5.0000000000000001E-3,5.0000000000000001E-3,2,2,2,2,"Si"]
[69,"INST.ENERGIA.16.2","6.19.34","C",6,"Instalaciones - Energía","",null,null,19,"Climatización y ACS","",null,null,34,"Rendimiento Nominal","Rendimiento Nominal",{"$f":"+MAX(V73:V75)","v":0.08},{"$f":"+MAX(W73:W75)","v":0.08},69,"Rendimiento nominal del sistema de calefacción por combustión",0.08,0.08,2,3,0,0,"No",null,null,null,{"$f":"+IFERROR(VLOOKUP(C73,#REF!,13,0),\"\")","v":""},{"$f":"+IFERROR(INDIRECT(CONCATENATE(\"Puntaje!O\",MATCH(C73,#REF!,0)+4)),\"\")","v":""}]
[70,"INST.ENERGIA.16.2","6.19.34","C",6,"Instalaciones - Energía","",null,null,19,"Climatización y ACS","",null,null,34,"Rendimiento Nominal","",null,null,70,"Rendimiento nominal del sistema de calefacción y enfriamiento por electricidad",0.08,0.08,3,3,0,0,"No"]
[71,"INST.ENERGIA.16.2","6.19.34","C",6,"Instalaciones - Energía","",null,null,19,"Climatización y ACS","",null,null,34,"Rendimiento Nominal","",null,null,71,"Disminución de consumo de energía en climatización y ACS",0.08,0.08,1,3,0,0,"No",null,null,null,{"$f":"+IFERROR(VLOOKUP(C75,#REF!,13,0),\"\")","v":""},{"$f":"+IFERROR(INDIRECT(CONCATENATE(\"Puntaje!O\",MATCH(C75,#REF!,0)+4)),\"\")","v":""}]
[72,"16R","6.19.35","R",6,"Instalaciones - Energía","",null,null,19,"Climatización y ACS","",null,null,35,"Aislación térmica en distribución de calor y frío","Aislación térmica en distribución de calor y frío",{"$f":"+MAX(V76)+MAX(V77)+MAX(V78)+MAX(V79)","v":4},{"$f":"+MAX(W76)+MAX(W77)+MAX(W78)+MAX(W79)","v":4},72,"Espesor de aislación térmica de cañerías para climatización/líquido [mm]",1,1,1,1,1,4,"No","x"]
[73,"16R","6.19.35","R",6,"Instalaciones - Energía",{"$f":"+IF(F77=F76,\"\",F77)","v":""},null,null,19,"Climatización y ACS","",null,null,35,"Aislación térmica en distribución de calor y frío","",null,null,73,"Espesor de aislación térmica de cañerías para ACS/líquido [mm]",1,1,1,1,2,4,"No"]
[74,"16R","6.19.35","R",6,"Instalaciones - Energía","",null,null,19,"Climatización y ACS","",null,null,35,"Aislación térmica en distribución de calor y frío","",null,null,74,"Espesor de aislación térmica de cañerías interiores de climatización/aire [mm]",1,1,1,1,3,4,"No"]
[75,"16R","6.19.35","R",6,"Instalaciones - Energía","",null,null,19,"Climatización y ACS","",null,null,35,"Aislación térmica en distribución de calor y frío","",null,null,75,"Espesor de aislación térmica de cañerías exteriores de climatización/aire [mm]",1,1,1,1,4,4,"No"]
[76,"INST.ENERGIA.17","6.20.36","C",6,"Instalaciones - Energía","",null,null,20,"Otros consumos de energía","Otros consumos de energía",{"$f":"+SUM(R80:R81)","v":0.01},{"$f":"+SUM(S80:S81)","v":0.01},36,"Otros consumos de energía","Otros consumos de energía",{"$f":"+MAX(V80:V81)","v":0.01},{"$f":"+MAX(W80:W81)","v":0.01},76,"% de reducción del consumo estimado de energía de equipos y artefactos",0.01,0.01,2,2,0,0,"No",null,null,null,{"$f":"+IFERROR(VLOOKUP(C80,#REF!,13,0),\"\")","v":""},{"$f":"+IFERROR(INDIRECT(CONCATENATE(\"Puntaje!O\",MATCH(C80,#REF!,0)+4)),\"\")","v":""}]
[77,"INST.ENERGIA.17","6.20.36","C",6,"Instalaciones - Energía","",null,null,20,"Otros consumos de energía","",null,null,36,"Otros consumos de energía","",null,null,77,"Disminución del consumo estimado de energía en equipos y artefactos",0.01,0.01,1,2,0,0,"No",null,null,null,{"$f":"+IFERROR(VLOOKUP(C81,#REF!,13,0),\"\")","v":""},{"$f":"+IFERROR(INDIRECT(CONCATENATE(\"Puntaje!O\",MATCH(C81,#REF!,0)+4)),\"\")","v":""}]
[78,"INST.ENERGIA.18","6.21.37","C",6,"Instalaciones - Energía","",null,null,21,"Energía renovable no convencional","Energía renovable no convencional",{"$f":"+SUM(R82)","v":0.02},{"$f":"+SUM(S82)","v":0.02},37,"Energía renovable no convencional","Energía renovable no convencional",{"$f":"+MAX(V82)","v":0.02},{"$f":"+MAX(W82)","v":0.02},78,"Cobertura de demanda de energía primaria del edificio",0.02,0.02,1,1,0,0,"No",null,null,null,{"$f":"+IFERROR(VLOOKUP(C82,#REF!,13,0),\"\")","v":""},{"$f":"+IFERROR(INDIRECT(CONCATENATE(\"Puntaje!O\",MATCH(C82,#REF!,0)+4)),\"\")","v":""}]
[{"$f":"1+A82","v":79},"INST.AGUA.19.1","7.22.38","C",7,"Instalaciones - Agua","Instalaciones - Agua",{"$f":"+SUM(M83:M87)","v":2.0750000000000002},{"$f":"+SUM(N83:N87)","v":2.0750000000000002},22,"Instalación de agua potable","Instalación de agua potable",{"$f":"+SUM(R83:R85)","v":1.0649999999999999},{"$f":"+SUM(S83:S85)","v":1.0649999999999999},38,"Sistemas eficientes","Sistemas eficientes",{"$f":"+MAX(V83)","v":0.06},0.06,79,"Disminución de consumo de agua potable [%]",0.06,0.06,1,1,0,0,"No",null,null,null,{"$f":"+IFERROR(VLOOKUP(C83,#REF!,13,0),\"\")","v":""},{"$f":"+IFERROR(INDIRECT(CONCATENATE(\"Puntaje!O\",MATCH(C83,#REF!,0)+4)),\"\")","v":""}]
[80,"INST.AGUA.19.2","7.22.39","C",7,"Instalaciones - Agua","",null,null,22,"Instalación de agua potable","",null,null,39,"Dureza del agua","Dureza del agua",5.0000000000000001E-3,5.0000000000000001E-3,80,"Tratamiento para la remoción de dureza de agua",5.0000000000000001E-3,5.0000000000000001E-3,1,1,0,0,"No",null,null,null,{"$f":"+IFERROR(VLOOKUP(C84,#REF!,13,0),\"\")","v":""},{"$f":"+IFERROR(INDIRECT(CONCATENATE(\"Puntaje!O\",MATCH(C84,#REF!,0)+4)),\"\")","v":""}]
[81,"19R","7.22.40","R",{"$f":"+IF(F85=F84,E84,E84+1)","v":7},"Instalaciones - Agua","",null,null,{"$f":"+IF(K85=K84,J84,J84+1)","v":22},"Instalación de agua potable","",null,null,{"$f":"+IF(P85=P84,O84,O84+1)","v":40},"Reducir en un 20% el consumo de agua potable",{"$f":"+IF(P85=P84,\"\",P85)","v":"Reducir en un 20% el consumo de agua potable"},1,1,81,"Disminución del consumo de agua potable por griferías y artefactos [%]",1,1,1,1,0,0,"No","x"]
[82,"INST.AGUA.20","7.23.41","C",7,"Instalaciones - Agua","",null,null,23,"Instalación de riego","Instalación de riego",{"$f":"+SUM(R86:R87)","v":1.01},{"$f":"+SUM(S86:S87)","v":1.01},41,"Sistemas eficientes","Sistemas eficientes",0.01,0.01,82,"Disminución del consumo de agua para riego [%]",0.01,0.01,1,1,0,0,"No",null,null,null,{"$f":"+IFERROR(VLOOKUP(C86,#REF!,13,0),\"\")","v":""},{"$f":"+IFERROR(INDIRECT(CONCATENATE(\"Puntaje!O\",MATCH(C86,#REF!,0)+4)),\"\")","v":""}]
[83,"20R","7.23.42","R",7,"Instalaciones - Agua","",null,null,23,"Instalación de riego","",null,null,42,"Reducir en un 20% el consumo de agua para riego","Reducir en un 20% el consumo de agua para riego",1,1,83,"Disminución del consumo de agua para riego por sistema de riego [%]",1,1,1,1,0,0,"No","x"]
[84,"CONST.RESIDUOS.21","8.24.43","C",8,"Construcción - Residuos","Construcción - Residuos",{"$f":"+SUM(M88:M89)","v":1.01},{"$f":"+SUM(N88:N89)","v":1.01},24,"Manejo de residuos durante la construcción","Manejo de residuos durante la construcción",{"$f":"+SUM(R88:R89)","v":1.01},{"$f":"+SUM(S88:S89)","v":1.01},43,"Manejo de residuos durante la construcción","Manejo de residuos durante la construcción",0.01,0.01,84,"Separación, control y reciclaje de residuos",0.01,0.01,1,1,0,0,"No",null,null,null,{"$f":"+IFERROR(VLOOKUP(C88,#REF!,13,0),\"\")","v":""},{"$f":"+IFERROR(INDIRECT(CONCATENATE(\"Puntaje!O\",MATCH(C88,#REF!,0)+4)),\"\")","v":""}]
[85,"21R","8.24.44","R",8,"Construcción - Residuos","",null,null,24,"Manejo de residuos durante la construcción","",null,null,44,"Medidas de control y mitigación durante la construcción","Medidas de control y mitigación durante la construcción",1,1,85,"Separación, control y reciclaje de residuos",1,1,1,1,0,0,"No","x"]
[86,"GESTION.22","9.25.45","C",9,"Gestión","Gestión",{"$f":"+SUM(M90:M91)","v":1.04},{"$f":"+SUM(N90:N91)","v":1.04},25,"Proceso de diseño integrado","Proceso de diseño integrado",{"$f":"+SUM(R90)","v":0.04},0.04,45,"Proceso de diseño integrado","Proceso de diseño integrado",0.04,0.04,86,"Actas de reuniones e informe",0.04,0.04,1,1,0,0,"Si",null,null,null,{"$f":"+IFERROR(VLOOKUP(C90,#REF!,13,0),\"\")","v":""},{"$f":"+IFERROR(INDIRECT(CONCATENATE(\"Puntaje!O\",MATCH(C90,#REF!,0)+4)),\"\")","v":""}]
[87,"GESTION.23","9.26.46","C",9,"Gestión","",null,null,26,"Gestión de la operación y mantenimiento","Gestión de la operación y mantenimiento",1,1,46,"Gestión de la Operación y Mantenimiento","Gestión de la Operación y Mantenimiento",1,1,87,"Compromiso y plan de mejora continua",1,1,1,1,0,0,"Si",null,null,null,{"$f":"+IFERROR(VLOOKUP(C91,#REF!,13,0),\"\")","v":""},{"$f":"+IFERROR(INDIRECT(CONCATENATE(\"Puntaje!O\",MATCH(C91,#REF!,0)+4)),\"\")","v":""}]
[88,"INST.ENERGIA 15 A 18",{"$f":"+CONCATENATE(E92,\".\",J92,\".\",O92)","v":"6.27.47"},"C",6,"Instalaciones - Energía",{"$f":"+IF(F92=F91,\"\",F92)","v":"Instalaciones - Energía"},{"$f":"+SUM(M92)","v":0.18},{"$f":"+SUM(N92)","v":0.18},{"$f":"+IF(K92=K91,J91,J91+1)","v":27},"Consumo de Energía",{"$f":"+IF(K92=K91,\"\",K92)","v":"Consumo de Energía"},0.18,0.18,{"$f":"+IF(P92=P91,O91,O91+1)","v":47},"Consumo de Energía","Reducción del consumo anual de energía de todo el edificio",{"$f":"+MAX(V92)","v":0.18},{"$f":"+MAX(W92)","v":0.18},88,"Reducción del consumo anual de energía [kWh/m2] para todo el edificio",0.18,0.18,1,1,0,0,"no",null,null,null,{"$f":"+IFERROR(VLOOKUP(C92,#REF!,13,0),\"\")","v":""},{"$f":"+IFERROR(INDIRECT(CONCATENATE(\"Puntaje!O\",MATCH(C92,#REF!,0)+4)),\"\")","v":""}]
[{"$f":"1+A92","v":89},"5R","2.5.12","R",2,"Arquitectura - Energía",{"$f":"+IF(F93=F92,\"\",F93)","v":"Arquitectura - Energía"},{"$f":"+SUM(M93)","v":1},{"$f":"+SUM(N93)","v":1},5,"Demanda de energía","Demanda de energía",1,1,12,"Transmitancia térmica de la envolvente y Factor Solar Modificado",{"$f":"+IF(P93=P92,\"\",P93)","v":"Transmitancia térmica de la envolvente y Factor Solar Modificado"},1,1,89,"Transmitancia Térmica Piso Ventilado [W/m2K]",1,1,1,1,2,9,"no"]
[90,"5R","2.5.12","R",{"$f":"+IF(F94=F93,E93,E93+1)","v":2},"Arquitectura - Energía",{"$f":"+IF(F94=F93,\"\",F94)","v":""},null,null,{"$f":"+IF(K94=K93,J93,J93+1)","v":5},"Demanda de energía","",1,1,{"$f":"+IF(P94=P93,O93,O93+1)","v":12},"Transmitancia térmica de la envolvente y Factor Solar Modificado","",1,1,90,"FSM - NorEste",1,1,1,1,6,9,"no"]
[91,"5R","2.5.12","R",2,"Arquitectura - Energía","",null,null,5,"Demanda de energía","",1,1,{"$f":"+IF(P95=P94,O94,O94+1)","v":12},"Transmitancia térmica de la envolvente y Factor Solar Modificado","",1,1,91,"FSM - Nor Oeste",1,1,1,1,7,9,"no"]
[92,"5R","2.5.12","R",2,"Arquitectura - Energía","",null,null,5,"Demanda de energía","",1,1,{"$f":"+IF(P96=P95,O95,O95+1)","v":12},"Transmitancia térmica de la envolvente y Factor Solar Modificado","",1,1,92,"FSM - Oeste",1,1,1,1,9,9,"no"]
[93,"ARQ.ENERGIA.5","2.5.11","C",2,"Arquitectura - Energía","",null,null,5,"Demanda de energía","",0.03,0.03,11,"Demanda de energía","Demanda de energía",0.03,0.03,93,"Mejora de U en pisos ventilados [W/m2K] ",0.03,0.03,2,2,2,2,"Si"]
[94,"ARQ.ENERGIA.5","2.5.11","C",2,"Arquitectura - Energía","",null,null,5,"Demanda de energía","",0.06,0.06,{"$f":"+IF(P98=P97,O97,O97+1)","v":11},"Demanda de energía","",0.06,0.06,94,"Mejora FSM - NorEste",0.06,0.06,2,2,4,8,"Si"]
[95,"ARQ.ENERGIA.5","2.5.11","C",2,"Arquitectura - Energía","",null,null,5,"Demanda de energía","",0.06,0.06,{"$f":"+IF(P99=P98,O98,O98+1)","v":11},"Demanda de energía","",0.06,0.06,95,"Mejora FSM - NorOeste",0.06,0.06,2,2,5,8,"Si"]
[96,"ARQ.ENERGIA.5","2.5.11","C",2,"Arquitectura - Energía","",null,null,5,"Demanda de energía","",0.06,0.06,{"$f":"+IF(P100=P99,O99,O99+1)","v":11},"Demanda de energía","",0.06,0.06,96,"Mejora FSM - Oeste",0.06,0.06,2,2,7,8,"Si"]
[97,"ARQ.ENERGIA.5","2.5.11","C",2,"Arquitectura - Energía","",null,null,5,"Demanda de energía","",0.06,0.06,{"$f":"+IF(P101=P100,O100,O100+1)","v":11},"Demanda de energía","",0.06,0.06,97,"Mejora FSM - Lucernarios",0.06,0.06,2,2,8,8,"Si"]
[98,"ARQ.ENERGIA.5",{"$f":"+CONCATENATE(E102,\".\",J102,\".\",O102)","v":"2.5.11"},"C",2,"Arquitectura - Energía","",null,null,{"$f":"+IF(K102=K101,J101,J101+1)","v":5},"Demanda de energía",{"$f":"+IF(K102=K101,\"\",K102)","v":""},0.01,0.01,{"$f":"+IF(P102=P101,O101,O101+1)","v":11},"Demanda de energía","",0.01,0.01,98,"Mejora de U en pisos en contacto con el terreno [W/m2K] ",0.01,0.01,2,2,0,0,"Si"]
[99,"ARQ.AGUA.9",{"$f":"+CONCATENATE(E103,\".\",J103,\".\",O103)","v":"3.10.18"},"C",3,"Arquitectura - Agua","Arquitectura - Agua",{"$f":"+SUM(M103)","v":0.01},{"$f":"+SUM(N103)","v":0.01},10,"Agua incorporada en los materiales estructurales del edificio",{"$f":"+IF(K103=K102,\"\",K103)","v":"Agua incorporada en los materiales estructurales del edificio"},0.01,0.01,18,"Agua incorporada en los materiales estructurales del edificio [%]","Agua incorporada en los materiales estructurales del edificio [%]",{"$f":"+MAX(V103)","v":0.01},{"$f":"+MAX(W103)","v":0.01},99,"Cantidad de categorías de materiales en que se declara la información de agua incorporada según UNE-14025",0.01,0.01,2,3,0,0,"No"]
[100,"ARQ.AGUA.9",{"$f":"+CONCATENATE(E104,\".\",J104,\".\",O104)","v":"3.10.18"},"C",3,"Arquitectura - Agua","",null,null,10,"Agua incorporada en los materiales estructurales del edificio",{"$f":"+IF(K104=K103,\"\",K104)","v":""},{"$f":"+SUM(R104)","v":0.01},{"$f":"+SUM(S104)","v":0.01},18,"Agua incorporada en los materiales estructurales del edificio [%]","",0.01,0.01,100,"Porcentaje de la superficie de el sistema estructural principal que se mantiene",0.01,0.01,3,3,0,0,"No"]

{"sheet":"Tablas2","index":3,"n_rows":348,"n_cols":119,"rows_kept":348,"cut":false,"hidden":true,"merged":[[11,117,14,117],[11,118,14,118],[10,109,11,109],[10,110,11,110],[8,114,9,114],[8,115,9,115],[34,99,38,99],[34,100,38,100],[0,102,3,102],[2,99,3,99],[0,100,1,101],[2,100,3,100],[2,101,3,101],[20,97,23,97],[12,96,15,96],[8,97,11,97],[12,97,15,97],[16,96,19,96],[16,97,19,97],[1,91,4,91],[1,92,4,92],[1,93,4,93],[1,94,4,94],[8,96,11,96],[7,96,7,97],[1,90,4,90],[1,76,4,76],[1,77,4,77],[1,78,4,78],[1,88,4,88],[1,81,4,81],[1,82,4,82],[1,85,4,85],[1,86,4,86],[1,89,4,89],[1,84,4,84],[1,87,4,87],[1,79,4,79],[1,80,4,80],[1,83,4,83],[24,96,27,96],[24,97,27,97],[23,23,23,26],[27,23,27,26],[74,32,77,32],[33,31,34,31],[33,32,34,32],[74,33,77,33],[74,34,77,34],[35,34,38,34],[68,23,68,26],[76,23,76,26],[65,23,65,26],[40,23,40,26],[45,23,45,26],[20,96,23,96],[1,75,4,75],[0,5,0,8],[56,23,56,26],[35,32,38,32],[35,33,38,33],[1,74,4,74],[33,33,34,33],[33,23,33,26],[33,34,34,34],[3,23,3,26],[8,23,8,26],[1,73,4,73],[1,69,4,69],[1,70,4,70],[1,71,4,71],[1,72,4,72]]}
[null,null,null,null,null,"Ashrae 62,1 tabla 6-1",null,null,null,null,null,null,null,null,null,null,null,null,null,null,null,null,null,null,null,null,null,null,null,null,null,null,null,null,null,null,null,null,null,null,null,null,null,null,null,null,null,null,null,null,null,null,null,null,null,null,null,null,null,null,null,null,null,null,null,null,null,null,null,null,null,null,null,null,null,null,null,null,null,null,null,null,null,null,null,null,null,null,null,null,null,null,null,null,null,null,null,null,null,null,"RAH límite a n50 (1/h)",null,"Zona Presión Viento Medio"]
[null,"Recintos ","Carga en [W/persona]","[Lux] NCh.4Of2003","Potencia iluminación [W/m2]","L/s pers","L/s m2","Pers/100m2","m2/pers","Acustica",null,null,null,"RITE 2007","Espesor aislación en ductos",null,null,null,null,null,null,null,null,"Ashrae 62,1 tabla 6-1",null,null,null,null,"NCh.4Of2003",null,null,"Función del espacio","Mínimo de recambio de aire exterior por hora","Mínimo del recambio de aire total por persona","Humedad relativa        (%)",null,null,null,null,null,null,null,null,null,null,null,null,null,null,null,null,null,null,null,null,null,null,null,null,null,null,null,null,null,null,null,null,null,null,"Recinto evaluado (receptor)","Uso recinto evaluado","Recinto colindante 1 (emisor)","Req. Mínimo aislación rec. Evaluado - rec. Colindante 1","Nivel actual de aislación entre rec. Evaluado - rec. Colindante 1","Cumplimiento rec.evaluado-rec. Colindante 1","Recinto colindante 2 (emisor)","Req. Mínimo aislación rec. Evaluado - rec. Colindante 2","Nivel actual de aislación entre rec. Evaluado - rec. Colindante 2","Cumplimiento rec.evaluado-rec. Colindante 2","Recinto colindante 3 (emisor)","Req. Mínimo aislación rec. Evaluado - rec. Colindante 3","Nivel actual de aislación entre rec. Evaluado - rec. Colindante 3","Cumplimiento rec.evaluado-rec. Colindante 3","Recinto colindante 4 (emisor)","Req. Mínimo aislación rec. Evaluado - rec. Colindante 4","Nivel actual de aislación entre rec. Evaluado - rec. Colindante 4","Cumplimiento rec.evaluado-rec. Colindante 4","Recinto colindante5 (emisor)","Req. Mínimo aislación rec. Evaluado - rec. Colindante 5","Nivel actual de aislación entre rec. Evaluado - rec. Colindante 5","Cumplimiento rec.evaluado-rec. Colindante 5","Total \"Muy Bueno\"","Total \"Bueno\"","Total \"No cumple\"","Clasificación Recinto"]
[null,"------- General: -------",null,null,null,null,null,null,null,null,null,null,null,"Fluidos calientes por el interior",null,null,null,null,null,null,null,"Tabla 1,2,4,2,1",null,"Categoría de ocupación","L/s pers","L/s m2","personas/100m2",null,"Tipo de Local Iluminancia [Lux]",null,null,"CIRUGIA Y CUIDADOS INTENSIVOS",null,null,null,null,"Muchos edificios",null,null,null,null,null,null,null,null,"Comuna","Región",null,null,null,null,null,null,null,"Categoría","Indicador","Puntaje","Puntaje educación y salud","Crédito asociado","Opción indicador","Prescriptiva / Prestacional estática / Prestacional dinámica",null,null,null,null,null,null,null,null,null,null,null,null,null,null,null,null,null,null,null,null,null,null,null,null,null,null,null,null,null,null,null,null,null,null,null,null,null,null,"CIUDAD","Vent. Natural","Vent Mecánica",null,null,"Zona presion media","Tipo terreno","Nº Pisos","Permeabilidad de carpintería","Referencia"]
[null,"Oficinas",82,400,12,2.5,0.3,5,{"$f":"IFERROR(100/H4,\"\")","v":20},"Oficinas ",null,null,null,null,null,null,null,null,"Temperatura",null,null,null,null,"Instalaciones Correccionales",null,null,null,null,"General",null,null,"Sala de operación (Sistema de aire recirculando)",5,25,"30 - 60",null,"Pocos edificios",null,null,null,null,null,null,null,"I","Alto Hospicio","I - Región de Tarapacá",null,"I - Región de Tarapacá","I",null,null,null,null,"Arquitectura - CAI","Reducción % horas de disconfort Taire",0.08,0.05,"ARQ.CAI.1",1,null,null,"Recinto Receptor","Recinto Emisor","Oficinas ",null,"General:","Categoría acústica",null,null,null,null,null,null,null,null,null,null,null,null,null,null,null,null,null,null,null,null,null,null,null,null,null,null,null,null,null,null,null,null,null,null,null,null,"X","Terreno abierto",1,"SC",{"$f":"+VALUE(IF(DD4=\"SC\",0,MID(DD4,1,2)))","v":0},null,null,null,"valores MERV"]
[null,"Salones de reuniones ",82,400,14,2.5,0.3,50,{"$f":"IFERROR(100/H5,\"\")","v":2},"Oficinas ",null,null,null,"Diametro exterior D",null,null,40,60,60,100,100,180,null,"Celda",2.5,0.6,25,null,"Auditorios",300,null,"Operación/Salas de cistoscopia quirúrgica",5,25,"30 - 60",null,"Campo",null,null,null,null,null,null,null,"I","Camiña","I - Región de Tarapacá",null,"II - Región de Antofagasta","II",null,null,null,null,"Arquitectura - CAI","Reducción % horas de disconfort Top y HR",0.16,0.08,"ARQ.CAI.1",2,null,null,"Oficinas ","Oficinas ",35,null,"Oficinas","Oficinas ",null,null,null,null,null,null,null,null,null,null,null,null,null,null,null,null,null,null,null,null,null,null,null,null,null,null,null,null,null,null,null,"Arica",4.0999999999999996,2.1,"Y",null,"X","Terreno abierto",2,"SC",{"$f":"+VALUE(IF(DD5=\"SC\",0,MID(DD5,1,2)))","v":0},null,null,null,1]
[null,"Bares, cafeterías, pubs ",98.399999999999991,300,15,3.8,0.9,100,1,"Áreas comunes",null,null,1,0,"<D<",35,25,null,25,null,30,null,null,"Habitación diaria",2.5,0.3,30,null,"Bancos",500,null,"Sala de entregas",5,25,"30 - 60",null,"Campo abierto",null,null,null,null,null,null,null,"I","Colchane","I - Región de Tarapacá",null,"III - Región de Atacama","III",null,null,null,null,"Arquitectura - CAI","Factor Luz Día",0.05,7.4999999999999997E-2,"ARQ.CAI.2.1",1,null,null,"Oficinas ","Salas de clase",50,null,"Salones de reuniones ","Oficinas ",null,"Recinto 1",{"$f":"+IFERROR(VLOOKUP('Datos Generales Edificio'!#REF!,$BO$5:$BP$32,2,FALSE),\"\")","v":""},{"$f":"+IF('Datos Generales Edificio'!#REF!<>\"\",'Datos Generales Edificio'!#REF!,\"\")","v":{"$error":"#REF!"}},{"$f":"+SUMIFS($BM$5:$BM$29,$BK$5:$BK$29,VLOOKUP($BR6,$BR$6:$BS$105,2,FALSE),$BL$5:$BL$29,VLOOKUP(BT6,$BR$6:$BS$105,2,FALSE))","v":0},{"$f":"+'Datos Generales Edificio'!#REF!","v":{"$error":"#REF!"}},{"$f":"+IF(BU6>0,IF(BV6>=(BU6+5),\"Muy Bueno\",IF(AND(BV6>=BU6,BV6<(BU6+5)),\"Bueno\",\"No cumple\")),\"\")","v":""},{"$f":"+IF('Datos Generales Edificio'!#REF!<>\"\",'Datos Generales Edificio'!#REF!,\"\")","v":{"$error":"#REF!"}},{"$f":"+SUMIFS($BM$5:$BM$29,$BK$5:$BK$29,VLOOKUP($BR6,$BR$6:$BS$105,2,FALSE),$BL$5:$BL$29,VLOOKUP(BX6,$BR$6:$BS$105,2,FALSE))","v":0},{"$f":"+'Datos Generales Edificio'!#REF!","v":{"$error":"#REF!"}},{"$f":"+IF(BY6>0,IF(BZ6>=(BY6+5),\"Muy Bueno\",IF(AND(BZ6>=BY6,BZ6<(BY6+5)),\"Bueno\",\"No cumple\")),\"\")","v":""},{"$f":"IF('Datos Generales Edificio'!#REF!<>\"\",'Datos Generales Edificio'!#REF!,\"\")","v":{"$error":"#REF!"}},{"$f":"+SUMIFS($BM$5:$BM$29,$BK$5:$BK$29,VLOOKUP($BR6,$BR$6:$BS$105,2,FALSE),$BL$5:$BL$29,VLOOKUP(CB6,$BR$6:$BS$105,2,FALSE))","v":0},{"$f":"+'Datos Generales Edificio'!#REF!","v":{"$error":"#REF!"}},{"$f":"+IF(CC6>0,IF(CD6>=(CC6+5),\"Muy Bueno\",IF(AND(CD6>=CC6,CD6<(CC6+5)),\"Bueno\",\"No cumple\")),\"\")","v":""},{"$f":"IF('Datos Generales Edificio'!#REF!<>\"\",'Datos Generales Edificio'!#REF!,\"\")","v":{"$error":"#REF!"}},{"$f":"+SUMIFS($BM$5:$BM$29,$BK$5:$BK$29,VLOOKUP($BR6,$BR$6:$BS$105,2,FALSE),$BL$5:$BL$29,VLOOKUP(CF6,$BR$6:$BS$105,2,FALSE))","v":0},{"$f":"+'Datos Generales Edificio'!#REF!","v":{"$error":"#REF!"}},{"$f":"+IF(CG6>0,IF(CH6>=(CG6+5),\"Muy Bueno\",IF(AND(CH6>=CG6,CH6<(CG6+5)),\"Bueno\",\"No cumple\")),\"\")","v":""},{"$f":"IF('Datos Generales Edificio'!#REF!<>\"\",'Datos Generales Edificio'!#REF!,\"\")","v":{"$error":"#REF!"}},{"$f":"+SUMIFS($BM$5:$BM$29,$BK$5:$BK$29,VLOOKUP($BR6,$BR$6:$BS$105,2,FALSE),$BL$5:$BL$29,VLOOKUP(CJ6,$BR$6:$BS$105,2,FALSE))","v":0},{"$f":"+'Datos Generales Edificio'!#REF!","v":{"$error":"#REF!"}},{"$f":"+IF(CK6>0,IF(CL6>=(CK6+5),\"Muy Bueno\",IF(AND(CL6>=CK6,CL6<(CK6+5)),\"Bueno\",\"No cumple\")),\"\")","v":""},{"$f":"+COUNTIF(BS6:CM6,\"Muy Bueno\")","v":0},{"$f":"+COUNTIF(BS6:CM6,\"Bueno\")","v":0},{"$f":"+COUNTIF(BS6:CM6,\"No Cumple\")","v":0},{"$f":"+IF(SUM(CN6:CP6)>0,IF(CP6>0,\"No Cumple\",IF(CO6>0,\"Bueno\",\"Muy Bueno\")),\"\")","v":""},null,null,null,null,"Iquique",4.8,2.4,"X",null,"X","Terreno abierto",3,"SC",0,"Muchos edificios","Ciudades",null,2,null,null,null,null,"uso edificio","valor máximo nivel sonoro"]
[null,"Restaurantes ",82,300,10,3.8,0.9,70,1.4285714285714286,"Áreas comunes",null,null,{"$f":"+M6+1","v":2},35,"<D<",60,30,null,30,null,40,null,null,"Estación de Guardia",2.5,0.3,15,null,"Bodegas",150,null,"Sala de recuperación",2,6,"30 - 60",null,null,null,null,null,null,null,null,null,"I","Huara","I - Región de Tarapacá",null,"IV - Región de Coquimbo","IV",null,null,null,null,"Arquitectura - CAI","Iluminancia útil [%]",0.05,7.4999999999999997E-2,"ARQ.CAI.2.1",2,null,null,"Oficinas ","Pabellones",null,null,"Bares, cafeterías, pubs ","Áreas comunes",null,"Recinto 2",{"$f":"+IFERROR(VLOOKUP('Datos Generales Edificio'!#REF!,$BO$5:$BP$32,2,FALSE),\"\")","v":""},{"$f":"+IF('Datos Generales Edificio'!#REF!<>\"\",'Datos Generales Edificio'!#REF!,\"\")","v":{"$error":"#REF!"}},{"$f":"+SUMIFS($BM$5:$BM$29,$BK$5:$BK$29,VLOOKUP($BR7,$BR$6:$BS$105,2,FALSE),$BL$5:$BL$29,VLOOKUP(BT7,$BR$6:$BS$105,2,FALSE))","v":0},{"$f":"+'Datos Generales Edificio'!#REF!","v":{"$error":"#REF!"}},{"$f":"+IF(BU7>0,IF(BV7>=(BU7+5),\"Muy Bueno\",IF(AND(BV7>=BU7,BV7<(BU7+5)),\"Bueno\",\"No cumple\")),\"\")","v":""},{"$f":"+IF('Datos Generales Edificio'!#REF!<>\"\",'Datos Generales Edificio'!#REF!,\"\")","v":{"$error":"#REF!"}},{"$f":"+SUMIFS($BM$5:$BM$29,$BK$5:$BK$29,VLOOKUP($BR7,$BR$6:$BS$105,2,FALSE),$BL$5:$BL$29,VLOOKUP(BX7,$BR$6:$BS$105,2,FALSE))","v":0},{"$f":"+'Datos Generales Edificio'!#REF!","v":{"$error":"#REF!"}},{"$f":"+IF(BY7>0,IF(BZ7>=(BY7+5),\"Muy Bueno\",IF(AND(BZ7>=BY7,BZ7<(BY7+5)),\"Bueno\",\"No cumple\")),\"\")","v":""},{"$f":"IF('Datos Generales Edificio'!#REF!<>\"\",'Datos Generales Edificio'!#REF!,\"\")","v":{"$error":"#REF!"}},{"$f":"+SUMIFS($BM$5:$BM$29,$BK$5:$BK$29,VLOOKUP($BR7,$BR$6:$BS$105,2,FALSE),$BL$5:$BL$29,VLOOKUP(CB7,$BR$6:$BS$105,2,FALSE))","v":0},{"$f":"+'Datos Generales Edificio'!#REF!","v":{"$error":"#REF!"}},{"$f":"+IF(CC7>0,IF(CD7>=(CC7+5),\"Muy Bueno\",IF(AND(CD7>=CC7,CD7<(CC7+5)),\"Bueno\",\"No cumple\")),\"\")","v":""},{"$f":"IF('Datos Generales Edificio'!#REF!<>\"\",'Datos Generales Edificio'!#REF!,\"\")","v":{"$error":"#REF!"}},{"$f":"+SUMIFS($BM$5:$BM$29,$BK$5:$BK$29,VLOOKUP($BR7,$BR$6:$BS$105,2,FALSE),$BL$5:$BL$29,VLOOKUP(CF7,$BR$6:$BS$105,2,FALSE))","v":0},{"$f":"+'Datos Generales Edificio'!#REF!","v":{"$error":"#REF!"}},{"$f":"+IF(CG7>0,IF(CH7>=(CG7+5),\"Muy Bueno\",IF(AND(CH7>=CG7,CH7<(CG7+5)),\"Bueno\",\"No cumple\")),\"\")","v":""},{"$f":"IF('Datos Generales Edificio'!#REF!<>\"\",'Datos Generales Edificio'!#REF!,\"\")","v":{"$error":"#REF!"}},{"$f":"+SUMIFS($BM$5:$BM$29,$BK$5:$BK$29,VLOOKUP($BR7,$BR$6:$BS$105,2,FALSE),$BL$5:$BL$29,VLOOKUP(CJ7,$BR$6:$BS$105,2,FALSE))","v":0},{"$f":"+'Datos Generales Edificio'!#REF!","v":{"$error":"#REF!"}},{"$f":"+IF(CK7>0,IF(CL7>=(CK7+5),\"Muy Bueno\",IF(AND(CL7>=CK7,CL7<(CK7+5)),\"Bueno\",\"No cumple\")),\"\")","v":""},{"$f":"+COUNTIF(BS7:CM7,\"Muy Bueno\")","v":0},{"$f":"+COUNTIF(BS7:CM7,\"Bueno\")","v":0},{"$f":"+COUNTIF(BS7:CM7,\"No Cumple\")","v":0},{"$f":"+IF(SUM(CN7:CP7)>0,IF(CP7>0,\"No Cumple\",IF(CO7>0,\"Bueno\",\"Muy Bueno\")),\"\")","v":""},null,null,null,null,"Antofagasta",4.0999999999999996,2.1,"Y",null,"X","Terreno abierto",4,"SC",0,"Pocos edificios","Ciudades",null,3,null,null,null,null,"Educacional",34.999000000000002]
[null,"Estacionamientos",164,150,2,null,null,null,"","Áreas comunes",null,null,{"$f":"+M7+1","v":3},60,"<D<",90,30,null,30,null,40,null,null,"Reservar/Esperar",3.8,0.3,50,null,"Bibliotecas públicas",400,null,"Cuidados críticos e intensivos",2,6,"30 - 60",null,"Metal sin RPT",5.8,null,null,null,null,null,null,"I","Iquique","I - Región de Tarapacá",null,"V - Región de Valparaíso","V",null,null,null,null,"Arquitectura - CAI","Autonomía de Iluminación del Espacio [SDA300/50%]",0.05,7.4999999999999997E-2,"ARQ.CAI.2.1",3,null,null,"Oficinas ","Áreas comunes",35,null,"Restaurantes ","Áreas comunes",null,"Recinto 3",{"$f":"+IFERROR(VLOOKUP('Datos Generales Edificio'!#REF!,$BO$5:$BP$32,2,FALSE),\"\")","v":""},{"$f":"+IF('Datos Generales Edificio'!#REF!<>\"\",'Datos Generales Edificio'!#REF!,\"\")","v":{"$error":"#REF!"}},0,{"$f":"+'Datos Generales Edificio'!#REF!","v":{"$error":"#REF!"}},"",{"$f":"+IF('Datos Generales Edificio'!#REF!<>\"\",'Datos Generales Edificio'!#REF!,\"\")","v":{"$error":"#REF!"}},0,{"$f":"+'Datos Generales Edificio'!#REF!","v":{"$error":"#REF!"}},"",{"$f":"IF('Datos Generales Edificio'!#REF!<>\"\",'Datos Generales Edificio'!#REF!,\"\")","v":{"$error":"#REF!"}},0,{"$f":"+'Datos Generales Edificio'!#REF!","v":{"$error":"#REF!"}},"",{"$f":"IF('Datos Generales Edificio'!#REF!<>\"\",'Datos Generales Edificio'!#REF!,\"\")","v":{"$error":"#REF!"}},0,{"$f":"+'Datos Generales Edificio'!#REF!","v":{"$error":"#REF!"}},"",{"$f":"IF('Datos Generales Edificio'!#REF!<>\"\",'Datos Generales Edificio'!#REF!,\"\")","v":{"$error":"#REF!"}},0,{"$f":"+'Datos Generales Edificio'!#REF!","v":{"$error":"#REF!"}},"",0,0,0,"",null,"CRÉDITO ARQ.CAI.4.1",null,null,"Coquimbo",5.4,2.7,"X",null,"X","Terreno abierto",5,"SC",0,"Campo","Terreno abierto",null,4,null,null,null,null,"Oficinas",39.999000000000002]
[null,"Bodegas, Archivos ",98.399999999999991,150,6,"-",0.6,"-","","Áreas comunes",null,null,{"$f":"+M8+1","v":4},90,"<D<",140,30,null,40,null,50,null,null,"Instalaciones Educacionales",null,null,null,null,"Casinos, Restoranes, Cocina",300,null,"Cuidados intensivos de recién nacidos",2,6,"30 - 60",null,"Al con RPT",3.3,null,null,null,null,null,null,"I","Pica","I - Región de Tarapacá",null,"RM - Región Metropolitana de Santiago","RM",null,null,null,null,"Arquitectura - CAI","% de áreas con acceso visual al exterior",0.01,1.4999999999999999E-2,"ARQ.CAI.2.2",1,null,null,"Oficinas ","Equipamiento",55,null,"Estacionamientos","Áreas comunes",null,"Recinto 4",{"$f":"+IFERROR(VLOOKUP('Datos Generales Edificio'!#REF!,$BO$5:$BP$32,2,FALSE),\"\")","v":""},{"$f":"+IF('Datos Generales Edificio'!#REF!<>\"\",'Datos Generales Edificio'!#REF!,\"\")","v":{"$error":"#REF!"}},0,{"$f":"+'Datos Generales Edificio'!#REF!","v":{"$error":"#REF!"}},"",{"$f":"+IF('Datos Generales Edificio'!#REF!<>\"\",'Datos Generales Edificio'!#REF!,\"\")","v":{"$error":"#REF!"}},0,{"$f":"+'Datos Generales Edificio'!#REF!","v":{"$error":"#REF!"}},"",{"$f":"IF('Datos Generales Edificio'!#REF!<>\"\",'Datos Generales Edificio'!#REF!,\"\")","v":{"$error":"#REF!"}},0,{"$f":"+'Datos Generales Edificio'!#REF!","v":{"$error":"#REF!"}},"",{"$f":"IF('Datos Generales Edificio'!#REF!<>\"\",'Datos Generales Edificio'!#REF!,\"\")","v":{"$error":"#REF!"}},0,{"$f":"+'Datos Generales Edificio'!#REF!","v":{"$error":"#REF!"}},"",{"$f":"IF('Datos Generales Edificio'!#REF!<>\"\",'Datos Generales Edificio'!#REF!,\"\")","v":{"$error":"#REF!"}},0,{"$f":"+'Datos Generales Edificio'!#REF!","v":{"$error":"#REF!"}},"",0,0,0,"",null,"TOTAL RECINTOS",{"$f":"100-COUNTBLANK(BS6:BS105)","v":0},null,"Calama",3.5,1.8,"Z",null,"X","Terreno abierto",6,"SC",0,"Campo abierto","Terreno abierto",null,5,null,"MERV Edificio",{"$f":"MERV_Edificio","v":{"$error":"#NAME?"}},null,"Salud",29.998999999999999]
[null,"Bibliotecas",null,400,15,null,null,null,"","Oficinas ",null,null,{"$f":"+M9+1","v":5},140,"<D<",null,35,null,40,null,50,null,null,"Guardería ( hasta 4 años)",5,0.9,25,null,"Comedores",150,null,"Sala de tratamiento","-",6,"30 - 60",null,"PVC",2.8,null,null,null,null,null,null,"I","Pozo Almonte","I - Región de Tarapacá",null,"VI - Región de O'Higgins","VI",null,null,null,null,"Arquitectura - CAI","Renovaciones de aire hora [RAH]",0.06,7.4999999999999997E-2,"ARQ.CAI.3.1",1,null,null,"Salas de clase","Oficinas ",50,null,"Bodegas, Archivos ","Áreas comunes",null,"Recinto 5",{"$f":"+IFERROR(VLOOKUP('Datos Generales Edificio'!#REF!,$BO$5:$BP$32,2,FALSE),\"\")","v":""},{"$f":"+IF('Datos Generales Edificio'!#REF!<>\"\",'Datos Generales Edificio'!#REF!,\"\")","v":{"$error":"#REF!"}},0,{"$f":"+'Datos Generales Edificio'!#REF!","v":{"$error":"#REF!"}},"",{"$f":"+IF('Datos Generales Edificio'!#REF!<>\"\",'Datos Generales Edificio'!#REF!,\"\")","v":{"$error":"#REF!"}},0,{"$f":"+'Datos Generales Edificio'!#REF!","v":{"$error":"#REF!"}},"",{"$f":"IF('Datos Generales Edificio'!#REF!<>\"\",'Datos Generales Edificio'!#REF!,\"\")","v":{"$error":"#REF!"}},0,{"$f":"+'Datos Generales Edificio'!#REF!","v":{"$error":"#REF!"}},"",{"$f":"IF('Datos Generales Edificio'!#REF!<>\"\",'Datos Generales Edificio'!#REF!,\"\")","v":{"$error":"#REF!"}},0,{"$f":"+'Datos Generales Edificio'!#REF!","v":{"$error":"#REF!"}},"",{"$f":"IF('Datos Generales Edificio'!#REF!<>\"\",'Datos Generales Edificio'!#REF!,\"\")","v":{"$error":"#REF!"}},0,{"$f":"+'Datos Generales Edificio'!#REF!","v":{"$error":"#REF!"}},"",0,0,0,"",null,null,null,null,"Copiapó",2.8,1.4,"Y",null,"X","Terreno abierto",7,"SC",0,null,null,null,6]
[null,"Pasillos",null,150,5,null,null,null,"","Áreas comunes",null,null,null,"Fluidos calientes por el exterior",null,null,null,null,null,null,null,"Tabla 1,2,4,2,2",null,"Guardería Enfermería",5,0.9,25,null,"Fábricas en general",300,null,"Sala de enfermería",5,12,"30 - 60",null,"Madera",2.6,null,null,null,null,null,null,"II","Antofagasta","II - Región de Antofagasta",null,"VII - Región de Maule","VII",null,null,null,null,"Arquitectura - CAI","Cumplimiento de características de materiales",2.5000000000000001E-2,0.03,"ARQ.CAI.3.2",1,null,null,"Salas de clase","Salas de clase",50,null,"Bibliotecas","Salas de clase",null,"Recinto 6",{"$f":"+IFERROR(VLOOKUP('Datos Generales Edificio'!#REF!,$BO$5:$BP$32,2,FALSE),\"\")","v":""},{"$f":"+IF('Datos Generales Edificio'!#REF!<>\"\",'Datos Generales Edificio'!#REF!,\"\")","v":{"$error":"#REF!"}},0,{"$f":"+'Datos Generales Edificio'!#REF!","v":{"$error":"#REF!"}},"",{"$f":"+IF('Datos Generales Edificio'!#REF!<>\"\",'Datos Generales Edificio'!#REF!,\"\")","v":{"$error":"#REF!"}},0,{"$f":"+'Datos Generales Edificio'!#REF!","v":{"$error":"#REF!"}},"",{"$f":"IF('Datos Generales Edificio'!#REF!<>\"\",'Datos Generales Edificio'!#REF!,\"\")","v":{"$error":"#REF!"}},0,{"$f":"+'Datos Generales Edificio'!#REF!","v":{"$error":"#REF!"}},"",{"$f":"IF('Datos Generales Edificio'!#REF!<>\"\",'Datos Generales Edificio'!#REF!,\"\")","v":{"$error":"#REF!"}},0,{"$f":"+'Datos Generales Edificio'!#REF!","v":{"$error":"#REF!"}},"",{"$f":"IF('Datos Generales Edificio'!#REF!<>\"\",'Datos Generales Edificio'!#REF!,\"\")","v":{"$error":"#REF!"}},0,{"$f":"+'Datos Generales Edificio'!#REF!","v":{"$error":"#REF!"}},"",0,0,0,"",null,null,null,null,"Vallenar",5.3,2.7,"X",null,"X","Terreno abierto",8,"SC",0,"Tipo terreno edificio",{"$f":"+VLOOKUP('Datos Generales Edificio'!#REF!,Tablas2!$DF$6:$DG$9,2,FALSE)","v":{"$error":"#REF!"}},null,7]
[null,"------- Comercio: -------",null,null,null,null,null,null,"",null,null,null,null,null,null,null,"Temperatura",null,"Temperatura",null,"Temperatura",null,null,"Sala de clases (5 - 8 años)",5,0.6,25,null,"Imprentas",500,null,"Sala de trauma (Crisis o shock)",3,15,"30 - 60",null,null,null,null,null,null,null,null,null,"II","Calama","II - Región de Antofagasta",null,"VIII - Región de Biobío","VIII",null,null,null,null,"Arquitectura - CAI","Concentración límite de COV por tipo de producto",2.5000000000000001E-2,0.03,"ARQ.CAI.3.2",2,null,null,"Salas de clase","Pabellones","---",null,"Pasillos","Áreas comunes",null,"Recinto 7",{"$f":"+IFERROR(VLOOKUP('Datos Generales Edificio'!#REF!,$BO$5:$BP$32,2,FALSE),\"\")","v":""},{"$f":"+IF('Datos Generales Edificio'!#REF!<>\"\",'Datos Generales Edificio'!#REF!,\"\")","v":{"$error":"#REF!"}},0,{"$f":"+'Datos Generales Edificio'!#REF!","v":{"$error":"#REF!"}},"",{"$f":"+IF('Datos Generales Edificio'!#REF!<>\"\",'Datos Generales Edificio'!#REF!,\"\")","v":{"$error":"#REF!"}},0,{"$f":"+'Datos Generales Edificio'!#REF!","v":{"$error":"#REF!"}},"",{"$f":"IF('Datos Generales Edificio'!#REF!<>\"\",'Datos Generales Edificio'!#REF!,\"\")","v":{"$error":"#REF!"}},0,{"$f":"+'Datos Generales Edificio'!#REF!","v":{"$error":"#REF!"}},"",{"$f":"IF('Datos Generales Edificio'!#REF!<>\"\",'Datos Generales Edificio'!#REF!,\"\")","v":{"$error":"#REF!"}},0,{"$f":"+'Datos Generales Edificio'!#REF!","v":{"$error":"#REF!"}},"",{"$f":"IF('Datos Generales Edificio'!#REF!<>\"\",'Datos Generales Edificio'!#REF!,\"\")","v":{"$error":"#REF!"}},0,{"$f":"+'Datos Generales Edificio'!#REF!","v":{"$error":"#REF!"}},"",0,0,0,"",null,null,null,null,"Ovalle",13.7,6.9,"X",null,"X","Terreno abierto",9,"SC",0,null,null,null,8,null,null,null,null,"Valor Máximo Nivel sonoro Edificio",{"$f":"+VLOOKUP(Uso_Edificio,$DN$7:$DO$9,2,FALSE)","v":39.999000000000002}]
[null,"Supermercados",164,300,18,3.8,0.3,8,12.5,"Áreas comunes",null,null,null,"Diametro exterior",null,null,40,60,60,100,100,180,null,"Sala de clases (9 años o más)",5,0.6,35,null,"Laboratorios",500,null,"Sala de trauma (Emergencias convencionales o tratamiento)",2,6,"30 - 60",null,null,null,null,null,null,null,null,null,"II","María Elena","II - Región de Antofagasta",null,"IX - Región de Araucanía","IX",null,null,null,null,"Arquitectura - CAI","Concentración ponderada de COV",2.5000000000000001E-2,0.03,"ARQ.CAI.3.2",3,null,null,"Salas de clase","Áreas comunes",50,null,"Comercio:",null,null,"Recinto 8",{"$f":"+IFERROR(VLOOKUP('Datos Generales Edificio'!#REF!,$BO$5:$BP$32,2,FALSE),\"\")","v":""},{"$f":"+IF('Datos Generales Edificio'!#REF!<>\"\",'Datos Generales Edificio'!#REF!,\"\")","v":{"$error":"#REF!"}},0,{"$f":"+'Datos Generales Edificio'!#REF!","v":{"$error":"#REF!"}},"",{"$f":"+IF('Datos Generales Edificio'!#REF!<>\"\",'Datos Generales Edificio'!#REF!,\"\")","v":{"$error":"#REF!"}},0,{"$f":"+'Datos Generales Edificio'!#REF!","v":{"$error":"#REF!"}},"",{"$f":"IF('Datos Generales Edificio'!#REF!<>\"\",'Datos Generales Edificio'!#REF!,\"\")","v":{"$error":"#REF!"}},0,{"$f":"+'Datos Generales Edificio'!#REF!","v":{"$error":"#REF!"}},"",{"$f":"IF('Datos Generales Edificio'!#REF!<>\"\",'Datos Generales Edificio'!#REF!,\"\")","v":{"$error":"#REF!"}},0,{"$f":"+'Datos Generales Edificio'!#REF!","v":{"$error":"#REF!"}},"",{"$f":"IF('Datos Generales Edificio'!#REF!<>\"\",'Datos Generales Edificio'!#REF!,\"\")","v":{"$error":"#REF!"}},0,{"$f":"+'Datos Generales Edificio'!#REF!","v":{"$error":"#REF!"}},"",0,0,0,"",null,"%MUY BUENO",{"$f":"+COUNTIF($CQ$6:$CQ$105,\"Muy Bueno\")/$CT$9","v":{"$error":"#DIV/0!"}},null,"Valparaíso",4.9000000000000004,2.5,"Y",null,"X","Terreno abierto",10,"SC",0,null,null,null,9]
[null,"Locales comerciales",164,300,18,3.8,0.3,40,2.5,"Áreas comunes",null,null,1,0,"<D<",35,35,null,35,null,40,null,null,"Sala de lectura",3.8,0.3,65,null,"Laboratorios de instrumentación",700,null,"Almacén de gas de anestesia","-",8,"-",null,null,null,null,null,null,null,null,null,"II","Mejillones","II - Región de Antofagasta",null,"X - Región de Los Lagos","X",null,null,null,null,"Arquitectura - CAI","Aislamiento acústico de fachada [dB(A)",0.02,0.03,"ARQ.CAI.4.1.1",1,null,null,"Salas de clase","Equipamiento",50,null,"Supermercados","Áreas comunes",null,"Recinto 9",{"$f":"+IFERROR(VLOOKUP('Datos Generales Edificio'!#REF!,$BO$5:$BP$32,2,FALSE),\"\")","v":""},{"$f":"+IF('Datos Generales Edificio'!#REF!<>\"\",'Datos Generales Edificio'!#REF!,\"\")","v":{"$error":"#REF!"}},0,{"$f":"+'Datos Generales Edificio'!#REF!","v":{"$error":"#REF!"}},"",{"$f":"+IF('Datos Generales Edificio'!#REF!<>\"\",'Datos Generales Edificio'!#REF!,\"\")","v":{"$error":"#REF!"}},0,{"$f":"+'Datos Generales Edificio'!#REF!","v":{"$error":"#REF!"}},"",{"$f":"IF('Datos Generales Edificio'!#REF!<>\"\",'Datos Generales Edificio'!#REF!,\"\")","v":{"$error":"#REF!"}},0,{"$f":"+'Datos Generales Edificio'!#REF!","v":{"$error":"#REF!"}},"",{"$f":"IF('Datos Generales Edificio'!#REF!<>\"\",'Datos Generales Edificio'!#REF!,\"\")","v":{"$error":"#REF!"}},0,{"$f":"+'Datos Generales Edificio'!#REF!","v":{"$error":"#REF!"}},"",{"$f":"IF('Datos Generales Edificio'!#REF!<>\"\",'Datos Generales Edificio'!#REF!,\"\")","v":{"$error":"#REF!"}},0,{"$f":"+'Datos Generales Edificio'!#REF!","v":{"$error":"#REF!"}},"",0,0,0,"",null,null,null,null,"Quilpué",4.9000000000000004,2.5,"Y",null,"X","Terreno abierto",11,"60a",60,null,null,null,10]
[null,"Patios de comida",82,150,18,null,null,null,"","Áreas comunes",null,null,{"$f":"+M14+1","v":2},35,"<D<",60,40,null,40,null,50,null,null,"Sala de conferencia (Asientos fijos)",3.8,0.3,150,null,"Naves de máquinas herramientas",300,null,"Endoscopia",2,6,"30 - 60",null,null,null,null,null,null,null,null,null,"II","Ollague","II - Región de Antofagasta",null,"XI - Región de Aisén","XI",null,null,null,null,"Arquitectura - CAI","Aislamiento acústico entre recintos [dB(A)]",0.01,0.02,"ARQ.CAI.4.1.2",1,null,null,"Pabellones","Oficinas ",35,null,"Locales comerciales","Áreas comunes",null,"Recinto 10",{"$f":"+IFERROR(VLOOKUP('Datos Generales Edificio'!#REF!,$BO$5:$BP$32,2,FALSE),\"\")","v":""},{"$f":"+IF('Datos Generales Edificio'!#REF!<>\"\",'Datos Generales Edificio'!#REF!,\"\")","v":{"$error":"#REF!"}},0,{"$f":"+'Datos Generales Edificio'!#REF!","v":{"$error":"#REF!"}},"",{"$f":"+IF('Datos Generales Edificio'!#REF!<>\"\",'Datos Generales Edificio'!#REF!,\"\")","v":{"$error":"#REF!"}},0,{"$f":"+'Datos Generales Edificio'!#REF!","v":{"$error":"#REF!"}},"",{"$f":"IF('Datos Generales Edificio'!#REF!<>\"\",'Datos Generales Edificio'!#REF!,\"\")","v":{"$error":"#REF!"}},0,{"$f":"+'Datos Generales Edificio'!#REF!","v":{"$error":"#REF!"}},"",{"$f":"IF('Datos Generales Edificio'!#REF!<>\"\",'Datos Generales Edificio'!#REF!,\"\")","v":{"$error":"#REF!"}},0,{"$f":"+'Datos Generales Edificio'!#REF!","v":{"$error":"#REF!"}},"",{"$f":"IF('Datos Generales Edificio'!#REF!<>\"\",'Datos Generales Edificio'!#REF!,\"\")","v":{"$error":"#REF!"}},0,{"$f":"+'Datos Generales Edificio'!#REF!","v":{"$error":"#REF!"}},"",0,0,0,"",null,null,null,null,"Colina",5.4,2.7,"X",null,"X","Terreno abierto",12,"60a",60,null,null,null,11]
[null,"------- Educación: -------","",null,null,null,null,null,"",null,null,null,{"$f":"+M15+1","v":3},60,"<D<",90,40,null,40,null,50,null,null,"Sala de arte",5,0.9,20,null,"Oficinas en general",400,null,"Broncoscopia",2,12,"30 - 60",null,null,null,null,null,null,null,null,null,"II","San Pedro de Atacama","II - Región de Antofagasta",null,"XII - Región de Magallanes y Antártica Chilena","XII",null,null,null,null,"Arquitectura - CAI","Tiempo de reverberación [s]",1.4999999999999999E-2,1.4999999999999999E-2,"ARQ.CAI.4.2.1",1,null,null,"Pabellones","Salas de clase","---",null,"Patios de comida","Áreas comunes",null,"Recinto 11",{"$f":"+IFERROR(VLOOKUP('Datos Generales Edificio'!#REF!,$BO$5:$BP$32,2,FALSE),\"\")","v":""},{"$f":"+IF('Datos Generales Edificio'!#REF!<>\"\",'Datos Generales Edificio'!#REF!,\"\")","v":{"$error":"#REF!"}},0,{"$f":"+'Datos Generales Edificio'!#REF!","v":{"$error":"#REF!"}},"",{"$f":"+IF('Datos Generales Edificio'!#REF!<>\"\",'Datos Generales Edificio'!#REF!,\"\")","v":{"$error":"#REF!"}},0,{"$f":"+'Datos Generales Edificio'!#REF!","v":{"$error":"#REF!"}},"",{"$f":"IF('Datos Generales Edificio'!#REF!<>\"\",'Datos Generales Edificio'!#REF!,\"\")","v":{"$error":"#REF!"}},0,{"$f":"+'Datos Generales Edificio'!#REF!","v":{"$error":"#REF!"}},"",{"$f":"IF('Datos Generales Edificio'!#REF!<>\"\",'Datos Generales Edificio'!#REF!,\"\")","v":{"$error":"#REF!"}},0,{"$f":"+'Datos Generales Edificio'!#REF!","v":{"$error":"#REF!"}},"",{"$f":"IF('Datos Generales Edificio'!#REF!<>\"\",'Datos Generales Edificio'!#REF!,\"\")","v":{"$error":"#REF!"}},0,{"$f":"+'Datos Generales Edificio'!#REF!","v":{"$error":"#REF!"}},"",0,0,0,"",null,null,null,null,"Santiago",4.9000000000000004,2.5,"X",null,"X","Terreno abierto",13,"60a",60,null,null,null,12]
[null,"Salas clase parvulos",82,150,15,5,0.9,25,4,"Salas de clase",null,null,{"$f":"+M16+1","v":4},90,"<D<",140,40,null,50,null,60,null,null,"Laboratorio de ciencias",5,0.9,25,null,"Pasillos",50,null,"Sala de espera de emergencias",2,12,"30 - 60",null,null,null,null,null,null,null,null,null,"II","Sierra Gorda","II - Región de Antofagasta",null,"XIV - Región de Los Ríos","XIV",null,null,null,null,"Arquitectura - CAI","Inteligibidad de la palabra",5.0000000000000001E-3,5.0000000000000001E-3,"ARQ.CAI.4.2.1",2,null,null,"Pabellones","Pabellones",35,null,"Educación:",null,null,"Recinto 12",{"$f":"+IFERROR(VLOOKUP('Datos Generales Edificio'!#REF!,$BO$5:$BP$32,2,FALSE),\"\")","v":""},{"$f":"+IF('Datos Generales Edificio'!#REF!<>\"\",'Datos Generales Edificio'!#REF!,\"\")","v":{"$error":"#REF!"}},0,{"$f":"+'Datos Generales Edificio'!#REF!","v":{"$error":"#REF!"}},"",{"$f":"+IF('Datos Generales Edificio'!#REF!<>\"\",'Datos Generales Edificio'!#REF!,\"\")","v":{"$error":"#REF!"}},0,{"$f":"+'Datos Generales Edificio'!#REF!","v":{"$error":"#REF!"}},"",{"$f":"IF('Datos Generales Edificio'!#REF!<>\"\",'Datos Generales Edificio'!#REF!,\"\")","v":{"$error":"#REF!"}},0,{"$f":"+'Datos Generales Edificio'!#REF!","v":{"$error":"#REF!"}},"",{"$f":"IF('Datos Generales Edificio'!#REF!<>\"\",'Datos Generales Edificio'!#REF!,\"\")","v":{"$error":"#REF!"}},0,{"$f":"+'Datos Generales Edificio'!#REF!","v":{"$error":"#REF!"}},"",{"$f":"IF('Datos Generales Edificio'!#REF!<>\"\",'Datos Generales Edificio'!#REF!,\"\")","v":{"$error":"#REF!"}},0,{"$f":"+'Datos Generales Edificio'!#REF!","v":{"$error":"#REF!"}},"",0,0,0,"",null,"%BUENO",{"$f":"+COUNTIF($CQ$6:$CQ$105,\"Bueno\")/$CT$9","v":{"$error":"#DIV/0!"}},null,"Puente Alto",4.9000000000000004,2.5,"X",null,"X","Terreno abierto",14,"60a",60,null,null,null,13]
[null,"Salas educación básica",null,200,15,5,0.6,25,4,"Salas de clase",null,null,{"$f":"+M17+1","v":5},140,"<D<",null,45,null,50,null,60,null,null,"Laboratorio de colegios/Universidad",5,0.9,25,null,"Salas de trabajo iluminación suplementaria en cada",150,null,"Triage",2,12,"-",null,null,null,null,null,null,null,null,null,"II","Taltal","II - Región de Antofagasta",null,"XV - Región de Arica y de Parinacota","XV",null,null,null,null,"Arquitectura - Energía","Disminución demanda de energía [%]",0.18,0.18,"ARQ.ENERGIA.5",1,null,null,"Pabellones","Áreas comunes",45,null,"Salas clase parvulos","Salas de clase",null,"Recinto 13",{"$f":"+IFERROR(VLOOKUP('Datos Generales Edificio'!#REF!,$BO$5:$BP$32,2,FALSE),\"\")","v":""},{"$f":"+IF('Datos Generales Edificio'!#REF!<>\"\",'Datos Generales Edificio'!#REF!,\"\")","v":{"$error":"#REF!"}},0,{"$f":"+'Datos Generales Edificio'!#REF!","v":{"$error":"#REF!"}},"",{"$f":"+IF('Datos Generales Edificio'!#REF!<>\"\",'Datos Generales Edificio'!#REF!,\"\")","v":{"$error":"#REF!"}},0,{"$f":"+'Datos Generales Edificio'!#REF!","v":{"$error":"#REF!"}},"",{"$f":"IF('Datos Generales Edificio'!#REF!<>\"\",'Datos Generales Edificio'!#REF!,\"\")","v":{"$error":"#REF!"}},0,{"$f":"+'Datos Generales Edificio'!#REF!","v":{"$error":"#REF!"}},"",{"$f":"IF('Datos Generales Edificio'!#REF!<>\"\",'Datos Generales Edificio'!#REF!,\"\")","v":{"$error":"#REF!"}},0,{"$f":"+'Datos Generales Edificio'!#REF!","v":{"$error":"#REF!"}},"",{"$f":"IF('Datos Generales Edificio'!#REF!<>\"\",'Datos Generales Edificio'!#REF!,\"\")","v":{"$error":"#REF!"}},0,{"$f":"+'Datos Generales Edificio'!#REF!","v":{"$error":"#REF!"}},"",0,0,0,"",null,null,null,null,"San Bernardo",6,3,"X",null,"X","Terreno abierto",15,"60a",60,null,null,null,14]
[null,"Salas educación media",null,250,15,5,0.6,35,2.8571428571428572,"Salas de clase",null,null,null,"Fluidos frios por el interior",null,null,null,null,null,null,null,"Tabla 1,2,4,2,3",null,"Taller de Carpintería/Metales",5,0.9,20,null,"Salas de dibujo profesional",500,null,"Sala de espera radiológica",2,12,"-",null,null,null,null,null,null,null,null,null,"II","Tocopilla","II - Región de Antofagasta",null,null,null,null,null,null,null,"Arquitectura - Energía","Mejora de U [W/m2K] y de FSM ",0.18,0.18,"ARQ.ENERGIA.5",2,null,null,"Pabellones","Equipamiento",55,null,"Salas educación básica","Salas de clase",null,"Recinto 14",{"$f":"+IFERROR(VLOOKUP('Datos Generales Edificio'!#REF!,$BO$5:$BP$32,2,FALSE),\"\")","v":""},{"$f":"+IF('Datos Generales Edificio'!#REF!<>\"\",'Datos Generales Edificio'!#REF!,\"\")","v":{"$error":"#REF!"}},0,{"$f":"+'Datos Generales Edificio'!#REF!","v":{"$error":"#REF!"}},"",{"$f":"+IF('Datos Generales Edificio'!#REF!<>\"\",'Datos Generales Edificio'!#REF!,\"\")","v":{"$error":"#REF!"}},0,{"$f":"+'Datos Generales Edificio'!#REF!","v":{"$error":"#REF!"}},"",{"$f":"IF('Datos Generales Edificio'!#REF!<>\"\",'Datos Generales Edificio'!#REF!,\"\")","v":{"$error":"#REF!"}},0,{"$f":"+'Datos Generales Edificio'!#REF!","v":{"$error":"#REF!"}},"",{"$f":"IF('Datos Generales Edificio'!#REF!<>\"\",'Datos Generales Edificio'!#REF!,\"\")","v":{"$error":"#REF!"}},0,{"$f":"+'Datos Generales Edificio'!#REF!","v":{"$error":"#REF!"}},"",{"$f":"IF('Datos Generales Edificio'!#REF!<>\"\",'Datos Generales Edificio'!#REF!,\"\")","v":{"$error":"#REF!"}},0,{"$f":"+'Datos Generales Edificio'!#REF!","v":{"$error":"#REF!"}},"",0,0,0,"",null,null,null,null,"Melipilla",5.4,2.7,"X",null,"X","Terreno abierto",16,"60a",60,null,null,null,15,null,null,null,null,"TDR MOP (opción 1)"]
[null,"Salas educación superior",null,300,15,5,0.6,35,2.8571428571428572,"Salas de clase",null,null,null,null,null,null,null,null,"Temperatura",null,null,null,null,"Laboratorio de computación",5,0.6,25,null,"Salas de tableros eléctricos",300,null,"Sala de operaciones clase A (procedimientos)",3,15,"30 - 60",null,null,null,null,null,null,null,null,null,"III","Alto del Carmen","III - Región de Atacama",null,null,null,null,null,null,null,"Arquitectura - Energía","Infiltración de aire por la envolvente [RAH]",0.03,0.03,"ARQ.ENERGIA.6.1",1,null,null,"Áreas comunes","Oficinas ",35,null,"Salas educación media","Salas de clase",null,"Recinto 15",{"$f":"+IFERROR(VLOOKUP('Datos Generales Edificio'!#REF!,$BO$5:$BP$32,2,FALSE),\"\")","v":""},{"$f":"+IF('Datos Generales Edificio'!#REF!<>\"\",'Datos Generales Edificio'!#REF!,\"\")","v":{"$error":"#REF!"}},0,{"$f":"+'Datos Generales Edificio'!#REF!","v":{"$error":"#REF!"}},"",{"$f":"+IF('Datos Generales Edificio'!#REF!<>\"\",'Datos Generales Edificio'!#REF!,\"\")","v":{"$error":"#REF!"}},0,{"$f":"+'Datos Generales Edificio'!#REF!","v":{"$error":"#REF!"}},"",{"$f":"IF('Datos Generales Edificio'!#REF!<>\"\",'Datos Generales Edificio'!#REF!,\"\")","v":{"$error":"#REF!"}},0,{"$f":"+'Datos Generales Edificio'!#REF!","v":{"$error":"#REF!"}},"",{"$f":"IF('Datos Generales Edificio'!#REF!<>\"\",'Datos Generales Edificio'!#REF!,\"\")","v":{"$error":"#REF!"}},0,{"$f":"+'Datos Generales Edificio'!#REF!","v":{"$error":"#REF!"}},"",{"$f":"IF('Datos Generales Edificio'!#REF!<>\"\",'Datos Generales Edificio'!#REF!,\"\")","v":{"$error":"#REF!"}},0,{"$f":"+'Datos Generales Edificio'!#REF!","v":{"$error":"#REF!"}},"",0,0,0,"",null,null,null,null,"Talagante",5.3,2.7,"X",null,"X","Terreno abierto",17,"60a",60,null,null,null,16,null,null,null,null,"Bernoulli (Planilla de cálculo - Opción 2)"]
[null,"Camarines, gimnasios ",287,200,4,"-",1.5,30,3.3333333333333335,"Áreas comunes",null,null,null,"Diametro exterior",null,null,-20,0,0,10,10,100,null,"Centro de medios",5,0.6,25,null,"Subestaciones",300,null,"ENFERMERÍA",null,null,null,null,null,null,null,null,null,null,null,null,"III","Caldera","III - Región de Atacama",null,null,null,null,null,null,null,"Arquitectura - Energía","Permeabilidad al aire de carpintería de ventanas",0.03,0.03,"ARQ.ENERGIA.6.2",1,null,null,"Áreas comunes","Salas de clase",50,null,"Salas educación superior","Salas de clase",null,"Recinto 16",{"$f":"+IFERROR(VLOOKUP('Datos Generales Edificio'!#REF!,$BO$5:$BP$32,2,FALSE),\"\")","v":""},{"$f":"+IF('Datos Generales Edificio'!#REF!<>\"\",'Datos Generales Edificio'!#REF!,\"\")","v":{"$error":"#REF!"}},0,{"$f":"+'Datos Generales Edificio'!#REF!","v":{"$error":"#REF!"}},"",{"$f":"+IF('Datos Generales Edificio'!#REF!<>\"\",'Datos Generales Edificio'!#REF!,\"\")","v":{"$error":"#REF!"}},0,{"$f":"+'Datos Generales Edificio'!#REF!","v":{"$error":"#REF!"}},"",{"$f":"IF('Datos Generales Edificio'!#REF!<>\"\",'Datos Generales Edificio'!#REF!,\"\")","v":{"$error":"#REF!"}},0,{"$f":"+'Datos Generales Edificio'!#REF!","v":{"$error":"#REF!"}},"",{"$f":"IF('Datos Generales Edificio'!#REF!<>\"\",'Datos Generales Edificio'!#REF!,\"\")","v":{"$error":"#REF!"}},0,{"$f":"+'Datos Generales Edificio'!#REF!","v":{"$error":"#REF!"}},"",{"$f":"IF('Datos Generales Edificio'!#REF!<>\"\",'Datos Generales Edificio'!#REF!,\"\")","v":{"$error":"#REF!"}},0,{"$f":"+'Datos Generales Edificio'!#REF!","v":{"$error":"#REF!"}},"",0,0,0,"",null,"%NO CUMPLE",{"$f":"+COUNTIF($CQ$6:$CQ$105,\"No Cumple\")/$CT$9","v":{"$error":"#DIV/0!"}},null,"Rancagua",6,3,"X",null,"X","Terreno abierto",18,"60a",60,null,null,null,17,null,null,null,null,"Software Especializado (Opción 3)"]
[null,"Talleres, Laboratorios, Bibliotecas ",131.19999999999999,400,15,5,0.9,25,4,"Áreas comunes",null,null,1,0,"<D<",35,30,null,20,null,20,null,null,"Música/Teatro/Danza",5,0.3,35,null,"Salas de venta",300,null,"Sala de pacientes",2,6,"30 - 60",null,null,null,null,null,null,null,null,null,"III","Chañaral","III - Región de Atacama",null,null,null,null,null,null,null,"Arquitectura - Energía","Tipo de abertura de la ventana",0.03,0.03,"ARQ.ENERGIA.6.3",1,null,null,"Áreas comunes","Pabellones",45,null,"Camarines, gimnasios ","Áreas comunes",null,"Recinto 17",{"$f":"+IFERROR(VLOOKUP('Datos Generales Edificio'!#REF!,$BO$5:$BP$32,2,FALSE),\"\")","v":""},{"$f":"+IF('Datos Generales Edificio'!#REF!<>\"\",'Datos Generales Edificio'!#REF!,\"\")","v":{"$error":"#REF!"}},0,{"$f":"+'Datos Generales Edificio'!#REF!","v":{"$error":"#REF!"}},"",{"$f":"+IF('Datos Generales Edificio'!#REF!<>\"\",'Datos Generales Edificio'!#REF!,\"\")","v":{"$error":"#REF!"}},0,{"$f":"+'Datos Generales Edificio'!#REF!","v":{"$error":"#REF!"}},"",{"$f":"IF('Datos Generales Edificio'!#REF!<>\"\",'Datos Generales Edificio'!#REF!,\"\")","v":{"$error":"#REF!"}},0,{"$f":"+'Datos Generales Edificio'!#REF!","v":{"$error":"#REF!"}},"",{"$f":"IF('Datos Generales Edificio'!#REF!<>\"\",'Datos Generales Edificio'!#REF!,\"\")","v":{"$error":"#REF!"}},0,{"$f":"+'Datos Generales Edificio'!#REF!","v":{"$error":"#REF!"}},"",{"$f":"IF('Datos Generales Edificio'!#REF!<>\"\",'Datos Generales Edificio'!#REF!,\"\")","v":{"$error":"#REF!"}},0,{"$f":"+'Datos Generales Edificio'!#REF!","v":{"$error":"#REF!"}},"",0,0,0,"",null,null,null,null,"San Fernando",6.3,3.2,"X",null,"X","Terreno abierto",19,"60a",60,null,null,null,18]
[null,"Cocina ",147.6,300,13,null,null,null,"","Áreas comunes",null,null,{"$f":"+M22+1","v":2},35,"<D<",60,40,null,30,null,20,null,null,"Sala multi-uso",3.8,0.3,100,null,"Talleres de servicio, reparaciones",200,null,"Sala de baños","-",10,"-",null,null,null,null,null,null,null,null,null,"III","Copiapó","III - Región de Atacama",null,null,null,null,null,null,null,"Arquitectura - Energía","Energía incorporada en base a UNE-EN-ISO 14.024",0.04,0.04,"ARQ.ENERGIA.7",1,null,null,"Áreas comunes","Áreas comunes",35,null,"Talleres, Laboratorios, Bibliotecas ","Salas de clase",null,"Recinto 18",{"$f":"+IFERROR(VLOOKUP('Datos Generales Edificio'!#REF!,$BO$5:$BP$32,2,FALSE),\"\")","v":""},{"$f":"+IF('Datos Generales Edificio'!#REF!<>\"\",'Datos Generales Edificio'!#REF!,\"\")","v":{"$error":"#REF!"}},0,{"$f":"+'Datos Generales Edificio'!#REF!","v":{"$error":"#REF!"}},"",{"$f":"+IF('Datos Generales Edificio'!#REF!<>\"\",'Datos Generales Edificio'!#REF!,\"\")","v":{"$error":"#REF!"}},0,{"$f":"+'Datos Generales Edificio'!#REF!","v":{"$error":"#REF!"}},"",{"$f":"IF('Datos Generales Edificio'!#REF!<>\"\",'Datos Generales Edificio'!#REF!,\"\")","v":{"$error":"#REF!"}},0,{"$f":"+'Datos Generales Edificio'!#REF!","v":{"$error":"#REF!"}},"",{"$f":"IF('Datos Generales Edificio'!#REF!<>\"\",'Datos Generales Edificio'!#REF!,\"\")","v":{"$error":"#REF!"}},0,{"$f":"+'Datos Generales Edificio'!#REF!","v":{"$error":"#REF!"}},"",{"$f":"IF('Datos Generales Edificio'!#REF!<>\"\",'Datos Generales Edificio'!#REF!,\"\")","v":{"$error":"#REF!"}},0,{"$f":"+'Datos Generales Edificio'!#REF!","v":{"$error":"#REF!"}},"",0,0,0,"",null,null,null,null,"Curicó",7.7,3.9,"X",null,"X","Terreno abierto",20,"60a",60,null,null,null,19,null,null,null,null,"Si"]
[null,"------- Salud (Hospitales y Clínicas): -------","",null,null,null,null,null,"",null,null,null,{"$f":"+M23+1","v":3},60,"<D<",90,40,null,30,null,30,null,null,"Servicio de bebidas y alimento",null,null,null,null,"Vestuarios industriales",100,null,"Sala de enfermería de recién nacidos",2,6,"30 - 60",null,null,null,null,null,null,null,null,null,"III","Diego de Almagro","III - Región de Atacama",null,null,null,null,null,null,null,"Arquitectura - Energía","Energía incorporada en base a UNE-EN-ISO 14.025",0.04,0.04,"ARQ.ENERGIA.7",2,null,null,"Áreas comunes","Equipamiento",55,null,"Cocina ","Áreas comunes",null,"Recinto 19",{"$f":"+IFERROR(VLOOKUP('Datos Generales Edificio'!#REF!,$BO$5:$BP$32,2,FALSE),\"\")","v":""},{"$f":"+IF('Datos Generales Edificio'!#REF!<>\"\",'Datos Generales Edificio'!#REF!,\"\")","v":{"$error":"#REF!"}},0,{"$f":"+'Datos Generales Edificio'!#REF!","v":{"$error":"#REF!"}},"",{"$f":"+IF('Datos Generales Edificio'!#REF!<>\"\",'Datos Generales Edificio'!#REF!,\"\")","v":{"$error":"#REF!"}},0,{"$f":"+'Datos Generales Edificio'!#REF!","v":{"$error":"#REF!"}},"",{"$f":"IF('Datos Generales Edificio'!#REF!<>\"\",'Datos Generales Edificio'!#REF!,\"\")","v":{"$error":"#REF!"}},0,{"$f":"+'Datos Generales Edificio'!#REF!","v":{"$error":"#REF!"}},"",{"$f":"IF('Datos Generales Edificio'!#REF!<>\"\",'Datos Generales Edificio'!#REF!,\"\")","v":{"$error":"#REF!"}},0,{"$f":"+'Datos Generales Edificio'!#REF!","v":{"$error":"#REF!"}},"",{"$f":"IF('Datos Generales Edificio'!#REF!<>\"\",'Datos Generales Edificio'!#REF!,\"\")","v":{"$error":"#REF!"}},0,{"$f":"+'Datos Generales Edificio'!#REF!","v":{"$error":"#REF!"}},"",0,0,0,"",null,null,null,null,"Linares",5.8,2.9,"X",null,"X","Ciudades",1,"SC",0,null,null,null,20,null,null,null,null,"No"]
[null,"Habitaciones hospitalarias",82,100,9,null,null,null,"","Oficinas ",null,null,{"$f":"+M24+1","v":4},90,"<D<",140,50,null,40,null,30,null,null,"Restaurant",3.8,0.9,70,null,"Educación",null,null,"Sala de protección ambiental",2,12,"-",null,null,null,null,null,null,null,null,null,"III","Freirina","III - Región de Atacama",null,null,null,null,null,null,null,"Arquitectura - Energía","% de superficie de elementos estructurales mantenidos de edificios existentes",0.04,0.04,"ARQ.ENERGIA.7",3,null,null,"Equipamiento","Oficinas ",50,null,"Salud (Hospitales y Clínicas):",null,null,"Recinto 20",{"$f":"+IFERROR(VLOOKUP('Datos Generales Edificio'!#REF!,$BO$5:$BP$32,2,FALSE),\"\")","v":""},{"$f":"+IF('Datos Generales Edificio'!#REF!<>\"\",'Datos Generales Edificio'!#REF!,\"\")","v":{"$error":"#REF!"}},0,{"$f":"+'Datos Generales Edificio'!#REF!","v":{"$error":"#REF!"}},"",{"$f":"+IF('Datos Generales Edificio'!#REF!<>\"\",'Datos Generales Edificio'!#REF!,\"\")","v":{"$error":"#REF!"}},0,{"$f":"+'Datos Generales Edificio'!#REF!","v":{"$error":"#REF!"}},"",{"$f":"IF('Datos Generales Edificio'!#REF!<>\"\",'Datos Generales Edificio'!#REF!,\"\")","v":{"$error":"#REF!"}},0,{"$f":"+'Datos Generales Edificio'!#REF!","v":{"$error":"#REF!"}},"",{"$f":"IF('Datos Generales Edificio'!#REF!<>\"\",'Datos Generales Edificio'!#REF!,\"\")","v":{"$error":"#REF!"}},0,{"$f":"+'Datos Generales Edificio'!#REF!","v":{"$error":"#REF!"}},"",{"$f":"IF('Datos Generales Edificio'!#REF!<>\"\",'Datos Generales Edificio'!#REF!,\"\")","v":{"$error":"#REF!"}},0,{"$f":"+'Datos Generales Edificio'!#REF!","v":{"$error":"#REF!"}},"",0,0,0,"",null,"NIVEL ALCANZADO",{"$f":"+IF(CT13=1,\"MUY BUENO\",IF(CT21>0,\"NO CUMPLE\",\"BUENO\"))","v":{"$error":"#DIV/0!"}},null,"Chillán",6.1,3.1,"X",null,"X","Ciudades",2,"SC",0,null,null,null,null,null,null,null,null,"No hay recintos contaminantes en el edificio"]
[null,"Sala cirugias",131.19999999999999,500,24,null,null,null,"","Oficinas ",null,null,{"$f":"+M25+1","v":5},140,"<D<",null,50,null,40,null,30,null,null,"Cafetería/Comida rápida",3.8,0.9,100,null,"Atención",300,null,"Sala de aislación por infecciones aéreas",2,12,"-",null,null,null,null,null,null,null,null,null,"III","Huasco","III - Región de Atacama",null,null,null,null,null,null,null,"Arquitectura - Agua","Porcentaje de disminución de la evapotranspiración",0.02,0.02,"ARQ.AGUA.8",1,null,null,"Equipamiento","Salas de clase",50,null,"Habitaciones hospitalarias","Pabellones",null,"Recinto 21",{"$f":"+IFERROR(VLOOKUP('Datos Generales Edificio'!#REF!,$BO$5:$BP$32,2,FALSE),\"\")","v":""},{"$f":"+IF('Datos Generales Edificio'!#REF!<>\"\",'Datos Generales Edificio'!#REF!,\"\")","v":{"$error":"#REF!"}},0,{"$f":"+'Datos Generales Edificio'!#REF!","v":{"$error":"#REF!"}},"",{"$f":"+IF('Datos Generales Edificio'!#REF!<>\"\",'Datos Generales Edificio'!#REF!,\"\")","v":{"$error":"#REF!"}},0,{"$f":"+'Datos Generales Edificio'!#REF!","v":{"$error":"#REF!"}},"",{"$f":"IF('Datos Generales Edificio'!#REF!<>\"\",'Datos Generales Edificio'!#REF!,\"\")","v":{"$error":"#REF!"}},0,{"$f":"+'Datos Generales Edificio'!#REF!","v":{"$error":"#REF!"}},"",{"$f":"IF('Datos Generales Edificio'!#REF!<>\"\",'Datos Generales Edificio'!#REF!,\"\")","v":{"$error":"#REF!"}},0,{"$f":"+'Datos Generales Edificio'!#REF!","v":{"$error":"#REF!"}},"",{"$f":"IF('Datos Generales Edificio'!#REF!<>\"\",'Datos Generales Edificio'!#REF!,\"\")","v":{"$error":"#REF!"}},0,{"$f":"+'Datos Generales Edificio'!#REF!","v":{"$error":"#REF!"}},"",0,0,0,"",null,null,null,null,"Concepción",5,2.5,"Z",null,"X","Ciudades",3,"SC",0]
[null,"Pabellones",null,null,null,null,null,null,"","Pabellones",null,null,null,"Fluidos frios por el exterior",null,null,null,null,null,null,null,"Tabla 1,2,4,2,4",null,"Bars, Salón de cocktail",3.8,0.9,100,null,"Bibliotecas",400,null,"Alcoba de aislación o antesala",2,10,"-",null,null,null,null,null,null,null,null,null,"III","Tierra Amarilla","III - Región de Atacama",null,null,null,null,null,null,null,"Arquitectura - Agua","Porcentaje de materiales en que se declara la información de agua incorporada",0.01,0.01,"ARQ.AGUA.9",1,null,null,"Equipamiento","Pabellones",50,null,"Sala cirugias","Pabellones",null,"Recinto 22",{"$f":"+IFERROR(VLOOKUP('Datos Generales Edificio'!#REF!,$BO$5:$BP$32,2,FALSE),\"\")","v":""},{"$f":"+IF('Datos Generales Edificio'!#REF!<>\"\",'Datos Generales Edificio'!#REF!,\"\")","v":{"$error":"#REF!"}},0,{"$f":"+'Datos Generales Edificio'!#REF!","v":{"$error":"#REF!"}},"",{"$f":"+IF('Datos Generales Edificio'!#REF!<>\"\",'Datos Generales Edificio'!#REF!,\"\")","v":{"$error":"#REF!"}},0,{"$f":"+'Datos Generales Edificio'!#REF!","v":{"$error":"#REF!"}},"",{"$f":"IF('Datos Generales Edificio'!#REF!<>\"\",'Datos Generales Edificio'!#REF!,\"\")","v":{"$error":"#REF!"}},0,{"$f":"+'Datos Generales Edificio'!#REF!","v":{"$error":"#REF!"}},"",{"$f":"IF('Datos Generales Edificio'!#REF!<>\"\",'Datos Generales Edificio'!#REF!,\"\")","v":{"$error":"#REF!"}},0,{"$f":"+'Datos Generales Edificio'!#REF!","v":{"$error":"#REF!"}},"",{"$f":"IF('Datos Generales Edificio'!#REF!<>\"\",'Datos Generales Edificio'!#REF!,\"\")","v":{"$error":"#REF!"}},0,{"$f":"+'Datos Generales Edificio'!#REF!","v":{"$error":"#REF!"}},"",0,0,0,"",null,null,null,null,"Valdivia",5,2.5,"Y",null,"X","Ciudades",4,"SC",0,null,null,null,null,null,null,null,null,"mayor o igual a 500 mm"]
[null,"Salas de equipamiento",null,null,null,null,null,null,"","Equipamiento",null,null,null,null,null,null,"Temperatura",null,"Temperatura",null,"Temperatura",null,null,"General",null,null,null,null,"Cocinas",300,null,"Trabajo/Entrega/Recuperación/Postparto",2,6,"30 - 60",null,null,null,null,null,null,null,null,null,"III","Vallenar","III - Región de Atacama",null,null,null,null,null,null,null,"Arquitectura - Residuos","Equipamiento para el manejo de residuos durante la operación del edificio",5.0000000000000001E-3,0.01,"ARQ.RESIDUOS.10",1,null,null,"Equipamiento","Áreas comunes",50,null,"Pabellones","Pabellones",null,"Recinto 23",{"$f":"+IFERROR(VLOOKUP('Datos Generales Edificio'!#REF!,$BO$5:$BP$32,2,FALSE),\"\")","v":""},{"$f":"+IF('Datos Generales Edificio'!#REF!<>\"\",'Datos Generales Edificio'!#REF!,\"\")","v":{"$error":"#REF!"}},0,{"$f":"+'Datos Generales Edificio'!#REF!","v":{"$error":"#REF!"}},"",{"$f":"+IF('Datos Generales Edificio'!#REF!<>\"\",'Datos Generales Edificio'!#REF!,\"\")","v":{"$error":"#REF!"}},0,{"$f":"+'Datos Generales Edificio'!#REF!","v":{"$error":"#REF!"}},"",{"$f":"IF('Datos Generales Edificio'!#REF!<>\"\",'Datos Generales Edificio'!#REF!,\"\")","v":{"$error":"#REF!"}},0,{"$f":"+'Datos Generales Edificio'!#REF!","v":{"$error":"#REF!"}},"",{"$f":"IF('Datos Generales Edificio'!#REF!<>\"\",'Datos Generales Edificio'!#REF!,\"\")","v":{"$error":"#REF!"}},0,{"$f":"+'Datos Generales Edificio'!#REF!","v":{"$error":"#REF!"}},"",{"$f":"IF('Datos Generales Edificio'!#REF!<>\"\",'Datos Generales Edificio'!#REF!,\"\")","v":{"$error":"#REF!"}},0,{"$f":"+'Datos Generales Edificio'!#REF!","v":{"$error":"#REF!"}},"",0,0,0,"",null,null,null,null,"Puerto Montt",7.6,3.8,"Y",null,"X","Ciudades",5,"SC",0,null,null,null,null,null,null,null,null,"menor a 500 mm"]
[null,"Salas de espera ",82,150,8,null,null,null,"","Áreas comunes",null,null,null,"Diametro exterior",null,null,-20,0,0,10,10,100,null,"Sala de descanso",2.5,0.3,25,null,"Gimnasios",200,null,"Corredor público",2,2,"-",null,null,null,null,null,null,null,null,null,"IV","Andacollo","IV - Región de Coquimbo",null,null,null,null,null,null,null,"Instalaciones - CAI","Caudal ventilación [litros/seg]",0.06,0.06,"INST.CAI.11.1",1,null,null,"Equipamiento","Equipamiento",50,null,"Salas de equipamiento","Equipamiento",null,"Recinto 24",{"$f":"+IFERROR(VLOOKUP('Datos Generales Edificio'!#REF!,$BO$5:$BP$32,2,FALSE),\"\")","v":""},{"$f":"+IF('Datos Generales Edificio'!#REF!<>\"\",'Datos Generales Edificio'!#REF!,\"\")","v":{"$error":"#REF!"}},0,{"$f":"+'Datos Generales Edificio'!#REF!","v":{"$error":"#REF!"}},"",{"$f":"+IF('Datos Generales Edificio'!#REF!<>\"\",'Datos Generales Edificio'!#REF!,\"\")","v":{"$error":"#REF!"}},0,{"$f":"+'Datos Generales Edificio'!#REF!","v":{"$error":"#REF!"}},"",{"$f":"IF('Datos Generales Edificio'!#REF!<>\"\",'Datos Generales Edificio'!#REF!,\"\")","v":{"$error":"#REF!"}},0,{"$f":"+'Datos Generales Edificio'!#REF!","v":{"$error":"#REF!"}},"",{"$f":"IF('Datos Generales Edificio'!#REF!<>\"\",'Datos Generales Edificio'!#REF!,\"\")","v":{"$error":"#REF!"}},0,{"$f":"+'Datos Generales Edificio'!#REF!","v":{"$error":"#REF!"}},"",{"$f":"IF('Datos Generales Edificio'!#REF!<>\"\",'Datos Generales Edificio'!#REF!,\"\")","v":{"$error":"#REF!"}},0,{"$f":"+'Datos Generales Edificio'!#REF!","v":{"$error":"#REF!"}},"",0,0,0,"",null,null,null,null,"Angol",12.8,6.4,"Y",null,"X","Ciudades",6,"SC",0]
[null,"Baños",null,null,10,null,null,null,"","Áreas comunes",null,null,1,0,"<D<",35,50,null,40,null,40,null,null,"Estación de café",2.5,0.3,20,null,"Oficinas",400,null,"Corredor pacientes",2,4,"-",null,null,null,null,null,null,null,null,null,"IV","Canela","IV - Región de Coquimbo",null,null,null,null,null,null,null,"Instalaciones - CAI","Eficiencia promedio filtraje [% o MERV]",0.02,0.02,"INST.CAI.11.2",1,null,null,null,null,null,null,null,null,null,"Recinto 25",{"$f":"+IFERROR(VLOOKUP('Datos Generales Edificio'!#REF!,$BO$5:$BP$32,2,FALSE),\"\")","v":""},{"$f":"+IF('Datos Generales Edificio'!#REF!<>\"\",'Datos Generales Edificio'!#REF!,\"\")","v":{"$error":"#REF!"}},0,{"$f":"+'Datos Generales Edificio'!#REF!","v":{"$error":"#REF!"}},"",{"$f":"+IF('Datos Generales Edificio'!#REF!<>\"\",'Datos Generales Edificio'!#REF!,\"\")","v":{"$error":"#REF!"}},0,{"$f":"+'Datos Generales Edificio'!#REF!","v":{"$error":"#REF!"}},"",{"$f":"IF('Datos Generales Edificio'!#REF!<>\"\",'Datos Generales Edificio'!#REF!,\"\")","v":{"$error":"#REF!"}},0,{"$f":"+'Datos Generales Edificio'!#REF!","v":{"$error":"#REF!"}},"",{"$f":"IF('Datos Generales Edificio'!#REF!<>\"\",'Datos Generales Edificio'!#REF!,\"\")","v":{"$error":"#REF!"}},0,{"$f":"+'Datos Generales Edificio'!#REF!","v":{"$error":"#REF!"}},"",{"$f":"IF('Datos Generales Edificio'!#REF!<>\"\",'Datos Generales Edificio'!#REF!,\"\")","v":{"$error":"#REF!"}},0,{"$f":"+'Datos Generales Edificio'!#REF!","v":{"$error":"#REF!"}},"",0,0,0,"",null,null,null,null,"Castro",15.1,7.6,"Z",null,"X","Ciudades",7,"SC",0]
[null,null,null,null,null,null,null,null,"",null,null,null,{"$f":"+M30+1","v":2},35,"<D<",60,60,null,50,null,40,null,null,"Conferencia/reuniones",2.5,0.3,50,null,"Pasillos",100,null,"AUXILIAR",null,null,null,null,null,null,null,null,null,null,null,null,"IV","Combarbalá","IV - Región de Coquimbo",null,null,null,null,null,null,null,"Instalaciones - CAI","Sistema de monitoreo de concentración de CO2",0.01,0.01,"INST.CAI.11.3",1,null,null,null,null,null,null,"Salas de espera ","Áreas comunes",null,"Recinto 26",{"$f":"+IFERROR(VLOOKUP('Datos Generales Edificio'!#REF!,$BO$5:$BP$32,2,FALSE),\"\")","v":""},{"$f":"+IF('Datos Generales Edificio'!#REF!<>\"\",'Datos Generales Edificio'!#REF!,\"\")","v":{"$error":"#REF!"}},0,{"$f":"+'Datos Generales Edificio'!#REF!","v":{"$error":"#REF!"}},"",{"$f":"+IF('Datos Generales Edificio'!#REF!<>\"\",'Datos Generales Edificio'!#REF!,\"\")","v":{"$error":"#REF!"}},0,{"$f":"+'Datos Generales Edificio'!#REF!","v":{"$error":"#REF!"}},"",{"$f":"IF('Datos Generales Edificio'!#REF!<>\"\",'Datos Generales Edificio'!#REF!,\"\")","v":{"$error":"#REF!"}},0,{"$f":"+'Datos Generales Edificio'!#REF!","v":{"$error":"#REF!"}},"",{"$f":"IF('Datos Generales Edificio'!#REF!<>\"\",'Datos Generales Edificio'!#REF!,\"\")","v":{"$error":"#REF!"}},0,{"$f":"+'Datos Generales Edificio'!#REF!","v":{"$error":"#REF!"}},"",{"$f":"IF('Datos Generales Edificio'!#REF!<>\"\",'Datos Generales Edificio'!#REF!,\"\")","v":{"$error":"#REF!"}},0,{"$f":"+'Datos Generales Edificio'!#REF!","v":{"$error":"#REF!"}},"",0,0,0,"",null,null,null,null,"Puerto Aysén",7.1,3.6,"X",null,"X","Ciudades",8,"SC",0]
[null,null,null,null,null,null,null,null,"",null,null,null,{"$f":"+M31+1","v":3},60,"<D<",90,60,null,50,null,50,null,null,"Corredores","-",0.3,"-",null,"Salas clase parvulos",150,null,"Radiología - Rayos X (Diagnostico y tratamiento)",2,6,"30 - 60",null,null,null,null,null,null,null,null,null,"IV","Coquimbo","IV - Región de Coquimbo",null,null,null,null,null,null,null,"Instalaciones - CAI","Valores máximos del nivel sonoro",0.01,5.0000000000000001E-3,"INST.CAI.12.1",1,null,null,null,null,null,null,"Baños","Áreas comunes",null,"Recinto 27",{"$f":"+IFERROR(VLOOKUP('Datos Generales Edificio'!#REF!,$BO$5:$BP$32,2,FALSE),\"\")","v":""},{"$f":"+IF('Datos Generales Edificio'!#REF!<>\"\",'Datos Generales Edificio'!#REF!,\"\")","v":{"$error":"#REF!"}},0,{"$f":"+'Datos Generales Edificio'!#REF!","v":{"$error":"#REF!"}},"",{"$f":"+IF('Datos Generales Edificio'!#REF!<>\"\",'Datos Generales Edificio'!#REF!,\"\")","v":{"$error":"#REF!"}},0,{"$f":"+'Datos Generales Edificio'!#REF!","v":{"$error":"#REF!"}},"",{"$f":"IF('Datos Generales Edificio'!#REF!<>\"\",'Datos Generales Edificio'!#REF!,\"\")","v":{"$error":"#REF!"}},0,{"$f":"+'Datos Generales Edificio'!#REF!","v":{"$error":"#REF!"}},"",{"$f":"IF('Datos Generales Edificio'!#REF!<>\"\",'Datos Generales Edificio'!#REF!,\"\")","v":{"$error":"#REF!"}},0,{"$f":"+'Datos Generales Edificio'!#REF!","v":{"$error":"#REF!"}},"",{"$f":"IF('Datos Generales Edificio'!#REF!<>\"\",'Datos Generales Edificio'!#REF!,\"\")","v":{"$error":"#REF!"}},0,{"$f":"+'Datos Generales Edificio'!#REF!","v":{"$error":"#REF!"}},"",0,0,0,"",null,null,null,null,"Punta Arenas",3,1.5,"Z",null,"X","Ciudades",9,"SC",0]
[null,null,null,null,null,null,null,null,null,null,null,null,{"$f":"+M32+1","v":4},90,"<D<",140,70,null,60,null,50,null,null,"Bodega","-",0.6,"-",null,"Salas educación básica",200,null,"Radiología - Rayos X (Cirugía/Cuidados críticos y cateterización)","-",15,"30 - 60",null,null,null,null,null,null,null,null,null,"IV","Illapel","IV - Región de Coquimbo",null,null,null,null,null,null,null,"Instalaciones - CAI","Elección de equipos y diseño",0.01,5.0000000000000001E-3,"INST.CAI.12.1",2,null,null,null,null,null,null,null,null,null,"Recinto 28",{"$f":"+IFERROR(VLOOKUP('Datos Generales Edificio'!#REF!,$BO$5:$BP$32,2,FALSE),\"\")","v":""},{"$f":"+IF('Datos Generales Edificio'!#REF!<>\"\",'Datos Generales Edificio'!#REF!,\"\")","v":{"$error":"#REF!"}},0,{"$f":"+'Datos Generales Edificio'!#REF!","v":{"$error":"#REF!"}},"",{"$f":"+IF('Datos Generales Edificio'!#REF!<>\"\",'Datos Generales Edificio'!#REF!,\"\")","v":{"$error":"#REF!"}},0,{"$f":"+'Datos Generales Edificio'!#REF!","v":{"$error":"#REF!"}},"",{"$f":"IF('Datos Generales Edificio'!#REF!<>\"\",'Datos Generales Edificio'!#REF!,\"\")","v":{"$error":"#REF!"}},0,{"$f":"+'Datos Generales Edificio'!#REF!","v":{"$error":"#REF!"}},"",{"$f":"IF('Datos Generales Edificio'!#REF!<>\"\",'Datos Generales Edificio'!#REF!,\"\")","v":{"$error":"#REF!"}},0,{"$f":"+'Datos Generales Edificio'!#REF!","v":{"$error":"#REF!"}},"",{"$f":"IF('Datos Generales Edificio'!#REF!<>\"\",'Datos Generales Edificio'!#REF!,\"\")","v":{"$error":"#REF!"}},0,{"$f":"+'Datos Generales Edificio'!#REF!","v":{"$error":"#REF!"}},"",0,0,0,"",null,null,null,null,null,null,null,null,null,"X","Ciudades",10,"SC",0]
[null,null,null,null,null,null,null,null,null,null,null,null,{"$f":"+M33+1","v":5},140,"<D<",null,70,null,60,null,50,null,null,"Hoteles, Moteles, Resort y Dormitorios",null,null,null,null,"Salas educación media",250,null,"Pieza oscura",3,10,"-",null,null,null,null,null,null,null,null,null,"IV","La Higuera","IV - Región de Coquimbo",null,null,null,null,null,null,null,"Instalaciones - CAI","Iluminancia mínima + Uniformidad media + Deslumbramiento + Rendimiento Cromático",0.01,0.01,"INST.CAI.13",1,null,null,null,null,null,null,null,null,null,"Recinto 29",{"$f":"+IFERROR(VLOOKUP('Datos Generales Edificio'!#REF!,$BO$5:$BP$32,2,FALSE),\"\")","v":""},{"$f":"+IF('Datos Generales Edificio'!#REF!<>\"\",'Datos Generales Edificio'!#REF!,\"\")","v":{"$error":"#REF!"}},0,{"$f":"+'Datos Generales Edificio'!#REF!","v":{"$error":"#REF!"}},"",{"$f":"+IF('Datos Generales Edificio'!#REF!<>\"\",'Datos Generales Edificio'!#REF!,\"\")","v":{"$error":"#REF!"}},0,{"$f":"+'Datos Generales Edificio'!#REF!","v":{"$error":"#REF!"}},"",{"$f":"IF('Datos Generales Edificio'!#REF!<>\"\",'Datos Generales Edificio'!#REF!,\"\")","v":{"$error":"#REF!"}},0,{"$f":"+'Datos Generales Edificio'!#REF!","v":{"$error":"#REF!"}},"",{"$f":"IF('Datos Generales Edificio'!#REF!<>\"\",'Datos Generales Edificio'!#REF!,\"\")","v":{"$error":"#REF!"}},0,{"$f":"+'Datos Generales Edificio'!#REF!","v":{"$error":"#REF!"}},"",{"$f":"IF('Datos Generales Edificio'!#REF!<>\"\",'Datos Generales Edificio'!#REF!,\"\")","v":{"$error":"#REF!"}},0,{"$f":"+'Datos Generales Edificio'!#REF!","v":{"$error":"#REF!"}},"",0,0,0,"",null,null,null,null,null,null,null,null,null,"X","Ciudades",11,"SC",0]
[null,null,null,null,null,null,null,null,null,null,null,null,null,null,null,null,null,null,null,null,null,null,null,"Habitaciones/Living room",2.5,0.3,10,null,"Salas educación superior",300,null,null,null,null,null,null,null,null,null,null,null,null,null,null,"IV","La Serena","IV - Región de Coquimbo",null,null,null,null,null,null,null,"Instalaciones - CAI","Cantidad y distribución de los controles del sistema de climatización",0.02,0.02,"INST.CAI.14",1,null,null,null,null,null,null,null,null,null,"Recinto 30",{"$f":"+IFERROR(VLOOKUP('Datos Generales Edificio'!#REF!,$BO$5:$BP$32,2,FALSE),\"\")","v":""},{"$f":"+IF('Datos Generales Edificio'!#REF!<>\"\",'Datos Generales Edificio'!#REF!,\"\")","v":{"$error":"#REF!"}},0,{"$f":"+'Datos Generales Edificio'!#REF!","v":{"$error":"#REF!"}},"",{"$f":"+IF('Datos Generales Edificio'!#REF!<>\"\",'Datos Generales Edificio'!#REF!,\"\")","v":{"$error":"#REF!"}},0,{"$f":"+'Datos Generales Edificio'!#REF!","v":{"$error":"#REF!"}},"",{"$f":"IF('Datos Generales Edificio'!#REF!<>\"\",'Datos Generales Edificio'!#REF!,\"\")","v":{"$error":"#REF!"}},0,{"$f":"+'Datos Generales Edificio'!#REF!","v":{"$error":"#REF!"}},"",{"$f":"IF('Datos Generales Edificio'!#REF!<>\"\",'Datos Generales Edificio'!#REF!,\"\")","v":{"$error":"#REF!"}},0,{"$f":"+'Datos Generales Edificio'!#REF!","v":{"$error":"#REF!"}},"",{"$f":"IF('Datos Generales Edificio'!#REF!<>\"\",'Datos Generales Edificio'!#REF!,\"\")","v":{"$error":"#REF!"}},0,{"$f":"+'Datos Generales Edificio'!#REF!","v":{"$error":"#REF!"}},"",0,0,0,"",null,null,null,null,"Zona presión para ciudad del edificio",{"$f":"+VLOOKUP(CiudadViento,$CV$5:$CY$32,4,FALSE)","v":{"$error":"#NAME?"}},null,null,null,"X","Ciudades",12,"SC",0]
[null,null,null,"Ventilación Mecánica","ASHRAE 62.1 - 2007",null,null,null,null,null,null,null,null,"Tabla 1,2,4,2,5",null,null,"interior",null,"exterior",null,null,null,null,"Barracas",2.5,0.3,20,null,"Salud",null,null,null,"Mínimo de recambio de aire exterior por hora","Mínimo del recambio de aire total por persona","Humedad relativa        (%)",null,null,null,null,null,null,null,null,null,"IV","Los Vilos","IV - Región de Coquimbo",null,null,null,null,null,null,null,"Instalaciones - Energía","Potencia instalada de iluminación artificial [W/m2]",0.03,0.03,"INST.ENERGiA.15.1",1,null,null,null,null,null,null,null,null,null,"Recinto 31",{"$f":"+IFERROR(VLOOKUP('Datos Generales Edificio'!#REF!,$BO$5:$BP$32,2,FALSE),\"\")","v":""},{"$f":"+IF('Datos Generales Edificio'!#REF!<>\"\",'Datos Generales Edificio'!#REF!,\"\")","v":{"$error":"#REF!"}},0,{"$f":"+'Datos Generales Edificio'!#REF!","v":{"$error":"#REF!"}},"",{"$f":"+IF('Datos Generales Edificio'!#REF!<>\"\",'Datos Generales Edificio'!#REF!,\"\")","v":{"$error":"#REF!"}},0,{"$f":"+'Datos Generales Edificio'!#REF!","v":{"$error":"#REF!"}},"",{"$f":"IF('Datos Generales Edificio'!#REF!<>\"\",'Datos Generales Edificio'!#REF!,\"\")","v":{"$error":"#REF!"}},0,{"$f":"+'Datos Generales Edificio'!#REF!","v":{"$error":"#REF!"}},"",{"$f":"IF('Datos Generales Edificio'!#REF!<>\"\",'Datos Generales Edificio'!#REF!,\"\")","v":{"$error":"#REF!"}},0,{"$f":"+'Datos Generales Edificio'!#REF!","v":{"$error":"#REF!"}},"",{"$f":"IF('Datos Generales Edificio'!#REF!<>\"\",'Datos Generales Edificio'!#REF!,\"\")","v":{"$error":"#REF!"}},0,{"$f":"+'Datos Generales Edificio'!#REF!","v":{"$error":"#REF!"}},"",0,0,0,"",null,null,null,null,null,null,null,null,null,"X","Ciudades",13,"SC",0]
[null,"Si","Líquido","Ventilación Natural","UNE 13779/2008",null,null,null,null,null,null,null,null,"Aire caliente",null,null,20,null,30,null,null,null,null,"Lavandería central",2.5,0.6,10,null,"Atención",300,null,"(Continuación)",null,null,null,null,null,null,null,null,null,null,null,null,"IV","Monte Patria","IV - Región de Coquimbo",null,null,null,null,null,null,null,"Instalaciones - Energía","Disminución de consumo de energía en iluminación",0.03,0.03,"INST.ENERGiA.15.1",2,null,null,null,null,null,null,null,null,null,"Recinto 32",{"$f":"+IFERROR(VLOOKUP('Datos Generales Edificio'!#REF!,$BO$5:$BP$32,2,FALSE),\"\")","v":""},{"$f":"+IF('Datos Generales Edificio'!#REF!<>\"\",'Datos Generales Edificio'!#REF!,\"\")","v":{"$error":"#REF!"}},0,{"$f":"+'Datos Generales Edificio'!#REF!","v":{"$error":"#REF!"}},"",{"$f":"+IF('Datos Generales Edificio'!#REF!<>\"\",'Datos Generales Edificio'!#REF!,\"\")","v":{"$error":"#REF!"}},0,{"$f":"+'Datos Generales Edificio'!#REF!","v":{"$error":"#REF!"}},"",{"$f":"IF('Datos Generales Edificio'!#REF!<>\"\",'Datos Generales Edificio'!#REF!,\"\")","v":{"$error":"#REF!"}},0,{"$f":"+'Datos Generales Edificio'!#REF!","v":{"$error":"#REF!"}},"",{"$f":"IF('Datos Generales Edificio'!#REF!<>\"\",'Datos Generales Edificio'!#REF!,\"\")","v":{"$error":"#REF!"}},0,{"$f":"+'Datos Generales Edificio'!#REF!","v":{"$error":"#REF!"}},"",{"$f":"IF('Datos Generales Edificio'!#REF!<>\"\",'Datos Generales Edificio'!#REF!,\"\")","v":{"$error":"#REF!"}},0,{"$f":"+'Datos Generales Edificio'!#REF!","v":{"$error":"#REF!"}},"",0,0,0,"",null,null,null,null,null,null,null,null,null,"X","Ciudades",14,"SC",0]
[null,"No","Aire","Ventilación Mixta",null,null,null,null,null,null,null,null,null,"Aire frio",null,null,30,null,50,null,null,null,null,"Salas de lavandería en viviendas",2.5,0.6,10,null,"Bibliotecas",400,null,null,null,null,null,null,null,null,null,null,null,null,null,null,"IV","Ovalle","IV - Región de Coquimbo",null,null,null,null,null,null,null,"Instalaciones - Energía","Incorporación de sistemas de control",0.02,0.02,"INST.ENERGIA.15.2",1,null,null,null,null,null,null,null,null,null,"Recinto 33",{"$f":"+IFERROR(VLOOKUP('Datos Generales Edificio'!#REF!,$BO$5:$BP$32,2,FALSE),\"\")","v":""},{"$f":"+IF('Datos Generales Edificio'!#REF!<>\"\",'Datos Generales Edificio'!#REF!,\"\")","v":{"$error":"#REF!"}},0,{"$f":"+'Datos Generales Edificio'!#REF!","v":{"$error":"#REF!"}},"",{"$f":"+IF('Datos Generales Edificio'!#REF!<>\"\",'Datos Generales Edificio'!#REF!,\"\")","v":{"$error":"#REF!"}},0,{"$f":"+'Datos Generales Edificio'!#REF!","v":{"$error":"#REF!"}},"",{"$f":"IF('Datos Generales Edificio'!#REF!<>\"\",'Datos Generales Edificio'!#REF!,\"\")","v":{"$error":"#REF!"}},0,{"$f":"+'Datos Generales Edificio'!#REF!","v":{"$error":"#REF!"}},"",{"$f":"IF('Datos Generales Edificio'!#REF!<>\"\",'Datos Generales Edificio'!#REF!,\"\")","v":{"$error":"#REF!"}},0,{"$f":"+'Datos Generales Edificio'!#REF!","v":{"$error":"#REF!"}},"",{"$f":"IF('Datos Generales Edificio'!#REF!<>\"\",'Datos Generales Edificio'!#REF!,\"\")","v":{"$error":"#REF!"}},0,{"$f":"+'Datos Generales Edificio'!#REF!","v":{"$error":"#REF!"}},"",0,0,0,"",null,null,null,null,null,null,null,null,null,"X","Ciudades",15,"SC",0]
[null,null,null,null,null,null,null,null,null,null,null,null,null,null,null,null,null,null,null,null,null,null,null,"Lobbies",3.8,0.3,30,null,"Cocinas",300,null,"Función del espacio",null,null,null,null,null,null,null,null,null,null,null,null,"IV","Paihuano","IV - Región de Coquimbo",null,null,null,null,null,null,null,"Instalaciones - Energía","Disminución de consumo de energía en iluminación",0.02,0.02,"INST.ENERGIA.15.2",2,null,null,null,null,null,null,null,null,null,"Recinto 34",{"$f":"+IFERROR(VLOOKUP('Datos Generales Edificio'!#REF!,$BO$5:$BP$32,2,FALSE),\"\")","v":""},{"$f":"+IF('Datos Generales Edificio'!#REF!<>\"\",'Datos Generales Edificio'!#REF!,\"\")","v":{"$error":"#REF!"}},0,{"$f":"+'Datos Generales Edificio'!#REF!","v":{"$error":"#REF!"}},"",{"$f":"+IF('Datos Generales Edificio'!#REF!<>\"\",'Datos Generales Edificio'!#REF!,\"\")","v":{"$error":"#REF!"}},0,{"$f":"+'Datos Generales Edificio'!#REF!","v":{"$error":"#REF!"}},"",{"$f":"IF('Datos Generales Edificio'!#REF!<>\"\",'Datos Generales Edificio'!#REF!,\"\")","v":{"$error":"#REF!"}},0,{"$f":"+'Datos Generales Edificio'!#REF!","v":{"$error":"#REF!"}},"",{"$f":"IF('Datos Generales Edificio'!#REF!<>\"\",'Datos Generales Edificio'!#REF!,\"\")","v":{"$error":"#REF!"}},0,{"$f":"+'Datos Generales Edificio'!#REF!","v":{"$error":"#REF!"}},"",{"$f":"IF('Datos Generales Edificio'!#REF!<>\"\",'Datos Generales Edificio'!#REF!,\"\")","v":{"$error":"#REF!"}},0,{"$f":"+'Datos Generales Edificio'!#REF!","v":{"$error":"#REF!"}},"",0,0,0,"",null,null,null,null,null,null,null,null,null,"X","Ciudades",16,"SC",0]
[null,null,"Frio",null,null,null,null,null,null,null,null,null,null,null,null,null,null,null,null,null,null,null,null,"Sala de reuniones multipropósito",2.5,0.3,120,null,"Oficinas",400,null,"Laboratorio general",2,6,"30 - 60",null,null,null,null,null,null,null,null,null,"IV","Punitaqui","IV - Región de Coquimbo",null,null,null,null,null,null,null,"Instalaciones - Energía","Potencia requerida en climatización y ACS [kW]",0.02,0.02,"INST.ENERGIA.16.1",1,null,null,null,null,null,null,null,null,null,"Recinto 35",{"$f":"+IFERROR(VLOOKUP('Datos Generales Edificio'!#REF!,$BO$5:$BP$32,2,FALSE),\"\")","v":""},{"$f":"+IF('Datos Generales Edificio'!#REF!<>\"\",'Datos Generales Edificio'!#REF!,\"\")","v":{"$error":"#REF!"}},0,{"$f":"+'Datos Generales Edificio'!#REF!","v":{"$error":"#REF!"}},"",{"$f":"+IF('Datos Generales Edificio'!#REF!<>\"\",'Datos Generales Edificio'!#REF!,\"\")","v":{"$error":"#REF!"}},0,{"$f":"+'Datos Generales Edificio'!#REF!","v":{"$error":"#REF!"}},"",{"$f":"IF('Datos Generales Edificio'!#REF!<>\"\",'Datos Generales Edificio'!#REF!,\"\")","v":{"$error":"#REF!"}},0,{"$f":"+'Datos Generales Edificio'!#REF!","v":{"$error":"#REF!"}},"",{"$f":"IF('Datos Generales Edificio'!#REF!<>\"\",'Datos Generales Edificio'!#REF!,\"\")","v":{"$error":"#REF!"}},0,{"$f":"+'Datos Generales Edificio'!#REF!","v":{"$error":"#REF!"}},"",{"$f":"IF('Datos Generales Edificio'!#REF!<>\"\",'Datos Generales Edificio'!#REF!,\"\")","v":{"$error":"#REF!"}},0,{"$f":"+'Datos Generales Edificio'!#REF!","v":{"$error":"#REF!"}},"",0,0,0,"",null,null,null,null,null,null,null,null,null,"X","Ciudades",17,"SC",0]
[null,"NL - Norte Litoral","Sistema unitario o partido de aire acondicionado enfriado por aire",null,null,null,null,null,null,null,null,null,null,null,null,null,null,null,null,null,null,null,null,"Edificios de oficina",null,null,null,null,"Pasillos",100,null,"Laboratorio bacteriológico",2,6,"30 - 60",null,null,null,null,null,null,null,null,null,"IV","Río Hurtado","IV - Región de Coquimbo",null,null,null,null,null,null,null,"Instalaciones - Energía","Rendimiento nominal del sistema de climatización",0.08,0.08,"INST.ENERGIA.16.2",1,null,null,null,null,null,null,null,null,null,"Recinto 36",{"$f":"+IFERROR(VLOOKUP('Datos Generales Edificio'!#REF!,$BO$5:$BP$32,2,FALSE),\"\")","v":""},{"$f":"+IF('Datos Generales Edificio'!#REF!<>\"\",'Datos Generales Edificio'!#REF!,\"\")","v":{"$error":"#REF!"}},0,{"$f":"+'Datos Generales Edificio'!#REF!","v":{"$error":"#REF!"}},"",{"$f":"+IF('Datos Generales Edificio'!#REF!<>\"\",'Datos Generales Edificio'!#REF!,\"\")","v":{"$error":"#REF!"}},0,{"$f":"+'Datos Generales Edificio'!#REF!","v":{"$error":"#REF!"}},"",{"$f":"IF('Datos Generales Edificio'!#REF!<>\"\",'Datos Generales Edificio'!#REF!,\"\")","v":{"$error":"#REF!"}},0,{"$f":"+'Datos Generales Edificio'!#REF!","v":{"$error":"#REF!"}},"",{"$f":"IF('Datos Generales Edificio'!#REF!<>\"\",'Datos Generales Edificio'!#REF!,\"\")","v":{"$error":"#REF!"}},0,{"$f":"+'Datos Generales Edificio'!#REF!","v":{"$error":"#REF!"}},"",{"$f":"IF('Datos Generales Edificio'!#REF!<>\"\",'Datos Generales Edificio'!#REF!,\"\")","v":{"$error":"#REF!"}},0,{"$f":"+'Datos Generales Edificio'!#REF!","v":{"$error":"#REF!"}},"",0,0,0,"",null,null,null,null,null,null,null,null,null,"X","Ciudades",18,"SC",0]
[null,"ND - Norte Desértico","Sistema unitario o partido de aire acondicionado enfriado por agua",null,null,null,null,null,null,null,null,null,null,null,null,null,null,null,null,null,null,null,null,"Espacio de oficina",2.5,0.3,5,null,"Policlínicos",300,null,"Laboratorio bioquímico",2,6,"30 - 60",null,null,null,null,null,null,null,null,null,"IV","Salamanca","IV - Región de Coquimbo",null,null,null,null,null,null,null,"Instalaciones - Energía","Disminución de consumo de energía en climatización y ACS",0.08,0.08,"INST.ENERGIA.16.2",2,null,null,null,null,null,null,null,null,null,"Recinto 37",{"$f":"+IFERROR(VLOOKUP('Datos Generales Edificio'!#REF!,$BO$5:$BP$32,2,FALSE),\"\")","v":""},{"$f":"+IF('Datos Generales Edificio'!#REF!<>\"\",'Datos Generales Edificio'!#REF!,\"\")","v":{"$error":"#REF!"}},0,{"$f":"+'Datos Generales Edificio'!#REF!","v":{"$error":"#REF!"}},"",{"$f":"+IF('Datos Generales Edificio'!#REF!<>\"\",'Datos Generales Edificio'!#REF!,\"\")","v":{"$error":"#REF!"}},0,{"$f":"+'Datos Generales Edificio'!#REF!","v":{"$error":"#REF!"}},"",{"$f":"IF('Datos Generales Edificio'!#REF!<>\"\",'Datos Generales Edificio'!#REF!,\"\")","v":{"$error":"#REF!"}},0,{"$f":"+'Datos Generales Edificio'!#REF!","v":{"$error":"#REF!"}},"",{"$f":"IF('Datos Generales Edificio'!#REF!<>\"\",'Datos Generales Edificio'!#REF!,\"\")","v":{"$error":"#REF!"}},0,{"$f":"+'Datos Generales Edificio'!#REF!","v":{"$error":"#REF!"}},"",{"$f":"IF('Datos Generales Edificio'!#REF!<>\"\",'Datos Generales Edificio'!#REF!,\"\")","v":{"$error":"#REF!"}},0,{"$f":"+'Datos Generales Edificio'!#REF!","v":{"$error":"#REF!"}},"",0,0,0,"",null,null,null,null,null,null,null,null,null,"X","Ciudades",19,"SC",0]
[null,"NVT - Norte Valle Transversal","Chiller enfriado por aire condensador remoto",null,null,null,null,null,null,null,null,null,null,{"$f":"+IF('Datos Generales Edificio'!#REF!<Tablas2!$P$6,1,IF('Datos Generales Edificio'!#REF!<Tablas2!$P$7,2,IF('Datos Generales Edificio'!#REF!<Tablas2!$P$8,3,IF('Datos Generales Edificio'!#REF!<Tablas2!$P$9,4,5))))","v":{"$error":"#REF!"}},{"$f":"+IF('Datos Generales Edificio'!#REF!>Tablas2!$U$21,5,IF('Datos Generales Edificio'!#REF!>Tablas2!$S$21,3,1))","v":{"$error":"#REF!"}},null,null,null,null,null,null,null,null,"Áreas de recepción",2.5,0.3,30,null,"Salas cirugía",500,null,"Laboratorio citológico",2,6,"30 - 60",null,null,null,null,null,null,null,null,null,"IV","Vicuña","IV - Región de Coquimbo",null,null,null,null,null,null,null,"Instalaciones - Energía","% de reducción del consumo estimado de energía de equipos y artefactos",0.01,0.01,"INST.ENERGIA.17",1,null,null,null,null,null,null,null,null,null,"Recinto 38",{"$f":"+IFERROR(VLOOKUP('Datos Generales Edificio'!#REF!,$BO$5:$BP$32,2,FALSE),\"\")","v":""},{"$f":"+IF('Datos Generales Edificio'!#REF!<>\"\",'Datos Generales Edificio'!#REF!,\"\")","v":{"$error":"#REF!"}},0,{"$f":"+'Datos Generales Edificio'!#REF!","v":{"$error":"#REF!"}},"",{"$f":"+IF('Datos Generales Edificio'!#REF!<>\"\",'Datos Generales Edificio'!#REF!,\"\")","v":{"$error":"#REF!"}},0,{"$f":"+'Datos Generales Edificio'!#REF!","v":{"$error":"#REF!"}},"",{"$f":"IF('Datos Generales Edificio'!#REF!<>\"\",'Datos Generales Edificio'!#REF!,\"\")","v":{"$error":"#REF!"}},0,{"$f":"+'Datos Generales Edificio'!#REF!","v":{"$error":"#REF!"}},"",{"$f":"IF('Datos Generales Edificio'!#REF!<>\"\",'Datos Generales Edificio'!#REF!,\"\")","v":{"$error":"#REF!"}},0,{"$f":"+'Datos Generales Edificio'!#REF!","v":{"$error":"#REF!"}},"",{"$f":"IF('Datos Generales Edificio'!#REF!<>\"\",'Datos Generales Edificio'!#REF!,\"\")","v":{"$error":"#REF!"}},0,{"$f":"+'Datos Generales Edificio'!#REF!","v":{"$error":"#REF!"}},"",0,0,0,"",null,null,null,null,null,null,null,null,null,"X","Ciudades",20,"SC",0]
[null,"CL - Central Litoral","Compresor alternativo, enfriado por aire",null,null,null,null,null,null,null,null,null,null,null,null,null,null,null,null,null,null,null,null,"Telefonía/Data entry",2.5,0.3,60,null,"Salas pacientes",100,null,"Laboratorio de lavado de vidrio","-",10,"-",null,null,null,null,null,null,null,null,null,"IX","Angol","IX - Región de Araucanía",null,null,null,null,null,null,null,"Instalaciones - Energía","Disminución de consumo de energía en equipos y artefactos",0.01,0.01,"INST.ENERGIA.17",2,null,null,null,null,null,null,null,null,null,"Recinto 39",{"$f":"+IFERROR(VLOOKUP('Datos Generales Edificio'!#REF!,$BO$5:$BP$32,2,FALSE),\"\")","v":""},{"$f":"+IF('Datos Generales Edificio'!#REF!<>\"\",'Datos Generales Edificio'!#REF!,\"\")","v":{"$error":"#REF!"}},0,{"$f":"+'Datos Generales Edificio'!#REF!","v":{"$error":"#REF!"}},"",{"$f":"+IF('Datos Generales Edificio'!#REF!<>\"\",'Datos Generales Edificio'!#REF!,\"\")","v":{"$error":"#REF!"}},0,{"$f":"+'Datos Generales Edificio'!#REF!","v":{"$error":"#REF!"}},"",{"$f":"IF('Datos Generales Edificio'!#REF!<>\"\",'Datos Generales Edificio'!#REF!,\"\")","v":{"$error":"#REF!"}},0,{"$f":"+'Datos Generales Edificio'!#REF!","v":{"$error":"#REF!"}},"",{"$f":"IF('Datos Generales Edificio'!#REF!<>\"\",'Datos Generales Edificio'!#REF!,\"\")","v":{"$error":"#REF!"}},0,{"$f":"+'Datos Generales Edificio'!#REF!","v":{"$error":"#REF!"}},"",{"$f":"IF('Datos Generales Edificio'!#REF!<>\"\",'Datos Generales Edificio'!#REF!,\"\")","v":{"$error":"#REF!"}},0,{"$f":"+'Datos Generales Edificio'!#REF!","v":{"$error":"#REF!"}},"",0,0,0,"",null,null,null,null,null,null,null,null,null,"Y","Terreno abierto",1,"60a",60]
[null,"CI - Central Interior","Compresor de tornillo, enfriado por agua",null,null,null,null,null,null,null,null,null,null,null,null,null,null,null,null,null,null,null,null,"Sala principal (Lobbies)",2.5,0.3,10,null,null,null,null,"Laboratorio de histología",2,6,"30 - 60",null,null,null,null,null,null,null,null,null,"IX","Carahue","IX - Región de Araucanía",null,null,null,null,null,null,null,"Instalaciones - Energía","Cobertura de demanda de energía primaria del edificio",0.02,0.02,"INST.ENERGIA.18",1,null,null,null,null,null,null,null,null,null,"Recinto 40",{"$f":"+IFERROR(VLOOKUP('Datos Generales Edificio'!#REF!,$BO$5:$BP$32,2,FALSE),\"\")","v":""},{"$f":"+IF('Datos Generales Edificio'!#REF!<>\"\",'Datos Generales Edificio'!#REF!,\"\")","v":{"$error":"#REF!"}},0,{"$f":"+'Datos Generales Edificio'!#REF!","v":{"$error":"#REF!"}},"",{"$f":"+IF('Datos Generales Edificio'!#REF!<>\"\",'Datos Generales Edificio'!#REF!,\"\")","v":{"$error":"#REF!"}},0,{"$f":"+'Datos Generales Edificio'!#REF!","v":{"$error":"#REF!"}},"",{"$f":"IF('Datos Generales Edificio'!#REF!<>\"\",'Datos Generales Edificio'!#REF!,\"\")","v":{"$error":"#REF!"}},0,{"$f":"+'Datos Generales Edificio'!#REF!","v":{"$error":"#REF!"}},"",{"$f":"IF('Datos Generales Edificio'!#REF!<>\"\",'Datos Generales Edificio'!#REF!,\"\")","v":{"$error":"#REF!"}},0,{"$f":"+'Datos Generales Edificio'!#REF!","v":{"$error":"#REF!"}},"",{"$f":"IF('Datos Generales Edificio'!#REF!<>\"\",'Datos Generales Edificio'!#REF!,\"\")","v":{"$error":"#REF!"}},0,{"$f":"+'Datos Generales Edificio'!#REF!","v":{"$error":"#REF!"}},"",0,0,0,"",null,null,null,null,null,null,null,null,null,"Y","Terreno abierto",2,"60a",60]
[null,"SL - Sur Litoral","Compresor centrífugo, enfriado por agua.",null,null,null,null,null,null,null,null,null,null,null,null,null,null,null,null,null,null,null,null,"Espacios misceláneos",null,null,null,null,"Ashrae 90,1 W/m2",null,null,"Microbiología","-",6,"30 - 60",null,null,null,null,null,null,null,null,null,"IX","Cholchol","IX - Región de Araucanía",null,null,null,null,null,null,null,"Instalaciones - Agua","Disminución de consumo de agua potable [%]",0.06,0.06,"INST.AGUA.19.1",1,null,null,null,null,null,null,null,null,null,"Recinto 41",{"$f":"+IFERROR(VLOOKUP('Datos Generales Edificio'!#REF!,$BO$5:$BP$32,2,FALSE),\"\")","v":""},{"$f":"+IF('Datos Generales Edificio'!#REF!<>\"\",'Datos Generales Edificio'!#REF!,\"\")","v":{"$error":"#REF!"}},0,{"$f":"+'Datos Generales Edificio'!#REF!","v":{"$error":"#REF!"}},"",{"$f":"+IF('Datos Generales Edificio'!#REF!<>\"\",'Datos Generales Edificio'!#REF!,\"\")","v":{"$error":"#REF!"}},0,{"$f":"+'Datos Generales Edificio'!#REF!","v":{"$error":"#REF!"}},"",{"$f":"IF('Datos Generales Edificio'!#REF!<>\"\",'Datos Generales Edificio'!#REF!,\"\")","v":{"$error":"#REF!"}},0,{"$f":"+'Datos Generales Edificio'!#REF!","v":{"$error":"#REF!"}},"",{"$f":"IF('Datos Generales Edificio'!#REF!<>\"\",'Datos Generales Edificio'!#REF!,\"\")","v":{"$error":"#REF!"}},0,{"$f":"+'Datos Generales Edificio'!#REF!","v":{"$error":"#REF!"}},"",{"$f":"IF('Datos Generales Edificio'!#REF!<>\"\",'Datos Generales Edificio'!#REF!,\"\")","v":{"$error":"#REF!"}},0,{"$f":"+'Datos Generales Edificio'!#REF!","v":{"$error":"#REF!"}},"",0,0,0,"",null,null,null,null,null,null,null,null,null,"Y","Terreno abierto",3,"60a",60]
[null,"SI - Sur Interior","VRV",null,null,null,null,null,null,null,null,null,null,null,null,null,null,null,null,null,null,null,null,"Bóvedas del banco/Depósitos seguro",2.5,0.3,5,null,"Office - enclosed",12,null,"Laboratorio medicina nuclear",2,6,"30 - 60",null,null,null,null,null,null,null,null,null,"IX","Collipulli","IX - Región de Araucanía",null,null,null,null,null,null,null,"Instalaciones - Agua","Tratamiento para la remoción de dureza de agua",5.0000000000000001E-3,5.0000000000000001E-3,"INST.AGUA.19.2",1,null,null,null,null,null,null,null,null,null,"Recinto 42",{"$f":"+IFERROR(VLOOKUP('Datos Generales Edificio'!#REF!,$BO$5:$BP$32,2,FALSE),\"\")","v":""},{"$f":"+IF('Datos Generales Edificio'!#REF!<>\"\",'Datos Generales Edificio'!#REF!,\"\")","v":{"$error":"#REF!"}},0,{"$f":"+'Datos Generales Edificio'!#REF!","v":{"$error":"#REF!"}},"",{"$f":"+IF('Datos Generales Edificio'!#REF!<>\"\",'Datos Generales Edificio'!#REF!,\"\")","v":{"$error":"#REF!"}},0,{"$f":"+'Datos Generales Edificio'!#REF!","v":{"$error":"#REF!"}},"",{"$f":"IF('Datos Generales Edificio'!#REF!<>\"\",'Datos Generales Edificio'!#REF!,\"\")","v":{"$error":"#REF!"}},0,{"$f":"+'Datos Generales Edificio'!#REF!","v":{"$error":"#REF!"}},"",{"$f":"IF('Datos Generales Edificio'!#REF!<>\"\",'Datos Generales Edificio'!#REF!,\"\")","v":{"$error":"#REF!"}},0,{"$f":"+'Datos Generales Edificio'!#REF!","v":{"$error":"#REF!"}},"",{"$f":"IF('Datos Generales Edificio'!#REF!<>\"\",'Datos Generales Edificio'!#REF!,\"\")","v":{"$error":"#REF!"}},0,{"$f":"+'Datos Generales Edificio'!#REF!","v":{"$error":"#REF!"}},"",0,0,0,"",null,null,null,null,null,null,null,null,null,"Y","Terreno abierto",4,"60a",60]
[null,"SE - Sur Extremo","Sistema con recuperación de calor",null,null,null,null,null,null,null,null,null,null,null,null,null,null,null,null,null,null,null,null,"Computadores (no impresoras)",2.5,0.3,4,null,"Sales area",18,null,"Laboratorio patología",2,6,"30 - 60",null,null,null,null,null,null,null,null,null,"IX","Cunco","IX - Región de Araucanía",null,null,null,null,null,null,null,"Instalaciones - Agua","Disminución del consumo de agua para riego [%]",0.01,0.01,"INST.AGUA.20",1,null,null,null,null,null,null,null,null,null,"Recinto 43",{"$f":"+IFERROR(VLOOKUP('Datos Generales Edificio'!#REF!,$BO$5:$BP$32,2,FALSE),\"\")","v":""},{"$f":"+IF('Datos Generales Edificio'!#REF!<>\"\",'Datos Generales Edificio'!#REF!,\"\")","v":{"$error":"#REF!"}},0,{"$f":"+'Datos Generales Edificio'!#REF!","v":{"$error":"#REF!"}},"",{"$f":"+IF('Datos Generales Edificio'!#REF!<>\"\",'Datos Generales Edificio'!#REF!,\"\")","v":{"$error":"#REF!"}},0,{"$f":"+'Datos Generales Edificio'!#REF!","v":{"$error":"#REF!"}},"",{"$f":"IF('Datos Generales Edificio'!#REF!<>\"\",'Datos Generales Edificio'!#REF!,\"\")","v":{"$error":"#REF!"}},0,{"$f":"+'Datos Generales Edificio'!#REF!","v":{"$error":"#REF!"}},"",{"$f":"IF('Datos Generales Edificio'!#REF!<>\"\",'Datos Generales Edificio'!#REF!,\"\")","v":{"$error":"#REF!"}},0,{"$f":"+'Datos Generales Edificio'!#REF!","v":{"$error":"#REF!"}},"",{"$f":"IF('Datos Generales Edificio'!#REF!<>\"\",'Datos Generales Edificio'!#REF!,\"\")","v":{"$error":"#REF!"}},0,{"$f":"+'Datos Generales Edificio'!#REF!","v":{"$error":"#REF!"}},"",0,0,0,"",null,null,null,null,null,null,null,null,null,"Y","Terreno abierto",5,"60a",60]
[null,"An - Andino",null,null,null,null,null,null,null,null,null,null,null,null,null,null,null,null,null,null,null,null,null,"Sala de equipos eléctricos","-",0.3,"-",null,"Conference/meeting/multipurpose",14,null,"Laboratorio serología",2,6,"30 - 60",null,null,null,null,null,null,null,null,null,"IX","Curacautín","IX - Región de Araucanía",null,null,null,null,null,null,null,"Construcción - Residuos","Separación, control y reciclaje de residuos",0.01,0.01,"CONST.RESIDUOS.21",1,null,null,null,null,null,null,null,null,null,"Recinto 44",{"$f":"+IFERROR(VLOOKUP('Datos Generales Edificio'!#REF!,$BO$5:$BP$32,2,FALSE),\"\")","v":""},{"$f":"+IF('Datos Generales Edificio'!#REF!<>\"\",'Datos Generales Edificio'!#REF!,\"\")","v":{"$error":"#REF!"}},0,{"$f":"+'Datos Generales Edificio'!#REF!","v":{"$error":"#REF!"}},"",{"$f":"+IF('Datos Generales Edificio'!#REF!<>\"\",'Datos Generales Edificio'!#REF!,\"\")","v":{"$error":"#REF!"}},0,{"$f":"+'Datos Generales Edificio'!#REF!","v":{"$error":"#REF!"}},"",{"$f":"IF('Datos Generales Edificio'!#REF!<>\"\",'Datos Generales Edificio'!#REF!,\"\")","v":{"$error":"#REF!"}},0,{"$f":"+'Datos Generales Edificio'!#REF!","v":{"$error":"#REF!"}},"",{"$f":"IF('Datos Generales Edificio'!#REF!<>\"\",'Datos Generales Edificio'!#REF!,\"\")","v":{"$error":"#REF!"}},0,{"$f":"+'Datos Generales Edificio'!#REF!","v":{"$error":"#REF!"}},"",{"$f":"IF('Datos Generales Edificio'!#REF!<>\"\",'Datos Generales Edificio'!#REF!,\"\")","v":{"$error":"#REF!"}},0,{"$f":"+'Datos Generales Edificio'!#REF!","v":{"$error":"#REF!"}},"",0,0,0,"",null,null,null,null,null,null,null,null,null,"Y","Terreno abierto",6,"30a",30]
[null,null,null,null,null,null,null,null,null,null,null,null,null,null,null,null,null,null,null,null,null,null,null,"Sala de máquinas de elevadores","-",0.6,"-",null,"Corridor/transition",5,null,"Laboratorio esterilización","-",10,"30 - 60",null,null,null,null,null,null,null,null,null,"IX","Curarrehue","IX - Región de Araucanía",null,null,null,null,null,null,null,"Gestión","Actas de reuniones e informe",0.04,0.04,"GESTION.22",1,null,null,null,null,null,null,null,null,null,"Recinto 45",{"$f":"+IFERROR(VLOOKUP('Datos Generales Edificio'!#REF!,$BO$5:$BP$32,2,FALSE),\"\")","v":""},{"$f":"+IF('Datos Generales Edificio'!#REF!<>\"\",'Datos Generales Edificio'!#REF!,\"\")","v":{"$error":"#REF!"}},0,{"$f":"+'Datos Generales Edificio'!#REF!","v":{"$error":"#REF!"}},"",{"$f":"+IF('Datos Generales Edificio'!#REF!<>\"\",'Datos Generales Edificio'!#REF!,\"\")","v":{"$error":"#REF!"}},0,{"$f":"+'Datos Generales Edificio'!#REF!","v":{"$error":"#REF!"}},"",{"$f":"IF('Datos Generales Edificio'!#REF!<>\"\",'Datos Generales Edificio'!#REF!,\"\")","v":{"$error":"#REF!"}},0,{"$f":"+'Datos Generales Edificio'!#REF!","v":{"$error":"#REF!"}},"",{"$f":"IF('Datos Generales Edificio'!#REF!<>\"\",'Datos Generales Edificio'!#REF!,\"\")","v":{"$error":"#REF!"}},0,{"$f":"+'Datos Generales Edificio'!#REF!","v":{"$error":"#REF!"}},"",{"$f":"IF('Datos Generales Edificio'!#REF!<>\"\",'Datos Generales Edificio'!#REF!,\"\")","v":{"$error":"#REF!"}},0,{"$f":"+'Datos Generales Edificio'!#REF!","v":{"$error":"#REF!"}},"",0,0,0,"",null,null,null,null,null,null,null,null,null,"Y","Terreno abierto",7,"30a",30]
[null,null,null,null,null,null,null,null,null,null,null,null,null,null,null,null,null,null,null,null,null,null,null,"Farmacia (Área de preparación)",2.5,0.9,10,null,"Lobby",14,null,"Laboratorio transferencia media",2,4,"30 - 60",null,null,null,null,null,null,null,null,null,"IX","Ercilla","IX - Región de Araucanía",null,null,null,null,null,null,null,"Gestión","Compromiso y plan de mejora continua",0,0,"GESTION.23",1,null,null,null,null,null,null,null,null,null,"Recinto 46",{"$f":"+IFERROR(VLOOKUP('Datos Generales Edificio'!#REF!,$BO$5:$BP$32,2,FALSE),\"\")","v":""},{"$f":"+IF('Datos Generales Edificio'!#REF!<>\"\",'Datos Generales Edificio'!#REF!,\"\")","v":{"$error":"#REF!"}},0,{"$f":"+'Datos Generales Edificio'!#REF!","v":{"$error":"#REF!"}},"",{"$f":"+IF('Datos Generales Edificio'!#REF!<>\"\",'Datos Generales Edificio'!#REF!,\"\")","v":{"$error":"#REF!"}},0,{"$f":"+'Datos Generales Edificio'!#REF!","v":{"$error":"#REF!"}},"",{"$f":"IF('Datos Generales Edificio'!#REF!<>\"\",'Datos Generales Edificio'!#REF!,\"\")","v":{"$error":"#REF!"}},0,{"$f":"+'Datos Generales Edificio'!#REF!","v":{"$error":"#REF!"}},"",{"$f":"IF('Datos Generales Edificio'!#REF!<>\"\",'Datos Generales Edificio'!#REF!,\"\")","v":{"$error":"#REF!"}},0,{"$f":"+'Datos Generales Edificio'!#REF!","v":{"$error":"#REF!"}},"",{"$f":"IF('Datos Generales Edificio'!#REF!<>\"\",'Datos Generales Edificio'!#REF!,\"\")","v":{"$error":"#REF!"}},0,{"$f":"+'Datos Generales Edificio'!#REF!","v":{"$error":"#REF!"}},"",0,0,0,"",null,null,null,null,null,null,null,null,null,"Y","Terreno abierto",8,"30a",30]
[null,null,"Calor",null,null,null,null,null,null,null,null,null,null,null,null,null,null,null,null,null,null,null,null,"Estudio de fotos",2.5,0.6,10,null,"Restrooms",10,null,"Sala de autopsia",2,12,"-",null,null,null,null,null,null,null,null,null,"IX","Freire","IX - Región de Araucanía",null,null,null,null,null,null,null,null,null,null,null,null,null,null,null,null,null,null,null,null,null,null,"Recinto 47",{"$f":"+IFERROR(VLOOKUP('Datos Generales Edificio'!#REF!,$BO$5:$BP$32,2,FALSE),\"\")","v":""},{"$f":"+IF('Datos Generales Edificio'!#REF!<>\"\",'Datos Generales Edificio'!#REF!,\"\")","v":{"$error":"#REF!"}},0,{"$f":"+'Datos Generales Edificio'!#REF!","v":{"$error":"#REF!"}},"",{"$f":"+IF('Datos Generales Edificio'!#REF!<>\"\",'Datos Generales Edificio'!#REF!,\"\")","v":{"$error":"#REF!"}},0,{"$f":"+'Datos Generales Edificio'!#REF!","v":{"$error":"#REF!"}},"",{"$f":"IF('Datos Generales Edificio'!#REF!<>\"\",'Datos Generales Edificio'!#REF!,\"\")","v":{"$error":"#REF!"}},0,{"$f":"+'Datos Generales Edificio'!#REF!","v":{"$error":"#REF!"}},"",{"$f":"IF('Datos Generales Edificio'!#REF!<>\"\",'Datos Generales Edificio'!#REF!,\"\")","v":{"$error":"#REF!"}},0,{"$f":"+'Datos Generales Edificio'!#REF!","v":{"$error":"#REF!"}},"",{"$f":"IF('Datos Generales Edificio'!#REF!<>\"\",'Datos Generales Edificio'!#REF!,\"\")","v":{"$error":"#REF!"}},0,{"$f":"+'Datos Generales Edificio'!#REF!","v":{"$error":"#REF!"}},"",0,0,0,"",null,null,null,null,null,null,null,null,null,"Y","Terreno abierto",9,"30a",30]
[null,1,"Calefacción por combustión",null,null,null,null,null,null,null,null,null,null,null,null,null,null,null,null,null,null,null,null,"Sala de envíos/recepción","-",0.6,"-",null,"Food preparation",13,null,"Sala de confinamiento de cuerpos no refrigerados","-",10,"-",null,null,null,null,null,null,null,null,null,"IX","Galvarino","IX - Región de Araucanía",null,null,null,null,null,null,null,null,null,null,null,null,null,null,null,null,null,null,null,null,null,null,"Recinto 48",{"$f":"+IFERROR(VLOOKUP('Datos Generales Edificio'!#REF!,$BO$5:$BP$32,2,FALSE),\"\")","v":""},{"$f":"+IF('Datos Generales Edificio'!#REF!<>\"\",'Datos Generales Edificio'!#REF!,\"\")","v":{"$error":"#REF!"}},0,{"$f":"+'Datos Generales Edificio'!#REF!","v":{"$error":"#REF!"}},"",{"$f":"+IF('Datos Generales Edificio'!#REF!<>\"\",'Datos Generales Edificio'!#REF!,\"\")","v":{"$error":"#REF!"}},0,{"$f":"+'Datos Generales Edificio'!#REF!","v":{"$error":"#REF!"}},"",{"$f":"IF('Datos Generales Edificio'!#REF!<>\"\",'Datos Generales Edificio'!#REF!,\"\")","v":{"$error":"#REF!"}},0,{"$f":"+'Datos Generales Edificio'!#REF!","v":{"$error":"#REF!"}},"",{"$f":"IF('Datos Generales Edificio'!#REF!<>\"\",'Datos Generales Edificio'!#REF!,\"\")","v":{"$error":"#REF!"}},0,{"$f":"+'Datos Generales Edificio'!#REF!","v":{"$error":"#REF!"}},"",{"$f":"IF('Datos Generales Edificio'!#REF!<>\"\",'Datos Generales Edificio'!#REF!,\"\")","v":{"$error":"#REF!"}},0,{"$f":"+'Datos Generales Edificio'!#REF!","v":{"$error":"#REF!"}},"",0,0,0,"",null,null,null,null,null,null,null,null,null,"Y","Terreno abierto",10,"30a",30]
[null,2,"Sistema unitario o partido de aire acondicionado enfriado por aire",null,null,null,null,null,null,null,null,null,null,null,null,null,null,null,null,null,null,null,null,"Closet de teléfonos","-",0,"-",null,"Dining area",10,null,"Farmacia",2,4,"30 - 60",null,null,null,null,null,null,null,null,null,"IX","Gorbea","IX - Región de Araucanía",null,null,null,null,null,null,null,null,null,null,null,null,null,null,null,null,null,null,null,null,null,null,"Recinto 49",{"$f":"+IFERROR(VLOOKUP('Datos Generales Edificio'!#REF!,$BO$5:$BP$32,2,FALSE),\"\")","v":""},{"$f":"+IF('Datos Generales Edificio'!#REF!<>\"\",'Datos Generales Edificio'!#REF!,\"\")","v":{"$error":"#REF!"}},0,{"$f":"+'Datos Generales Edificio'!#REF!","v":{"$error":"#REF!"}},"",{"$f":"+IF('Datos Generales Edificio'!#REF!<>\"\",'Datos Generales Edificio'!#REF!,\"\")","v":{"$error":"#REF!"}},0,{"$f":"+'Datos Generales Edificio'!#REF!","v":{"$error":"#REF!"}},"",{"$f":"IF('Datos Generales Edificio'!#REF!<>\"\",'Datos Generales Edificio'!#REF!,\"\")","v":{"$error":"#REF!"}},0,{"$f":"+'Datos Generales Edificio'!#REF!","v":{"$error":"#REF!"}},"",{"$f":"IF('Datos Generales Edificio'!#REF!<>\"\",'Datos Generales Edificio'!#REF!,\"\")","v":{"$error":"#REF!"}},0,{"$f":"+'Datos Generales Edificio'!#REF!","v":{"$error":"#REF!"}},"",{"$f":"IF('Datos Generales Edificio'!#REF!<>\"\",'Datos Generales Edificio'!#REF!,\"\")","v":{"$error":"#REF!"}},0,{"$f":"+'Datos Generales Edificio'!#REF!","v":{"$error":"#REF!"}},"",0,0,0,"",null,null,null,null,null,null,null,null,null,"Y","Terreno abierto",11,"30a",30]
[null,3,"Sistema unitario o partido de aire acondicionado enfriado por agua",null,null,null,null,null,null,null,null,null,null,null,null,null,null,null,null,null,null,null,null,"Sala de espera de transporte",3.8,0.3,100,null,"Audience/seating area",10,null,"ADMINISTRACIÓN",null,null,null,null,null,null,null,null,null,null,null,null,"IX","Lautaro","IX - Región de Araucanía",null,null,null,null,null,null,null,null,null,null,null,null,null,null,null,null,null,null,null,null,null,null,"Recinto 50",{"$f":"+IFERROR(VLOOKUP('Datos Generales Edificio'!#REF!,$BO$5:$BP$32,2,FALSE),\"\")","v":""},{"$f":"+IF('Datos Generales Edificio'!#REF!<>\"\",'Datos Generales Edificio'!#REF!,\"\")","v":{"$error":"#REF!"}},0,{"$f":"+'Datos Generales Edificio'!#REF!","v":{"$error":"#REF!"}},"",{"$f":"+IF('Datos Generales Edificio'!#REF!<>\"\",'Datos Generales Edificio'!#REF!,\"\")","v":{"$error":"#REF!"}},0,{"$f":"+'Datos Generales Edificio'!#REF!","v":{"$error":"#REF!"}},"",{"$f":"IF('Datos Generales Edificio'!#REF!<>\"\",'Datos Generales Edificio'!#REF!,\"\")","v":{"$error":"#REF!"}},0,{"$f":"+'Datos Generales Edificio'!#REF!","v":{"$error":"#REF!"}},"",{"$f":"IF('Datos Generales Edificio'!#REF!<>\"\",'Datos Generales Edificio'!#REF!,\"\")","v":{"$error":"#REF!"}},0,{"$f":"+'Datos Generales Edificio'!#REF!","v":{"$error":"#REF!"}},"",{"$f":"IF('Datos Generales Edificio'!#REF!<>\"\",'Datos Generales Edificio'!#REF!,\"\")","v":{"$error":"#REF!"}},0,{"$f":"+'Datos Generales Edificio'!#REF!","v":{"$error":"#REF!"}},"",0,0,0,"",null,null,null,null,null,null,null,null,null,"Y","Terreno abierto",12,"30a",30]
[null,"4 o más","Chiller enfriado por aire condensador remoto",null,null,null,null,null,null,null,null,null,null,null,null,null,null,null,null,null,null,null,null,"Almacén","-",0.3,"-",null,"Stairs-active",6,null,"Sala de admisión y espera",2,6,"30 - 60",null,null,null,null,null,null,null,null,null,"IX","Loncoche","IX - Región de Araucanía",null,null,null,null,null,null,null,null,null,null,null,null,null,null,null,null,null,null,null,null,null,null,"Recinto 51",{"$f":"+IFERROR(VLOOKUP('Datos Generales Edificio'!#REF!,$BO$5:$BP$32,2,FALSE),\"\")","v":""},{"$f":"+IF('Datos Generales Edificio'!#REF!<>\"\",'Datos Generales Edificio'!#REF!,\"\")","v":{"$error":"#REF!"}},0,{"$f":"+'Datos Generales Edificio'!#REF!","v":{"$error":"#REF!"}},"",{"$f":"+IF('Datos Generales Edificio'!#REF!<>\"\",'Datos Generales Edificio'!#REF!,\"\")","v":{"$error":"#REF!"}},0,{"$f":"+'Datos Generales Edificio'!#REF!","v":{"$error":"#REF!"}},"",{"$f":"IF('Datos Generales Edificio'!#REF!<>\"\",'Datos Generales Edificio'!#REF!,\"\")","v":{"$error":"#REF!"}},0,{"$f":"+'Datos Generales Edificio'!#REF!","v":{"$error":"#REF!"}},"",{"$f":"IF('Datos Generales Edificio'!#REF!<>\"\",'Datos Generales Edificio'!#REF!,\"\")","v":{"$error":"#REF!"}},0,{"$f":"+'Datos Generales Edificio'!#REF!","v":{"$error":"#REF!"}},"",{"$f":"IF('Datos Generales Edificio'!#REF!<>\"\",'Datos Generales Edificio'!#REF!,\"\")","v":{"$error":"#REF!"}},0,{"$f":"+'Datos Generales Edificio'!#REF!","v":{"$error":"#REF!"}},"",0,0,0,"",null,null,null,null,null,null,null,null,null,"Y","Terreno abierto",13,"30a",30]
[null,null,"Compresor alternativo, enfriado por aire",null,null,null,null,null,null,null,null,null,null,null,null,null,null,null,null,null,null,null,null,"Espacios públicos de reunión",null,null,null,null,"Parking garage-garage area",2,null,"DIAGNÓSTICO Y TRATAMIENTO",null,null,null,null,null,null,null,null,null,null,null,null,"IX","Lonquimay","IX - Región de Araucanía",null,null,null,null,null,null,null,null,null,null,null,null,null,null,null,null,null,null,null,null,null,null,"Recinto 52",{"$f":"+IFERROR(VLOOKUP('Datos Generales Edificio'!#REF!,$BO$5:$BP$32,2,FALSE),\"\")","v":""},{"$f":"+IF('Datos Generales Edificio'!#REF!<>\"\",'Datos Generales Edificio'!#REF!,\"\")","v":{"$error":"#REF!"}},0,{"$f":"+'Datos Generales Edificio'!#REF!","v":{"$error":"#REF!"}},"",{"$f":"+IF('Datos Generales Edificio'!#REF!<>\"\",'Datos Generales Edificio'!#REF!,\"\")","v":{"$error":"#REF!"}},0,{"$f":"+'Datos Generales Edificio'!#REF!","v":{"$error":"#REF!"}},"",{"$f":"IF('Datos Generales Edificio'!#REF!<>\"\",'Datos Generales Edificio'!#REF!,\"\")","v":{"$error":"#REF!"}},0,{"$f":"+'Datos Generales Edificio'!#REF!","v":{"$error":"#REF!"}},"",{"$f":"IF('Datos Generales Edificio'!#REF!<>\"\",'Datos Generales Edificio'!#REF!,\"\")","v":{"$error":"#REF!"}},0,{"$f":"+'Datos Generales Edificio'!#REF!","v":{"$error":"#REF!"}},"",{"$f":"IF('Datos Generales Edificio'!#REF!<>\"\",'Datos Generales Edificio'!#REF!,\"\")","v":{"$error":"#REF!"}},0,{"$f":"+'Datos Generales Edificio'!#REF!","v":{"$error":"#REF!"}},"",0,0,0,"",null,null,null,null,null,null,null,null,null,"Y","Terreno abierto",14,"30a",30]
[null,null,"Compresor de tornillo, enfriado por agua",null,null,null,null,null,null,null,null,null,null,null,null,null,null,null,null,null,null,null,null,"Área de asientos de auditorio",2.5,0.3,150,null,"Active storage",9,null,"Broncoscopía, recolección y administración de pentamidina",2,12,"30 - 60",null,null,null,null,null,null,null,null,null,"IX","Los Sauces","IX - Región de Araucanía",null,null,null,null,null,null,null,null,null,null,null,null,null,null,null,null,null,null,null,null,null,null,"Recinto 53",{"$f":"+IFERROR(VLOOKUP('Datos Generales Edificio'!#REF!,$BO$5:$BP$32,2,FALSE),\"\")","v":""},{"$f":"+IF('Datos Generales Edificio'!#REF!<>\"\",'Datos Generales Edificio'!#REF!,\"\")","v":{"$error":"#REF!"}},0,{"$f":"+'Datos Generales Edificio'!#REF!","v":{"$error":"#REF!"}},"",{"$f":"+IF('Datos Generales Edificio'!#REF!<>\"\",'Datos Generales Edificio'!#REF!,\"\")","v":{"$error":"#REF!"}},0,{"$f":"+'Datos Generales Edificio'!#REF!","v":{"$error":"#REF!"}},"",{"$f":"IF('Datos Generales Edificio'!#REF!<>\"\",'Datos Generales Edificio'!#REF!,\"\")","v":{"$error":"#REF!"}},0,{"$f":"+'Datos Generales Edificio'!#REF!","v":{"$error":"#REF!"}},"",{"$f":"IF('Datos Generales Edificio'!#REF!<>\"\",'Datos Generales Edificio'!#REF!,\"\")","v":{"$error":"#REF!"}},0,{"$f":"+'Datos Generales Edificio'!#REF!","v":{"$error":"#REF!"}},"",{"$f":"IF('Datos Generales Edificio'!#REF!<>\"\",'Datos Generales Edificio'!#REF!,\"\")","v":{"$error":"#REF!"}},0,{"$f":"+'Datos Generales Edificio'!#REF!","v":{"$error":"#REF!"}},"",0,0,0,"",null,null,null,null,null,null,null,null,null,"Y","Terreno abierto",15,"30a",30]
[null,"Si","Compresor centrífugo, enfriado por agua.",null,null,null,null,null,null,null,null,null,null,null,null,null,null,null,null,null,null,null,null,"Lugar de adoración religiosa",2.5,0.3,120,null,"Hotel/motel guest rooms",12,null,"Sala de exámenes",2,6,"30 - 60",null,null,null,null,null,null,null,null,null,"IX","Lumaco","IX - Región de Araucanía",null,null,null,null,null,null,null,null,null,null,null,null,null,null,null,null,null,null,null,null,null,null,"Recinto 54",{"$f":"+IFERROR(VLOOKUP('Datos Generales Edificio'!#REF!,$BO$5:$BP$32,2,FALSE),\"\")","v":""},{"$f":"+IF('Datos Generales Edificio'!#REF!<>\"\",'Datos Generales Edificio'!#REF!,\"\")","v":{"$error":"#REF!"}},0,{"$f":"+'Datos Generales Edificio'!#REF!","v":{"$error":"#REF!"}},"",{"$f":"+IF('Datos Generales Edificio'!#REF!<>\"\",'Datos Generales Edificio'!#REF!,\"\")","v":{"$error":"#REF!"}},0,{"$f":"+'Datos Generales Edificio'!#REF!","v":{"$error":"#REF!"}},"",{"$f":"IF('Datos Generales Edificio'!#REF!<>\"\",'Datos Generales Edificio'!#REF!,\"\")","v":{"$error":"#REF!"}},0,{"$f":"+'Datos Generales Edificio'!#REF!","v":{"$error":"#REF!"}},"",{"$f":"IF('Datos Generales Edificio'!#REF!<>\"\",'Datos Generales Edificio'!#REF!,\"\")","v":{"$error":"#REF!"}},0,{"$f":"+'Datos Generales Edificio'!#REF!","v":{"$error":"#REF!"}},"",{"$f":"IF('Datos Generales Edificio'!#REF!<>\"\",'Datos Generales Edificio'!#REF!,\"\")","v":{"$error":"#REF!"}},0,{"$f":"+'Datos Generales Edificio'!#REF!","v":{"$error":"#REF!"}},"",0,0,0,"",null,null,null,null,null,null,null,null,null,"Y","Terreno abierto",16,"30a",30]
[null,"No","VRV",null,null,null,null,null,null,null,null,null,null,null,null,null,null,null,null,null,null,null,null,"Tribunales",2.5,0.3,70,null,"Laundry-washing",6,null,"Sala de medicación",2,4,"30 - 60",null,null,null,null,null,null,null,null,null,"IX","Melipeuco","IX - Región de Araucanía",null,null,null,null,null,null,null,null,null,null,null,null,null,null,null,null,null,null,null,null,null,null,"Recinto 55",{"$f":"+IFERROR(VLOOKUP('Datos Generales Edificio'!#REF!,$BO$5:$BP$32,2,FALSE),\"\")","v":""},{"$f":"+IF('Datos Generales Edificio'!#REF!<>\"\",'Datos Generales Edificio'!#REF!,\"\")","v":{"$error":"#REF!"}},0,{"$f":"+'Datos Generales Edificio'!#REF!","v":{"$error":"#REF!"}},"",{"$f":"+IF('Datos Generales Edificio'!#REF!<>\"\",'Datos Generales Edificio'!#REF!,\"\")","v":{"$error":"#REF!"}},0,{"$f":"+'Datos Generales Edificio'!#REF!","v":{"$error":"#REF!"}},"",{"$f":"IF('Datos Generales Edificio'!#REF!<>\"\",'Datos Generales Edificio'!#REF!,\"\")","v":{"$error":"#REF!"}},0,{"$f":"+'Datos Generales Edificio'!#REF!","v":{"$error":"#REF!"}},"",{"$f":"IF('Datos Generales Edificio'!#REF!<>\"\",'Datos Generales Edificio'!#REF!,\"\")","v":{"$error":"#REF!"}},0,{"$f":"+'Datos Generales Edificio'!#REF!","v":{"$error":"#REF!"}},"",{"$f":"IF('Datos Generales Edificio'!#REF!<>\"\",'Datos Generales Edificio'!#REF!,\"\")","v":{"$error":"#REF!"}},0,{"$f":"+'Datos Generales Edificio'!#REF!","v":{"$error":"#REF!"}},"",0,0,0,"",null,null,null,null,null,null,null,null,null,"Y","Terreno abierto",17,"30a",30]
[null,"No Aplica","Sistema con recuperación de calor",null,null,null,null,null,null,null,null,null,null,null,null,null,null,null,null,null,null,null,null,"Cámaras legislativas",2.5,0.3,50,null,"Exercise area",10,null,"Sala de tratamiento",2,6,"30 - 60",null,null,null,null,null,null,null,null,null,"IX","Nueva Imperial","IX - Región de Araucanía",null,null,null,null,null,null,null,null,null,null,null,null,null,null,null,null,null,null,null,null,null,null,"Recinto 56",{"$f":"+IFERROR(VLOOKUP('Datos Generales Edificio'!#REF!,$BO$5:$BP$32,2,FALSE),\"\")","v":""},{"$f":"+IF('Datos Generales Edificio'!#REF!<>\"\",'Datos Generales Edificio'!#REF!,\"\")","v":{"$error":"#REF!"}},0,{"$f":"+'Datos Generales Edificio'!#REF!","v":{"$error":"#REF!"}},"",{"$f":"+IF('Datos Generales Edificio'!#REF!<>\"\",'Datos Generales Edificio'!#REF!,\"\")","v":{"$error":"#REF!"}},0,{"$f":"+'Datos Generales Edificio'!#REF!","v":{"$error":"#REF!"}},"",{"$f":"IF('Datos Generales Edificio'!#REF!<>\"\",'Datos Generales Edificio'!#REF!,\"\")","v":{"$error":"#REF!"}},0,{"$f":"+'Datos Generales Edificio'!#REF!","v":{"$error":"#REF!"}},"",{"$f":"IF('Datos Generales Edificio'!#REF!<>\"\",'Datos Generales Edificio'!#REF!,\"\")","v":{"$error":"#REF!"}},0,{"$f":"+'Datos Generales Edificio'!#REF!","v":{"$error":"#REF!"}},"",{"$f":"IF('Datos Generales Edificio'!#REF!<>\"\",'Datos Generales Edificio'!#REF!,\"\")","v":{"$error":"#REF!"}},0,{"$f":"+'Datos Generales Edificio'!#REF!","v":{"$error":"#REF!"}},"",0,0,0,"",null,null,null,null,null,null,null,null,null,"Y","Terreno abierto",18,"30a",30]
[null,null,null,null,null,null,null,null,null,null,null,null,null,null,null,null,null,null,null,null,null,null,null,"Librerías",2.5,0.6,10,null,"Classroom/lecture/training",15,null,"Terapia física y hidroterapia",2,6,"30 - 60",null,null,null,null,null,null,null,null,null,"IX","Padre Las Casas","IX - Región de Araucanía",null,null,null,null,null,null,null,null,null,null,null,null,null,null,null,null,null,null,null,null,null,null,"Recinto 57",{"$f":"+IFERROR(VLOOKUP('Datos Generales Edificio'!#REF!,$BO$5:$BP$32,2,FALSE),\"\")","v":""},{"$f":"+IF('Datos Generales Edificio'!#REF!<>\"\",'Datos Generales Edificio'!#REF!,\"\")","v":{"$error":"#REF!"}},0,{"$f":"+'Datos Generales Edificio'!#REF!","v":{"$error":"#REF!"}},"",{"$f":"+IF('Datos Generales Edificio'!#REF!<>\"\",'Datos Generales Edificio'!#REF!,\"\")","v":{"$error":"#REF!"}},0,{"$f":"+'Datos Generales Edificio'!#REF!","v":{"$error":"#REF!"}},"",{"$f":"IF('Datos Generales Edificio'!#REF!<>\"\",'Datos Generales Edificio'!#REF!,\"\")","v":{"$error":"#REF!"}},0,{"$f":"+'Datos Generales Edificio'!#REF!","v":{"$error":"#REF!"}},"",{"$f":"IF('Datos Generales Edificio'!#REF!<>\"\",'Datos Generales Edificio'!#REF!,\"\")","v":{"$error":"#REF!"}},0,{"$f":"+'Datos Generales Edificio'!#REF!","v":{"$error":"#REF!"}},"",{"$f":"IF('Datos Generales Edificio'!#REF!<>\"\",'Datos Generales Edificio'!#REF!,\"\")","v":{"$error":"#REF!"}},0,{"$f":"+'Datos Generales Edificio'!#REF!","v":{"$error":"#REF!"}},"",0,0,0,"",null,null,null,null,null,null,null,null,null,"Y","Terreno abierto",19,"30a",30]
[null,null,"Calefacción por combustión",null,null,null,null,null,null,null,null,null,null,null,null,null,null,null,null,null,null,null,null,"Lobbies",2.5,0.3,150,null,"Laboratory",15,null,"Sala de trabajo sucio y tenencia sucia",2,10,"30 - 60",null,null,null,null,null,null,null,null,null,"IX","Perquenco","IX - Región de Araucanía",null,null,null,null,null,null,null,null,null,null,null,null,null,null,null,null,null,null,null,null,null,null,"Recinto 58",{"$f":"+IFERROR(VLOOKUP('Datos Generales Edificio'!#REF!,$BO$5:$BP$32,2,FALSE),\"\")","v":""},{"$f":"+IF('Datos Generales Edificio'!#REF!<>\"\",'Datos Generales Edificio'!#REF!,\"\")","v":{"$error":"#REF!"}},0,{"$f":"+'Datos Generales Edificio'!#REF!","v":{"$error":"#REF!"}},"",{"$f":"+IF('Datos Generales Edificio'!#REF!<>\"\",'Datos Generales Edificio'!#REF!,\"\")","v":{"$error":"#REF!"}},0,{"$f":"+'Datos Generales Edificio'!#REF!","v":{"$error":"#REF!"}},"",{"$f":"IF('Datos Generales Edificio'!#REF!<>\"\",'Datos Generales Edificio'!#REF!,\"\")","v":{"$error":"#REF!"}},0,{"$f":"+'Datos Generales Edificio'!#REF!","v":{"$error":"#REF!"}},"",{"$f":"IF('Datos Generales Edificio'!#REF!<>\"\",'Datos Generales Edificio'!#REF!,\"\")","v":{"$error":"#REF!"}},0,{"$f":"+'Datos Generales Edificio'!#REF!","v":{"$error":"#REF!"}},"",{"$f":"IF('Datos Generales Edificio'!#REF!<>\"\",'Datos Generales Edificio'!#REF!,\"\")","v":{"$error":"#REF!"}},0,{"$f":"+'Datos Generales Edificio'!#REF!","v":{"$error":"#REF!"}},"",0,0,0,"",null,null,null,null,null,null,null,null,null,"Y","Terreno abierto",20,"30a",30]
[null,null,"Otros",null,null,null,null,null,null,null,null,null,null,null,null,null,null,null,null,null,null,null,null,"Museos (Niños)",3.8,0.6,40,null,"Workshop",20,null,"Sala de trabajo limpio y tenencia limpia",2,4,"-",null,null,null,null,null,null,null,null,null,"IX","Pitrufquén","IX - Región de Araucanía",null,null,null,null,null,null,null,null,null,null,null,null,null,null,null,null,null,null,null,null,null,null,"Recinto 59",{"$f":"+IFERROR(VLOOKUP('Datos Generales Edificio'!#REF!,$BO$5:$BP$32,2,FALSE),\"\")","v":""},{"$f":"+IF('Datos Generales Edificio'!#REF!<>\"\",'Datos Generales Edificio'!#REF!,\"\")","v":{"$error":"#REF!"}},0,{"$f":"+'Datos Generales Edificio'!#REF!","v":{"$error":"#REF!"}},"",{"$f":"+IF('Datos Generales Edificio'!#REF!<>\"\",'Datos Generales Edificio'!#REF!,\"\")","v":{"$error":"#REF!"}},0,{"$f":"+'Datos Generales Edificio'!#REF!","v":{"$error":"#REF!"}},"",{"$f":"IF('Datos Generales Edificio'!#REF!<>\"\",'Datos Generales Edificio'!#REF!,\"\")","v":{"$error":"#REF!"}},0,{"$f":"+'Datos Generales Edificio'!#REF!","v":{"$error":"#REF!"}},"",{"$f":"IF('Datos Generales Edificio'!#REF!<>\"\",'Datos Generales Edificio'!#REF!,\"\")","v":{"$error":"#REF!"}},0,{"$f":"+'Datos Generales Edificio'!#REF!","v":{"$error":"#REF!"}},"",{"$f":"IF('Datos Generales Edificio'!#REF!<>\"\",'Datos Generales Edificio'!#REF!,\"\")","v":{"$error":"#REF!"}},0,{"$f":"+'Datos Generales Edificio'!#REF!","v":{"$error":"#REF!"}},"",0,0,0,"",null,null,null,null,null,null,null,null,null,"Y","Ciudades",1,"SC",0]
[null,null,null,null,null,null,null,null,null,null,null,null,null,null,null,null,null,null,null,null,null,null,null,"Museo (Galería)",3.8,0.3,40,null,"Conference/meeting/multipurpose",14,null,"ESTERILIZACIÓN Y SUMINISTRO",null,null,null,null,null,null,null,null,null,null,null,null,"IX","Pucón","IX - Región de Araucanía",null,null,null,null,null,null,null,null,null,null,null,null,null,null,null,null,null,null,null,null,null,null,"Recinto 60",{"$f":"+IFERROR(VLOOKUP('Datos Generales Edificio'!#REF!,$BO$5:$BP$32,2,FALSE),\"\")","v":""},{"$f":"+IF('Datos Generales Edificio'!#REF!<>\"\",'Datos Generales Edificio'!#REF!,\"\")","v":{"$error":"#REF!"}},0,{"$f":"+'Datos Generales Edificio'!#REF!","v":{"$error":"#REF!"}},"",{"$f":"+IF('Datos Generales Edificio'!#REF!<>\"\",'Datos Generales Edificio'!#REF!,\"\")","v":{"$error":"#REF!"}},0,{"$f":"+'Datos Generales Edificio'!#REF!","v":{"$error":"#REF!"}},"",{"$f":"IF('Datos Generales Edificio'!#REF!<>\"\",'Datos Generales Edificio'!#REF!,\"\")","v":{"$error":"#REF!"}},0,{"$f":"+'Datos Generales Edificio'!#REF!","v":{"$error":"#REF!"}},"",{"$f":"IF('Datos Generales Edificio'!#REF!<>\"\",'Datos Generales Edificio'!#REF!,\"\")","v":{"$error":"#REF!"}},0,{"$f":"+'Datos Generales Edificio'!#REF!","v":{"$error":"#REF!"}},"",{"$f":"IF('Datos Generales Edificio'!#REF!<>\"\",'Datos Generales Edificio'!#REF!,\"\")","v":{"$error":"#REF!"}},0,{"$f":"+'Datos Generales Edificio'!#REF!","v":{"$error":"#REF!"}},"",0,0,0,"",null,null,null,null,null,null,null,null,null,"Y","Ciudades",2,"SC",0]
[null,null,null,null,null,null,null,null,null,null,null,null,null,null,null,null,null,null,null,null,null,null,null,"Residencial",null,null,null,null,"Confinement cells",10,null,"ETO - Sala de esterilización","-",10,"-",null,null,null,null,null,null,null,null,null,"IX","Purén","IX - Región de Araucanía",null,null,null,null,null,null,null,null,null,null,null,null,null,null,null,null,null,null,null,null,null,null,"Recinto 61",{"$f":"+IFERROR(VLOOKUP('Datos Generales Edificio'!#REF!,$BO$5:$BP$32,2,FALSE),\"\")","v":""},{"$f":"+IF('Datos Generales Edificio'!#REF!<>\"\",'Datos Generales Edificio'!#REF!,\"\")","v":{"$error":"#REF!"}},0,{"$f":"+'Datos Generales Edificio'!#REF!","v":{"$error":"#REF!"}},"",{"$f":"+IF('Datos Generales Edificio'!#REF!<>\"\",'Datos Generales Edificio'!#REF!,\"\")","v":{"$error":"#REF!"}},0,{"$f":"+'Datos Generales Edificio'!#REF!","v":{"$error":"#REF!"}},"",{"$f":"IF('Datos Generales Edificio'!#REF!<>\"\",'Datos Generales Edificio'!#REF!,\"\")","v":{"$error":"#REF!"}},0,{"$f":"+'Datos Generales Edificio'!#REF!","v":{"$error":"#REF!"}},"",{"$f":"IF('Datos Generales Edificio'!#REF!<>\"\",'Datos Generales Edificio'!#REF!,\"\")","v":{"$error":"#REF!"}},0,{"$f":"+'Datos Generales Edificio'!#REF!","v":{"$error":"#REF!"}},"",{"$f":"IF('Datos Generales Edificio'!#REF!<>\"\",'Datos Generales Edificio'!#REF!,\"\")","v":{"$error":"#REF!"}},0,{"$f":"+'Datos Generales Edificio'!#REF!","v":{"$error":"#REF!"}},"",0,0,0,"",null,null,null,null,null,null,null,null,null,"Y","Ciudades",3,"SC",0]
[null,null,null,null,null,null,null,null,null,null,null,null,null,null,null,null,null,null,null,null,null,null,null,"Unidad de vivienda",2.5,0.3,"-",null,"Emergency",29,null,"Sala de equipamiento de esterilización","-",10,"-",null,null,null,null,null,null,null,null,null,"IX","Renaico","IX - Región de Araucanía",null,null,null,null,null,null,null,null,null,null,null,null,null,null,null,null,null,null,null,null,null,null,"Recinto 62",{"$f":"+IFERROR(VLOOKUP('Datos Generales Edificio'!#REF!,$BO$5:$BP$32,2,FALSE),\"\")","v":""},{"$f":"+IF('Datos Generales Edificio'!#REF!<>\"\",'Datos Generales Edificio'!#REF!,\"\")","v":{"$error":"#REF!"}},0,{"$f":"+'Datos Generales Edificio'!#REF!","v":{"$error":"#REF!"}},"",{"$f":"+IF('Datos Generales Edificio'!#REF!<>\"\",'Datos Generales Edificio'!#REF!,\"\")","v":{"$error":"#REF!"}},0,{"$f":"+'Datos Generales Edificio'!#REF!","v":{"$error":"#REF!"}},"",{"$f":"IF('Datos Generales Edificio'!#REF!<>\"\",'Datos Generales Edificio'!#REF!,\"\")","v":{"$error":"#REF!"}},0,{"$f":"+'Datos Generales Edificio'!#REF!","v":{"$error":"#REF!"}},"",{"$f":"IF('Datos Generales Edificio'!#REF!<>\"\",'Datos Generales Edificio'!#REF!,\"\")","v":{"$error":"#REF!"}},0,{"$f":"+'Datos Generales Edificio'!#REF!","v":{"$error":"#REF!"}},"",{"$f":"IF('Datos Generales Edificio'!#REF!<>\"\",'Datos Generales Edificio'!#REF!,\"\")","v":{"$error":"#REF!"}},0,{"$f":"+'Datos Generales Edificio'!#REF!","v":{"$error":"#REF!"}},"",0,0,0,"",null,null,null,null,null,null,null,null,null,"Y","Ciudades",4,"SC",0]
[null,null,null,null,null,null,null,null,null,null,null,null,null,null,null,null,null,null,null,null,null,null,null,"Pasillos comunes","-",0.3,"-",null,"Conference/meeting/multipurpose",14,null,"Centro médico y suministro quirúrgico",null,null,null,null,null,null,null,null,null,null,null,null,"IX","Saavedra","IX - Región de Araucanía",null,null,null,null,null,null,null,null,null,null,null,null,null,null,null,null,null,null,null,null,null,null,"Recinto 63",{"$f":"+IFERROR(VLOOKUP('Datos Generales Edificio'!#REF!,$BO$5:$BP$32,2,FALSE),\"\")","v":""},{"$f":"+IF('Datos Generales Edificio'!#REF!<>\"\",'Datos Generales Edificio'!#REF!,\"\")","v":{"$error":"#REF!"}},0,{"$f":"+'Datos Generales Edificio'!#REF!","v":{"$error":"#REF!"}},"",{"$f":"+IF('Datos Generales Edificio'!#REF!<>\"\",'Datos Generales Edificio'!#REF!,\"\")","v":{"$error":"#REF!"}},0,{"$f":"+'Datos Generales Edificio'!#REF!","v":{"$error":"#REF!"}},"",{"$f":"IF('Datos Generales Edificio'!#REF!<>\"\",'Datos Generales Edificio'!#REF!,\"\")","v":{"$error":"#REF!"}},0,{"$f":"+'Datos Generales Edificio'!#REF!","v":{"$error":"#REF!"}},"",{"$f":"IF('Datos Generales Edificio'!#REF!<>\"\",'Datos Generales Edificio'!#REF!,\"\")","v":{"$error":"#REF!"}},0,{"$f":"+'Datos Generales Edificio'!#REF!","v":{"$error":"#REF!"}},"",{"$f":"IF('Datos Generales Edificio'!#REF!<>\"\",'Datos Generales Edificio'!#REF!,\"\")","v":{"$error":"#REF!"}},0,{"$f":"+'Datos Generales Edificio'!#REF!","v":{"$error":"#REF!"}},"",0,0,0,"",null,null,null,null,null,null,null,null,null,"Y","Ciudades",5,"SC",0]
[null,null,null,null,null,null,null,null,null,null,null,null,null,null,null,null,null,null,null,null,null,null,null,"Retail",null,null,null,null,"Electrical/mechanical",16,null,"Sala sucia o de descontaminación",2,6,"-",null,null,null,null,null,null,null,null,null,"IX","Temuco","IX - Región de Araucanía",null,null,null,null,null,null,null,null,null,null,null,null,null,null,null,null,null,null,null,null,null,null,"Recinto 64",{"$f":"+IFERROR(VLOOKUP('Datos Generales Edificio'!#REF!,$BO$5:$BP$32,2,FALSE),\"\")","v":""},{"$f":"+IF('Datos Generales Edificio'!#REF!<>\"\",'Datos Generales Edificio'!#REF!,\"\")","v":{"$error":"#REF!"}},0,{"$f":"+'Datos Generales Edificio'!#REF!","v":{"$error":"#REF!"}},"",{"$f":"+IF('Datos Generales Edificio'!#REF!<>\"\",'Datos Generales Edificio'!#REF!,\"\")","v":{"$error":"#REF!"}},0,{"$f":"+'Datos Generales Edificio'!#REF!","v":{"$error":"#REF!"}},"",{"$f":"IF('Datos Generales Edificio'!#REF!<>\"\",'Datos Generales Edificio'!#REF!,\"\")","v":{"$error":"#REF!"}},0,{"$f":"+'Datos Generales Edificio'!#REF!","v":{"$error":"#REF!"}},"",{"$f":"IF('Datos Generales Edificio'!#REF!<>\"\",'Datos Generales Edificio'!#REF!,\"\")","v":{"$error":"#REF!"}},0,{"$f":"+'Datos Generales Edificio'!#REF!","v":{"$error":"#REF!"}},"",{"$f":"IF('Datos Generales Edificio'!#REF!<>\"\",'Datos Generales Edificio'!#REF!,\"\")","v":{"$error":"#REF!"}},0,{"$f":"+'Datos Generales Edificio'!#REF!","v":{"$error":"#REF!"}},"",0,0,0,"",null,null,null,null,null,null,null,null,null,"Y","Ciudades",6,"60a",{"$f":"+VALUE(IF(DD69=\"SC\",0,MID(DD69,1,2)))","v":60}]
[null,"Caldera estándar (encendido por piloto)",0.55000000000000004,null,"Rendimiento_Calefaccion",{"$f":"+VLOOKUP('Datos Generales Edificio'!$F$51,Tablas2!$B$70:$C$78,2,FALSE)","v":0.77},null,null,null,null,null,null,null,null,null,null,null,null,null,null,null,null,null,"Sala de ventas (Excepto en subterráneo)",3.8,0.6,15,null,"Exam/treatment",16,null,"Sala de trabajo limpia",2,4,"-",null,null,null,null,null,null,null,null,null,"IX","Teodoro Schmidt","IX - Región de Araucanía",null,null,null,null,null,null,null,null,null,null,null,null,null,null,null,null,null,null,null,null,null,null,"Recinto 65",{"$f":"+IFERROR(VLOOKUP('Datos Generales Edificio'!#REF!,$BO$5:$BP$32,2,FALSE),\"\")","v":""},{"$f":"+IF('Datos Generales Edificio'!#REF!<>\"\",'Datos Generales Edificio'!#REF!,\"\")","v":{"$error":"#REF!"}},0,{"$f":"+'Datos Generales Edificio'!#REF!","v":{"$error":"#REF!"}},"",{"$f":"+IF('Datos Generales Edificio'!#REF!<>\"\",'Datos Generales Edificio'!#REF!,\"\")","v":{"$error":"#REF!"}},0,{"$f":"+'Datos Generales Edificio'!#REF!","v":{"$error":"#REF!"}},"",{"$f":"IF('Datos Generales Edificio'!#REF!<>\"\",'Datos Generales Edificio'!#REF!,\"\")","v":{"$error":"#REF!"}},0,{"$f":"+'Datos Generales Edificio'!#REF!","v":{"$error":"#REF!"}},"",{"$f":"IF('Datos Generales Edificio'!#REF!<>\"\",'Datos Generales Edificio'!#REF!,\"\")","v":{"$error":"#REF!"}},0,{"$f":"+'Datos Generales Edificio'!#REF!","v":{"$error":"#REF!"}},"",{"$f":"IF('Datos Generales Edificio'!#REF!<>\"\",'Datos Generales Edificio'!#REF!,\"\")","v":{"$error":"#REF!"}},0,{"$f":"+'Datos Generales Edificio'!#REF!","v":{"$error":"#REF!"}},"",0,0,0,"",null,null,null,null,null,null,null,null,null,"Y","Ciudades",7,"60a",60]
[null,"Caldera de eficiencia media (encendido por chispa)",0.65,null,"Rendimiento_Refrigeracion",{"$f":"+VLOOKUP('Datos Generales Edificio'!$F$52,Tablas2!$B$80:$C$89,2,FALSE)","v":5},null,null,null,null,null,null,null,null,null,null,null,null,null,null,null,null,null,"Áreas comunes de un Mall",3.8,0.3,40,null,"Dormitory-living quarters",12,null,"Almacenamiento estéril",2,4,"-",null,null,null,null,null,null,null,null,null,"IX","Toltén","IX - Región de Araucanía",null,null,null,null,null,null,null,null,null,null,null,null,null,null,null,null,null,null,null,null,null,null,"Recinto 66",{"$f":"+IFERROR(VLOOKUP('Datos Generales Edificio'!#REF!,$BO$5:$BP$32,2,FALSE),\"\")","v":""},{"$f":"+IF('Datos Generales Edificio'!#REF!<>\"\",'Datos Generales Edificio'!#REF!,\"\")","v":{"$error":"#REF!"}},{"$f":"+SUMIFS($BM$5:$BM$29,$BK$5:$BK$29,VLOOKUP($BR71,$BR$6:$BS$105,2,FALSE),$BL$5:$BL$29,VLOOKUP(BT71,$BR$6:$BS$105,2,FALSE))","v":0},{"$f":"+'Datos Generales Edificio'!#REF!","v":{"$error":"#REF!"}},{"$f":"+IF(BU71>0,IF(BV71>=(BU71+5),\"Muy Bueno\",IF(AND(BV71>=BU71,BV71<(BU71+5)),\"Bueno\",\"No cumple\")),\"\")","v":""},{"$f":"+IF('Datos Generales Edificio'!#REF!<>\"\",'Datos Generales Edificio'!#REF!,\"\")","v":{"$error":"#REF!"}},{"$f":"+SUMIFS($BM$5:$BM$29,$BK$5:$BK$29,VLOOKUP($BR71,$BR$6:$BS$105,2,FALSE),$BL$5:$BL$29,VLOOKUP(BX71,$BR$6:$BS$105,2,FALSE))","v":0},{"$f":"+'Datos Generales Edificio'!#REF!","v":{"$error":"#REF!"}},{"$f":"+IF(BY71>0,IF(BZ71>=(BY71+5),\"Muy Bueno\",IF(AND(BZ71>=BY71,BZ71<(BY71+5)),\"Bueno\",\"No cumple\")),\"\")","v":""},{"$f":"IF('Datos Generales Edificio'!#REF!<>\"\",'Datos Generales Edificio'!#REF!,\"\")","v":{"$error":"#REF!"}},{"$f":"+SUMIFS($BM$5:$BM$29,$BK$5:$BK$29,VLOOKUP($BR71,$BR$6:$BS$105,2,FALSE),$BL$5:$BL$29,VLOOKUP(CB71,$BR$6:$BS$105,2,FALSE))","v":0},{"$f":"+'Datos Generales Edificio'!#REF!","v":{"$error":"#REF!"}},{"$f":"+IF(CC71>0,IF(CD71>=(CC71+5),\"Muy Bueno\",IF(AND(CD71>=CC71,CD71<(CC71+5)),\"Bueno\",\"No cumple\")),\"\")","v":""},{"$f":"IF('Datos Generales Edificio'!#REF!<>\"\",'Datos Generales Edificio'!#REF!,\"\")","v":{"$error":"#REF!"}},{"$f":"+SUMIFS($BM$5:$BM$29,$BK$5:$BK$29,VLOOKUP($BR71,$BR$6:$BS$105,2,FALSE),$BL$5:$BL$29,VLOOKUP(CF71,$BR$6:$BS$105,2,FALSE))","v":0},{"$f":"+'Datos Generales Edificio'!#REF!","v":{"$error":"#REF!"}},{"$f":"+IF(CG71>0,IF(CH71>=(CG71+5),\"Muy Bueno\",IF(AND(CH71>=CG71,CH71<(CG71+5)),\"Bueno\",\"No cumple\")),\"\")","v":""},{"$f":"IF('Datos Generales Edificio'!#REF!<>\"\",'Datos Generales Edificio'!#REF!,\"\")","v":{"$error":"#REF!"}},{"$f":"+SUMIFS($BM$5:$BM$29,$BK$5:$BK$29,VLOOKUP($BR71,$BR$6:$BS$105,2,FALSE),$BL$5:$BL$29,VLOOKUP(CJ71,$BR$6:$BS$105,2,FALSE))","v":0},{"$f":"+'Datos Generales Edificio'!#REF!","v":{"$error":"#REF!"}},{"$f":"+IF(CK71>0,IF(CL71>=(CK71+5),\"Muy Bueno\",IF(AND(CL71>=CK71,CL71<(CK71+5)),\"Bueno\",\"No cumple\")),\"\")","v":""},{"$f":"+COUNTIF(BS71:CM71,\"Muy Bueno\")","v":0},{"$f":"+COUNTIF(BS71:CM71,\"Bueno\")","v":0},{"$f":"+COUNTIF(BS71:CM71,\"No Cumple\")","v":0},{"$f":"+IF(SUM(CN71:CP71)>0,IF(CP71>0,\"No Cumple\",IF(CO71>0,\"Bueno\",\"Muy Bueno\")),\"\")","v":""},null,null,null,null,null,null,null,null,null,"Y","Ciudades",8,"60a",60]
[null,"Caldera de condensación o de alta eficiencia",0.95,null,null,null,null,null,null,null,null,null,null,null,null,null,null,null,null,null,null,null,null,"Barbería",3.8,0.3,25,null,"Lobby",14,null,"SERVICIO",null,null,null,null,null,null,null,null,null,null,null,null,"IX","Traiguén","IX - Región de Araucanía",null,null,null,null,null,null,null,null,null,null,null,null,null,null,null,null,null,null,null,null,null,null,"Recinto 67",{"$f":"+IFERROR(VLOOKUP('Datos Generales Edificio'!#REF!,$BO$5:$BP$32,2,FALSE),\"\")","v":""},{"$f":"+IF('Datos Generales Edificio'!#REF!<>\"\",'Datos Generales Edificio'!#REF!,\"\")","v":{"$error":"#REF!"}},0,{"$f":"+'Datos Generales Edificio'!#REF!","v":{"$error":"#REF!"}},"",{"$f":"+IF('Datos Generales Edificio'!#REF!<>\"\",'Datos Generales Edificio'!#REF!,\"\")","v":{"$error":"#REF!"}},0,{"$f":"+'Datos Generales Edificio'!#REF!","v":{"$error":"#REF!"}},"",{"$f":"IF('Datos Generales Edificio'!#REF!<>\"\",'Datos Generales Edificio'!#REF!,\"\")","v":{"$error":"#REF!"}},0,{"$f":"+'Datos Generales Edificio'!#REF!","v":{"$error":"#REF!"}},"",{"$f":"IF('Datos Generales Edificio'!#REF!<>\"\",'Datos Generales Edificio'!#REF!,\"\")","v":{"$error":"#REF!"}},0,{"$f":"+'Datos Generales Edificio'!#REF!","v":{"$error":"#REF!"}},"",{"$f":"IF('Datos Generales Edificio'!#REF!<>\"\",'Datos Generales Edificio'!#REF!,\"\")","v":{"$error":"#REF!"}},0,{"$f":"+'Datos Generales Edificio'!#REF!","v":{"$error":"#REF!"}},"",0,0,0,"",null,null,null,null,null,null,null,null,null,"Y","Ciudades",9,"60a",60]
[null,"Caldera Petróleo",0.77,null,null,null,null,null,null,null,null,null,null,null,null,null,null,null,null,null,null,null,null,"Salón de belleza",10,0.6,25,null,"Estacionamiento",2,null,"Centro de preparación de alimentos",2,10,"-",null,null,null,null,null,null,null,null,null,"IX","Victoria","IX - Región de Araucanía",null,null,null,null,null,null,null,null,null,null,null,null,null,null,null,null,null,null,null,null,null,null,"Recinto 68",{"$f":"+IFERROR(VLOOKUP('Datos Generales Edificio'!#REF!,$BO$5:$BP$32,2,FALSE),\"\")","v":""},{"$f":"+IF('Datos Generales Edificio'!#REF!<>\"\",'Datos Generales Edificio'!#REF!,\"\")","v":{"$error":"#REF!"}},0,{"$f":"+'Datos Generales Edificio'!#REF!","v":{"$error":"#REF!"}},"",{"$f":"+IF('Datos Generales Edificio'!#REF!<>\"\",'Datos Generales Edificio'!#REF!,\"\")","v":{"$error":"#REF!"}},0,{"$f":"+'Datos Generales Edificio'!#REF!","v":{"$error":"#REF!"}},"",{"$f":"IF('Datos Generales Edificio'!#REF!<>\"\",'Datos Generales Edificio'!#REF!,\"\")","v":{"$error":"#REF!"}},0,{"$f":"+'Datos Generales Edificio'!#REF!","v":{"$error":"#REF!"}},"",{"$f":"IF('Datos Generales Edificio'!#REF!<>\"\",'Datos Generales Edificio'!#REF!,\"\")","v":{"$error":"#REF!"}},0,{"$f":"+'Datos Generales Edificio'!#REF!","v":{"$error":"#REF!"}},"",{"$f":"IF('Datos Generales Edificio'!#REF!<>\"\",'Datos Generales Edificio'!#REF!,\"\")","v":{"$error":"#REF!"}},0,{"$f":"+'Datos Generales Edificio'!#REF!","v":{"$error":"#REF!"}},"",0,0,0,"",null,null,null,null,null,null,null,null,null,"Y","Ciudades",10,"60a",60]
[null,"Caldera a Leña",0.54,null,null,null,null,null,null,null,null,null,null,null,null,null,null,null,null,null,null,null,null,"Tienda de animales (Área de animales)",3.8,0.9,10,null,"Escaleras",6,null,"Lavado y desinfección","-",10,"-",null,null,null,null,null,null,null,null,null,"IX","Vilcún","IX - Región de Araucanía",null,null,null,null,null,null,null,null,null,null,null,null,null,null,null,null,null,null,null,null,null,null,"Recinto 69",{"$f":"+IFERROR(VLOOKUP('Datos Generales Edificio'!#REF!,$BO$5:$BP$32,2,FALSE),\"\")","v":""},{"$f":"+IF('Datos Generales Edificio'!#REF!<>\"\",'Datos Generales Edificio'!#REF!,\"\")","v":{"$error":"#REF!"}},0,{"$f":"+'Datos Generales Edificio'!#REF!","v":{"$error":"#REF!"}},"",{"$f":"+IF('Datos Generales Edificio'!#REF!<>\"\",'Datos Generales Edificio'!#REF!,\"\")","v":{"$error":"#REF!"}},0,{"$f":"+'Datos Generales Edificio'!#REF!","v":{"$error":"#REF!"}},"",{"$f":"IF('Datos Generales Edificio'!#REF!<>\"\",'Datos Generales Edificio'!#REF!,\"\")","v":{"$error":"#REF!"}},0,{"$f":"+'Datos Generales Edificio'!#REF!","v":{"$error":"#REF!"}},"",{"$f":"IF('Datos Generales Edificio'!#REF!<>\"\",'Datos Generales Edificio'!#REF!,\"\")","v":{"$error":"#REF!"}},0,{"$f":"+'Datos Generales Edificio'!#REF!","v":{"$error":"#REF!"}},"",{"$f":"IF('Datos Generales Edificio'!#REF!<>\"\",'Datos Generales Edificio'!#REF!,\"\")","v":{"$error":"#REF!"}},0,{"$f":"+'Datos Generales Edificio'!#REF!","v":{"$error":"#REF!"}},"",0,0,0,"",null,null,null,null,null,null,null,null,null,"Y","Ciudades",11,"60a",60]
[null,"Caldera a Pellet",0.63,null,null,null,null,null,null,null,null,null,null,null,null,null,null,null,null,null,null,null,null,"Supermercado",3.8,0.3,8,null,"Pasillos",5,null,null,"Mínimo de recambio de aire exterior por hora","Mínimo del recambio de aire total por persona","Humedad relativa        (%)",null,null,null,null,null,null,null,null,null,"IX","Villarrica","IX - Región de Araucanía",null,null,null,null,null,null,null,null,null,null,null,null,null,null,null,null,null,null,null,null,null,null,"Recinto 70",{"$f":"+IFERROR(VLOOKUP('Datos Generales Edificio'!#REF!,$BO$5:$BP$32,2,FALSE),\"\")","v":""},{"$f":"+IF('Datos Generales Edificio'!#REF!<>\"\",'Datos Generales Edificio'!#REF!,\"\")","v":{"$error":"#REF!"}},0,{"$f":"+'Datos Generales Edificio'!#REF!","v":{"$error":"#REF!"}},"",{"$f":"+IF('Datos Generales Edificio'!#REF!<>\"\",'Datos Generales Edificio'!#REF!,\"\")","v":{"$error":"#REF!"}},0,{"$f":"+'Datos Generales Edificio'!#REF!","v":{"$error":"#REF!"}},"",{"$f":"IF('Datos Generales Edificio'!#REF!<>\"\",'Datos Generales Edificio'!#REF!,\"\")","v":{"$error":"#REF!"}},0,{"$f":"+'Datos Generales Edificio'!#REF!","v":{"$error":"#REF!"}},"",{"$f":"IF('Datos Generales Edificio'!#REF!<>\"\",'Datos Generales Edificio'!#REF!,\"\")","v":{"$error":"#REF!"}},0,{"$f":"+'Datos Generales Edificio'!#REF!","v":{"$error":"#REF!"}},"",{"$f":"IF('Datos Generales Edificio'!#REF!<>\"\",'Datos Generales Edificio'!#REF!,\"\")","v":{"$error":"#REF!"}},0,{"$f":"+'Datos Generales Edificio'!#REF!","v":{"$error":"#REF!"}},"",0,0,0,"",null,null,null,null,null,null,null,null,null,"Y","Ciudades",12,"60a",60]
[null,"Resistencia Eléctrica",1,null,null,null,null,null,null,null,null,null,null,null,null,null,null,null,null,null,null,null,null,"Lavandería común",3.8,0.3,20,null,"Hall",14,null,"(Continuación)",null,null,null,null,null,null,null,null,null,null,null,null,"RM","Alhué","RM - Región Metropolitana de Santiago",null,null,null,null,null,null,null,null,null,null,null,null,null,null,null,null,null,null,null,null,null,null,"Recinto 71",{"$f":"+IFERROR(VLOOKUP('Datos Generales Edificio'!#REF!,$BO$5:$BP$32,2,FALSE),\"\")","v":""},{"$f":"+IF('Datos Generales Edificio'!#REF!<>\"\",'Datos Generales Edificio'!#REF!,\"\")","v":{"$error":"#REF!"}},0,{"$f":"+'Datos Generales Edificio'!#REF!","v":{"$error":"#REF!"}},"",{"$f":"+IF('Datos Generales Edificio'!#REF!<>\"\",'Datos Generales Edificio'!#REF!,\"\")","v":{"$error":"#REF!"}},0,{"$f":"+'Datos Generales Edificio'!#REF!","v":{"$error":"#REF!"}},"",{"$f":"IF('Datos Generales Edificio'!#REF!<>\"\",'Datos Generales Edificio'!#REF!,\"\")","v":{"$error":"#REF!"}},0,{"$f":"+'Datos Generales Edificio'!#REF!","v":{"$error":"#REF!"}},"",{"$f":"IF('Datos Generales Edificio'!#REF!<>\"\",'Datos Generales Edificio'!#REF!,\"\")","v":{"$error":"#REF!"}},0,{"$f":"+'Datos Generales Edificio'!#REF!","v":{"$error":"#REF!"}},"",{"$f":"IF('Datos Generales Edificio'!#REF!<>\"\",'Datos Generales Edificio'!#REF!,\"\")","v":{"$error":"#REF!"}},0,{"$f":"+'Datos Generales Edificio'!#REF!","v":{"$error":"#REF!"}},"",0,0,0,"",null,null,null,null,null,null,null,null,null,"Y","Ciudades",13,"60a",60]
[null,"Bomba Calor agua - agua",4.5,null,null,null,null,null,null,null,null,null,null,null,null,null,null,null,null,null,null,null,null,"Deporte y entretenimiento",null,null,null,null,"Sala Multiuso",14,null,null,null,null,null,null,null,null,null,null,null,null,null,null,"RM","Buin","RM - Región Metropolitana de Santiago",null,null,null,null,null,null,null,null,null,null,null,null,null,null,null,null,null,null,null,null,null,null,"Recinto 72",{"$f":"+IFERROR(VLOOKUP('Datos Generales Edificio'!#REF!,$BO$5:$BP$32,2,FALSE),\"\")","v":""},{"$f":"+IF('Datos Generales Edificio'!#REF!<>\"\",'Datos Generales Edificio'!#REF!,\"\")","v":{"$error":"#REF!"}},0,{"$f":"+'Datos Generales Edificio'!#REF!","v":{"$error":"#REF!"}},"",{"$f":"+IF('Datos Generales Edificio'!#REF!<>\"\",'Datos Generales Edificio'!#REF!,\"\")","v":{"$error":"#REF!"}},0,{"$f":"+'Datos Generales Edificio'!#REF!","v":{"$error":"#REF!"}},"",{"$f":"IF('Datos Generales Edificio'!#REF!<>\"\",'Datos Generales Edificio'!#REF!,\"\")","v":{"$error":"#REF!"}},0,{"$f":"+'Datos Generales Edificio'!#REF!","v":{"$error":"#REF!"}},"",{"$f":"IF('Datos Generales Edificio'!#REF!<>\"\",'Datos Generales Edificio'!#REF!,\"\")","v":{"$error":"#REF!"}},0,{"$f":"+'Datos Generales Edificio'!#REF!","v":{"$error":"#REF!"}},"",{"$f":"IF('Datos Generales Edificio'!#REF!<>\"\",'Datos Generales Edificio'!#REF!,\"\")","v":{"$error":"#REF!"}},0,{"$f":"+'Datos Generales Edificio'!#REF!","v":{"$error":"#REF!"}},"",0,0,0,"",null,null,null,null,null,null,null,null,null,"Y","Ciudades",14,"60a",60]
[null,"Bomba Calor aire - agua",2.4,null,null,null,null,null,null,null,null,null,null,null,null,null,null,null,null,null,null,null,null,"Zona de deporte (Área de juego)","-",1.5,"-",null,"Auditorio",10,null,"Función del espacio",null,null,null,null,null,null,null,null,null,null,null,null,"RM","Calera de Tango","RM - Región Metropolitana de Santiago",null,null,null,null,null,null,null,null,null,null,null,null,null,null,null,null,null,null,null,null,null,null,"Recinto 73",{"$f":"+IFERROR(VLOOKUP('Datos Generales Edificio'!#REF!,$BO$5:$BP$32,2,FALSE),\"\")","v":""},{"$f":"+IF('Datos Generales Edificio'!#REF!<>\"\",'Datos Generales Edificio'!#REF!,\"\")","v":{"$error":"#REF!"}},0,{"$f":"+'Datos Generales Edificio'!#REF!","v":{"$error":"#REF!"}},"",{"$f":"+IF('Datos Generales Edificio'!#REF!<>\"\",'Datos Generales Edificio'!#REF!,\"\")","v":{"$error":"#REF!"}},0,{"$f":"+'Datos Generales Edificio'!#REF!","v":{"$error":"#REF!"}},"",{"$f":"IF('Datos Generales Edificio'!#REF!<>\"\",'Datos Generales Edificio'!#REF!,\"\")","v":{"$error":"#REF!"}},0,{"$f":"+'Datos Generales Edificio'!#REF!","v":{"$error":"#REF!"}},"",{"$f":"IF('Datos Generales Edificio'!#REF!<>\"\",'Datos Generales Edificio'!#REF!,\"\")","v":{"$error":"#REF!"}},0,{"$f":"+'Datos Generales Edificio'!#REF!","v":{"$error":"#REF!"}},"",{"$f":"IF('Datos Generales Edificio'!#REF!<>\"\",'Datos Generales Edificio'!#REF!,\"\")","v":{"$error":"#REF!"}},0,{"$f":"+'Datos Generales Edificio'!#REF!","v":{"$error":"#REF!"}},"",0,0,0,"",null,null,null,null,null,null,null,null,null,"Y","Ciudades",15,"60a",60]
[null,null,null,null,null,null,null,null,null,null,null,null,null,null,null,null,null,null,null,null,null,null,null,"Gimnasio, estadio (Área de juego)","-",1.5,30,null,"Equipamiento",16,null,"Almacenamiento dieta diaria","-",2,"-",null,null,null,null,null,null,null,null,null,"RM","Cerrillos","RM - Región Metropolitana de Santiago",null,null,null,null,null,null,null,null,null,null,null,null,null,null,null,null,null,null,null,null,null,null,"Recinto 74",{"$f":"+IFERROR(VLOOKUP('Datos Generales Edificio'!#REF!,$BO$5:$BP$32,2,FALSE),\"\")","v":""},{"$f":"+IF('Datos Generales Edificio'!#REF!<>\"\",'Datos Generales Edificio'!#REF!,\"\")","v":{"$error":"#REF!"}},0,{"$f":"+'Datos Generales Edificio'!#REF!","v":{"$error":"#REF!"}},"",{"$f":"+IF('Datos Generales Edificio'!#REF!<>\"\",'Datos Generales Edificio'!#REF!,\"\")","v":{"$error":"#REF!"}},0,{"$f":"+'Datos Generales Edificio'!#REF!","v":{"$error":"#REF!"}},"",{"$f":"IF('Datos Generales Edificio'!#REF!<>\"\",'Datos Generales Edificio'!#REF!,\"\")","v":{"$error":"#REF!"}},0,{"$f":"+'Datos Generales Edificio'!#REF!","v":{"$error":"#REF!"}},"",{"$f":"IF('Datos Generales Edificio'!#REF!<>\"\",'Datos Generales Edificio'!#REF!,\"\")","v":{"$error":"#REF!"}},0,{"$f":"+'Datos Generales Edificio'!#REF!","v":{"$error":"#REF!"}},"",{"$f":"IF('Datos Generales Edificio'!#REF!<>\"\",'Datos Generales Edificio'!#REF!,\"\")","v":{"$error":"#REF!"}},0,{"$f":"+'Datos Generales Edificio'!#REF!","v":{"$error":"#REF!"}},"",0,0,0,"",null,null,null,null,null,null,null,null,null,"Y","Ciudades",16,"60a",60]
[null,"Compresor - centrífugo",5,null,null,null,null,null,null,null,null,null,null,null,null,null,null,null,null,null,null,null,null,"Área de espectadores",3.8,0.3,150,null,"Local comercial",18,null,"Lavandería general",2,10,"-",null,null,null,null,null,null,null,null,null,"RM","Cerro Navia","RM - Región Metropolitana de Santiago",null,null,null,null,null,null,null,null,null,null,null,null,null,null,null,null,null,null,null,null,null,null,"Recinto 75",{"$f":"+IFERROR(VLOOKUP('Datos Generales Edificio'!#REF!,$BO$5:$BP$32,2,FALSE),\"\")","v":""},{"$f":"+IF('Datos Generales Edificio'!#REF!<>\"\",'Datos Generales Edificio'!#REF!,\"\")","v":{"$error":"#REF!"}},0,{"$f":"+'Datos Generales Edificio'!#REF!","v":{"$error":"#REF!"}},"",{"$f":"+IF('Datos Generales Edificio'!#REF!<>\"\",'Datos Generales Edificio'!#REF!,\"\")","v":{"$error":"#REF!"}},0,{"$f":"+'Datos Generales Edificio'!#REF!","v":{"$error":"#REF!"}},"",{"$f":"IF('Datos Generales Edificio'!#REF!<>\"\",'Datos Generales Edificio'!#REF!,\"\")","v":{"$error":"#REF!"}},0,{"$f":"+'Datos Generales Edificio'!#REF!","v":{"$error":"#REF!"}},"",{"$f":"IF('Datos Generales Edificio'!#REF!<>\"\",'Datos Generales Edificio'!#REF!,\"\")","v":{"$error":"#REF!"}},0,{"$f":"+'Datos Generales Edificio'!#REF!","v":{"$error":"#REF!"}},"",{"$f":"IF('Datos Generales Edificio'!#REF!<>\"\",'Datos Generales Edificio'!#REF!,\"\")","v":{"$error":"#REF!"}},0,{"$f":"+'Datos Generales Edificio'!#REF!","v":{"$error":"#REF!"}},"",0,0,0,"",null,null,null,null,null,null,null,null,null,"Y","Ciudades",17,"60a",60]
[null,"Compresor - alternativo",3.8,null,null,null,null,null,null,null,null,null,null,null,null,null,null,null,null,null,null,null,null,"Natación (piscina y cubierta)","-",2.4,"-",null,"Baños",10,null,"Clasificación de la ropa sucia y almacenamiento","-",10,"-",null,null,null,null,null,null,null,null,null,"RM","Colina","RM - Región Metropolitana de Santiago",null,null,null,null,null,null,null,null,null,null,null,null,null,null,null,null,null,null,null,null,null,null,"Recinto 76",{"$f":"+IFERROR(VLOOKUP('Datos Generales Edificio'!#REF!,$BO$5:$BP$32,2,FALSE),\"\")","v":""},{"$f":"+IF('Datos Generales Edificio'!#REF!<>\"\",'Datos Generales Edificio'!#REF!,\"\")","v":{"$error":"#REF!"}},0,{"$f":"+'Datos Generales Edificio'!#REF!","v":{"$error":"#REF!"}},"",{"$f":"+IF('Datos Generales Edificio'!#REF!<>\"\",'Datos Generales Edificio'!#REF!,\"\")","v":{"$error":"#REF!"}},0,{"$f":"+'Datos Generales Edificio'!#REF!","v":{"$error":"#REF!"}},"",{"$f":"IF('Datos Generales Edificio'!#REF!<>\"\",'Datos Generales Edificio'!#REF!,\"\")","v":{"$error":"#REF!"}},0,{"$f":"+'Datos Generales Edificio'!#REF!","v":{"$error":"#REF!"}},"",{"$f":"IF('Datos Generales Edificio'!#REF!<>\"\",'Datos Generales Edificio'!#REF!,\"\")","v":{"$error":"#REF!"}},0,{"$f":"+'Datos Generales Edificio'!#REF!","v":{"$error":"#REF!"}},"",{"$f":"IF('Datos Generales Edificio'!#REF!<>\"\",'Datos Generales Edificio'!#REF!,\"\")","v":{"$error":"#REF!"}},0,{"$f":"+'Datos Generales Edificio'!#REF!","v":{"$error":"#REF!"}},"",0,0,0,"",null,null,null,null,null,null,null,null,null,"Y","Ciudades",18,"60a",60]
[null,"Compresor de tornillo",4.0999999999999996,null,null,null,null,null,null,null,null,null,null,null,null,null,null,null,null,null,null,null,null,"Disco/piso de baile",10,0.3,100,null,null,null,null,"Almacenamiento de ropa limpia",2,2,"-",null,null,null,null,null,null,null,null,null,"RM","Conchalí","RM - Región Metropolitana de Santiago",null,null,null,null,null,null,null,null,null,null,null,null,null,null,null,null,null,null,null,null,null,null,"Recinto 77",{"$f":"+IFERROR(VLOOKUP('Datos Generales Edificio'!#REF!,$BO$5:$BP$32,2,FALSE),\"\")","v":""},{"$f":"+IF('Datos Generales Edificio'!#REF!<>\"\",'Datos Generales Edificio'!#REF!,\"\")","v":{"$error":"#REF!"}},0,{"$f":"+'Datos Generales Edificio'!#REF!","v":{"$error":"#REF!"}},"",{"$f":"+IF('Datos Generales Edificio'!#REF!<>\"\",'Datos Generales Edificio'!#REF!,\"\")","v":{"$error":"#REF!"}},0,{"$f":"+'Datos Generales Edificio'!#REF!","v":{"$error":"#REF!"}},"",{"$f":"IF('Datos Generales Edificio'!#REF!<>\"\",'Datos Generales Edificio'!#REF!,\"\")","v":{"$error":"#REF!"}},0,{"$f":"+'Datos Generales Edificio'!#REF!","v":{"$error":"#REF!"}},"",{"$f":"IF('Datos Generales Edificio'!#REF!<>\"\",'Datos Generales Edificio'!#REF!,\"\")","v":{"$error":"#REF!"}},0,{"$f":"+'Datos Generales Edificio'!#REF!","v":{"$error":"#REF!"}},"",{"$f":"IF('Datos Generales Edificio'!#REF!<>\"\",'Datos Generales Edificio'!#REF!,\"\")","v":{"$error":"#REF!"}},0,{"$f":"+'Datos Generales Edificio'!#REF!","v":{"$error":"#REF!"}},"",0,0,0,"",null,null,null,null,null,null,null,null,null,"Y","Ciudades",19,"60a",60]
[null,"Compresor - scroll",4.5999999999999996,null,null,null,null,null,null,null,null,null,null,null,null,null,null,null,null,null,null,null,null,"Club de salud/sala de aeróbica",10,0.3,40,null,null,null,null,"Sala del conducto de ropa de cama y basura","-",10,"-",null,null,null,null,null,null,null,null,null,"RM","Curacaví","RM - Región Metropolitana de Santiago",null,null,null,null,null,null,null,null,null,null,null,null,null,null,null,null,null,null,null,null,null,null,"Recinto 78",{"$f":"+IFERROR(VLOOKUP('Datos Generales Edificio'!#REF!,$BO$5:$BP$32,2,FALSE),\"\")","v":""},{"$f":"+IF('Datos Generales Edificio'!#REF!<>\"\",'Datos Generales Edificio'!#REF!,\"\")","v":{"$error":"#REF!"}},0,{"$f":"+'Datos Generales Edificio'!#REF!","v":{"$error":"#REF!"}},"",{"$f":"+IF('Datos Generales Edificio'!#REF!<>\"\",'Datos Generales Edificio'!#REF!,\"\")","v":{"$error":"#REF!"}},0,{"$f":"+'Datos Generales Edificio'!#REF!","v":{"$error":"#REF!"}},"",{"$f":"IF('Datos Generales Edificio'!#REF!<>\"\",'Datos Generales Edificio'!#REF!,\"\")","v":{"$error":"#REF!"}},0,{"$f":"+'Datos Generales Edificio'!#REF!","v":{"$error":"#REF!"}},"",{"$f":"IF('Datos Generales Edificio'!#REF!<>\"\",'Datos Generales Edificio'!#REF!,\"\")","v":{"$error":"#REF!"}},0,{"$f":"+'Datos Generales Edificio'!#REF!","v":{"$error":"#REF!"}},"",{"$f":"IF('Datos Generales Edificio'!#REF!<>\"\",'Datos Generales Edificio'!#REF!,\"\")","v":{"$error":"#REF!"}},0,{"$f":"+'Datos Generales Edificio'!#REF!","v":{"$error":"#REF!"}},"",0,0,0,"",null,null,null,null,null,null,null,null,null,"Y","Ciudades",20,"60a",60]
[null,"Bomba de calor - gas",1.1000000000000001,null,null,null,null,null,null,null,null,null,null,null,null,null,null,null,null,null,null,null,null,"Club de salud/sala de peso",10,0.3,10,null,null,null,null,"Sala de bacinillas","-",10,"-",null,null,null,null,null,null,null,null,null,"RM","El Bosque","RM - Región Metropolitana de Santiago",null,null,null,null,null,null,null,null,null,null,null,null,null,null,null,null,null,null,null,null,null,null,"Recinto 79",{"$f":"+IFERROR(VLOOKUP('Datos Generales Edificio'!#REF!,$BO$5:$BP$32,2,FALSE),\"\")","v":""},{"$f":"+IF('Datos Generales Edificio'!#REF!<>\"\",'Datos Generales Edificio'!#REF!,\"\")","v":{"$error":"#REF!"}},0,{"$f":"+'Datos Generales Edificio'!#REF!","v":{"$error":"#REF!"}},"",{"$f":"+IF('Datos Generales Edificio'!#REF!<>\"\",'Datos Generales Edificio'!#REF!,\"\")","v":{"$error":"#REF!"}},0,{"$f":"+'Datos Generales Edificio'!#REF!","v":{"$error":"#REF!"}},"",{"$f":"IF('Datos Generales Edificio'!#REF!<>\"\",'Datos Generales Edificio'!#REF!,\"\")","v":{"$error":"#REF!"}},0,{"$f":"+'Datos Generales Edificio'!#REF!","v":{"$error":"#REF!"}},"",{"$f":"IF('Datos Generales Edificio'!#REF!<>\"\",'Datos Generales Edificio'!#REF!,\"\")","v":{"$error":"#REF!"}},0,{"$f":"+'Datos Generales Edificio'!#REF!","v":{"$error":"#REF!"}},"",{"$f":"IF('Datos Generales Edificio'!#REF!<>\"\",'Datos Generales Edificio'!#REF!,\"\")","v":{"$error":"#REF!"}},0,{"$f":"+'Datos Generales Edificio'!#REF!","v":{"$error":"#REF!"}},"",0,0,0,"",null,null,null,null,null,null,null,null,null,"Z","Terreno abierto",1,"60a",60]
[null,"Bomba de calor - aire",1.3,null,null,null,null,null,null,null,null,null,null,null,null,null,null,null,null,null,null,null,null,"Pista de bowling (Asientos)",5,0.6,40,null,null,null,null,"Baños","-",10,"-",null,null,null,null,null,null,null,null,null,"RM","El Monte","RM - Región Metropolitana de Santiago",null,null,null,null,null,null,null,null,null,null,null,null,null,null,null,null,null,null,null,null,null,null,"Recinto 80",{"$f":"+IFERROR(VLOOKUP('Datos Generales Edificio'!#REF!,$BO$5:$BP$32,2,FALSE),\"\")","v":""},{"$f":"+IF('Datos Generales Edificio'!#REF!<>\"\",'Datos Generales Edificio'!#REF!,\"\")","v":{"$error":"#REF!"}},0,{"$f":"+'Datos Generales Edificio'!#REF!","v":{"$error":"#REF!"}},"",{"$f":"+IF('Datos Generales Edificio'!#REF!<>\"\",'Datos Generales Edificio'!#REF!,\"\")","v":{"$error":"#REF!"}},0,{"$f":"+'Datos Generales Edificio'!#REF!","v":{"$error":"#REF!"}},"",{"$f":"IF('Datos Generales Edificio'!#REF!<>\"\",'Datos Generales Edificio'!#REF!,\"\")","v":{"$error":"#REF!"}},0,{"$f":"+'Datos Generales Edificio'!#REF!","v":{"$error":"#REF!"}},"",{"$f":"IF('Datos Generales Edificio'!#REF!<>\"\",'Datos Generales Edificio'!#REF!,\"\")","v":{"$error":"#REF!"}},0,{"$f":"+'Datos Generales Edificio'!#REF!","v":{"$error":"#REF!"}},"",{"$f":"IF('Datos Generales Edificio'!#REF!<>\"\",'Datos Generales Edificio'!#REF!,\"\")","v":{"$error":"#REF!"}},0,{"$f":"+'Datos Generales Edificio'!#REF!","v":{"$error":"#REF!"}},"",0,0,0,"",null,null,null,null,null,null,null,null,null,"Z","Terreno abierto",2,"60a",60]
[null,"Bomba de calor - agua",3,null,null,null,null,null,null,null,null,null,null,null,null,null,null,null,null,null,null,null,null,"Casino de juegos",3.8,0.9,120,null,null,null,null,"Armario de conserje","-",10,"-",null,null,null,null,null,null,null,null,null,"RM","Estación Central","RM - Región Metropolitana de Santiago",null,null,null,null,null,null,null,null,null,null,null,null,null,null,null,null,null,null,null,null,null,null,"Recinto 81",{"$f":"+IFERROR(VLOOKUP('Datos Generales Edificio'!#REF!,$BO$5:$BP$32,2,FALSE),\"\")","v":""},{"$f":"+IF('Datos Generales Edificio'!#REF!<>\"\",'Datos Generales Edificio'!#REF!,\"\")","v":{"$error":"#REF!"}},0,{"$f":"+'Datos Generales Edificio'!#REF!","v":{"$error":"#REF!"}},"",{"$f":"+IF('Datos Generales Edificio'!#REF!<>\"\",'Datos Generales Edificio'!#REF!,\"\")","v":{"$error":"#REF!"}},0,{"$f":"+'Datos Generales Edificio'!#REF!","v":{"$error":"#REF!"}},"",{"$f":"IF('Datos Generales Edificio'!#REF!<>\"\",'Datos Generales Edificio'!#REF!,\"\")","v":{"$error":"#REF!"}},0,{"$f":"+'Datos Generales Edificio'!#REF!","v":{"$error":"#REF!"}},"",{"$f":"IF('Datos Generales Edificio'!#REF!<>\"\",'Datos Generales Edificio'!#REF!,\"\")","v":{"$error":"#REF!"}},0,{"$f":"+'Datos Generales Edificio'!#REF!","v":{"$error":"#REF!"}},"",{"$f":"IF('Datos Generales Edificio'!#REF!<>\"\",'Datos Generales Edificio'!#REF!,\"\")","v":{"$error":"#REF!"}},0,{"$f":"+'Datos Generales Edificio'!#REF!","v":{"$error":"#REF!"}},"",0,0,0,"",null,null,null,null,null,null,null,null,null,"Z","Terreno abierto",3,"30a",30]
[null,"Absorción - un efecto",0.65,null,null,null,null,null,null,null,null,null,null,null,null,null,null,null,null,null,null,null,null,"Juegos de video",3.8,0.9,20,null,null,null,null,null,null,null,null,null,null,null,null,null,null,null,null,null,"RM","Huechuraba","RM - Región Metropolitana de Santiago",null,null,null,null,null,null,null,null,null,null,null,null,null,null,null,null,null,null,null,null,null,null,"Recinto 82",{"$f":"+IFERROR(VLOOKUP('Datos Generales Edificio'!#REF!,$BO$5:$BP$32,2,FALSE),\"\")","v":""},{"$f":"+IF('Datos Generales Edificio'!#REF!<>\"\",'Datos Generales Edificio'!#REF!,\"\")","v":{"$error":"#REF!"}},0,{"$f":"+'Datos Generales Edificio'!#REF!","v":{"$error":"#REF!"}},"",{"$f":"+IF('Datos Generales Edificio'!#REF!<>\"\",'Datos Generales Edificio'!#REF!,\"\")","v":{"$error":"#REF!"}},0,{"$f":"+'Datos Generales Edificio'!#REF!","v":{"$error":"#REF!"}},"",{"$f":"IF('Datos Generales Edificio'!#REF!<>\"\",'Datos Generales Edificio'!#REF!,\"\")","v":{"$error":"#REF!"}},0,{"$f":"+'Datos Generales Edificio'!#REF!","v":{"$error":"#REF!"}},"",{"$f":"IF('Datos Generales Edificio'!#REF!<>\"\",'Datos Generales Edificio'!#REF!,\"\")","v":{"$error":"#REF!"}},0,{"$f":"+'Datos Generales Edificio'!#REF!","v":{"$error":"#REF!"}},"",{"$f":"IF('Datos Generales Edificio'!#REF!<>\"\",'Datos Generales Edificio'!#REF!,\"\")","v":{"$error":"#REF!"}},0,{"$f":"+'Datos Generales Edificio'!#REF!","v":{"$error":"#REF!"}},"",0,0,0,"",null,null,null,null,null,null,null,null,null,"Z","Terreno abierto",4,"30a",30]
[null,"Absorción - dos efectos",1.2,null,null,null,null,null,null,null,null,null,null,null,null,null,null,null,null,null,null,null,null,"Estudio",5,0.3,70,null,null,null,null,null,null,null,null,null,null,null,null,null,null,null,null,null,"RM","Independencia","RM - Región Metropolitana de Santiago",null,null,null,null,null,null,null,null,null,null,null,null,null,null,null,null,null,null,null,null,null,null,"Recinto 83",{"$f":"+IFERROR(VLOOKUP('Datos Generales Edificio'!#REF!,$BO$5:$BP$32,2,FALSE),\"\")","v":""},{"$f":"+IF('Datos Generales Edificio'!#REF!<>\"\",'Datos Generales Edificio'!#REF!,\"\")","v":{"$error":"#REF!"}},0,{"$f":"+'Datos Generales Edificio'!#REF!","v":{"$error":"#REF!"}},"",{"$f":"+IF('Datos Generales Edificio'!#REF!<>\"\",'Datos Generales Edificio'!#REF!,\"\")","v":{"$error":"#REF!"}},0,{"$f":"+'Datos Generales Edificio'!#REF!","v":{"$error":"#REF!"}},"",{"$f":"IF('Datos Generales Edificio'!#REF!<>\"\",'Datos Generales Edificio'!#REF!,\"\")","v":{"$error":"#REF!"}},0,{"$f":"+'Datos Generales Edificio'!#REF!","v":{"$error":"#REF!"}},"",{"$f":"IF('Datos Generales Edificio'!#REF!<>\"\",'Datos Generales Edificio'!#REF!,\"\")","v":{"$error":"#REF!"}},0,{"$f":"+'Datos Generales Edificio'!#REF!","v":{"$error":"#REF!"}},"",{"$f":"IF('Datos Generales Edificio'!#REF!<>\"\",'Datos Generales Edificio'!#REF!,\"\")","v":{"$error":"#REF!"}},0,{"$f":"+'Datos Generales Edificio'!#REF!","v":{"$error":"#REF!"}},"",0,0,0,"",null,null,null,null,null,null,null,null,null,"Z","Terreno abierto",5,"30a",30]
[null,"Por corriente de vapor",0.2,null,null,null,null,null,null,null,null,null,null,null,null,null,null,null,null,null,null,null,null,null,null,null,null,null,null,null,null,null,null,null,null,null,null,null,null,null,null,null,null,null,"RM","Isla de Maipo","RM - Región Metropolitana de Santiago",null,null,null,null,null,null,null,null,null,null,null,null,null,null,null,null,null,null,null,null,null,null,"Recinto 84",{"$f":"+IFERROR(VLOOKUP('Datos Generales Edificio'!#REF!,$BO$5:$BP$32,2,FALSE),\"\")","v":""},{"$f":"+IF('Datos Generales Edificio'!#REF!<>\"\",'Datos Generales Edificio'!#REF!,\"\")","v":{"$error":"#REF!"}},0,{"$f":"+'Datos Generales Edificio'!#REF!","v":{"$error":"#REF!"}},"",{"$f":"+IF('Datos Generales Edificio'!#REF!<>\"\",'Datos Generales Edificio'!#REF!,\"\")","v":{"$error":"#REF!"}},0,{"$f":"+'Datos Generales Edificio'!#REF!","v":{"$error":"#REF!"}},"",{"$f":"IF('Datos Generales Edificio'!#REF!<>\"\",'Datos Generales Edificio'!#REF!,\"\")","v":{"$error":"#REF!"}},0,{"$f":"+'Datos Generales Edificio'!#REF!","v":{"$error":"#REF!"}},"",{"$f":"IF('Datos Generales Edificio'!#REF!<>\"\",'Datos Generales Edificio'!#REF!,\"\")","v":{"$error":"#REF!"}},0,{"$f":"+'Datos Generales Edificio'!#REF!","v":{"$error":"#REF!"}},"",{"$f":"IF('Datos Generales Edificio'!#REF!<>\"\",'Datos Generales Edificio'!#REF!,\"\")","v":{"$error":"#REF!"}},0,{"$f":"+'Datos Generales Edificio'!#REF!","v":{"$error":"#REF!"}},"",0,0,0,"",null,null,null,null,null,null,null,null,null,"Z","Terreno abierto",6,"30a",30]
[null,null,null,null,null,null,null,null,null,null,null,null,null,null,null,null,null,null,null,null,null,null,null,null,null,null,null,null,null,null,null,null,null,null,null,null,null,null,null,null,null,null,null,null,"RM","La Cisterna","RM - Región Metropolitana de Santiago",null,null,null,null,null,null,null,null,null,null,null,null,null,null,null,null,null,null,null,null,null,null,"Recinto 85",{"$f":"+IFERROR(VLOOKUP('Datos Generales Edificio'!#REF!,$BO$5:$BP$32,2,FALSE),\"\")","v":""},{"$f":"+IF('Datos Generales Edificio'!#REF!<>\"\",'Datos Generales Edificio'!#REF!,\"\")","v":{"$error":"#REF!"}},0,{"$f":"+'Datos Generales Edificio'!#REF!","v":{"$error":"#REF!"}},"",{"$f":"+IF('Datos Generales Edificio'!#REF!<>\"\",'Datos Generales Edificio'!#REF!,\"\")","v":{"$error":"#REF!"}},0,{"$f":"+'Datos Generales Edificio'!#REF!","v":{"$error":"#REF!"}},"",{"$f":"IF('Datos Generales Edificio'!#REF!<>\"\",'Datos Generales Edificio'!#REF!,\"\")","v":{"$error":"#REF!"}},0,{"$f":"+'Datos Generales Edificio'!#REF!","v":{"$error":"#REF!"}},"",{"$f":"IF('Datos Generales Edificio'!#REF!<>\"\",'Datos Generales Edificio'!#REF!,\"\")","v":{"$error":"#REF!"}},0,{"$f":"+'Datos Generales Edificio'!#REF!","v":{"$error":"#REF!"}},"",{"$f":"IF('Datos Generales Edificio'!#REF!<>\"\",'Datos Generales Edificio'!#REF!,\"\")","v":{"$error":"#REF!"}},0,{"$f":"+'Datos Generales Edificio'!#REF!","v":{"$error":"#REF!"}},"",0,0,0,"",null,null,null,null,null,null,null,null,null,"Z","Terreno abierto",7,"30a",30]
[null,null,null,null,null,null,null,null,null,null,null,null,null,null,null,null,null,null,null,null,null,null,null,null,null,null,null,null,null,null,null,null,null,null,null,null,null,null,null,null,null,null,null,null,"RM","La Florida","RM - Región Metropolitana de Santiago",null,null,null,null,null,null,null,null,null,null,null,null,null,null,null,null,null,null,null,null,null,null,"Recinto 86",{"$f":"+IFERROR(VLOOKUP('Datos Generales Edificio'!#REF!,$BO$5:$BP$32,2,FALSE),\"\")","v":""},{"$f":"+IF('Datos Generales Edificio'!#REF!<>\"\",'Datos Generales Edificio'!#REF!,\"\")","v":{"$error":"#REF!"}},0,{"$f":"+'Datos Generales Edificio'!#REF!","v":{"$error":"#REF!"}},"",{"$f":"+IF('Datos Generales Edificio'!#REF!<>\"\",'Datos Generales Edificio'!#REF!,\"\")","v":{"$error":"#REF!"}},0,{"$f":"+'Datos Generales Edificio'!#REF!","v":{"$error":"#REF!"}},"",{"$f":"IF('Datos Generales Edificio'!#REF!<>\"\",'Datos Generales Edificio'!#REF!,\"\")","v":{"$error":"#REF!"}},0,{"$f":"+'Datos Generales Edificio'!#REF!","v":{"$error":"#REF!"}},"",{"$f":"IF('Datos Generales Edificio'!#REF!<>\"\",'Datos Generales Edificio'!#REF!,\"\")","v":{"$error":"#REF!"}},0,{"$f":"+'Datos Generales Edificio'!#REF!","v":{"$error":"#REF!"}},"",{"$f":"IF('Datos Generales Edificio'!#REF!<>\"\",'Datos Generales Edificio'!#REF!,\"\")","v":{"$error":"#REF!"}},0,{"$f":"+'Datos Generales Edificio'!#REF!","v":{"$error":"#REF!"}},"",0,0,0,"",null,null,null,null,null,null,null,null,null,"Z","Terreno abierto",8,"30a",30]
[null,null,null,null,null,null,null,null,null,null,null,null,null,null,null,null,null,null,null,null,null,null,null,null,null,null,null,null,null,null,null,null,null,null,null,null,null,null,null,null,null,null,null,null,"RM","La Granja","RM - Región Metropolitana de Santiago",null,null,null,null,null,null,null,null,null,null,null,null,null,null,null,null,null,null,null,null,null,null,"Recinto 87",{"$f":"+IFERROR(VLOOKUP('Datos Generales Edificio'!#REF!,$BO$5:$BP$32,2,FALSE),\"\")","v":""},{"$f":"+IF('Datos Generales Edificio'!#REF!<>\"\",'Datos Generales Edificio'!#REF!,\"\")","v":{"$error":"#REF!"}},0,{"$f":"+'Datos Generales Edificio'!#REF!","v":{"$error":"#REF!"}},"",{"$f":"+IF('Datos Generales Edificio'!#REF!<>\"\",'Datos Generales Edificio'!#REF!,\"\")","v":{"$error":"#REF!"}},0,{"$f":"+'Datos Generales Edificio'!#REF!","v":{"$error":"#REF!"}},"",{"$f":"IF('Datos Generales Edificio'!#REF!<>\"\",'Datos Generales Edificio'!#REF!,\"\")","v":{"$error":"#REF!"}},0,{"$f":"+'Datos Generales Edificio'!#REF!","v":{"$error":"#REF!"}},"",{"$f":"IF('Datos Generales Edificio'!#REF!<>\"\",'Datos Generales Edificio'!#REF!,\"\")","v":{"$error":"#REF!"}},0,{"$f":"+'Datos Generales Edificio'!#REF!","v":{"$error":"#REF!"}},"",{"$f":"IF('Datos Generales Edificio'!#REF!<>\"\",'Datos Generales Edificio'!#REF!,\"\")","v":{"$error":"#REF!"}},0,{"$f":"+'Datos Generales Edificio'!#REF!","v":{"$error":"#REF!"}},"",0,0,0,"",null,null,null,null,null,null,null,null,null,"Z","Terreno abierto",9,"30a",30]
[null,null,null,null,null,null,null,null,null,null,null,null,null,null,null,null,null,null,null,null,null,null,null,null,null,null,null,null,null,null,null,null,null,null,null,null,null,null,null,null,null,null,null,null,"RM","La Pintana","RM - Región Metropolitana de Santiago",null,null,null,null,null,null,null,null,null,null,null,null,null,null,null,null,null,null,null,null,null,null,"Recinto 88",{"$f":"+IFERROR(VLOOKUP('Datos Generales Edificio'!#REF!,$BO$5:$BP$32,2,FALSE),\"\")","v":""},{"$f":"+IF('Datos Generales Edificio'!#REF!<>\"\",'Datos Generales Edificio'!#REF!,\"\")","v":{"$error":"#REF!"}},0,{"$f":"+'Datos Generales Edificio'!#REF!","v":{"$error":"#REF!"}},"",{"$f":"+IF('Datos Generales Edificio'!#REF!<>\"\",'Datos Generales Edificio'!#REF!,\"\")","v":{"$error":"#REF!"}},0,{"$f":"+'Datos Generales Edificio'!#REF!","v":{"$error":"#REF!"}},"",{"$f":"IF('Datos Generales Edificio'!#REF!<>\"\",'Datos Generales Edificio'!#REF!,\"\")","v":{"$error":"#REF!"}},0,{"$f":"+'Datos Generales Edificio'!#REF!","v":{"$error":"#REF!"}},"",{"$f":"IF('Datos Generales Edificio'!#REF!<>\"\",'Datos Generales Edificio'!#REF!,\"\")","v":{"$error":"#REF!"}},0,{"$f":"+'Datos Generales Edificio'!#REF!","v":{"$error":"#REF!"}},"",{"$f":"IF('Datos Generales Edificio'!#REF!<>\"\",'Datos Generales Edificio'!#REF!,\"\")","v":{"$error":"#REF!"}},0,{"$f":"+'Datos Generales Edificio'!#REF!","v":{"$error":"#REF!"}},"",0,0,0,"",null,null,null,null,null,null,null,null,null,"Z","Terreno abierto",10,"30a",30]
[null,null,null,null,null,null,null,null,null,null,null,null,null,null,null,null,null,null,null,null,null,null,null,null,null,null,null,null,null,null,null,null,null,null,null,null,null,null,null,null,null,null,null,null,"RM","La Reina","RM - Región Metropolitana de Santiago",null,null,null,null,null,null,null,null,null,null,null,null,null,null,null,null,null,null,null,null,null,null,"Recinto 89",{"$f":"+IFERROR(VLOOKUP('Datos Generales Edificio'!#REF!,$BO$5:$BP$32,2,FALSE),\"\")","v":""},{"$f":"+IF('Datos Generales Edificio'!#REF!<>\"\",'Datos Generales Edificio'!#REF!,\"\")","v":{"$error":"#REF!"}},0,{"$f":"+'Datos Generales Edificio'!#REF!","v":{"$error":"#REF!"}},"",{"$f":"+IF('Datos Generales Edificio'!#REF!<>\"\",'Datos Generales Edificio'!#REF!,\"\")","v":{"$error":"#REF!"}},0,{"$f":"+'Datos Generales Edificio'!#REF!","v":{"$error":"#REF!"}},"",{"$f":"IF('Datos Generales Edificio'!#REF!<>\"\",'Datos Generales Edificio'!#REF!,\"\")","v":{"$error":"#REF!"}},0,{"$f":"+'Datos Generales Edificio'!#REF!","v":{"$error":"#REF!"}},"",{"$f":"IF('Datos Generales Edificio'!#REF!<>\"\",'Datos Generales Edificio'!#REF!,\"\")","v":{"$error":"#REF!"}},0,{"$f":"+'Datos Generales Edificio'!#REF!","v":{"$error":"#REF!"}},"",{"$f":"IF('Datos Generales Edificio'!#REF!<>\"\",'Datos Generales Edificio'!#REF!,\"\")","v":{"$error":"#REF!"}},0,{"$f":"+'Datos Generales Edificio'!#REF!","v":{"$error":"#REF!"}},"",0,0,0,"",null,null,null,null,null,null,null,null,null,"Z","Terreno abierto",11,"30a",30]
[null,null,null,null,null,null,null,null,null,null,null,null,null,null,null,null,null,null,null,null,null,null,null,null,null,null,null,null,null,null,null,null,null,null,null,null,null,null,null,null,null,null,null,null,"RM","Lampa","RM - Región Metropolitana de Santiago",null,null,null,null,null,null,null,null,null,null,null,null,null,null,null,null,null,null,null,null,null,null,"Recinto 90",{"$f":"+IFERROR(VLOOKUP('Datos Generales Edificio'!#REF!,$BO$5:$BP$32,2,FALSE),\"\")","v":""},{"$f":"+IF('Datos Generales Edificio'!#REF!<>\"\",'Datos Generales Edificio'!#REF!,\"\")","v":{"$error":"#REF!"}},0,{"$f":"+'Datos Generales Edificio'!#REF!","v":{"$error":"#REF!"}},"",{"$f":"+IF('Datos Generales Edificio'!#REF!<>\"\",'Datos Generales Edificio'!#REF!,\"\")","v":{"$error":"#REF!"}},0,{"$f":"+'Datos Generales Edificio'!#REF!","v":{"$error":"#REF!"}},"",{"$f":"IF('Datos Generales Edificio'!#REF!<>\"\",'Datos Generales Edificio'!#REF!,\"\")","v":{"$error":"#REF!"}},0,{"$f":"+'Datos Generales Edificio'!#REF!","v":{"$error":"#REF!"}},"",{"$f":"IF('Datos Generales Edificio'!#REF!<>\"\",'Datos Generales Edificio'!#REF!,\"\")","v":{"$error":"#REF!"}},0,{"$f":"+'Datos Generales Edificio'!#REF!","v":{"$error":"#REF!"}},"",{"$f":"IF('Datos Generales Edificio'!#REF!<>\"\",'Datos Generales Edificio'!#REF!,\"\")","v":{"$error":"#REF!"}},0,{"$f":"+'Datos Generales Edificio'!#REF!","v":{"$error":"#REF!"}},"",0,0,0,"",null,null,null,null,null,null,null,null,null,"Z","Terreno abierto",12,"30a",30]
[null,null,null,null,null,null,null,null,null,null,null,null,null,null,null,null,null,null,null,null,null,null,null,null,null,null,null,null,null,null,null,null,null,null,null,null,null,null,null,null,null,null,null,null,"RM","Las Condes","RM - Región Metropolitana de Santiago",null,null,null,null,null,null,null,null,null,null,null,null,null,null,null,null,null,null,null,null,null,null,"Recinto 91",{"$f":"+IFERROR(VLOOKUP('Datos Generales Edificio'!#REF!,$BO$5:$BP$32,2,FALSE),\"\")","v":""},{"$f":"+IF('Datos Generales Edificio'!#REF!<>\"\",'Datos Generales Edificio'!#REF!,\"\")","v":{"$error":"#REF!"}},0,{"$f":"+'Datos Generales Edificio'!#REF!","v":{"$error":"#REF!"}},"",{"$f":"+IF('Datos Generales Edificio'!#REF!<>\"\",'Datos Generales Edificio'!#REF!,\"\")","v":{"$error":"#REF!"}},0,{"$f":"+'Datos Generales Edificio'!#REF!","v":{"$error":"#REF!"}},"",{"$f":"IF('Datos Generales Edificio'!#REF!<>\"\",'Datos Generales Edificio'!#REF!,\"\")","v":{"$error":"#REF!"}},0,{"$f":"+'Datos Generales Edificio'!#REF!","v":{"$error":"#REF!"}},"",{"$f":"IF('Datos Generales Edificio'!#REF!<>\"\",'Datos Generales Edificio'!#REF!,\"\")","v":{"$error":"#REF!"}},0,{"$f":"+'Datos Generales Edificio'!#REF!","v":{"$error":"#REF!"}},"",{"$f":"IF('Datos Generales Edificio'!#REF!<>\"\",'Datos Generales Edificio'!#REF!,\"\")","v":{"$error":"#REF!"}},0,{"$f":"+'Datos Generales Edificio'!#REF!","v":{"$error":"#REF!"}},"",0,0,0,"",null,null,null,null,null,null,null,null,null,"Z","Terreno abierto",13,"30a",30]
[null,null,null,null,null,null,null,null,null,null,null,null,null,null,null,null,null,null,null,null,null,null,null,null,null,null,null,null,null,null,null,null,null,null,null,null,null,null,null,null,null,null,null,null,"RM","Lo Barnechea","RM - Región Metropolitana de Santiago",null,null,null,null,null,null,null,null,null,null,null,null,null,null,null,null,null,null,null,null,null,null,"Recinto 92",{"$f":"+IFERROR(VLOOKUP('Datos Generales Edificio'!#REF!,$BO$5:$BP$32,2,FALSE),\"\")","v":""},{"$f":"+IF('Datos Generales Edificio'!#REF!<>\"\",'Datos Generales Edificio'!#REF!,\"\")","v":{"$error":"#REF!"}},0,{"$f":"+'Datos Generales Edificio'!#REF!","v":{"$error":"#REF!"}},"",{"$f":"+IF('Datos Generales Edificio'!#REF!<>\"\",'Datos Generales Edificio'!#REF!,\"\")","v":{"$error":"#REF!"}},0,{"$f":"+'Datos Generales Edificio'!#REF!","v":{"$error":"#REF!"}},"",{"$f":"IF('Datos Generales Edificio'!#REF!<>\"\",'Datos Generales Edificio'!#REF!,\"\")","v":{"$error":"#REF!"}},0,{"$f":"+'Datos Generales Edificio'!#REF!","v":{"$error":"#REF!"}},"",{"$f":"IF('Datos Generales Edificio'!#REF!<>\"\",'Datos Generales Edificio'!#REF!,\"\")","v":{"$error":"#REF!"}},0,{"$f":"+'Datos Generales Edificio'!#REF!","v":{"$error":"#REF!"}},"",{"$f":"IF('Datos Generales Edificio'!#REF!<>\"\",'Datos Generales Edificio'!#REF!,\"\")","v":{"$error":"#REF!"}},0,{"$f":"+'Datos Generales Edificio'!#REF!","v":{"$error":"#REF!"}},"",0,0,0,"",null,null,null,null,null,null,null,null,null,"Z","Terreno abierto",14,"30a",30]
[null,null,null,null,null,null,null,null,null,null,null,null,null,null,null,null,null,null,null,null,null,null,null,null,null,null,null,null,null,null,null,null,null,null,null,null,null,null,null,null,null,null,null,null,"RM","Lo Espejo","RM - Región Metropolitana de Santiago",null,null,null,null,null,null,null,null,null,null,null,null,null,null,null,null,null,null,null,null,null,null,"Recinto 93",{"$f":"+IFERROR(VLOOKUP('Datos Generales Edificio'!#REF!,$BO$5:$BP$32,2,FALSE),\"\")","v":""},{"$f":"+IF('Datos Generales Edificio'!#REF!<>\"\",'Datos Generales Edificio'!#REF!,\"\")","v":{"$error":"#REF!"}},0,{"$f":"+'Datos Generales Edificio'!#REF!","v":{"$error":"#REF!"}},"",{"$f":"+IF('Datos Generales Edificio'!#REF!<>\"\",'Datos Generales Edificio'!#REF!,\"\")","v":{"$error":"#REF!"}},0,{"$f":"+'Datos Generales Edificio'!#REF!","v":{"$error":"#REF!"}},"",{"$f":"IF('Datos Generales Edificio'!#REF!<>\"\",'Datos Generales Edificio'!#REF!,\"\")","v":{"$error":"#REF!"}},0,{"$f":"+'Datos Generales Edificio'!#REF!","v":{"$error":"#REF!"}},"",{"$f":"IF('Datos Generales Edificio'!#REF!<>\"\",'Datos Generales Edificio'!#REF!,\"\")","v":{"$error":"#REF!"}},0,{"$f":"+'Datos Generales Edificio'!#REF!","v":{"$error":"#REF!"}},"",{"$f":"IF('Datos Generales Edificio'!#REF!<>\"\",'Datos Generales Edificio'!#REF!,\"\")","v":{"$error":"#REF!"}},0,{"$f":"+'Datos Generales Edificio'!#REF!","v":{"$error":"#REF!"}},"",0,0,0,"",null,null,null,null,null,null,null,null,null,"Z","Terreno abierto",15,"30a",30]
[null,null,null,null,null,null,null,null,null,null,null,null,null,null,null,null,null,null,null,null,null,null,null,null,null,null,null,null,null,null,null,null,null,null,null,null,null,null,null,null,null,null,null,null,"RM","Lo Prado","RM - Región Metropolitana de Santiago",null,null,null,null,null,null,null,null,null,null,null,null,null,null,null,null,null,null,null,null,null,null,"Recinto 94",{"$f":"+IFERROR(VLOOKUP('Datos Generales Edificio'!#REF!,$BO$5:$BP$32,2,FALSE),\"\")","v":""},{"$f":"+IF('Datos Generales Edificio'!#REF!<>\"\",'Datos Generales Edificio'!#REF!,\"\")","v":{"$error":"#REF!"}},0,{"$f":"+'Datos Generales Edificio'!#REF!","v":{"$error":"#REF!"}},"",{"$f":"+IF('Datos Generales Edificio'!#REF!<>\"\",'Datos Generales Edificio'!#REF!,\"\")","v":{"$error":"#REF!"}},0,{"$f":"+'Datos Generales Edificio'!#REF!","v":{"$error":"#REF!"}},"",{"$f":"IF('Datos Generales Edificio'!#REF!<>\"\",'Datos Generales Edificio'!#REF!,\"\")","v":{"$error":"#REF!"}},0,{"$f":"+'Datos Generales Edificio'!#REF!","v":{"$error":"#REF!"}},"",{"$f":"IF('Datos Generales Edificio'!#REF!<>\"\",'Datos Generales Edificio'!#REF!,\"\")","v":{"$error":"#REF!"}},0,{"$f":"+'Datos Generales Edificio'!#REF!","v":{"$error":"#REF!"}},"",{"$f":"IF('Datos Generales Edificio'!#REF!<>\"\",'Datos Generales Edificio'!#REF!,\"\")","v":{"$error":"#REF!"}},0,{"$f":"+'Datos Generales Edificio'!#REF!","v":{"$error":"#REF!"}},"",0,0,0,"",null,null,null,null,null,null,null,null,null,"Z","Terreno abierto",16,"30a",30]
[null,null,null,null,null,null,null,null,null,null,null,null,null,null,null,null,null,null,null,null,null,null,null,null,null,null,null,null,null,null,null,null,null,null,null,null,null,null,null,null,null,null,null,null,"RM","Macul","RM - Región Metropolitana de Santiago",null,null,null,null,null,null,null,null,null,null,null,null,null,null,null,null,null,null,null,null,null,null,"Recinto 95",{"$f":"+IFERROR(VLOOKUP('Datos Generales Edificio'!#REF!,$BO$5:$BP$32,2,FALSE),\"\")","v":""},{"$f":"+IF('Datos Generales Edificio'!#REF!<>\"\",'Datos Generales Edificio'!#REF!,\"\")","v":{"$error":"#REF!"}},0,{"$f":"+'Datos Generales Edificio'!#REF!","v":{"$error":"#REF!"}},"",{"$f":"+IF('Datos Generales Edificio'!#REF!<>\"\",'Datos Generales Edificio'!#REF!,\"\")","v":{"$error":"#REF!"}},0,{"$f":"+'Datos Generales Edificio'!#REF!","v":{"$error":"#REF!"}},"",{"$f":"IF('Datos Generales Edificio'!#REF!<>\"\",'Datos Generales Edificio'!#REF!,\"\")","v":{"$error":"#REF!"}},0,{"$f":"+'Datos Generales Edificio'!#REF!","v":{"$error":"#REF!"}},"",{"$f":"IF('Datos Generales Edificio'!#REF!<>\"\",'Datos Generales Edificio'!#REF!,\"\")","v":{"$error":"#REF!"}},0,{"$f":"+'Datos Generales Edificio'!#REF!","v":{"$error":"#REF!"}},"",{"$f":"IF('Datos Generales Edificio'!#REF!<>\"\",'Datos Generales Edificio'!#REF!,\"\")","v":{"$error":"#REF!"}},0,{"$f":"+'Datos Generales Edificio'!#REF!","v":{"$error":"#REF!"}},"",0,0,0,"",null,null,null,null,null,null,null,null,null,"Z","Terreno abierto",17,"30a",30]
[null,null,null,null,null,null,null,null,null,null,null,null,null,null,null,null,null,null,null,null,null,null,null,null,null,null,null,null,null,null,null,null,null,null,null,null,null,null,null,null,null,null,null,null,"RM","Maipú","RM - Región Metropolitana de Santiago",null,null,null,null,null,null,null,null,null,null,null,null,null,null,null,null,null,null,null,null,null,null,"Recinto 96",{"$f":"+IFERROR(VLOOKUP('Datos Generales Edificio'!#REF!,$BO$5:$BP$32,2,FALSE),\"\")","v":""},{"$f":"+IF('Datos Generales Edificio'!#REF!<>\"\",'Datos Generales Edificio'!#REF!,\"\")","v":{"$error":"#REF!"}},0,{"$f":"+'Datos Generales Edificio'!#REF!","v":{"$error":"#REF!"}},"",{"$f":"+IF('Datos Generales Edificio'!#REF!<>\"\",'Datos Generales Edificio'!#REF!,\"\")","v":{"$error":"#REF!"}},0,{"$f":"+'Datos Generales Edificio'!#REF!","v":{"$error":"#REF!"}},"",{"$f":"IF('Datos Generales Edificio'!#REF!<>\"\",'Datos Generales Edificio'!#REF!,\"\")","v":{"$error":"#REF!"}},0,{"$f":"+'Datos Generales Edificio'!#REF!","v":{"$error":"#REF!"}},"",{"$f":"IF('Datos Generales Edificio'!#REF!<>\"\",'Datos Generales Edificio'!#REF!,\"\")","v":{"$error":"#REF!"}},0,{"$f":"+'Datos Generales Edificio'!#REF!","v":{"$error":"#REF!"}},"",{"$f":"IF('Datos Generales Edificio'!#REF!<>\"\",'Datos Generales Edificio'!#REF!,\"\")","v":{"$error":"#REF!"}},0,{"$f":"+'Datos Generales Edificio'!#REF!","v":{"$error":"#REF!"}},"",0,0,0,"",null,null,null,null,null,null,null,null,null,"Z","Terreno abierto",18,"30a",30]
[null,null,null,null,null,null,null,null,null,null,null,null,null,null,null,null,null,null,null,null,null,null,null,null,null,null,null,null,null,null,null,null,null,null,null,null,null,null,null,null,null,null,null,null,"RM","María Pinto","RM - Región Metropolitana de Santiago",null,null,null,null,null,null,null,null,null,null,null,null,null,null,null,null,null,null,null,null,null,null,"Recinto 97",{"$f":"+IFERROR(VLOOKUP('Datos Generales Edificio'!#REF!,$BO$5:$BP$32,2,FALSE),\"\")","v":""},{"$f":"+IF('Datos Generales Edificio'!#REF!<>\"\",'Datos Generales Edificio'!#REF!,\"\")","v":{"$error":"#REF!"}},0,{"$f":"+'Datos Generales Edificio'!#REF!","v":{"$error":"#REF!"}},"",{"$f":"+IF('Datos Generales Edificio'!#REF!<>\"\",'Datos Generales Edificio'!#REF!,\"\")","v":{"$error":"#REF!"}},0,{"$f":"+'Datos Generales Edificio'!#REF!","v":{"$error":"#REF!"}},"",{"$f":"IF('Datos Generales Edificio'!#REF!<>\"\",'Datos Generales Edificio'!#REF!,\"\")","v":{"$error":"#REF!"}},0,{"$f":"+'Datos Generales Edificio'!#REF!","v":{"$error":"#REF!"}},"",{"$f":"IF('Datos Generales Edificio'!#REF!<>\"\",'Datos Generales Edificio'!#REF!,\"\")","v":{"$error":"#REF!"}},0,{"$f":"+'Datos Generales Edificio'!#REF!","v":{"$error":"#REF!"}},"",{"$f":"IF('Datos Generales Edificio'!#REF!<>\"\",'Datos Generales Edificio'!#REF!,\"\")","v":{"$error":"#REF!"}},0,{"$f":"+'Datos Generales Edificio'!#REF!","v":{"$error":"#REF!"}},"",0,0,0,"",null,null,null,null,null,null,null,null,null,"Z","Terreno abierto",19,"30a",30]
[null,null,null,null,null,null,null,null,null,null,null,null,null,null,null,null,null,null,null,null,null,null,null,null,null,null,null,null,null,null,null,null,null,null,null,null,null,null,null,null,null,null,null,null,"RM","Melipilla","RM - Región Metropolitana de Santiago",null,null,null,null,null,null,null,null,null,null,null,null,null,null,null,null,null,null,null,null,null,null,"Recinto 98",{"$f":"+IFERROR(VLOOKUP('Datos Generales Edificio'!#REF!,$BO$5:$BP$32,2,FALSE),\"\")","v":""},{"$f":"+IF('Datos Generales Edificio'!#REF!<>\"\",'Datos Generales Edificio'!#REF!,\"\")","v":{"$error":"#REF!"}},0,{"$f":"+'Datos Generales Edificio'!#REF!","v":{"$error":"#REF!"}},"",{"$f":"+IF('Datos Generales Edificio'!#REF!<>\"\",'Datos Generales Edificio'!#REF!,\"\")","v":{"$error":"#REF!"}},0,{"$f":"+'Datos Generales Edificio'!#REF!","v":{"$error":"#REF!"}},"",{"$f":"IF('Datos Generales Edificio'!#REF!<>\"\",'Datos Generales Edificio'!#REF!,\"\")","v":{"$error":"#REF!"}},0,{"$f":"+'Datos Generales Edificio'!#REF!","v":{"$error":"#REF!"}},"",{"$f":"IF('Datos Generales Edificio'!#REF!<>\"\",'Datos Generales Edificio'!#REF!,\"\")","v":{"$error":"#REF!"}},0,{"$f":"+'Datos Generales Edificio'!#REF!","v":{"$error":"#REF!"}},"",{"$f":"IF('Datos Generales Edificio'!#REF!<>\"\",'Datos Generales Edificio'!#REF!,\"\")","v":{"$error":"#REF!"}},0,{"$f":"+'Datos Generales Edificio'!#REF!","v":{"$error":"#REF!"}},"",0,0,0,"",null,null,null,null,null,null,null,null,null,"Z","Terreno abierto",20,"30a",30]
[null,null,null,null,null,null,null,null,null,null,null,null,null,null,null,null,null,null,null,null,null,null,null,null,null,null,null,null,null,null,null,null,null,null,null,null,null,null,null,null,null,null,null,null,"RM","Ñuñoa","RM - Región Metropolitana de Santiago",null,null,null,null,null,null,null,null,null,null,null,null,null,null,null,null,null,null,null,null,null,null,"Recinto 99",{"$f":"+IFERROR(VLOOKUP('Datos Generales Edificio'!#REF!,$BO$5:$BP$32,2,FALSE),\"\")","v":""},{"$f":"+IF('Datos Generales Edificio'!#REF!<>\"\",'Datos Generales Edificio'!#REF!,\"\")","v":{"$error":"#REF!"}},0,{"$f":"+'Datos Generales Edificio'!#REF!","v":{"$error":"#REF!"}},"",{"$f":"+IF('Datos Generales Edificio'!#REF!<>\"\",'Datos Generales Edificio'!#REF!,\"\")","v":{"$error":"#REF!"}},0,{"$f":"+'Datos Generales Edificio'!#REF!","v":{"$error":"#REF!"}},"",{"$f":"IF('Datos Generales Edificio'!#REF!<>\"\",'Datos Generales Edificio'!#REF!,\"\")","v":{"$error":"#REF!"}},0,{"$f":"+'Datos Generales Edificio'!#REF!","v":{"$error":"#REF!"}},"",{"$f":"IF('Datos Generales Edificio'!#REF!<>\"\",'Datos Generales Edificio'!#REF!,\"\")","v":{"$error":"#REF!"}},0,{"$f":"+'Datos Generales Edificio'!#REF!","v":{"$error":"#REF!"}},"",{"$f":"IF('Datos Generales Edificio'!#REF!<>\"\",'Datos Generales Edificio'!#REF!,\"\")","v":{"$error":"#REF!"}},0,{"$f":"+'Datos Generales Edificio'!#REF!","v":{"$error":"#REF!"}},"",0,0,0,"",null,null,null,null,null,null,null,null,null,"Z","Ciudades",1,"60a",60]
[null,null,null,null,null,null,null,null,null,null,null,null,null,null,null,null,null,null,null,null,null,null,null,null,null,null,null,null,null,null,null,null,null,null,null,null,null,null,null,null,null,null,null,null,"RM","Padre Hurtado","RM - Región Metropolitana de Santiago",null,null,null,null,null,null,null,null,null,null,null,null,null,null,null,null,null,null,null,null,null,null,"Recinto 100",{"$f":"+IFERROR(VLOOKUP('Datos Generales Edificio'!#REF!,$BO$5:$BP$32,2,FALSE),\"\")","v":""},{"$f":"+IF('Datos Generales Edificio'!#REF!<>\"\",'Datos Generales Edificio'!#REF!,\"\")","v":{"$error":"#REF!"}},0,{"$f":"+'Datos Generales Edificio'!#REF!","v":{"$error":"#REF!"}},"",{"$f":"+IF('Datos Generales Edificio'!#REF!<>\"\",'Datos Generales Edificio'!#REF!,\"\")","v":{"$error":"#REF!"}},0,{"$f":"+'Datos Generales Edificio'!#REF!","v":{"$error":"#REF!"}},"",{"$f":"IF('Datos Generales Edificio'!#REF!<>\"\",'Datos Generales Edificio'!#REF!,\"\")","v":{"$error":"#REF!"}},0,{"$f":"+'Datos Generales Edificio'!#REF!","v":{"$error":"#REF!"}},"",{"$f":"IF('Datos Generales Edificio'!#REF!<>\"\",'Datos Generales Edificio'!#REF!,\"\")","v":{"$error":"#REF!"}},0,{"$f":"+'Datos Generales Edificio'!#REF!","v":{"$error":"#REF!"}},"",{"$f":"IF('Datos Generales Edificio'!#REF!<>\"\",'Datos Generales Edificio'!#REF!,\"\")","v":{"$error":"#REF!"}},0,{"$f":"+'Datos Generales Edificio'!#REF!","v":{"$error":"#REF!"}},"",0,0,0,"",null,null,null,null,null,null,null,null,null,"Z","Ciudades",2,"60a",60]
[null,null,null,null,null,null,null,null,null,null,null,null,null,null,null,null,null,null,null,null,null,null,null,null,null,null,null,null,null,null,null,null,null,null,null,null,null,null,null,null,null,null,null,null,"RM","Paine","RM - Región Metropolitana de Santiago",null,null,null,null,null,null,null,null,null,null,null,null,null,null,null,null,null,null,null,null,null,null,null,null,null,null,null,null,null,null,null,null,null,null,null,null,null,null,null,null,null,null,null,null,null,null,null,null,null,null,null,null,null,null,null,null,null,"Z","Ciudades",3,"60a",60]
[null,null,null,null,null,null,null,null,null,null,null,null,null,null,null,null,null,null,null,null,null,null,null,null,null,null,null,null,null,null,null,null,null,null,null,null,null,null,null,null,null,null,null,null,"RM","Pedro Aguirre Cerda","RM - Región Metropolitana de Santiago",null,null,null,null,null,null,null,null,null,null,null,null,null,null,null,null,null,null,null,null,null,null,null,null,null,null,null,null,null,null,null,null,null,null,null,null,null,null,null,null,null,null,null,null,null,null,null,null,null,null,null,null,null,null,null,null,null,"Z","Ciudades",4,"60a",60]
[null,null,null,null,null,null,null,null,null,null,null,null,null,null,null,null,null,null,null,null,null,null,null,null,null,null,null,null,null,null,null,null,null,null,null,null,null,null,null,null,null,null,null,null,"RM","Peñaflor","RM - Región Metropolitana de Santiago",null,null,null,null,null,null,null,null,null,null,null,null,null,null,null,null,null,null,null,null,null,null,null,null,null,null,null,null,null,null,null,null,null,null,null,null,null,null,null,null,null,null,null,null,null,null,null,null,null,null,null,null,null,null,null,null,null,"Z","Ciudades",5,"60a",60]
[null,null,null,null,null,null,null,null,null,null,null,null,null,null,null,null,null,null,null,null,null,null,null,null,null,null,null,null,null,null,null,null,null,null,null,null,null,null,null,null,null,null,null,null,"RM","Peñalolén","RM - Región Metropolitana de Santiago",null,null,null,null,null,null,null,null,null,null,null,null,null,null,null,null,null,null,null,null,null,null,null,null,null,null,null,null,null,null,null,null,null,null,null,null,null,null,null,null,null,null,null,null,null,null,null,null,null,null,null,null,null,null,null,null,null,"Z","Ciudades",6,"30a",30]
[null,null,null,null,null,null,null,null,null,null,null,null,null,null,null,null,null,null,null,null,null,null,null,null,null,null,null,null,null,null,null,null,null,null,null,null,null,null,null,null,null,null,null,null,"RM","Pirque","RM - Región Metropolitana de Santiago",null,null,null,null,null,null,null,null,null,null,null,null,null,null,null,null,null,null,null,null,null,null,null,null,null,null,null,null,null,null,null,null,null,null,null,null,null,null,null,null,null,null,null,null,null,null,null,null,null,null,null,null,null,null,null,null,null,"Z","Ciudades",7,"30a",30]
[null,null,null,null,null,null,null,null,null,null,null,null,null,null,null,null,null,null,null,null,null,null,null,null,null,null,null,null,null,null,null,null,null,null,null,null,null,null,null,null,null,null,null,null,"RM","Providencia","RM - Región Metropolitana de Santiago",null,null,null,null,null,null,null,null,null,null,null,null,null,null,null,null,null,null,null,null,null,null,null,null,null,null,null,null,null,null,null,null,null,null,null,null,null,null,null,null,null,null,null,null,null,null,null,null,null,null,null,null,null,null,null,null,null,"Z","Ciudades",8,"30a",30]
[null,null,null,null,null,null,null,null,null,null,null,null,null,null,null,null,null,null,null,null,null,null,null,null,null,null,null,null,null,null,null,null,null,null,null,null,null,null,null,null,null,null,null,null,"RM","Pudahuel","RM - Región Metropolitana de Santiago",null,null,null,null,null,null,null,null,null,null,null,null,null,null,null,null,null,null,null,null,null,null,null,null,null,null,null,null,null,null,null,null,null,null,null,null,null,null,null,null,null,null,null,null,null,null,null,null,null,null,null,null,null,null,null,null,null,"Z","Ciudades",9,"30a",30]
[null,null,null,null,null,null,null,null,null,null,null,null,null,null,null,null,null,null,null,null,null,null,null,null,null,null,null,null,null,null,null,null,null,null,null,null,null,null,null,null,null,null,null,null,"RM","Puente Alto","RM - Región Metropolitana de Santiago",null,null,null,null,null,null,null,null,null,null,null,null,null,null,null,null,null,null,null,null,null,null,null,null,null,null,null,null,null,null,null,null,null,null,null,null,null,null,null,null,null,null,null,null,null,null,null,null,null,null,null,null,null,null,null,null,null,"Z","Ciudades",10,"30a",30]
[null,null,null,null,null,null,null,null,null,null,null,null,null,null,null,null,null,null,null,null,null,null,null,null,null,null,null,null,null,null,null,null,null,null,null,null,null,null,null,null,null,null,null,null,"RM","Quilicura","RM - Región Metropolitana de Santiago",null,null,null,null,null,null,null,null,null,null,null,null,null,null,null,null,null,null,null,null,null,null,null,null,null,null,null,null,null,null,null,null,null,null,null,null,null,null,null,null,null,null,null,null,null,null,null,null,null,null,null,null,null,null,null,null,null,"Z","Ciudades",11,"30a",30]
[null,null,null,null,null,null,null,null,null,null,null,null,null,null,null,null,null,null,null,null,null,null,null,null,null,null,null,null,null,null,null,null,null,null,null,null,null,null,null,null,null,null,null,null,"RM","Quinta Normal","RM - Región Metropolitana de Santiago",null,null,null,null,null,null,null,null,null,null,null,null,null,null,null,null,null,null,null,null,null,null,null,null,null,null,null,null,null,null,null,null,null,null,null,null,null,null,null,null,null,null,null,null,null,null,null,null,null,null,null,null,null,null,null,null,null,"Z","Ciudades",12,"30a",30]
[null,null,null,null,null,null,null,null,null,null,null,null,null,null,null,null,null,null,null,null,null,null,null,null,null,null,null,null,null,null,null,null,null,null,null,null,null,null,null,null,null,null,null,null,"RM","Recoleta","RM - Región Metropolitana de Santiago",null,null,null,null,null,null,null,null,null,null,null,null,null,null,null,null,null,null,null,null,null,null,null,null,null,null,null,null,null,null,null,null,null,null,null,null,null,null,null,null,null,null,null,null,null,null,null,null,null,null,null,null,null,null,null,null,null,"Z","Ciudades",13,"30a",30]
[null,null,null,null,null,null,null,null,null,null,null,null,null,null,null,null,null,null,null,null,null,null,null,null,null,null,null,null,null,null,null,null,null,null,null,null,null,null,null,null,null,null,null,null,"RM","Renca","RM - Región Metropolitana de Santiago",null,null,null,null,null,null,null,null,null,null,null,null,null,null,null,null,null,null,null,null,null,null,null,null,null,null,null,null,null,null,null,null,null,null,null,null,null,null,null,null,null,null,null,null,null,null,null,null,null,null,null,null,null,null,null,null,null,"Z","Ciudades",14,"30a",30]
[null,null,null,null,null,null,null,null,null,null,null,null,null,null,null,null,null,null,null,null,null,null,null,null,null,null,null,null,null,null,null,null,null,null,null,null,null,null,null,null,null,null,null,null,"RM","San Bernardo","RM - Región Metropolitana de Santiago",null,null,null,null,null,null,null,null,null,null,null,null,null,null,null,null,null,null,null,null,null,null,null,null,null,null,null,null,null,null,null,null,null,null,null,null,null,null,null,null,null,null,null,null,null,null,null,null,null,null,null,null,null,null,null,null,null,"Z","Ciudades",15,"30a",30]
[null,null,null,null,null,null,null,null,null,null,null,null,null,null,null,null,null,null,null,null,null,null,null,null,null,null,null,null,null,null,null,null,null,null,null,null,null,null,null,null,null,null,null,null,"RM","San Joaquín","RM - Región Metropolitana de Santiago",null,null,null,null,null,null,null,null,null,null,null,null,null,null,null,null,null,null,null,null,null,null,null,null,null,null,null,null,null,null,null,null,null,null,null,null,null,null,null,null,null,null,null,null,null,null,null,null,null,null,null,null,null,null,null,null,null,"Z","Ciudades",16,"30a",30]
[null,null,null,null,null,null,null,null,null,null,null,null,null,null,null,null,null,null,null,null,null,null,null,null,null,null,null,null,null,null,null,null,null,null,null,null,null,null,null,null,null,null,null,null,"RM","San José de Maipo","RM - Región Metropolitana de Santiago",null,null,null,null,null,null,null,null,null,null,null,null,null,null,null,null,null,null,null,null,null,null,null,null,null,null,null,null,null,null,null,null,null,null,null,null,null,null,null,null,null,null,null,null,null,null,null,null,null,null,null,null,null,null,null,null,null,"Z","Ciudades",17,"30a",30]
[null,null,null,null,null,null,null,null,null,null,null,null,null,null,null,null,null,null,null,null,null,null,null,null,null,null,null,null,null,null,null,null,null,null,null,null,null,null,null,null,null,null,null,null,"RM","San Miguel","RM - Región Metropolitana de Santiago",null,null,null,null,null,null,null,null,null,null,null,null,null,null,null,null,null,null,null,null,null,null,null,null,null,null,null,null,null,null,null,null,null,null,null,null,null,null,null,null,null,null,null,null,null,null,null,null,null,null,null,null,null,null,null,null,null,"Z","Ciudades",18,"30a",30]
[null,null,null,null,null,null,null,null,null,null,null,null,null,null,null,null,null,null,null,null,null,null,null,null,null,null,null,null,null,null,null,null,null,null,null,null,null,null,null,null,null,null,null,null,"RM","San Pedro","RM - Región Metropolitana de Santiago",null,null,null,null,null,null,null,null,null,null,null,null,null,null,null,null,null,null,null,null,null,null,null,null,null,null,null,null,null,null,null,null,null,null,null,null,null,null,null,null,null,null,null,null,null,null,null,null,null,null,null,null,null,null,null,null,null,"Z","Ciudades",19,"30a",30]
[null,null,null,null,null,null,null,null,null,null,null,null,null,null,null,null,null,null,null,null,null,null,null,null,null,null,null,null,null,null,null,null,null,null,null,null,null,null,null,null,null,null,null,null,"RM","San Ramón","RM - Región Metropolitana de Santiago",null,null,null,null,null,null,null,null,null,null,null,null,null,null,null,null,null,null,null,null,null,null,null,null,null,null,null,null,null,null,null,null,null,null,null,null,null,null,null,null,null,null,null,null,null,null,null,null,null,null,null,null,null,null,null,null,null,"Z","Ciudades",20,"30a",30]
[null,null,null,null,null,null,null,null,null,null,null,null,null,null,null,null,null,null,null,null,null,null,null,null,null,null,null,null,null,null,null,null,null,null,null,null,null,null,null,null,null,null,null,null,"RM","Santiago","RM - Región Metropolitana de Santiago"]
[null,null,null,null,null,null,null,null,null,null,null,null,null,null,null,null,null,null,null,null,null,null,null,null,null,null,null,null,null,null,null,null,null,null,null,null,null,null,null,null,null,null,null,null,"RM","Talagante","RM - Región Metropolitana de Santiago"]
[null,null,null,null,null,null,null,null,null,null,null,null,null,null,null,null,null,null,null,null,null,null,null,null,null,null,null,null,null,null,null,null,null,null,null,null,null,null,null,null,null,null,null,null,"RM","Tiltil","RM - Región Metropolitana de Santiago"]
[null,null,null,null,null,null,null,null,null,null,null,null,null,null,null,null,null,null,null,null,null,null,null,null,null,null,null,null,null,null,null,null,null,null,null,null,null,null,null,null,null,null,null,null,"RM","Vitacura","RM - Región Metropolitana de Santiago"]
[null,null,null,null,null,null,null,null,null,null,null,null,null,null,null,null,null,null,null,null,null,null,null,null,null,null,null,null,null,null,null,null,null,null,null,null,null,null,null,null,null,null,null,null,"V","Algarrobo","V - Región de Valparaíso"]
[null,null,null,null,null,null,null,null,null,null,null,null,null,null,null,null,null,null,null,null,null,null,null,null,null,null,null,null,null,null,null,null,null,null,null,null,null,null,null,null,null,null,null,null,"V","Cabildo","V - Región de Valparaíso"]
[null,null,null,null,null,null,null,null,null,null,null,null,null,null,null,null,null,null,null,null,null,null,null,null,null,null,null,null,null,null,null,null,null,null,null,null,null,null,null,null,null,null,null,null,"V","Calera","V - Región de Valparaíso"]
[null,null,null,null,null,null,null,null,null,null,null,null,null,null,null,null,null,null,null,null,null,null,null,null,null,null,null,null,null,null,null,null,null,null,null,null,null,null,null,null,null,null,null,null,"V","Calle Larga","V - Región de Valparaíso"]
[null,null,null,null,null,null,null,null,null,null,null,null,null,null,null,null,null,null,null,null,null,null,null,null,null,null,null,null,null,null,null,null,null,null,null,null,null,null,null,null,null,null,null,null,"V","Cartagena","V - Región de Valparaíso"]
[null,null,null,null,null,null,null,null,null,null,null,null,null,null,null,null,null,null,null,null,null,null,null,null,null,null,null,null,null,null,null,null,null,null,null,null,null,null,null,null,null,null,null,null,"V","Casablanca","V - Región de Valparaíso"]
[null,null,null,null,null,null,null,null,null,null,null,null,null,null,null,null,null,null,null,null,null,null,null,null,null,null,null,null,null,null,null,null,null,null,null,null,null,null,null,null,null,null,null,null,"V","Catemu","V - Región de Valparaíso"]
[null,null,null,null,null,null,null,null,null,null,null,null,null,null,null,null,null,null,null,null,null,null,null,null,null,null,null,null,null,null,null,null,null,null,null,null,null,null,null,null,null,null,null,null,"V","Concón","V - Región de Valparaíso"]
[null,null,null,null,null,null,null,null,null,null,null,null,null,null,null,null,null,null,null,null,null,null,null,null,null,null,null,null,null,null,null,null,null,null,null,null,null,null,null,null,null,null,null,null,"V","El Quisco","V - Región de Valparaíso"]
[null,null,null,null,null,null,null,null,null,null,null,null,null,null,null,null,null,null,null,null,null,null,null,null,null,null,null,null,null,null,null,null,null,null,null,null,null,null,null,null,null,null,null,null,"V","El Tabo","V - Región de Valparaíso"]
[null,null,null,null,null,null,null,null,null,null,null,null,null,null,null,null,null,null,null,null,null,null,null,null,null,null,null,null,null,null,null,null,null,null,null,null,null,null,null,null,null,null,null,null,"V","Hijuelas","V - Región de Valparaíso"]
[null,null,null,null,null,null,null,null,null,null,null,null,null,null,null,null,null,null,null,null,null,null,null,null,null,null,null,null,null,null,null,null,null,null,null,null,null,null,null,null,null,null,null,null,"V","Isla de Pascua","V - Región de Valparaíso"]
[null,null,null,null,null,null,null,null,null,null,null,null,null,null,null,null,null,null,null,null,null,null,null,null,null,null,null,null,null,null,null,null,null,null,null,null,null,null,null,null,null,null,null,null,"V","Juan Fernández","V - Región de Valparaíso"]
[null,null,null,null,null,null,null,null,null,null,null,null,null,null,null,null,null,null,null,null,null,null,null,null,null,null,null,null,null,null,null,null,null,null,null,null,null,null,null,null,null,null,null,null,"V","La Cruz","V - Región de Valparaíso"]
[null,null,null,null,null,null,null,null,null,null,null,null,null,null,null,null,null,null,null,null,null,null,null,null,null,null,null,null,null,null,null,null,null,null,null,null,null,null,null,null,null,null,null,null,"V","La Ligua","V - Región de Valparaíso"]
[null,null,null,null,null,null,null,null,null,null,null,null,null,null,null,null,null,null,null,null,null,null,null,null,null,null,null,null,null,null,null,null,null,null,null,null,null,null,null,null,null,null,null,null,"V","Limache","V - Región de Valparaíso"]
[null,null,null,null,null,null,null,null,null,null,null,null,null,null,null,null,null,null,null,null,null,null,null,null,null,null,null,null,null,null,null,null,null,null,null,null,null,null,null,null,null,null,null,null,"V","Llaillay","V - Región de Valparaíso"]
[null,null,null,null,null,null,null,null,null,null,null,null,null,null,null,null,null,null,null,null,null,null,null,null,null,null,null,null,null,null,null,null,null,null,null,null,null,null,null,null,null,null,null,null,"V","Los Andes","V - Región de Valparaíso"]
[null,null,null,null,null,null,null,null,null,null,null,null,null,null,null,null,null,null,null,null,null,null,null,null,null,null,null,null,null,null,null,null,null,null,null,null,null,null,null,null,null,null,null,null,"V","Nogales","V - Región de Valparaíso"]
[null,null,null,null,null,null,null,null,null,null,null,null,null,null,null,null,null,null,null,null,null,null,null,null,null,null,null,null,null,null,null,null,null,null,null,null,null,null,null,null,null,null,null,null,"V","Olmué","V - Región de Valparaíso"]
[null,null,null,null,null,null,null,null,null,null,null,null,null,null,null,null,null,null,null,null,null,null,null,null,null,null,null,null,null,null,null,null,null,null,null,null,null,null,null,null,null,null,null,null,"V","Panquehue","V - Región de Valparaíso"]
[null,null,null,null,null,null,null,null,null,null,null,null,null,null,null,null,null,null,null,null,null,null,null,null,null,null,null,null,null,null,null,null,null,null,null,null,null,null,null,null,null,null,null,null,"V","Papudo","V - Región de Valparaíso"]
[null,null,null,null,null,null,null,null,null,null,null,null,null,null,null,null,null,null,null,null,null,null,null,null,null,null,null,null,null,null,null,null,null,null,null,null,null,null,null,null,null,null,null,null,"V","Petorca","V - Región de Valparaíso"]
[null,null,null,null,null,null,null,null,null,null,null,null,null,null,null,null,null,null,null,null,null,null,null,null,null,null,null,null,null,null,null,null,null,null,null,null,null,null,null,null,null,null,null,null,"V","Puchuncaví","V - Región de Valparaíso"]
[null,null,null,null,null,null,null,null,null,null,null,null,null,null,null,null,null,null,null,null,null,null,null,null,null,null,null,null,null,null,null,null,null,null,null,null,null,null,null,null,null,null,null,null,"V","Putaendo","V - Región de Valparaíso"]
[null,null,null,null,null,null,null,null,null,null,null,null,null,null,null,null,null,null,null,null,null,null,null,null,null,null,null,null,null,null,null,null,null,null,null,null,null,null,null,null,null,null,null,null,"V","Quillota","V - Región de Valparaíso"]
[null,null,null,null,null,null,null,null,null,null,null,null,null,null,null,null,null,null,null,null,null,null,null,null,null,null,null,null,null,null,null,null,null,null,null,null,null,null,null,null,null,null,null,null,"V","Quilpué","V - Región de Valparaíso"]
[null,null,null,null,null,null,null,null,null,null,null,null,null,null,null,null,null,null,null,null,null,null,null,null,null,null,null,null,null,null,null,null,null,null,null,null,null,null,null,null,null,null,null,null,"V","Quintero","V - Región de Valparaíso"]
[null,null,null,null,null,null,null,null,null,null,null,null,null,null,null,null,null,null,null,null,null,null,null,null,null,null,null,null,null,null,null,null,null,null,null,null,null,null,null,null,null,null,null,null,"V","Rinconada","V - Región de Valparaíso"]
[null,null,null,null,null,null,null,null,null,null,null,null,null,null,null,null,null,null,null,null,null,null,null,null,null,null,null,null,null,null,null,null,null,null,null,null,null,null,null,null,null,null,null,null,"V","San Antonio","V - Región de Valparaíso"]
[null,null,null,null,null,null,null,null,null,null,null,null,null,null,null,null,null,null,null,null,null,null,null,null,null,null,null,null,null,null,null,null,null,null,null,null,null,null,null,null,null,null,null,null,"V","San Esteban","V - Región de Valparaíso"]
[null,null,null,null,null,null,null,null,null,null,null,null,null,null,null,null,null,null,null,null,null,null,null,null,null,null,null,null,null,null,null,null,null,null,null,null,null,null,null,null,null,null,null,null,"V","San Felipe","V - Región de Valparaíso"]
[null,null,null,null,null,null,null,null,null,null,null,null,null,null,null,null,null,null,null,null,null,null,null,null,null,null,null,null,null,null,null,null,null,null,null,null,null,null,null,null,null,null,null,null,"V","Santa María","V - Región de Valparaíso"]
[null,null,null,null,null,null,null,null,null,null,null,null,null,null,null,null,null,null,null,null,null,null,null,null,null,null,null,null,null,null,null,null,null,null,null,null,null,null,null,null,null,null,null,null,"V","Santo Domingo","V - Región de Valparaíso"]
[null,null,null,null,null,null,null,null,null,null,null,null,null,null,null,null,null,null,null,null,null,null,null,null,null,null,null,null,null,null,null,null,null,null,null,null,null,null,null,null,null,null,null,null,"V","Valparaíso","V - Región de Valparaíso"]
[null,null,null,null,null,null,null,null,null,null,null,null,null,null,null,null,null,null,null,null,null,null,null,null,null,null,null,null,null,null,null,null,null,null,null,null,null,null,null,null,null,null,null,null,"V","Villa Alemana","V - Región de Valparaíso"]
[null,null,null,null,null,null,null,null,null,null,null,null,null,null,null,null,null,null,null,null,null,null,null,null,null,null,null,null,null,null,null,null,null,null,null,null,null,null,null,null,null,null,null,null,"V","Viña del Mar","V - Región de Valparaíso"]
[null,null,null,null,null,null,null,null,null,null,null,null,null,null,null,null,null,null,null,null,null,null,null,null,null,null,null,null,null,null,null,null,null,null,null,null,null,null,null,null,null,null,null,null,"V","Zapallar","V - Región de Valparaíso"]
[null,null,null,null,null,null,null,null,null,null,null,null,null,null,null,null,null,null,null,null,null,null,null,null,null,null,null,null,null,null,null,null,null,null,null,null,null,null,null,null,null,null,null,null,"VI","Chépica","VI - Región de O'Higgins"]
[null,null,null,null,null,null,null,null,null,null,null,null,null,null,null,null,null,null,null,null,null,null,null,null,null,null,null,null,null,null,null,null,null,null,null,null,null,null,null,null,null,null,null,null,"VI","Chimbarongo","VI - Región de O'Higgins"]
[null,null,null,null,null,null,null,null,null,null,null,null,null,null,null,null,null,null,null,null,null,null,null,null,null,null,null,null,null,null,null,null,null,null,null,null,null,null,null,null,null,null,null,null,"VI","Codegua","VI - Región de O'Higgins"]
[null,null,null,null,null,null,null,null,null,null,null,null,null,null,null,null,null,null,null,null,null,null,null,null,null,null,null,null,null,null,null,null,null,null,null,null,null,null,null,null,null,null,null,null,"VI","Coinco","VI - Región de O'Higgins"]
[null,null,null,null,null,null,null,null,null,null,null,null,null,null,null,null,null,null,null,null,null,null,null,null,null,null,null,null,null,null,null,null,null,null,null,null,null,null,null,null,null,null,null,null,"VI","Coltauco","VI - Región de O'Higgins"]
[null,null,null,null,null,null,null,null,null,null,null,null,null,null,null,null,null,null,null,null,null,null,null,null,null,null,null,null,null,null,null,null,null,null,null,null,null,null,null,null,null,null,null,null,"VI","Doñihue","VI - Región de O'Higgins"]
[null,null,null,null,null,null,null,null,null,null,null,null,null,null,null,null,null,null,null,null,null,null,null,null,null,null,null,null,null,null,null,null,null,null,null,null,null,null,null,null,null,null,null,null,"VI","Graneros","VI - Región de O'Higgins"]
[null,null,null,null,null,null,null,null,null,null,null,null,null,null,null,null,null,null,null,null,null,null,null,null,null,null,null,null,null,null,null,null,null,null,null,null,null,null,null,null,null,null,null,null,"VI","La Estrella","VI - Región de O'Higgins"]
[null,null,null,null,null,null,null,null,null,null,null,null,null,null,null,null,null,null,null,null,null,null,null,null,null,null,null,null,null,null,null,null,null,null,null,null,null,null,null,null,null,null,null,null,"VI","Las Cabras","VI - Región de O'Higgins"]
[null,null,null,null,null,null,null,null,null,null,null,null,null,null,null,null,null,null,null,null,null,null,null,null,null,null,null,null,null,null,null,null,null,null,null,null,null,null,null,null,null,null,null,null,"VI","Litueche","VI - Región de O'Higgins"]
[null,null,null,null,null,null,null,null,null,null,null,null,null,null,null,null,null,null,null,null,null,null,null,null,null,null,null,null,null,null,null,null,null,null,null,null,null,null,null,null,null,null,null,null,"VI","Lolol","VI - Región de O'Higgins"]
[null,null,null,null,null,null,null,null,null,null,null,null,null,null,null,null,null,null,null,null,null,null,null,null,null,null,null,null,null,null,null,null,null,null,null,null,null,null,null,null,null,null,null,null,"VI","Machalí","VI - Región de O'Higgins"]
[null,null,null,null,null,null,null,null,null,null,null,null,null,null,null,null,null,null,null,null,null,null,null,null,null,null,null,null,null,null,null,null,null,null,null,null,null,null,null,null,null,null,null,null,"VI","Malloa","VI - Región de O'Higgins"]
[null,null,null,null,null,null,null,null,null,null,null,null,null,null,null,null,null,null,null,null,null,null,null,null,null,null,null,null,null,null,null,null,null,null,null,null,null,null,null,null,null,null,null,null,"VI","Marchigue","VI - Región de O'Higgins"]
[null,null,null,null,null,null,null,null,null,null,null,null,null,null,null,null,null,null,null,null,null,null,null,null,null,null,null,null,null,null,null,null,null,null,null,null,null,null,null,null,null,null,null,null,"VI","Mostazal","VI - Región de O'Higgins"]
[null,null,null,null,null,null,null,null,null,null,null,null,null,null,null,null,null,null,null,null,null,null,null,null,null,null,null,null,null,null,null,null,null,null,null,null,null,null,null,null,null,null,null,null,"VI","Nancagua","VI - Región de O'Higgins"]
[null,null,null,null,null,null,null,null,null,null,null,null,null,null,null,null,null,null,null,null,null,null,null,null,null,null,null,null,null,null,null,null,null,null,null,null,null,null,null,null,null,null,null,null,"VI","Navidad","VI - Región de O'Higgins"]
[null,null,null,null,null,null,null,null,null,null,null,null,null,null,null,null,null,null,null,null,null,null,null,null,null,null,null,null,null,null,null,null,null,null,null,null,null,null,null,null,null,null,null,null,"VI","Olivar","VI - Región de O'Higgins"]
[null,null,null,null,null,null,null,null,null,null,null,null,null,null,null,null,null,null,null,null,null,null,null,null,null,null,null,null,null,null,null,null,null,null,null,null,null,null,null,null,null,null,null,null,"VI","Palmilla","VI - Región de O'Higgins"]
[null,null,null,null,null,null,null,null,null,null,null,null,null,null,null,null,null,null,null,null,null,null,null,null,null,null,null,null,null,null,null,null,null,null,null,null,null,null,null,null,null,null,null,null,"VI","Paredones","VI - Región de O'Higgins"]
[null,null,null,null,null,null,null,null,null,null,null,null,null,null,null,null,null,null,null,null,null,null,null,null,null,null,null,null,null,null,null,null,null,null,null,null,null,null,null,null,null,null,null,null,"VI","Peralillo","VI - Región de O'Higgins"]
[null,null,null,null,null,null,null,null,null,null,null,null,null,null,null,null,null,null,null,null,null,null,null,null,null,null,null,null,null,null,null,null,null,null,null,null,null,null,null,null,null,null,null,null,"VI","Peumo","VI - Región de O'Higgins"]
[null,null,null,null,null,null,null,null,null,null,null,null,null,null,null,null,null,null,null,null,null,null,null,null,null,null,null,null,null,null,null,null,null,null,null,null,null,null,null,null,null,null,null,null,"VI","Pichidegua","VI - Región de O'Higgins"]
[null,null,null,null,null,null,null,null,null,null,null,null,null,null,null,null,null,null,null,null,null,null,null,null,null,null,null,null,null,null,null,null,null,null,null,null,null,null,null,null,null,null,null,null,"VI","Pichilemu","VI - Región de O'Higgins"]
[null,null,null,null,null,null,null,null,null,null,null,null,null,null,null,null,null,null,null,null,null,null,null,null,null,null,null,null,null,null,null,null,null,null,null,null,null,null,null,null,null,null,null,null,"VI","Placilla","VI - Región de O'Higgins"]
[null,null,null,null,null,null,null,null,null,null,null,null,null,null,null,null,null,null,null,null,null,null,null,null,null,null,null,null,null,null,null,null,null,null,null,null,null,null,null,null,null,null,null,null,"VI","Pumanque","VI - Región de O'Higgins"]
[null,null,null,null,null,null,null,null,null,null,null,null,null,null,null,null,null,null,null,null,null,null,null,null,null,null,null,null,null,null,null,null,null,null,null,null,null,null,null,null,null,null,null,null,"VI","Quinta de Tilcoco","VI - Región de O'Higgins"]
[null,null,null,null,null,null,null,null,null,null,null,null,null,null,null,null,null,null,null,null,null,null,null,null,null,null,null,null,null,null,null,null,null,null,null,null,null,null,null,null,null,null,null,null,"VI","Rancagua","VI - Región de O'Higgins"]
[null,null,null,null,null,null,null,null,null,null,null,null,null,null,null,null,null,null,null,null,null,null,null,null,null,null,null,null,null,null,null,null,null,null,null,null,null,null,null,null,null,null,null,null,"VI","Rengo","VI - Región de O'Higgins"]
[null,null,null,null,null,null,null,null,null,null,null,null,null,null,null,null,null,null,null,null,null,null,null,null,null,null,null,null,null,null,null,null,null,null,null,null,null,null,null,null,null,null,null,null,"VI","Requínoa","VI - Región de O'Higgins"]
[null,null,null,null,null,null,null,null,null,null,null,null,null,null,null,null,null,null,null,null,null,null,null,null,null,null,null,null,null,null,null,null,null,null,null,null,null,null,null,null,null,null,null,null,"VI","San Fernando","VI - Región de O'Higgins"]
[null,null,null,null,null,null,null,null,null,null,null,null,null,null,null,null,null,null,null,null,null,null,null,null,null,null,null,null,null,null,null,null,null,null,null,null,null,null,null,null,null,null,null,null,"VI","San Vicente","VI - Región de O'Higgins"]
[null,null,null,null,null,null,null,null,null,null,null,null,null,null,null,null,null,null,null,null,null,null,null,null,null,null,null,null,null,null,null,null,null,null,null,null,null,null,null,null,null,null,null,null,"VI","Santa Cruz","VI - Región de O'Higgins"]
[null,null,null,null,null,null,null,null,null,null,null,null,null,null,null,null,null,null,null,null,null,null,null,null,null,null,null,null,null,null,null,null,null,null,null,null,null,null,null,null,null,null,null,null,"VII","Cauquenes","VII - Región de Maule"]
[null,null,null,null,null,null,null,null,null,null,null,null,null,null,null,null,null,null,null,null,null,null,null,null,null,null,null,null,null,null,null,null,null,null,null,null,null,null,null,null,null,null,null,null,"VII","Chanco","VII - Región de Maule"]
[null,null,null,null,null,null,null,null,null,null,null,null,null,null,null,null,null,null,null,null,null,null,null,null,null,null,null,null,null,null,null,null,null,null,null,null,null,null,null,null,null,null,null,null,"VII","Colbún","VII - Región de Maule"]
[null,null,null,null,null,null,null,null,null,null,null,null,null,null,null,null,null,null,null,null,null,null,null,null,null,null,null,null,null,null,null,null,null,null,null,null,null,null,null,null,null,null,null,null,"VII","Constitución","VII - Región de Maule"]
[null,null,null,null,null,null,null,null,null,null,null,null,null,null,null,null,null,null,null,null,null,null,null,null,null,null,null,null,null,null,null,null,null,null,null,null,null,null,null,null,null,null,null,null,"VII","Curepto","VII - Región de Maule"]
[null,null,null,null,null,null,null,null,null,null,null,null,null,null,null,null,null,null,null,null,null,null,null,null,null,null,null,null,null,null,null,null,null,null,null,null,null,null,null,null,null,null,null,null,"VII","Curicó","VII - Región de Maule"]
[null,null,null,null,null,null,null,null,null,null,null,null,null,null,null,null,null,null,null,null,null,null,null,null,null,null,null,null,null,null,null,null,null,null,null,null,null,null,null,null,null,null,null,null,"VII","Empedrado","VII - Región de Maule"]
[null,null,null,null,null,null,null,null,null,null,null,null,null,null,null,null,null,null,null,null,null,null,null,null,null,null,null,null,null,null,null,null,null,null,null,null,null,null,null,null,null,null,null,null,"VII","Hualañé","VII - Región de Maule"]
[null,null,null,null,null,null,null,null,null,null,null,null,null,null,null,null,null,null,null,null,null,null,null,null,null,null,null,null,null,null,null,null,null,null,null,null,null,null,null,null,null,null,null,null,"VII","Licantén","VII - Región de Maule"]
[null,null,null,null,null,null,null,null,null,null,null,null,null,null,null,null,null,null,null,null,null,null,null,null,null,null,null,null,null,null,null,null,null,null,null,null,null,null,null,null,null,null,null,null,"VII","Linares","VII - Región de Maule"]
[null,null,null,null,null,null,null,null,null,null,null,null,null,null,null,null,null,null,null,null,null,null,null,null,null,null,null,null,null,null,null,null,null,null,null,null,null,null,null,null,null,null,null,null,"VII","Longaví","VII - Región de Maule"]
[null,null,null,null,null,null,null,null,null,null,null,null,null,null,null,null,null,null,null,null,null,null,null,null,null,null,null,null,null,null,null,null,null,null,null,null,null,null,null,null,null,null,null,null,"VII","Maule","VII - Región de Maule"]
[null,null,null,null,null,null,null,null,null,null,null,null,null,null,null,null,null,null,null,null,null,null,null,null,null,null,null,null,null,null,null,null,null,null,null,null,null,null,null,null,null,null,null,null,"VII","Molina","VII - Región de Maule"]
[null,null,null,null,null,null,null,null,null,null,null,null,null,null,null,null,null,null,null,null,null,null,null,null,null,null,null,null,null,null,null,null,null,null,null,null,null,null,null,null,null,null,null,null,"VII","Parral","VII - Región de Maule"]
[null,null,null,null,null,null,null,null,null,null,null,null,null,null,null,null,null,null,null,null,null,null,null,null,null,null,null,null,null,null,null,null,null,null,null,null,null,null,null,null,null,null,null,null,"VII","Pelarco","VII - Región de Maule"]
[null,null,null,null,null,null,null,null,null,null,null,null,null,null,null,null,null,null,null,null,null,null,null,null,null,null,null,null,null,null,null,null,null,null,null,null,null,null,null,null,null,null,null,null,"VII","Pelluhue","VII - Región de Maule"]
[null,null,null,null,null,null,null,null,null,null,null,null,null,null,null,null,null,null,null,null,null,null,null,null,null,null,null,null,null,null,null,null,null,null,null,null,null,null,null,null,null,null,null,null,"VII","Pencahue","VII - Región de Maule"]
[null,null,null,null,null,null,null,null,null,null,null,null,null,null,null,null,null,null,null,null,null,null,null,null,null,null,null,null,null,null,null,null,null,null,null,null,null,null,null,null,null,null,null,null,"VII","Rauco","VII - Región de Maule"]
[null,null,null,null,null,null,null,null,null,null,null,null,null,null,null,null,null,null,null,null,null,null,null,null,null,null,null,null,null,null,null,null,null,null,null,null,null,null,null,null,null,null,null,null,"VII","Retiro","VII - Región de Maule"]
[null,null,null,null,null,null,null,null,null,null,null,null,null,null,null,null,null,null,null,null,null,null,null,null,null,null,null,null,null,null,null,null,null,null,null,null,null,null,null,null,null,null,null,null,"VII","Río Claro","VII - Región de Maule"]
[null,null,null,null,null,null,null,null,null,null,null,null,null,null,null,null,null,null,null,null,null,null,null,null,null,null,null,null,null,null,null,null,null,null,null,null,null,null,null,null,null,null,null,null,"VII","Romeral","VII - Región de Maule"]
[null,null,null,null,null,null,null,null,null,null,null,null,null,null,null,null,null,null,null,null,null,null,null,null,null,null,null,null,null,null,null,null,null,null,null,null,null,null,null,null,null,null,null,null,"VII","Sagrada Familia","VII - Región de Maule"]
[null,null,null,null,null,null,null,null,null,null,null,null,null,null,null,null,null,null,null,null,null,null,null,null,null,null,null,null,null,null,null,null,null,null,null,null,null,null,null,null,null,null,null,null,"VII","San Clemente","VII - Región de Maule"]
[null,null,null,null,null,null,null,null,null,null,null,null,null,null,null,null,null,null,null,null,null,null,null,null,null,null,null,null,null,null,null,null,null,null,null,null,null,null,null,null,null,null,null,null,"VII","San Javier","VII - Región de Maule"]
[null,null,null,null,null,null,null,null,null,null,null,null,null,null,null,null,null,null,null,null,null,null,null,null,null,null,null,null,null,null,null,null,null,null,null,null,null,null,null,null,null,null,null,null,"VII","San Rafael","VII - Región de Maule"]
[null,null,null,null,null,null,null,null,null,null,null,null,null,null,null,null,null,null,null,null,null,null,null,null,null,null,null,null,null,null,null,null,null,null,null,null,null,null,null,null,null,null,null,null,"VII","Talca","VII - Región de Maule"]
[null,null,null,null,null,null,null,null,null,null,null,null,null,null,null,null,null,null,null,null,null,null,null,null,null,null,null,null,null,null,null,null,null,null,null,null,null,null,null,null,null,null,null,null,"VII","Teno","VII - Región de Maule"]
[null,null,null,null,null,null,null,null,null,null,null,null,null,null,null,null,null,null,null,null,null,null,null,null,null,null,null,null,null,null,null,null,null,null,null,null,null,null,null,null,null,null,null,null,"VII","Vichuquén","VII - Región de Maule"]
[null,null,null,null,null,null,null,null,null,null,null,null,null,null,null,null,null,null,null,null,null,null,null,null,null,null,null,null,null,null,null,null,null,null,null,null,null,null,null,null,null,null,null,null,"VII","Villa Alegre","VII - Región de Maule"]
[null,null,null,null,null,null,null,null,null,null,null,null,null,null,null,null,null,null,null,null,null,null,null,null,null,null,null,null,null,null,null,null,null,null,null,null,null,null,null,null,null,null,null,null,"VII","Yerbas Buenas","VII - Región de Maule"]
[null,null,null,null,null,null,null,null,null,null,null,null,null,null,null,null,null,null,null,null,null,null,null,null,null,null,null,null,null,null,null,null,null,null,null,null,null,null,null,null,null,null,null,null,"VIII","Alto Biobío","VIII - Región de Biobío"]
[null,null,null,null,null,null,null,null,null,null,null,null,null,null,null,null,null,null,null,null,null,null,null,null,null,null,null,null,null,null,null,null,null,null,null,null,null,null,null,null,null,null,null,null,"VIII","Antuco","VIII - Región de Biobío"]
[null,null,null,null,null,null,null,null,null,null,null,null,null,null,null,null,null,null,null,null,null,null,null,null,null,null,null,null,null,null,null,null,null,null,null,null,null,null,null,null,null,null,null,null,"VIII","Arauco","VIII - Región de Biobío"]
[null,null,null,null,null,null,null,null,null,null,null,null,null,null,null,null,null,null,null,null,null,null,null,null,null,null,null,null,null,null,null,null,null,null,null,null,null,null,null,null,null,null,null,null,"VIII","Bulnes","VIII - Región de Biobío"]
[null,null,null,null,null,null,null,null,null,null,null,null,null,null,null,null,null,null,null,null,null,null,null,null,null,null,null,null,null,null,null,null,null,null,null,null,null,null,null,null,null,null,null,null,"VIII","Cabrero","VIII - Región de Biobío"]
[null,null,null,null,null,null,null,null,null,null,null,null,null,null,null,null,null,null,null,null,null,null,null,null,null,null,null,null,null,null,null,null,null,null,null,null,null,null,null,null,null,null,null,null,"VIII","Cañete","VIII - Región de Biobío"]
[null,null,null,null,null,null,null,null,null,null,null,null,null,null,null,null,null,null,null,null,null,null,null,null,null,null,null,null,null,null,null,null,null,null,null,null,null,null,null,null,null,null,null,null,"VIII","Chiguayante","VIII - Región de Biobío"]
[null,null,null,null,null,null,null,null,null,null,null,null,null,null,null,null,null,null,null,null,null,null,null,null,null,null,null,null,null,null,null,null,null,null,null,null,null,null,null,null,null,null,null,null,"VIII","Chillán","VIII - Región de Biobío"]
[null,null,null,null,null,null,null,null,null,null,null,null,null,null,null,null,null,null,null,null,null,null,null,null,null,null,null,null,null,null,null,null,null,null,null,null,null,null,null,null,null,null,null,null,"VIII","Chillán Viejo","VIII - Región de Biobío"]
[null,null,null,null,null,null,null,null,null,null,null,null,null,null,null,null,null,null,null,null,null,null,null,null,null,null,null,null,null,null,null,null,null,null,null,null,null,null,null,null,null,null,null,null,"VIII","Cobquecura","VIII - Región de Biobío"]
[null,null,null,null,null,null,null,null,null,null,null,null,null,null,null,null,null,null,null,null,null,null,null,null,null,null,null,null,null,null,null,null,null,null,null,null,null,null,null,null,null,null,null,null,"VIII","Coelemu","VIII - Región de Biobío"]
[null,null,null,null,null,null,null,null,null,null,null,null,null,null,null,null,null,null,null,null,null,null,null,null,null,null,null,null,null,null,null,null,null,null,null,null,null,null,null,null,null,null,null,null,"VIII","Coihueco","VIII - Región de Biobío"]
[null,null,null,null,null,null,null,null,null,null,null,null,null,null,null,null,null,null,null,null,null,null,null,null,null,null,null,null,null,null,null,null,null,null,null,null,null,null,null,null,null,null,null,null,"VIII","Concepción","VIII - Región de Biobío"]
[null,null,null,null,null,null,null,null,null,null,null,null,null,null,null,null,null,null,null,null,null,null,null,null,null,null,null,null,null,null,null,null,null,null,null,null,null,null,null,null,null,null,null,null,"VIII","Contulmo","VIII - Región de Biobío"]
[null,null,null,null,null,null,null,null,null,null,null,null,null,null,null,null,null,null,null,null,null,null,null,null,null,null,null,null,null,null,null,null,null,null,null,null,null,null,null,null,null,null,null,null,"VIII","Coronel","VIII - Región de Biobío"]
[null,null,null,null,null,null,null,null,null,null,null,null,null,null,null,null,null,null,null,null,null,null,null,null,null,null,null,null,null,null,null,null,null,null,null,null,null,null,null,null,null,null,null,null,"VIII","Curanilahue","VIII - Región de Biobío"]
[null,null,null,null,null,null,null,null,null,null,null,null,null,null,null,null,null,null,null,null,null,null,null,null,null,null,null,null,null,null,null,null,null,null,null,null,null,null,null,null,null,null,null,null,"VIII","El Carmen","VIII - Región de Biobío"]
[null,null,null,null,null,null,null,null,null,null,null,null,null,null,null,null,null,null,null,null,null,null,null,null,null,null,null,null,null,null,null,null,null,null,null,null,null,null,null,null,null,null,null,null,"VIII","Florida","VIII - Región de Biobío"]
[null,null,null,null,null,null,null,null,null,null,null,null,null,null,null,null,null,null,null,null,null,null,null,null,null,null,null,null,null,null,null,null,null,null,null,null,null,null,null,null,null,null,null,null,"VIII","Hualpén","VIII - Región de Biobío"]
[null,null,null,null,null,null,null,null,null,null,null,null,null,null,null,null,null,null,null,null,null,null,null,null,null,null,null,null,null,null,null,null,null,null,null,null,null,null,null,null,null,null,null,null,"VIII","Hualqui","VIII - Región de Biobío"]
[null,null,null,null,null,null,null,null,null,null,null,null,null,null,null,null,null,null,null,null,null,null,null,null,null,null,null,null,null,null,null,null,null,null,null,null,null,null,null,null,null,null,null,null,"VIII","Laja","VIII - Región de Biobío"]
[null,null,null,null,null,null,null,null,null,null,null,null,null,null,null,null,null,null,null,null,null,null,null,null,null,null,null,null,null,null,null,null,null,null,null,null,null,null,null,null,null,null,null,null,"VIII","Lebu","VIII - Región de Biobío"]
[null,null,null,null,null,null,null,null,null,null,null,null,null,null,null,null,null,null,null,null,null,null,null,null,null,null,null,null,null,null,null,null,null,null,null,null,null,null,null,null,null,null,null,null,"VIII","Los Alamos","VIII - Región de Biobío"]
[null,null,null,null,null,null,null,null,null,null,null,null,null,null,null,null,null,null,null,null,null,null,null,null,null,null,null,null,null,null,null,null,null,null,null,null,null,null,null,null,null,null,null,null,"VIII","Los Ángeles","VIII - Región de Biobío"]
[null,null,null,null,null,null,null,null,null,null,null,null,null,null,null,null,null,null,null,null,null,null,null,null,null,null,null,null,null,null,null,null,null,null,null,null,null,null,null,null,null,null,null,null,"VIII","Lota","VIII - Región de Biobío"]
[null,null,null,null,null,null,null,null,null,null,null,null,null,null,null,null,null,null,null,null,null,null,null,null,null,null,null,null,null,null,null,null,null,null,null,null,null,null,null,null,null,null,null,null,"VIII","Mulchén","VIII - Región de Biobío"]
[null,null,null,null,null,null,null,null,null,null,null,null,null,null,null,null,null,null,null,null,null,null,null,null,null,null,null,null,null,null,null,null,null,null,null,null,null,null,null,null,null,null,null,null,"VIII","Nacimiento","VIII - Región de Biobío"]
[null,null,null,null,null,null,null,null,null,null,null,null,null,null,null,null,null,null,null,null,null,null,null,null,null,null,null,null,null,null,null,null,null,null,null,null,null,null,null,null,null,null,null,null,"VIII","Negrete","VIII - Región de Biobío"]
[null,null,null,null,null,null,null,null,null,null,null,null,null,null,null,null,null,null,null,null,null,null,null,null,null,null,null,null,null,null,null,null,null,null,null,null,null,null,null,null,null,null,null,null,"VIII","Ninhue","VIII - Región de Biobío"]
[null,null,null,null,null,null,null,null,null,null,null,null,null,null,null,null,null,null,null,null,null,null,null,null,null,null,null,null,null,null,null,null,null,null,null,null,null,null,null,null,null,null,null,null,"VIII","Ñiquén","VIII - Región de Biobío"]
[null,null,null,null,null,null,null,null,null,null,null,null,null,null,null,null,null,null,null,null,null,null,null,null,null,null,null,null,null,null,null,null,null,null,null,null,null,null,null,null,null,null,null,null,"VIII","Pemuco","VIII - Región de Biobío"]
[null,null,null,null,null,null,null,null,null,null,null,null,null,null,null,null,null,null,null,null,null,null,null,null,null,null,null,null,null,null,null,null,null,null,null,null,null,null,null,null,null,null,null,null,"VIII","Penco","VIII - Región de Biobío"]
[null,null,null,null,null,null,null,null,null,null,null,null,null,null,null,null,null,null,null,null,null,null,null,null,null,null,null,null,null,null,null,null,null,null,null,null,null,null,null,null,null,null,null,null,"VIII","Pinto","VIII - Región de Biobío"]
[null,null,null,null,null,null,null,null,null,null,null,null,null,null,null,null,null,null,null,null,null,null,null,null,null,null,null,null,null,null,null,null,null,null,null,null,null,null,null,null,null,null,null,null,"VIII","Portezuelo","VIII - Región de Biobío"]
[null,null,null,null,null,null,null,null,null,null,null,null,null,null,null,null,null,null,null,null,null,null,null,null,null,null,null,null,null,null,null,null,null,null,null,null,null,null,null,null,null,null,null,null,"VIII","Quilaco","VIII - Región de Biobío"]
[null,null,null,null,null,null,null,null,null,null,null,null,null,null,null,null,null,null,null,null,null,null,null,null,null,null,null,null,null,null,null,null,null,null,null,null,null,null,null,null,null,null,null,null,"VIII","Quilleco","VIII - Región de Biobío"]
[null,null,null,null,null,null,null,null,null,null,null,null,null,null,null,null,null,null,null,null,null,null,null,null,null,null,null,null,null,null,null,null,null,null,null,null,null,null,null,null,null,null,null,null,"VIII","Quillón","VIII - Región de Biobío"]
[null,null,null,null,null,null,null,null,null,null,null,null,null,null,null,null,null,null,null,null,null,null,null,null,null,null,null,null,null,null,null,null,null,null,null,null,null,null,null,null,null,null,null,null,"VIII","Quirihue","VIII - Región de Biobío"]
[null,null,null,null,null,null,null,null,null,null,null,null,null,null,null,null,null,null,null,null,null,null,null,null,null,null,null,null,null,null,null,null,null,null,null,null,null,null,null,null,null,null,null,null,"VIII","Ranquil","VIII - Región de Biobío"]
[null,null,null,null,null,null,null,null,null,null,null,null,null,null,null,null,null,null,null,null,null,null,null,null,null,null,null,null,null,null,null,null,null,null,null,null,null,null,null,null,null,null,null,null,"VIII","San Carlos","VIII - Región de Biobío"]
[null,null,null,null,null,null,null,null,null,null,null,null,null,null,null,null,null,null,null,null,null,null,null,null,null,null,null,null,null,null,null,null,null,null,null,null,null,null,null,null,null,null,null,null,"VIII","San Fabián","VIII - Región de Biobío"]
[null,null,null,null,null,null,null,null,null,null,null,null,null,null,null,null,null,null,null,null,null,null,null,null,null,null,null,null,null,null,null,null,null,null,null,null,null,null,null,null,null,null,null,null,"VIII","San Ignacio","VIII - Región de Biobío"]
[null,null,null,null,null,null,null,null,null,null,null,null,null,null,null,null,null,null,null,null,null,null,null,null,null,null,null,null,null,null,null,null,null,null,null,null,null,null,null,null,null,null,null,null,"VIII","San Nicolás","VIII - Región de Biobío"]
[null,null,null,null,null,null,null,null,null,null,null,null,null,null,null,null,null,null,null,null,null,null,null,null,null,null,null,null,null,null,null,null,null,null,null,null,null,null,null,null,null,null,null,null,"VIII","San Pedro de la Paz","VIII - Región de Biobío"]
[null,null,null,null,null,null,null,null,null,null,null,null,null,null,null,null,null,null,null,null,null,null,null,null,null,null,null,null,null,null,null,null,null,null,null,null,null,null,null,null,null,null,null,null,"VIII","San Rosendo","VIII - Región de Biobío"]
[null,null,null,null,null,null,null,null,null,null,null,null,null,null,null,null,null,null,null,null,null,null,null,null,null,null,null,null,null,null,null,null,null,null,null,null,null,null,null,null,null,null,null,null,"VIII","Santa Bárbara","VIII - Región de Biobío"]
[null,null,null,null,null,null,null,null,null,null,null,null,null,null,null,null,null,null,null,null,null,null,null,null,null,null,null,null,null,null,null,null,null,null,null,null,null,null,null,null,null,null,null,null,"VIII","Santa Juana","VIII - Región de Biobío"]
[null,null,null,null,null,null,null,null,null,null,null,null,null,null,null,null,null,null,null,null,null,null,null,null,null,null,null,null,null,null,null,null,null,null,null,null,null,null,null,null,null,null,null,null,"VIII","Talcahuano","VIII - Región de Biobío"]
[null,null,null,null,null,null,null,null,null,null,null,null,null,null,null,null,null,null,null,null,null,null,null,null,null,null,null,null,null,null,null,null,null,null,null,null,null,null,null,null,null,null,null,null,"VIII","Tirúa","VIII - Región de Biobío"]
[null,null,null,null,null,null,null,null,null,null,null,null,null,null,null,null,null,null,null,null,null,null,null,null,null,null,null,null,null,null,null,null,null,null,null,null,null,null,null,null,null,null,null,null,"VIII","Tomé","VIII - Región de Biobío"]
[null,null,null,null,null,null,null,null,null,null,null,null,null,null,null,null,null,null,null,null,null,null,null,null,null,null,null,null,null,null,null,null,null,null,null,null,null,null,null,null,null,null,null,null,"VIII","Treguaco","VIII - Región de Biobío"]
[null,null,null,null,null,null,null,null,null,null,null,null,null,null,null,null,null,null,null,null,null,null,null,null,null,null,null,null,null,null,null,null,null,null,null,null,null,null,null,null,null,null,null,null,"VIII","Tucapel","VIII - Región de Biobío"]
[null,null,null,null,null,null,null,null,null,null,null,null,null,null,null,null,null,null,null,null,null,null,null,null,null,null,null,null,null,null,null,null,null,null,null,null,null,null,null,null,null,null,null,null,"VIII","Yumbel","VIII - Región de Biobío"]
[null,null,null,null,null,null,null,null,null,null,null,null,null,null,null,null,null,null,null,null,null,null,null,null,null,null,null,null,null,null,null,null,null,null,null,null,null,null,null,null,null,null,null,null,"VIII","Yungay","VIII - Región de Biobío"]
[null,null,null,null,null,null,null,null,null,null,null,null,null,null,null,null,null,null,null,null,null,null,null,null,null,null,null,null,null,null,null,null,null,null,null,null,null,null,null,null,null,null,null,null,"X","Ancud","X - Región de Los Lagos"]
[null,null,null,null,null,null,null,null,null,null,null,null,null,null,null,null,null,null,null,null,null,null,null,null,null,null,null,null,null,null,null,null,null,null,null,null,null,null,null,null,null,null,null,null,"X","Calbuco","X - Región de Los Lagos"]
[null,null,null,null,null,null,null,null,null,null,null,null,null,null,null,null,null,null,null,null,null,null,null,null,null,null,null,null,null,null,null,null,null,null,null,null,null,null,null,null,null,null,null,null,"X","Castro","X - Región de Los Lagos"]
[null,null,null,null,null,null,null,null,null,null,null,null,null,null,null,null,null,null,null,null,null,null,null,null,null,null,null,null,null,null,null,null,null,null,null,null,null,null,null,null,null,null,null,null,"X","Chaitén","X - Región de Los Lagos"]
[null,null,null,null,null,null,null,null,null,null,null,null,null,null,null,null,null,null,null,null,null,null,null,null,null,null,null,null,null,null,null,null,null,null,null,null,null,null,null,null,null,null,null,null,"X","Chonchi","X - Región de Los Lagos"]
[null,null,null,null,null,null,null,null,null,null,null,null,null,null,null,null,null,null,null,null,null,null,null,null,null,null,null,null,null,null,null,null,null,null,null,null,null,null,null,null,null,null,null,null,"X","Cochamó","X - Región de Los Lagos"]
[null,null,null,null,null,null,null,null,null,null,null,null,null,null,null,null,null,null,null,null,null,null,null,null,null,null,null,null,null,null,null,null,null,null,null,null,null,null,null,null,null,null,null,null,"X","Curaco de Vélez","X - Región de Los Lagos"]
[null,null,null,null,null,null,null,null,null,null,null,null,null,null,null,null,null,null,null,null,null,null,null,null,null,null,null,null,null,null,null,null,null,null,null,null,null,null,null,null,null,null,null,null,"X","Dalcahue","X - Región de Los Lagos"]
[null,null,null,null,null,null,null,null,null,null,null,null,null,null,null,null,null,null,null,null,null,null,null,null,null,null,null,null,null,null,null,null,null,null,null,null,null,null,null,null,null,null,null,null,"X","Fresia","X - Región de Los Lagos"]
[null,null,null,null,null,null,null,null,null,null,null,null,null,null,null,null,null,null,null,null,null,null,null,null,null,null,null,null,null,null,null,null,null,null,null,null,null,null,null,null,null,null,null,null,"X","Frutillar","X - Región de Los Lagos"]
[null,null,null,null,null,null,null,null,null,null,null,null,null,null,null,null,null,null,null,null,null,null,null,null,null,null,null,null,null,null,null,null,null,null,null,null,null,null,null,null,null,null,null,null,"X","Futaleufú","X - Región de Los Lagos"]
[null,null,null,null,null,null,null,null,null,null,null,null,null,null,null,null,null,null,null,null,null,null,null,null,null,null,null,null,null,null,null,null,null,null,null,null,null,null,null,null,null,null,null,null,"X","Hualaihué","X - Región de Los Lagos"]
[null,null,null,null,null,null,null,null,null,null,null,null,null,null,null,null,null,null,null,null,null,null,null,null,null,null,null,null,null,null,null,null,null,null,null,null,null,null,null,null,null,null,null,null,"X","Llanquihue","X - Región de Los Lagos"]
[null,null,null,null,null,null,null,null,null,null,null,null,null,null,null,null,null,null,null,null,null,null,null,null,null,null,null,null,null,null,null,null,null,null,null,null,null,null,null,null,null,null,null,null,"X","Los Muermos","X - Región de Los Lagos"]
[null,null,null,null,null,null,null,null,null,null,null,null,null,null,null,null,null,null,null,null,null,null,null,null,null,null,null,null,null,null,null,null,null,null,null,null,null,null,null,null,null,null,null,null,"X","Maullín","X - Región de Los Lagos"]
[null,null,null,null,null,null,null,null,null,null,null,null,null,null,null,null,null,null,null,null,null,null,null,null,null,null,null,null,null,null,null,null,null,null,null,null,null,null,null,null,null,null,null,null,"X","Osorno","X - Región de Los Lagos"]
[null,null,null,null,null,null,null,null,null,null,null,null,null,null,null,null,null,null,null,null,null,null,null,null,null,null,null,null,null,null,null,null,null,null,null,null,null,null,null,null,null,null,null,null,"X","Palena","X - Región de Los Lagos"]
[null,null,null,null,null,null,null,null,null,null,null,null,null,null,null,null,null,null,null,null,null,null,null,null,null,null,null,null,null,null,null,null,null,null,null,null,null,null,null,null,null,null,null,null,"X","Puerto Montt","X - Región de Los Lagos"]
[null,null,null,null,null,null,null,null,null,null,null,null,null,null,null,null,null,null,null,null,null,null,null,null,null,null,null,null,null,null,null,null,null,null,null,null,null,null,null,null,null,null,null,null,"X","Puerto Octay","X - Región de Los Lagos"]
[null,null,null,null,null,null,null,null,null,null,null,null,null,null,null,null,null,null,null,null,null,null,null,null,null,null,null,null,null,null,null,null,null,null,null,null,null,null,null,null,null,null,null,null,"X","Puerto Varas","X - Región de Los Lagos"]
[null,null,null,null,null,null,null,null,null,null,null,null,null,null,null,null,null,null,null,null,null,null,null,null,null,null,null,null,null,null,null,null,null,null,null,null,null,null,null,null,null,null,null,null,"X","Puqueldón","X - Región de Los Lagos"]
[null,null,null,null,null,null,null,null,null,null,null,null,null,null,null,null,null,null,null,null,null,null,null,null,null,null,null,null,null,null,null,null,null,null,null,null,null,null,null,null,null,null,null,null,"X","Purranque","X - Región de Los Lagos"]
[null,null,null,null,null,null,null,null,null,null,null,null,null,null,null,null,null,null,null,null,null,null,null,null,null,null,null,null,null,null,null,null,null,null,null,null,null,null,null,null,null,null,null,null,"X","Puyehue","X - Región de Los Lagos"]
[null,null,null,null,null,null,null,null,null,null,null,null,null,null,null,null,null,null,null,null,null,null,null,null,null,null,null,null,null,null,null,null,null,null,null,null,null,null,null,null,null,null,null,null,"X","Queilén","X - Región de Los Lagos"]
[null,null,null,null,null,null,null,null,null,null,null,null,null,null,null,null,null,null,null,null,null,null,null,null,null,null,null,null,null,null,null,null,null,null,null,null,null,null,null,null,null,null,null,null,"X","Quellón","X - Región de Los Lagos"]
[null,null,null,null,null,null,null,null,null,null,null,null,null,null,null,null,null,null,null,null,null,null,null,null,null,null,null,null,null,null,null,null,null,null,null,null,null,null,null,null,null,null,null,null,"X","Quemchi","X - Región de Los Lagos"]
[null,null,null,null,null,null,null,null,null,null,null,null,null,null,null,null,null,null,null,null,null,null,null,null,null,null,null,null,null,null,null,null,null,null,null,null,null,null,null,null,null,null,null,null,"X","Quinchao","X - Región de Los Lagos"]
[null,null,null,null,null,null,null,null,null,null,null,null,null,null,null,null,null,null,null,null,null,null,null,null,null,null,null,null,null,null,null,null,null,null,null,null,null,null,null,null,null,null,null,null,"X","Río Negro","X - Región de Los Lagos"]
[null,null,null,null,null,null,null,null,null,null,null,null,null,null,null,null,null,null,null,null,null,null,null,null,null,null,null,null,null,null,null,null,null,null,null,null,null,null,null,null,null,null,null,null,"X","San Juan de la Costa","X - Región de Los Lagos"]
[null,null,null,null,null,null,null,null,null,null,null,null,null,null,null,null,null,null,null,null,null,null,null,null,null,null,null,null,null,null,null,null,null,null,null,null,null,null,null,null,null,null,null,null,"X","San Pablo","X - Región de Los Lagos"]
[null,null,null,null,null,null,null,null,null,null,null,null,null,null,null,null,null,null,null,null,null,null,null,null,null,null,null,null,null,null,null,null,null,null,null,null,null,null,null,null,null,null,null,null,"XI","Aysén","XI - Región de Aisén"]
[null,null,null,null,null,null,null,null,null,null,null,null,null,null,null,null,null,null,null,null,null,null,null,null,null,null,null,null,null,null,null,null,null,null,null,null,null,null,null,null,null,null,null,null,"XI","Chile Chico","XI - Región de Aisén"]
[null,null,null,null,null,null,null,null,null,null,null,null,null,null,null,null,null,null,null,null,null,null,null,null,null,null,null,null,null,null,null,null,null,null,null,null,null,null,null,null,null,null,null,null,"XI","Cisnes","XI - Región de Aisén"]
[null,null,null,null,null,null,null,null,null,null,null,null,null,null,null,null,null,null,null,null,null,null,null,null,null,null,null,null,null,null,null,null,null,null,null,null,null,null,null,null,null,null,null,null,"XI","Cochrane","XI - Región de Aisén"]
[null,null,null,null,null,null,null,null,null,null,null,null,null,null,null,null,null,null,null,null,null,null,null,null,null,null,null,null,null,null,null,null,null,null,null,null,null,null,null,null,null,null,null,null,"XI","Coyhaique","XI - Región de Aisén"]
[null,null,null,null,null,null,null,null,null,null,null,null,null,null,null,null,null,null,null,null,null,null,null,null,null,null,null,null,null,null,null,null,null,null,null,null,null,null,null,null,null,null,null,null,"XI","Guaitecas","XI - Región de Aisén"]
[null,null,null,null,null,null,null,null,null,null,null,null,null,null,null,null,null,null,null,null,null,null,null,null,null,null,null,null,null,null,null,null,null,null,null,null,null,null,null,null,null,null,null,null,"XI","Lago Verde","XI - Región de Aisén"]
[null,null,null,null,null,null,null,null,null,null,null,null,null,null,null,null,null,null,null,null,null,null,null,null,null,null,null,null,null,null,null,null,null,null,null,null,null,null,null,null,null,null,null,null,"XI","O'Higgins","XI - Región de Aisén"]
[null,null,null,null,null,null,null,null,null,null,null,null,null,null,null,null,null,null,null,null,null,null,null,null,null,null,null,null,null,null,null,null,null,null,null,null,null,null,null,null,null,null,null,null,"XI","Río Ibáñez","XI - Región de Aisén"]
[null,null,null,null,null,null,null,null,null,null,null,null,null,null,null,null,null,null,null,null,null,null,null,null,null,null,null,null,null,null,null,null,null,null,null,null,null,null,null,null,null,null,null,null,"XI","Tortel","XI - Región de Aisén"]
[null,null,null,null,null,null,null,null,null,null,null,null,null,null,null,null,null,null,null,null,null,null,null,null,null,null,null,null,null,null,null,null,null,null,null,null,null,null,null,null,null,null,null,null,"XII","Cabo de Hornos","XII - Región de Magallanes y Antártica Chilena"]
[null,null,null,null,null,null,null,null,null,null,null,null,null,null,null,null,null,null,null,null,null,null,null,null,null,null,null,null,null,null,null,null,null,null,null,null,null,null,null,null,null,null,null,null,"XII","Laguna Blanca","XII - Región de Magallanes y Antártica Chilena"]
[null,null,null,null,null,null,null,null,null,null,null,null,null,null,null,null,null,null,null,null,null,null,null,null,null,null,null,null,null,null,null,null,null,null,null,null,null,null,null,null,null,null,null,null,"XII","Natales","XII - Región de Magallanes y Antártica Chilena"]
[null,null,null,null,null,null,null,null,null,null,null,null,null,null,null,null,null,null,null,null,null,null,null,null,null,null,null,null,null,null,null,null,null,null,null,null,null,null,null,null,null,null,null,null,"XII","Porvenir","XII - Región de Magallanes y Antártica Chilena"]
[null,null,null,null,null,null,null,null,null,null,null,null,null,null,null,null,null,null,null,null,null,null,null,null,null,null,null,null,null,null,null,null,null,null,null,null,null,null,null,null,null,null,null,null,"XII","Primavera","XII - Región de Magallanes y Antártica Chilena"]
[null,null,null,null,null,null,null,null,null,null,null,null,null,null,null,null,null,null,null,null,null,null,null,null,null,null,null,null,null,null,null,null,null,null,null,null,null,null,null,null,null,null,null,null,"XII","Punta Arenas","XII - Región de Magallanes y Antártica Chilena"]
[null,null,null,null,null,null,null,null,null,null,null,null,null,null,null,null,null,null,null,null,null,null,null,null,null,null,null,null,null,null,null,null,null,null,null,null,null,null,null,null,null,null,null,null,"XII","Río Verde","XII - Región de Magallanes y Antártica Chilena"]
[null,null,null,null,null,null,null,null,null,null,null,null,null,null,null,null,null,null,null,null,null,null,null,null,null,null,null,null,null,null,null,null,null,null,null,null,null,null,null,null,null,null,null,null,"XII","San Gregorio","XII - Región de Magallanes y Antártica Chilena"]
[null,null,null,null,null,null,null,null,null,null,null,null,null,null,null,null,null,null,null,null,null,null,null,null,null,null,null,null,null,null,null,null,null,null,null,null,null,null,null,null,null,null,null,null,"XII","Timaukel","XII - Región de Magallanes y Antártica Chilena"]
[null,null,null,null,null,null,null,null,null,null,null,null,null,null,null,null,null,null,null,null,null,null,null,null,null,null,null,null,null,null,null,null,null,null,null,null,null,null,null,null,null,null,null,null,"XII","Torres del Paine","XII - Región de Magallanes y Antártica Chilena"]
[null,null,null,null,null,null,null,null,null,null,null,null,null,null,null,null,null,null,null,null,null,null,null,null,null,null,null,null,null,null,null,null,null,null,null,null,null,null,null,null,null,null,null,null,"XIV","Corral","XIV - Región de Los Ríos"]
[null,null,null,null,null,null,null,null,null,null,null,null,null,null,null,null,null,null,null,null,null,null,null,null,null,null,null,null,null,null,null,null,null,null,null,null,null,null,null,null,null,null,null,null,"XIV","Futrono","XIV - Región de Los Ríos"]
[null,null,null,null,null,null,null,null,null,null,null,null,null,null,null,null,null,null,null,null,null,null,null,null,null,null,null,null,null,null,null,null,null,null,null,null,null,null,null,null,null,null,null,null,"XIV","La Unión","XIV - Región de Los Ríos"]
[null,null,null,null,null,null,null,null,null,null,null,null,null,null,null,null,null,null,null,null,null,null,null,null,null,null,null,null,null,null,null,null,null,null,null,null,null,null,null,null,null,null,null,null,"XIV","Lago Ranco","XIV - Región de Los Ríos"]
[null,null,null,null,null,null,null,null,null,null,null,null,null,null,null,null,null,null,null,null,null,null,null,null,null,null,null,null,null,null,null,null,null,null,null,null,null,null,null,null,null,null,null,null,"XIV","Lanco","XIV - Región de Los Ríos"]
[null,null,null,null,null,null,null,null,null,null,null,null,null,null,null,null,null,null,null,null,null,null,null,null,null,null,null,null,null,null,null,null,null,null,null,null,null,null,null,null,null,null,null,null,"XIV","Los Lagos","XIV - Región de Los Ríos"]
[null,null,null,null,null,null,null,null,null,null,null,null,null,null,null,null,null,null,null,null,null,null,null,null,null,null,null,null,null,null,null,null,null,null,null,null,null,null,null,null,null,null,null,null,"XIV","Máfil","XIV - Región de Los Ríos"]
[null,null,null,null,null,null,null,null,null,null,null,null,null,null,null,null,null,null,null,null,null,null,null,null,null,null,null,null,null,null,null,null,null,null,null,null,null,null,null,null,null,null,null,null,"XIV","Mariquina","XIV - Región de Los Ríos"]
[null,null,null,null,null,null,null,null,null,null,null,null,null,null,null,null,null,null,null,null,null,null,null,null,null,null,null,null,null,null,null,null,null,null,null,null,null,null,null,null,null,null,null,null,"XIV","Paillaco","XIV - Región de Los Ríos"]
[null,null,null,null,null,null,null,null,null,null,null,null,null,null,null,null,null,null,null,null,null,null,null,null,null,null,null,null,null,null,null,null,null,null,null,null,null,null,null,null,null,null,null,null,"XIV","Panguipulli","XIV - Región de Los Ríos"]
[null,null,null,null,null,null,null,null,null,null,null,null,null,null,null,null,null,null,null,null,null,null,null,null,null,null,null,null,null,null,null,null,null,null,null,null,null,null,null,null,null,null,null,null,"XIV","Río Bueno","XIV - Región de Los Ríos"]
[null,null,null,null,null,null,null,null,null,null,null,null,null,null,null,null,null,null,null,null,null,null,null,null,null,null,null,null,null,null,null,null,null,null,null,null,null,null,null,null,null,null,null,null,"XIV","Valdivia","XIV - Región de Los Ríos"]
[null,null,null,null,null,null,null,null,null,null,null,null,null,null,null,null,null,null,null,null,null,null,null,null,null,null,null,null,null,null,null,null,null,null,null,null,null,null,null,null,null,null,null,null,"XV","Arica","XV - Región de Arica y de Parinacota"]
[null,null,null,null,null,null,null,null,null,null,null,null,null,null,null,null,null,null,null,null,null,null,null,null,null,null,null,null,null,null,null,null,null,null,null,null,null,null,null,null,null,null,null,null,"XV","Camarones","XV - Región de Arica y de Parinacota"]
[null,null,null,null,null,null,null,null,null,null,null,null,null,null,null,null,null,null,null,null,null,null,null,null,null,null,null,null,null,null,null,null,null,null,null,null,null,null,null,null,null,null,null,null,"XV","General Lagos","XV - Región de Arica y de Parinacota"]
[null,null,null,null,null,null,null,null,null,null,null,null,null,null,null,null,null,null,null,null,null,null,null,null,null,null,null,null,null,null,null,null,null,null,null,null,null,null,null,null,null,null,null,null,"XV","Putre","XV - Región de Arica y de Parinacota"]

{"sheet":"Resumen Recintos","index":4,"n_rows":107,"n_cols":12,"rows_kept":107,"cut":false,"hidden":false,"merged":[[1,1,1,8],[1,9,1,11]]}
[null,"Volver al índice"]
[null,"                  RESUMEN RECINTOS",null,null,null,null,null,null,null,"RESUMEN GRUPOS"]
[null,"Nº Recinto","Nombre Recinto (requisito)","Descripción","Área útil [m²]","Densidad uso utilizada [m2/p] ","Carga iluminación [W/m²]","Cargas equipos [W/m²]","¿Regularmente ocupada?","Energía","Iluminación","Ventilación"]
[null,1]
[null,2]
[null,3]
[null,4]
[null,5]
[null,6]
[null,7]
[null,8]
[null,9]
[null,10]
[null,11]
[null,12]
[null,13]
[null,14]
[null,15]
[null,16]
[null,17]
[null,18]
[null,19]
[null,20]
[null,21]
[null,22]
[null,23]
[null,24]
[null,25]
[null,26]
[null,27]
[null,28]
[null,29]
[null,30]
[null,31]
[null,32]
[null,33]
[null,34]
[null,35]
[null,36]
[null,37]
[null,38]
[null,39]
[null,40]
[null,41]
[null,42]
[null,43]
[null,44]
[null,45]
[null,46]
[null,47]
[null,48]
[null,49]
[null,50]
[null,51]
[null,52]
[null,53]
[null,54]
[null,55]
[null,56]
[null,57]
[null,58]
[null,59]
[null,60]
[null,61]
[null,62]
[null,63]
[null,64]
[null,65]
[null,66]
[null,67]
[null,68]
[null,69]
[null,70]
[null,71]
[null,72]
[null,73]
[null,74]
[null,75]
[null,76]
[null,77]
[null,78]
[null,79]
[null,80]
[null,81]
[null,82]
[null,83]
[null,84]
[null,85]
[null,86]
[null,87]
[null,88]
[null,89]
[null,90]
[null,91]
[null,92]
[null,93]
[null,94]
[null,95]
[null,96]
[null,97]
[null,98]
[null,99]
[null,100]
[null,"Volver al índice"]
[]
[null,null,null,"Total superficie útil",{"$f":"+SUM(E4:E103)","v":0}]
[null,null,null,"Total superficie regularmente ocupada",{"$f":"+SUMIF($M$4:$M$103,\"si\",$H$4:$H$103)","v":0}]

{"sheet":"Ingreso de resultados previos","index":5,"n_rows":51,"n_cols":20,"rows_kept":51,"cut":false,"hidden":false,"merged":[]}
[null,"Volver al índice",null,null,1,2,3,4,5,6,7,8,9,10,11,12,13,14,15,16]
[null,null,"Resultados - Energía"]
[]
[null,null,"Indicador / parámetro resultante","Variable al cual aplica"]
[null,null,"Reducción de la demanda anual de energía [%]","ARQ.ENERGIA.5 - Opción 1 (solo referencial)"]
[null,null,"Transmitancia térmica para cubierta [W/m2K]","ARQ.ENERGIA.5 - Opción 2"]
[null,null,"Área Cubierta [m2]","ARQ.ENERGIA.5 - Opción 2"]
[null,null,"Transmitancia térmica para pisos ventilados [W/m2K]","ARQ.ENERGIA.5 - Opción 2"]
[null,null,"Área Pisos Ventilados [m2]","ARQ.ENERGIA.5 - Opción 2"]
[null,null,"Transmitancia térmica para pisos en contacto con el terreno [W/m2K]","ARQ.ENERGIA.5 - Opción 2"]
[null,null,"Área pisos en contacto con el terreno [m2]","ARQ.ENERGIA.5 - Opción 2"]
[null,null,"Transmitancia térmica para muros [W/m2K]","ARQ.ENERGIA.5 - Opción 2"]
[null,null,"Área muros [m2]","ARQ.ENERGIA.5 - Opción 2"]
[null,null,"Transmitancia térmica para ventanas [W/m2K]","ARQ.ENERGIA.5 - Opción 2"]
[null,null,"Área ventanas [m2]","ARQ.ENERGIA.5 - Opción 2"]
[]
[null,null,"Indicador / parámetro resultante","Variable al cual aplica"]
[null,null,"Reducción horas disconfort - TOTAL EDIFICIO","ARQ.CAI.1 - Opción 1"]
[null,null,"Demanda calefaccion - TOTAL EDIFICIO","ARQ.ENERGIA.5 - Opción 1"]
[null,null,"Demanda refrigeracion - TOTAL EDIFICIO","ARQ.ENERGIA.5 - Opción 1"]
[null,null,"Demanda equipos - TOTAL EDIFICIO","ARQ.ENERGIA.5 - Opción 1"]
[null,null,"Demanda iluminación - TOTAL EDIFICIO","ARQ.ENERGIA.5 - Opción 1"]
[null,null,"Reducción de la demanda anual de energía - TOTAL EDIFICIO","ARQ.ENERGIA.5 - Opción 1"]
[null,null,"Demanda calefacción con iluminación referencia - [kWh] - TOTAL EDIFICIO","INST.ENERGIA 15 a 18 - Opción 1"]
[null,null,"Demanda refrigeración con iluminación referencia - [kWh] - TOTAL EDIFICIO","INST.ENERGIA 15 a 18 - Opción 1"]
[null,null,"Demanda iluminación de referencia - [kWh] - TOTAL EDIFICIO","INST.ENERGIA 15 a 18 - Opción 1"]
[]
[]
[null,null,"Resultados - Iluminación"]
[]
[null,null,"Indicador / parámetro resultante","Variable al cual aplica"]
[null,null,"Factor Luz Día [FLD]","ARQ.CAI.2.1 - Opción 1"]
[null,null,"Iluminancia Útil [%]","ARQ.CAI.2.1 - Opción 1"]
[null,null,"Factor solar modificado (FSM) - N","ARQ.ENERGIA.5 - Opción 2"]
[null,null,"Área Ventana N [m2]","ARQ.ENERGIA.5 - Opción 2"]
[null,null,"Factor solar modificado (FSM) - NO","ARQ.ENERGIA.5 - Opción 2"]
[null,null,"Área Ventana NO [m2]","ARQ.ENERGIA.5 - Opción 2"]
[null,null,"Factor solar modificado (FSM) - NE","ARQ.ENERGIA.5 - Opción 2"]
[null,null,"Área Ventana NE [m2]","ARQ.ENERGIA.5 - Opción 2"]
[null,null,"Factor solar modificado (FSM) - O","ARQ.ENERGIA.5 - Opción 2"]
[null,null,"Área Ventana O [m2]","ARQ.ENERGIA.5 - Opción 2"]
[null,null,"Factor solar modificado (FSM) - E","ARQ.ENERGIA.5 - Opción 2"]
[null,null,"Área Ventana E [m2]","ARQ.ENERGIA.5 - Opción 2"]
[]
[]
[null,null,"Resultados - Ventilación"]
[]
[null,null,"Indicador / parámetro resultante","Variable al cual aplica"]
[null,null,"Requerimientos de ventilación natural","ARQ.CAI.3R - Opción 2 / ARQ.CAI.3.1 - Opción 2"]
[]
[null,"Volver al índice"]

{"sheet":"Evaluacion ARQ.CAI Obligat.","index":6,"n_rows":79,"n_cols":27,"rows_kept":79,"cut":false,"hidden":false,"merged":[[49,13,51,15],[49,16,51,16],[53,13,60,15],[53,16,60,16],[65,13,67,15],[65,16,67,16],[69,13,76,15],[69,16,76,16],[3,16,5,16],[18,13,20,15],[18,16,20,16],[7,13,14,15],[7,16,14,16],[38,13,45,15],[38,16,45,16],[34,13,36,15],[34,16,36,16],[22,13,29,15],[22,16,29,16],[64,5,65,6],[64,7,65,11],[66,5,67,6],[66,7,67,11],[68,5,69,6],[68,7,69,11],[71,5,72,6],[71,7,72,11],[73,5,74,6],[73,7,74,11],[1,3,30,3],[32,3,61,3],[63,3,77,3],[1,18,30,18],[32,18,61,18],[63,18,77,18],[64,21,64,23],[33,21,33,23],[48,21,48,23],[2,21,2,23],[17,21,17,23],[77,5,77,11],[75,5,76,6],[75,7,76,11],[70,5,70,6],[70,7,70,11],[61,5,61,11],[57,5,58,6],[57,7,58,11],[59,5,60,6],[59,7,60,11],[54,5,54,6],[54,7,54,11],[52,5,53,6],[52,7,53,11],[55,5,56,6],[55,7,56,11],[46,5,46,11],[39,5,39,6],[39,7,39,11],[37,5,38,6],[37,7,38,11],[40,5,41,6],[40,7,41,11],[42,5,43,6],[42,7,43,11],[44,5,45,6],[44,7,45,11],[48,5,49,6],[48,7,49,11],[50,5,51,6],[50,7,51,11],[17,5,18,6],[17,7,18,11],[19,5,20,6],[19,7,20,11],[33,5,34,6],[33,7,34,11],[35,5,36,6],[35,7,36,11],[30,5,30,11],[24,5,25,6],[24,7,25,11],[26,5,27,6],[26,7,27,11],[28,5,29,6],[28,7,29,11],[0,4,0,5],[31,4,31,5],[62,4,62,5],[78,4,78,5],[2,5,3,6],[2,7,3,11],[4,5,5,6],[4,7,5,11],[3,13,5,15],[8,5,8,6],[8,7,8,11],[6,5,7,6],[6,7,7,11],[9,5,10,6],[9,7,10,11],[11,5,12,6],[11,7,12,11],[13,5,14,6],[13,7,14,11],[23,5,23,6],[23,7,23,11],[21,5,22,6],[21,7,22,11],[15,5,15,11]]}
["Texto /Número","Nº requisito",null,null,"Volver al índice"]
["N",8,null,"ARQ.CAI 2R - FACTOR LUZ DÍA O ILUMINANCIA ÚTIL MÍNIMOS",null,null,null,null,null,null,null,null,null,null,null,null,null,null,"ARQ.CAI 2R - FACTOR LUZ DÍA O ILUMINANCIA ÚTIL MÍNIMOS"]
["N",{"$f":"+B2","v":8},null,null,null,"Tipo requerimiento",null,{"$f":"+IF(VLOOKUP(B2,TablaResumen[],4)=\"C\",\"Voluntario\",\"Obligatorio\")","v":"Obligatorio"},null,null,null,null,null,null,null,null,null,null,null,null,null,"Puntaje crédito numérico"]
["N",{"$f":"+B3","v":8},null,null,null,null,null,null,null,null,null,null,null,{"$f":"+IF(H3=\"Obligatorio\",\"Cumple Requerimiento\",\"Puntaje obtenido\")","v":"Cumple Requerimiento"},null,null,{"$f":"+IF(H3=\"Obligatorio\",X15,IF(A4=\"N\",IF(Uso_Edificio=\"Oficinas\",SUM(W5:W8),SUM(X5:X8)),IF(Uso_Edificio=\"Oficinas\",SUM(X11:X14),SUM(Y11:Y14))))","v":"NO"},null,null,null,null,"Calificación","Of. Y Serv.","Ed. Y Salud"]
["N",8,null,null,null,"Nombre Requerimiento",null,{"$f":"+VLOOKUP(B7,TablaResumen[],16,0)","v":"Factor luz día o iluminancia útil mínimos"},null,null,null,null,null,null,null,null,{"$f":"+IF(H2=\"Requisito\",W14,IF(#REF!=\"N\",IF(Uso_Edificio=\"Oficinas\",SUM(W4:W7),SUM(X4:X7)),IF(Uso_Edificio=\"Oficinas\",SUM(X10:X13),SUM(Y10:Y13))))","v":{"$error":"#REF!"}},null,null,null,{"$f":"+CONCATENATE(B5,\".\",4)","v":"8.4"},{"$f":"+AND(Q8>VLOOKUP(U5,MatrizRequerimientos,10,FALSE),Q8<=VLOOKUP(U5,MatrizRequerimientos,11,FALSE))","v":false},{"$f":"+V5*VLOOKUP(U5,MatrizRequerimientos,8,FALSE)","v":0},{"$f":"+V5*VLOOKUP(U5,MatrizRequerimientos,9,FALSE)","v":0}]
["N",8,null,null,null,null,null,null,null,null,null,null,null,null,null,null,{"$f":"+IF(H3=\"Requisito\",W15,IF(A2=\"N\",IF(Uso_Edificio=\"Oficinas\",SUM(W5:W8),SUM(X5:X8)),IF(Uso_Edificio=\"Oficinas\",SUM(X11:X14),SUM(Y11:Y14))))","v":0},null,null,null,{"$f":"+CONCATENATE(B6,\".\",5)","v":"8.5"},{"$f":"+AND(Q8>VLOOKUP(U6,MatrizRequerimientos,10,FALSE),Q8<=VLOOKUP(U6,MatrizRequerimientos,11,FALSE))","v":false},{"$f":"+V6*VLOOKUP(U6,MatrizRequerimientos,8,FALSE)","v":0},{"$f":"+V6*VLOOKUP(U6,MatrizRequerimientos,9,FALSE)","v":0}]
["N",8,null,null,null,"Indicador",null,{"$f":"+VLOOKUP(B8,TablaResumen[],21,0)","v":"Factor Luz Día [FLD]"},null,null,null,null,null,null,null,null,null,null,null,null,{"$f":"+CONCATENATE(B7,\".\",6)","v":"8.6"},{"$f":"+AND(Q8>VLOOKUP(U7,MatrizRequerimientos,10,FALSE),Q8<=VLOOKUP(U7,MatrizRequerimientos,11,FALSE))","v":false},{"$f":"+V7*VLOOKUP(U7,MatrizRequerimientos,8,FALSE)","v":0},{"$f":"+V7*VLOOKUP(U7,MatrizRequerimientos,9,FALSE)","v":0}]
["N",8,null,null,null,null,null,null,null,null,null,null,null,{"$f":"+IF(A7=\"N\",CONCATENATE(\"Valor obtenido en proyecto para \",H7),\"Seleccione Nivel de Cumplimiento\")","v":"Valor obtenido en proyecto para Factor Luz Día [FLD]"},null,null,null,null,null,null,{"$f":"+CONCATENATE(B8,\".\",7)","v":"8.7"},{"$f":"+AND(Q8>VLOOKUP(U8,MatrizRequerimientos,10,FALSE),Q8<=VLOOKUP(U8,MatrizRequerimientos,11,FALSE))","v":false},{"$f":"+V8*VLOOKUP(U8,MatrizRequerimientos,8,FALSE)","v":0},{"$f":"+V8*VLOOKUP(U8,MatrizRequerimientos,9,FALSE)","v":0}]
["N",8]
["N",8,null,null,null,"OPCIÓN ",null,{"$f":"CONCATENATE(VLOOKUP(B10,'Resumen requerimientos'!$T$5:$AB$96,5,FALSE), \" de \",VLOOKUP(B10,'Resumen requerimientos'!$T$5:$AB$96,6,FALSE))","v":"1 de 2"},null,null,null,null,null,null,null,null,null,null,null,null,null,null,null,"Of. Y Serv.","Ed. Y Salud"]
["N",8,null,null,null,null,null,null,null,null,null,null,null,null,null,null,null,null,null,null,{"$f":"+CONCATENATE(B11,\".\",4)","v":"8.4"},{"$f":"+VLOOKUP(U11,MatrizRequerimientos,6,FALSE)","v":"1,999999-100"},{"$f":"+IF(A8=\"T\",Q8=V11,V5)","v":false},{"$f":"+W11*VLOOKUP(U11,MatrizRequerimientos,8,FALSE)","v":0},{"$f":"+W11*VLOOKUP(U11,MatrizRequerimientos,9,FALSE)","v":0}]
["N",8,null,null,null,{"$f":"+IF(H12=\"No\",\"¿OTROS REQUERIMIENTOS SIMULTÁNEOS?\",\"REQUERIMIENTOS SIMULTANEOS PARA LA OPCION\")","v":"¿OTROS REQUERIMIENTOS SIMULTÁNEOS?"},null,{"$f":"IF(VLOOKUP(B12,'Resumen requerimientos'!$T$5:$AB$96,7,FALSE)=0,\"No\",CONCATENATE(VLOOKUP(B12,'Resumen requerimientos'!$T$5:$AB$96,7,FALSE), \" de \",VLOOKUP(B12,'Resumen requerimientos'!$T$5:$AB$96,8,FALSE)))","v":"No"},null,null,null,null,null,null,null,null,null,null,null,null,{"$f":"+CONCATENATE(B12,\".\",5)","v":"8.5"},{"$f":"+VLOOKUP(U12,MatrizRequerimientos,6,FALSE)","v":"1,999999-100"},{"$f":"+IF(A9=\"T\",Q8=V12,V6)","v":false},{"$f":"+W12*VLOOKUP(U12,MatrizRequerimientos,8,FALSE)","v":0},{"$f":"+W12*VLOOKUP(U12,MatrizRequerimientos,9,FALSE)","v":0}]
["N",8,null,null,null,null,null,null,null,null,null,null,null,null,null,null,null,null,null,null,{"$f":"+CONCATENATE(B13,\".\",6)","v":"8.6"},{"$f":"+VLOOKUP(U13,MatrizRequerimientos,6,FALSE)","v":"1,999999-100"},{"$f":"+IF(A10=\"T\",Q8=V13,V7)","v":false},{"$f":"+W13*VLOOKUP(U13,MatrizRequerimientos,8,FALSE)","v":0},{"$f":"+W13*VLOOKUP(U13,MatrizRequerimientos,9,FALSE)","v":0}]
["N",8,null,null,null,"REQUERIMIENTO ADICIONAL",null,{"$f":"VLOOKUP(B14,'Resumen requerimientos'!$T$5:$AB$96,9,FALSE)","v":"No"},null,null,null,null,null,null,null,null,null,null,null,null,{"$f":"+CONCATENATE(B14,\".\",7)","v":"8.7"},{"$f":"+VLOOKUP(U14,MatrizRequerimientos,6,FALSE)","v":"1,999999-100"},{"$f":"+IF(A11=\"T\",Q8=V14,V8)","v":false},{"$f":"+W14*VLOOKUP(U14,MatrizRequerimientos,8,FALSE)","v":0},{"$f":"+W14*VLOOKUP(U14,MatrizRequerimientos,9,FALSE)","v":0}]
["N",8,null,null,null,null,null,null,null,null,null,null,null,null,null,null,null,null,null,null,null,null,{"$f":"+IF(AND(A11=\"N\",H3=\"Voluntario\"),SUMIF($W$11:$W$14,TRUE,IF(Uso_Edificio=\"Oficinas\",X11:X14,Y11:Y14)),IF(AND(A11=\"T\",H3=\"Obligatorio\"),VLOOKUP(Q8,V11:X14,3,FALSE)=1,W11))","v":false},{"$f":"+IF(W15,\"SI\",\"NO\")","v":"NO"}]
["N",8]
["N",9]
["N",{"$f":"+B17","v":9},null,null,null,"Tipo requerimiento",null,{"$f":"+IF(VLOOKUP(B17,TablaResumen[],4)=\"C\",\"Voluntario\",\"Obligatorio\")","v":"Obligatorio"},null,null,null,null,null,null,null,null,null,null,null,null,null,"Puntaje crédito numérico"]
["N",{"$f":"+B18","v":9},null,null,null,null,null,null,null,null,null,null,null,{"$f":"+IF(H18=\"Obligatorio\",\"Cumple Requerimiento\",\"Puntaje obtenido\")","v":"Cumple Requerimiento"},null,null,{"$f":"+IF(H18=\"Obligatorio\",X30,IF(A19=\"N\",IF(Uso_Edificio=\"Oficinas\",SUM(W20:W23),SUM(X20:X23)),IF(Uso_Edificio=\"Oficinas\",SUM(X26:X29),SUM(Y26:Y29))))","v":"NO"},null,null,null,null,"Calificación","Of. Y Serv.","Ed. Y Salud"]
["N",9,null,null,null,"Nombre Requerimiento",null,{"$f":"+VLOOKUP(B22,TablaResumen[],16,0)","v":"Factor luz día o iluminancia útil mínimos"},null,null,null,null,null,null,null,null,{"$f":"+IF(H17=\"Requisito\",W29,IF(#REF!=\"N\",IF(Uso_Edificio=\"Oficinas\",SUM(W19:W22),SUM(X19:X22)),IF(Uso_Edificio=\"Oficinas\",SUM(X25:X28),SUM(Y25:Y28))))","v":{"$error":"#REF!"}},null,null,null,{"$f":"+CONCATENATE(B20,\".\",4)","v":"9.4"},{"$f":"+AND(Q23>VLOOKUP(U20,MatrizRequerimientos,10,FALSE),Q23<=VLOOKUP(U20,MatrizRequerimientos,11,FALSE))","v":false},{"$f":"+V20*VLOOKUP(U20,MatrizRequerimientos,8,FALSE)","v":0},{"$f":"+V20*VLOOKUP(U20,MatrizRequerimientos,9,FALSE)","v":0}]
["N",9,null,null,null,null,null,null,null,null,null,null,null,null,null,null,{"$f":"+IF(H18=\"Requisito\",W30,IF(A17=\"N\",IF(Uso_Edificio=\"Oficinas\",SUM(W20:W23),SUM(X20:X23)),IF(Uso_Edificio=\"Oficinas\",SUM(X26:X29),SUM(Y26:Y29))))","v":0},null,null,null,{"$f":"+CONCATENATE(B21,\".\",5)","v":"9.5"},{"$f":"+AND(Q23>VLOOKUP(U21,MatrizRequerimientos,10,FALSE),Q23<=VLOOKUP(U21,MatrizRequerimientos,11,FALSE))","v":false},{"$f":"+V21*VLOOKUP(U21,MatrizRequerimientos,8,FALSE)","v":0},{"$f":"+V21*VLOOKUP(U21,MatrizRequerimientos,9,FALSE)","v":0}]
["N",9,null,null,null,"Indicador",null,{"$f":"+VLOOKUP(B23,TablaResumen[],21,0)","v":"Iluminancia útil [%]"},null,null,null,null,null,null,null,null,null,null,null,null,{"$f":"+CONCATENATE(B22,\".\",6)","v":"9.6"},{"$f":"+AND(Q23>VLOOKUP(U22,MatrizRequerimientos,10,FALSE),Q23<=VLOOKUP(U22,MatrizRequerimientos,11,FALSE))","v":false},{"$f":"+V22*VLOOKUP(U22,MatrizRequerimientos,8,FALSE)","v":0},{"$f":"+V22*VLOOKUP(U22,MatrizRequerimientos,9,FALSE)","v":0}]
["N",9,null,null,null,null,null,null,null,null,null,null,null,{"$f":"+IF(A22=\"N\",CONCATENATE(\"Valor obtenido en proyecto para \",H22),\"Seleccione Nivel de Cumplimiento\")","v":"Valor obtenido en proyecto para Iluminancia útil [%]"},null,null,null,null,null,null,{"$f":"+CONCATENATE(B23,\".\",7)","v":"9.7"},{"$f":"+AND(Q23>VLOOKUP(U23,MatrizRequerimientos,10,FALSE),Q23<=VLOOKUP(U23,MatrizRequerimientos,11,FALSE))","v":false},{"$f":"+V23*VLOOKUP(U23,MatrizRequerimientos,8,FALSE)","v":0},{"$f":"+V23*VLOOKUP(U23,MatrizRequerimientos,9,FALSE)","v":0}]
["N",9]
["N",9,null,null,null,"OPCIÓN ",null,{"$f":"CONCATENATE(VLOOKUP(B25,'Resumen requerimientos'!$T$5:$AB$96,5,FALSE), \" de \",VLOOKUP(B25,'Resumen requerimientos'!$T$5:$AB$96,6,FALSE))","v":"2 de 2"},null,null,null,null,null,null,null,null,null,null,null,null,null,null,null,"Of. Y Serv.","Ed. Y Salud"]
["N",9,null,null,null,null,null,null,null,null,null,null,null,null,null,null,null,null,null,null,{"$f":"+CONCATENATE(B26,\".\",4)","v":"9.4"},{"$f":"+VLOOKUP(U26,MatrizRequerimientos,6,FALSE)","v":"49,999%-100%"},{"$f":"+IF(A23=\"T\",Q23=V26,V20)","v":false},{"$f":"+W26*VLOOKUP(U26,MatrizRequerimientos,8,FALSE)","v":0},{"$f":"+W26*VLOOKUP(U26,MatrizRequerimientos,9,FALSE)","v":0}]
["N",9,null,null,null,{"$f":"+IF(H27=\"No\",\"¿OTROS REQUERIMIENTOS SIMULTÁNEOS?\",\"REQUERIMIENTOS SIMULTANEOS PARA LA OPCION\")","v":"¿OTROS REQUERIMIENTOS SIMULTÁNEOS?"},null,{"$f":"IF(VLOOKUP(B27,'Resumen requerimientos'!$T$5:$AB$96,7,FALSE)=0,\"No\",CONCATENATE(VLOOKUP(B27,'Resumen requerimientos'!$T$5:$AB$96,7,FALSE), \" de \",VLOOKUP(B27,'Resumen requerimientos'!$T$5:$AB$96,8,FALSE)))","v":"No"},null,null,null,null,null,null,null,null,null,null,null,null,{"$f":"+CONCATENATE(B27,\".\",5)","v":"9.5"},{"$f":"+VLOOKUP(U27,MatrizRequerimientos,6,FALSE)","v":"49,999%-100%"},{"$f":"+IF(A24=\"T\",Q23=V27,V21)","v":false},{"$f":"+W27*VLOOKUP(U27,MatrizRequerimientos,8,FALSE)","v":0},{"$f":"+W27*VLOOKUP(U27,MatrizRequerimientos,9,FALSE)","v":0}]
["N",9,null,null,null,null,null,null,null,null,null,null,null,null,null,null,null,null,null,null,{"$f":"+CONCATENATE(B28,\".\",6)","v":"9.6"},{"$f":"+VLOOKUP(U28,MatrizRequerimientos,6,FALSE)","v":"49,999%-100%"},{"$f":"+IF(A25=\"T\",Q23=V28,V22)","v":false},{"$f":"+W28*VLOOKUP(U28,MatrizRequerimientos,8,FALSE)","v":0},{"$f":"+W28*VLOOKUP(U28,MatrizRequerimientos,9,FALSE)","v":0}]
["N",9,null,null,null,"REQUERIMIENTO ADICIONAL",null,{"$f":"VLOOKUP(B29,'Resumen requerimientos'!$T$5:$AB$96,9,FALSE)","v":"No"},null,null,null,null,null,null,null,null,null,null,null,null,{"$f":"+CONCATENATE(B29,\".\",7)","v":"9.7"},{"$f":"+VLOOKUP(U29,MatrizRequerimientos,6,FALSE)","v":"49,999%-100%"},{"$f":"+IF(A26=\"T\",Q23=V29,V23)","v":false},{"$f":"+W29*VLOOKUP(U29,MatrizRequerimientos,8,FALSE)","v":0},{"$f":"+W29*VLOOKUP(U29,MatrizRequerimientos,9,FALSE)","v":0}]
["N",9,null,null,null,null,null,null,null,null,null,null,null,null,null,null,null,null,null,null,null,null,{"$f":"+IF(AND(A26=\"N\",H18=\"Voluntario\"),SUMIF($W$26:$W$29,TRUE,IF(Uso_Edificio=\"Oficinas\",X26:X29,Y26:Y29)),IF(AND(A26=\"T\",H18=\"Obligatorio\"),VLOOKUP(Q23,V26:X29,3,FALSE)=1,W26))","v":false},{"$f":"+IF(W30,\"SI\",\"NO\")","v":"NO"}]
["N",9]
["N",9,null,null,"Volver al índice"]
["T",14,null,"ARQ.CAI 3R - SUPERFICIE MÍNIMA DE VENTANA O CAUDAL MÍNIMO DE AIRE",null,null,null,null,null,null,null,null,null,null,null,null,null,null,"ARQ.CAI 3R - SUPERFICIE MÍNIMA DE VENTANA O CAUDAL MÍNIMO DE AIRE"]
["T",{"$f":"+B33","v":14},null,null,null,"Tipo requerimiento",null,{"$f":"+IF(VLOOKUP(B33,TablaResumen[],4)=\"C\",\"Voluntario\",\"Obligatorio\")","v":"Obligatorio"},null,null,null,null,null,null,null,null,null,null,null,null,null,"Puntaje crédito numérico"]
["T",{"$f":"+B34","v":14},null,null,null,null,null,null,null,null,null,null,null,{"$f":"+IF(H34=\"Obligatorio\",\"Cumple Requerimiento\",\"Puntaje obtenido\")","v":"Cumple Requerimiento"},null,null,{"$f":"+IF(H34=\"Obligatorio\",X46,IF(A35=\"N\",IF(Uso_Edificio=\"Oficinas\",SUM(W36:W39),SUM(X36:X39)),IF(Uso_Edificio=\"Oficinas\",SUM(X42:X45),SUM(Y42:Y45))))","v":"SI"},null,null,null,null,"Calificación","Of. Y Serv.","Ed. Y Salud"]
["T",14,null,null,null,"Nombre Requerimiento",null,{"$f":"+VLOOKUP(B38,TablaResumen[],16,0)","v":"Superficie mínima de ventana o caudal mínimo de aire"},null,null,null,null,null,null,null,null,{"$f":"+IF(H33=\"Requisito\",W45,IF(#REF!=\"N\",IF(Uso_Edificio=\"Oficinas\",SUM(W35:W38),SUM(X35:X38)),IF(Uso_Edificio=\"Oficinas\",SUM(X41:X44),SUM(Y41:Y44))))","v":{"$error":"#REF!"}},null,null,null,{"$f":"+CONCATENATE(B36,\".\",4)","v":"14.4"},{"$f":"+AND(Q39>VLOOKUP(U36,MatrizRequerimientos,10,FALSE),Q39<=VLOOKUP(U36,MatrizRequerimientos,11,FALSE))","v":false},{"$f":"+V36*VLOOKUP(U36,MatrizRequerimientos,8,FALSE)","v":0},{"$f":"+V36*VLOOKUP(U36,MatrizRequerimientos,9,FALSE)","v":0}]
["T",14,null,null,null,null,null,null,null,null,null,null,null,null,null,null,{"$f":"+IF(H34=\"Requisito\",W46,IF(A33=\"N\",IF(Uso_Edificio=\"Oficinas\",SUM(W36:W39),SUM(X36:X39)),IF(Uso_Edificio=\"Oficinas\",SUM(X42:X45),SUM(Y42:Y45))))","v":1},null,null,null,{"$f":"+CONCATENATE(B37,\".\",5)","v":"14.5"},{"$f":"+AND(Q39>VLOOKUP(U37,MatrizRequerimientos,10,FALSE),Q39<=VLOOKUP(U37,MatrizRequerimientos,11,FALSE))","v":false},{"$f":"+V37*VLOOKUP(U37,MatrizRequerimientos,8,FALSE)","v":0},{"$f":"+V37*VLOOKUP(U37,MatrizRequerimientos,9,FALSE)","v":0}]
["T",14,null,null,null,"Indicador",null,{"$f":"+VLOOKUP(B39,TablaResumen[],21,0)","v":"Superficie practicable de las ventanas"},null,null,null,null,null,null,null,null,null,null,null,null,{"$f":"+CONCATENATE(B38,\".\",6)","v":"14.6"},{"$f":"+AND(Q39>VLOOKUP(U38,MatrizRequerimientos,10,FALSE),Q39<=VLOOKUP(U38,MatrizRequerimientos,11,FALSE))","v":false},{"$f":"+V38*VLOOKUP(U38,MatrizRequerimientos,8,FALSE)","v":0},{"$f":"+V38*VLOOKUP(U38,MatrizRequerimientos,9,FALSE)","v":0}]
["T",14,null,null,null,null,null,null,null,null,null,null,null,{"$f":"+IF(A38=\"N\",CONCATENATE(\"Valor obtenido en proyecto para \",H38),\"Seleccione Nivel de Cumplimiento\")","v":"Seleccione Nivel de Cumplimiento"},null,null,"No Aplica",null,null,null,{"$f":"+CONCATENATE(B39,\".\",7)","v":"14.7"},{"$f":"+AND(Q39>VLOOKUP(U39,MatrizRequerimientos,10,FALSE),Q39<=VLOOKUP(U39,MatrizRequerimientos,11,FALSE))","v":false},{"$f":"+V39*VLOOKUP(U39,MatrizRequerimientos,8,FALSE)","v":0},{"$f":"+V39*VLOOKUP(U39,MatrizRequerimientos,9,FALSE)","v":0}]
["T",14]
["T",14,null,null,null,"OPCIÓN ",null,{"$f":"CONCATENATE(VLOOKUP(B41,'Resumen requerimientos'!$T$5:$AB$96,5,FALSE), \" de \",VLOOKUP(B41,'Resumen requerimientos'!$T$5:$AB$96,6,FALSE))","v":"1 de 2"},null,null,null,null,null,null,null,null,null,null,null,null,null,null,null,"Of. Y Serv.","Ed. Y Salud",null,{"$f":"+IF('Datos Generales Edificio'!$F$36=\"sI\",\"$V$42\",\"$V$42:$V$43\")","v":"$V$42:$V$43"}]
["T",14,null,null,null,null,null,null,null,null,null,null,null,null,null,null,null,null,null,null,{"$f":"+CONCATENATE(B42,\".\",4)","v":"14.4"},{"$f":"+VLOOKUP(U42,MatrizRequerimientos,6,FALSE)","v":"No Aplica"},{"$f":"+IF(A39=\"T\",Q39=V42,V36)","v":true},{"$f":"+W42*VLOOKUP(U42,MatrizRequerimientos,8,FALSE)","v":1},{"$f":"+W42*VLOOKUP(U42,MatrizRequerimientos,9,FALSE)","v":1}]
["T",14,null,null,null,{"$f":"+IF(H43=\"No\",\"¿OTROS REQUERIMIENTOS SIMULTÁNEOS?\",\"REQUERIMIENTOS SIMULTANEOS PARA LA OPCION\")","v":"¿OTROS REQUERIMIENTOS SIMULTÁNEOS?"},null,{"$f":"IF(VLOOKUP(B43,'Resumen requerimientos'!$T$5:$AB$96,7,FALSE)=0,\"No\",CONCATENATE(VLOOKUP(B43,'Resumen requerimientos'!$T$5:$AB$96,7,FALSE), \" de \",VLOOKUP(B43,'Resumen requerimientos'!$T$5:$AB$96,8,FALSE)))","v":"No"},null,null,null,null,null,null,null,null,null,null,null,null,{"$f":"+CONCATENATE(B43,\".\",5)","v":"14.5"},{"$f":"+VLOOKUP(U43,MatrizRequerimientos,6,FALSE)","v":""},{"$f":"+IF(A40=\"T\",Q39=V43,V37)","v":false},{"$f":"+W43*VLOOKUP(U43,MatrizRequerimientos,8,FALSE)","v":0},{"$f":"+W43*VLOOKUP(U43,MatrizRequerimientos,9,FALSE)","v":0}]
["T",14,null,null,null,null,null,null,null,null,null,null,null,null,null,null,null,null,null,null,{"$f":"+CONCATENATE(B44,\".\",6)","v":"14.6"},{"$f":"+VLOOKUP(U44,MatrizRequerimientos,6,FALSE)","v":0},{"$f":"+IF(A41=\"T\",Q39=V44,V38)","v":false},{"$f":"+W44*VLOOKUP(U44,MatrizRequerimientos,8,FALSE)","v":0},{"$f":"+W44*VLOOKUP(U44,MatrizRequerimientos,9,FALSE)","v":0}]
["T",14,null,null,null,"REQUERIMIENTO ADICIONAL",null,{"$f":"VLOOKUP(B45,'Resumen requerimientos'!$T$5:$AB$96,9,FALSE)","v":"No"},null,null,null,null,null,null,null,null,null,null,null,null,{"$f":"+CONCATENATE(B45,\".\",7)","v":"14.7"},{"$f":"+VLOOKUP(U45,MatrizRequerimientos,6,FALSE)","v":0},{"$f":"+IF(A42=\"T\",Q39=V45,V39)","v":false},{"$f":"+W45*VLOOKUP(U45,MatrizRequerimientos,8,FALSE)","v":0},{"$f":"+W45*VLOOKUP(U45,MatrizRequerimientos,9,FALSE)","v":0}]
["T",14,null,null,null,null,null,null,null,null,null,null,null,null,null,null,null,null,null,null,null,null,{"$f":"+IF(AND(A42=\"N\",H34=\"Voluntario\"),SUMIF($W$42:$W$45,TRUE,IF(Uso_Edificio=\"Oficinas\",X42:X45,Y42:Y45)),IF(AND(A42=\"T\",H34=\"Obligatorio\"),VLOOKUP(Q39,V42:X45,3,FALSE)=1,W42))","v":true},{"$f":"+IF(W46,\"SI\",\"NO\")","v":"SI"}]
["T",14]
["T",15]
["T",{"$f":"+B48","v":15},null,null,null,"Tipo requerimiento",null,{"$f":"+IF(VLOOKUP(B48,TablaResumen[],4)=\"C\",\"Voluntario\",\"Obligatorio\")","v":"Obligatorio"},null,null,null,null,null,null,null,null,null,null,null,null,null,"Puntaje crédito numérico"]
["T",{"$f":"+B49","v":15},null,null,null,null,null,null,null,null,null,null,null,{"$f":"+IF(H49=\"Obligatorio\",\"Cumple Requerimiento\",\"Puntaje obtenido\")","v":"Cumple Requerimiento"},null,null,{"$f":"+IF(H49=\"Obligatorio\",X61,IF(A50=\"N\",IF(Uso_Edificio=\"Oficinas\",SUM(W51:W54),SUM(X51:X54)),IF(Uso_Edificio=\"Oficinas\",SUM(X57:X60),SUM(Y57:Y60))))","v":"SI"},null,null,null,null,"Calificación","Of. Y Serv.","Ed. Y Salud"]
["T",15,null,null,null,"Nombre Requerimiento",null,{"$f":"+VLOOKUP(B53,TablaResumen[],16,0)","v":"Superficie mínima de ventana o caudal mínimo de aire"},null,null,null,null,null,null,null,null,{"$f":"+IF(H48=\"Requisito\",W60,IF(#REF!=\"N\",IF(Uso_Edificio=\"Oficinas\",SUM(W50:W53),SUM(X50:X53)),IF(Uso_Edificio=\"Oficinas\",SUM(X56:X59),SUM(Y56:Y59))))","v":{"$error":"#REF!"}},null,null,null,{"$f":"+CONCATENATE(B51,\".\",4)","v":"15.4"},{"$f":"+AND(Q54>VLOOKUP(U51,MatrizRequerimientos,10,FALSE),Q54<=VLOOKUP(U51,MatrizRequerimientos,11,FALSE))","v":false},{"$f":"+V51*VLOOKUP(U51,MatrizRequerimientos,8,FALSE)","v":0},{"$f":"+V51*VLOOKUP(U51,MatrizRequerimientos,9,FALSE)","v":0}]
["T",15,null,null,null,null,null,null,null,null,null,null,null,null,null,null,{"$f":"+IF(H49=\"Requisito\",W61,IF(A48=\"N\",IF(Uso_Edificio=\"Oficinas\",SUM(W51:W54),SUM(X51:X54)),IF(Uso_Edificio=\"Oficinas\",SUM(X57:X60),SUM(Y57:Y60))))","v":1},null,null,null,{"$f":"+CONCATENATE(B52,\".\",5)","v":"15.5"},{"$f":"+AND(Q54>VLOOKUP(U52,MatrizRequerimientos,10,FALSE),Q54<=VLOOKUP(U52,MatrizRequerimientos,11,FALSE))","v":false},{"$f":"+V52*VLOOKUP(U52,MatrizRequerimientos,8,FALSE)","v":0},{"$f":"+V52*VLOOKUP(U52,MatrizRequerimientos,9,FALSE)","v":0}]
["T",15,null,null,null,"Indicador",null,{"$f":"+VLOOKUP(B54,TablaResumen[],21,0)","v":"Renovaciones de aire hora [RAH]"},null,null,null,null,null,null,null,null,null,null,null,null,{"$f":"+CONCATENATE(B53,\".\",6)","v":"15.6"},{"$f":"+AND(Q54>VLOOKUP(U53,MatrizRequerimientos,10,FALSE),Q54<=VLOOKUP(U53,MatrizRequerimientos,11,FALSE))","v":false},{"$f":"+V53*VLOOKUP(U53,MatrizRequerimientos,8,FALSE)","v":0},{"$f":"+V53*VLOOKUP(U53,MatrizRequerimientos,9,FALSE)","v":0}]
["T",15,null,null,null,null,null,null,null,null,null,null,null,{"$f":"+IF(A53=\"N\",CONCATENATE(\"Valor obtenido en proyecto para \",H53),\"Seleccione Nivel de Cumplimiento\")","v":"Seleccione Nivel de Cumplimiento"},null,null,"No Aplica",null,null,null,{"$f":"+CONCATENATE(B54,\".\",7)","v":"15.7"},{"$f":"+AND(Q54>VLOOKUP(U54,MatrizRequerimientos,10,FALSE),Q54<=VLOOKUP(U54,MatrizRequerimientos,11,FALSE))","v":false},{"$f":"+V54*VLOOKUP(U54,MatrizRequerimientos,8,FALSE)","v":0},{"$f":"+V54*VLOOKUP(U54,MatrizRequerimientos,9,FALSE)","v":0}]
["T",15]
["T",15,null,null,null,"OPCIÓN ",null,{"$f":"CONCATENATE(VLOOKUP(B56,'Resumen requerimientos'!$T$5:$AB$96,5,FALSE), \" de \",VLOOKUP(B56,'Resumen requerimientos'!$T$5:$AB$96,6,FALSE))","v":"2 de 2"},null,null,null,null,null,null,null,null,null,null,null,null,null,null,null,"Of. Y Serv.","Ed. Y Salud",null,{"$f":"+IF('Datos Generales Edificio'!$F$36=\"sI\",\"$V$57\",\"$V$57:$V$58\")","v":"$V$57:$V$58"}]
["T",15,null,null,null,null,null,null,null,null,null,null,null,null,null,null,null,null,null,null,{"$f":"+CONCATENATE(B57,\".\",4)","v":"15.4"},{"$f":"+VLOOKUP(U57,MatrizRequerimientos,6,FALSE)","v":"No Aplica"},{"$f":"+IF(A54=\"T\",Q54=V57,V51)","v":true},{"$f":"+W57*VLOOKUP(U57,MatrizRequerimientos,8,FALSE)","v":1},{"$f":"+W57*VLOOKUP(U57,MatrizRequerimientos,9,FALSE)","v":1}]
["T",15,null,null,null,{"$f":"+IF(H58=\"No\",\"¿OTROS REQUERIMIENTOS SIMULTÁNEOS?\",\"REQUERIMIENTOS SIMULTANEOS PARA LA OPCION\")","v":"¿OTROS REQUERIMIENTOS SIMULTÁNEOS?"},null,{"$f":"IF(VLOOKUP(B58,'Resumen requerimientos'!$T$5:$AB$96,7,FALSE)=0,\"No\",CONCATENATE(VLOOKUP(B58,'Resumen requerimientos'!$T$5:$AB$96,7,FALSE), \" de \",VLOOKUP(B58,'Resumen requerimientos'!$T$5:$AB$96,8,FALSE)))","v":"No"},null,null,null,null,null,null,null,null,null,null,null,null,{"$f":"+CONCATENATE(B58,\".\",5)","v":"15.5"},{"$f":"+VLOOKUP(U58,MatrizRequerimientos,6,FALSE)","v":""},{"$f":"+IF(A55=\"T\",Q54=V58,V52)","v":false},{"$f":"+W58*VLOOKUP(U58,MatrizRequerimientos,8,FALSE)","v":0},{"$f":"+W58*VLOOKUP(U58,MatrizRequerimientos,9,FALSE)","v":0}]
["T",15,null,null,null,null,null,null,null,null,null,null,null,null,null,null,null,null,null,null,{"$f":"+CONCATENATE(B59,\".\",6)","v":"15.6"},{"$f":"+VLOOKUP(U59,MatrizRequerimientos,6,FALSE)","v":0},{"$f":"+IF(A56=\"T\",Q54=V59,V53)","v":false},{"$f":"+W59*VLOOKUP(U59,MatrizRequerimientos,8,FALSE)","v":0},{"$f":"+W59*VLOOKUP(U59,MatrizRequerimientos,9,FALSE)","v":0}]
["T",15,null,null,null,"REQUERIMIENTO ADICIONAL",null,{"$f":"VLOOKUP(B60,'Resumen requerimientos'!$T$5:$AB$96,9,FALSE)","v":"No"},null,null,null,null,null,null,null,null,null,null,null,null,{"$f":"+CONCATENATE(B60,\".\",7)","v":"15.7"},{"$f":"+VLOOKUP(U60,MatrizRequerimientos,6,FALSE)","v":0},{"$f":"+IF(A57=\"T\",Q54=V60,V54)","v":false},{"$f":"+W60*VLOOKUP(U60,MatrizRequerimientos,8,FALSE)","v":0},{"$f":"+W60*VLOOKUP(U60,MatrizRequerimientos,9,FALSE)","v":0}]
["T",15,null,null,null,null,null,null,null,null,null,null,null,null,null,null,null,null,null,null,null,null,{"$f":"+IF(AND(A57=\"N\",H49=\"Voluntario\"),SUMIF(W57:W60,TRUE,IF(Uso_Edificio=\"Oficinas\",X57:X60,Y57:Y60)),IF(AND(A57=\"T\",H49=\"Obligatorio\"),VLOOKUP(Q54,V57:X60,3,FALSE)=1,W57))","v":true},{"$f":"+IF(W61,\"SI\",\"NO\")","v":"SI"}]
["T",15]
["T",15,null,null,"Volver al índice"]
["N",21,null,"ARQ.CAI 4R - AISLACIÓN ACÚSTICA MÍNIMA DE FACHADAS EXTERIORES",null,null,null,null,null,null,null,null,null,null,null,null,null,null,"ARQ.CAI 4R - AISLACIÓN ACÚSTICA MÍNIMA DE FACHADAS EXTERIORES"]
["N",{"$f":"+B64","v":21},null,null,null,"Tipo requerimiento",null,{"$f":"+IF(VLOOKUP(B64,TablaResumen[],4)=\"C\",\"Voluntario\",\"Obligatorio\")","v":"Obligatorio"},null,null,null,null,null,null,null,null,null,null,null,null,null,"Puntaje crédito numérico"]
["N",{"$f":"+B65","v":21},null,null,null,null,null,null,null,null,null,null,null,{"$f":"+IF(H65=\"Obligatorio\",\"Cumple Requerimiento\",\"Puntaje obtenido\")","v":"Cumple Requerimiento"},null,null,{"$f":"+IF(H65=\"Obligatorio\",X77,IF(A66=\"N\",IF(Uso_Edificio=\"Oficinas\",SUM(W67:W70),SUM(X67:X70)),IF(Uso_Edificio=\"Oficinas\",SUM(X73:X76),SUM(Y73:Y76))))","v":"NO"},null,null,null,null,"Calificación","Of. Y Serv.","Ed. Y Salud"]
["N",21,null,null,null,"Nombre Requerimiento",null,{"$f":"+VLOOKUP(B69,TablaResumen[],16,0)","v":"Aislación acústica mínima de fachadas exteriores"},null,null,null,null,null,null,null,null,{"$f":"+IF(H64=\"Requisito\",W76,IF(#REF!=\"N\",IF(Uso_Edificio=\"Oficinas\",SUM(W66:W69),SUM(X66:X69)),IF(Uso_Edificio=\"Oficinas\",SUM(X72:X75),SUM(Y72:Y75))))","v":{"$error":"#REF!"}},null,null,null,{"$f":"+CONCATENATE(B67,\".\",4)","v":"21.4"},{"$f":"+AND(Q70>VLOOKUP(U67,MatrizRequerimientos,10,FALSE),Q70<=VLOOKUP(U67,MatrizRequerimientos,11,FALSE))","v":false},{"$f":"+V67*VLOOKUP(U67,MatrizRequerimientos,8,FALSE)","v":0},{"$f":"+V67*VLOOKUP(U67,MatrizRequerimientos,9,FALSE)","v":0}]
["N",21,null,null,null,null,null,null,null,null,null,null,null,null,null,null,{"$f":"+IF(H65=\"Requisito\",W77,IF(A64=\"N\",IF(Uso_Edificio=\"Oficinas\",SUM(W67:W70),SUM(X67:X70)),IF(Uso_Edificio=\"Oficinas\",SUM(X73:X76),SUM(Y73:Y76))))","v":0},null,null,null,{"$f":"+CONCATENATE(B68,\".\",5)","v":"21.5"},{"$f":"+AND(Q70>VLOOKUP(U68,MatrizRequerimientos,10,FALSE),Q70<=VLOOKUP(U68,MatrizRequerimientos,11,FALSE))","v":false},{"$f":"+V68*VLOOKUP(U68,MatrizRequerimientos,8,FALSE)","v":0},{"$f":"+V68*VLOOKUP(U68,MatrizRequerimientos,9,FALSE)","v":0}]
["N",21,null,null,null,"Indicador",null,{"$f":"+VLOOKUP(B70,TablaResumen[],21,0)","v":"Aislamiento acústico de fachada [dB(A)]"},null,null,null,null,null,null,null,null,null,null,null,null,{"$f":"+CONCATENATE(B69,\".\",6)","v":"21.6"},{"$f":"+AND(Q70>VLOOKUP(U69,MatrizRequerimientos,10,FALSE),Q70<=VLOOKUP(U69,MatrizRequerimientos,11,FALSE))","v":false},{"$f":"+V69*VLOOKUP(U69,MatrizRequerimientos,8,FALSE)","v":0},{"$f":"+V69*VLOOKUP(U69,MatrizRequerimientos,9,FALSE)","v":0}]
["N",21,null,null,null,null,null,null,null,null,null,null,null,{"$f":"+IF(A69=\"N\",CONCATENATE(\"Valor obtenido en proyecto para \",H69),\"Seleccione Nivel de Cumplimiento\")","v":"Valor obtenido en proyecto para Aislamiento acústico de fachada [dB(A)]"},null,null,null,null,null,null,{"$f":"+CONCATENATE(B70,\".\",7)","v":"21.7"},{"$f":"+AND(Q70>VLOOKUP(U70,MatrizRequerimientos,10,FALSE),Q70<=VLOOKUP(U70,MatrizRequerimientos,11,FALSE))","v":false},{"$f":"+V70*VLOOKUP(U70,MatrizRequerimientos,8,FALSE)","v":0},{"$f":"+V70*VLOOKUP(U70,MatrizRequerimientos,9,FALSE)","v":0}]
["N",21]
["N",21,null,null,null,"OPCIÓN ",null,{"$f":"CONCATENATE(VLOOKUP(B72,'Resumen requerimientos'!$T$5:$AB$96,5,FALSE), \" de \",VLOOKUP(B72,'Resumen requerimientos'!$T$5:$AB$96,6,FALSE))","v":"1 de 1"},null,null,null,null,null,null,null,null,null,null,null,null,null,null,null,"Of. Y Serv.","Ed. Y Salud"]
["N",21,null,null,null,null,null,null,null,null,null,null,null,null,null,null,null,null,null,null,{"$f":"+CONCATENATE(B73,\".\",4)","v":"21.4"},{"$f":"+VLOOKUP(U73,MatrizRequerimientos,6,FALSE)","v":"24,999999-100"},{"$f":"+IF(A70=\"T\",Q70=V73,V67)","v":false},{"$f":"+W73*VLOOKUP(U73,MatrizRequerimientos,8,FALSE)","v":0},{"$f":"+W73*VLOOKUP(U73,MatrizRequerimientos,9,FALSE)","v":0}]
["N",21,null,null,null,{"$f":"+IF(H74=\"No\",\"¿OTROS REQUERIMIENTOS SIMULTÁNEOS?\",\"REQUERIMIENTOS SIMULTANEOS PARA LA OPCION\")","v":"¿OTROS REQUERIMIENTOS SIMULTÁNEOS?"},null,{"$f":"IF(VLOOKUP(B74,'Resumen requerimientos'!$T$5:$AB$96,7,FALSE)=0,\"No\",CONCATENATE(VLOOKUP(B74,'Resumen requerimientos'!$T$5:$AB$96,7,FALSE), \" de \",VLOOKUP(B74,'Resumen requerimientos'!$T$5:$AB$96,8,FALSE)))","v":"No"},null,null,null,null,null,null,null,null,null,null,null,null,{"$f":"+CONCATENATE(B74,\".\",5)","v":"21.5"},{"$f":"+VLOOKUP(U74,MatrizRequerimientos,6,FALSE)","v":0},{"$f":"+IF(A71=\"T\",Q70=V74,V68)","v":false},{"$f":"+W74*VLOOKUP(U74,MatrizRequerimientos,8,FALSE)","v":0},{"$f":"+W74*VLOOKUP(U74,MatrizRequerimientos,9,FALSE)","v":0}]
["N",21,null,null,null,null,null,null,null,null,null,null,null,null,null,null,null,null,null,null,{"$f":"+CONCATENATE(B75,\".\",6)","v":"21.6"},{"$f":"+VLOOKUP(U75,MatrizRequerimientos,6,FALSE)","v":0},{"$f":"+IF(A72=\"T\",Q70=V75,V69)","v":false},{"$f":"+W75*VLOOKUP(U75,MatrizRequerimientos,8,FALSE)","v":0},{"$f":"+W75*VLOOKUP(U75,MatrizRequerimientos,9,FALSE)","v":0}]
["N",21,null,null,null,"REQUERIMIENTO ADICIONAL",null,{"$f":"VLOOKUP(B76,'Resumen requerimientos'!$T$5:$AB$96,9,FALSE)","v":"No"},null,null,null,null,null,null,null,null,null,null,null,null,{"$f":"+CONCATENATE(B76,\".\",7)","v":"21.7"},{"$f":"+VLOOKUP(U76,MatrizRequerimientos,6,FALSE)","v":0},{"$f":"+IF(A73=\"T\",Q70=V76,V70)","v":false},{"$f":"+W76*VLOOKUP(U76,MatrizRequerimientos,8,FALSE)","v":0},{"$f":"+W76*VLOOKUP(U76,MatrizRequerimientos,9,FALSE)","v":0}]
["N",21,null,null,null,null,null,null,null,null,null,null,null,null,null,null,null,null,null,null,null,null,{"$f":"+IF(AND(A73=\"N\",H65=\"Voluntario\"),SUMIF(W73:W76,TRUE,IF(Uso_Edificio=\"Oficinas\",X73:X76,Y73:Y76)),IF(AND(A73=\"T\",H65=\"Obligatorio\"),VLOOKUP(Q70,V73:X76,3,FALSE)=1,W73))","v":false},{"$f":"+IF(W77,\"SI\",\"NO\")","v":"NO"}]
["N",21]
["N",21,null,null,"Volver al índice"]

{"sheet":"Evaluacion INST.CAI Obligat.","index":7,"n_rows":111,"n_cols":25,"rows_kept":111,"cut":false,"hidden":false,"merged":[[17,18,31,18],[17,3,31,3],[81,16,83,16],[85,13,92,15],[85,16,92,16],[97,13,99,15],[97,16,99,16],[101,13,108,15],[101,16,108,16],[39,16,46,16],[51,13,53,15],[51,16,53,16],[55,13,62,15],[55,16,62,16],[66,13,68,15],[66,16,68,16],[70,13,77,15],[70,16,77,16],[33,3,47,3],[49,3,93,3],[61,7,62,11],[50,5,51,6],[50,7,51,11],[52,5,53,6],[3,16,5,16],[7,13,14,15],[7,16,14,16],[19,13,21,15],[19,16,21,16],[23,13,30,15],[23,16,30,16],[96,5,97,6],[96,7,97,11],[86,5,86,6],[86,7,86,11],[78,5,78,11],[74,5,75,6],[74,7,75,11],[63,5,63,11],[65,5,66,6],[65,7,66,11],[67,5,68,6],[67,7,68,11],[57,5,58,6],[57,7,58,11],[59,5,60,6],[59,7,60,11],[61,5,62,6],[1,3,15,3],[50,21,50,23],[65,21,65,23],[80,21,80,23],[96,21,96,23],[2,21,2,23],[18,21,18,23],[34,21,34,23],[3,13,5,15],[81,13,83,15],[76,5,77,6],[76,7,77,11],[80,5,81,6],[80,7,81,11],[71,5,71,6],[71,7,71,11],[69,5,70,6],[69,7,70,11],[72,5,73,6],[72,7,73,11],[56,5,56,6],[56,7,56,11],[54,5,55,6],[54,7,55,11],[109,5,109,11],[105,5,106,6],[105,7,106,11],[107,5,108,6],[107,7,108,11],[103,5,104,6],[103,7,104,11],[82,5,83,6],[82,7,83,11],[84,5,85,6],[84,7,85,11],[87,5,88,6],[87,7,88,11],[89,5,90,6],[89,7,90,11],[102,5,102,6],[102,7,102,11],[98,5,99,6],[98,7,99,11],[100,5,101,6],[100,7,101,11],[93,5,93,11],[91,5,92,6],[91,7,92,11],[52,7,53,11],[47,5,47,11],[43,5,44,6],[43,7,44,11],[45,5,46,6],[45,7,46,11],[40,5,40,6],[40,7,40,11],[39,13,46,15],[38,5,39,6],[38,7,39,11],[41,5,42,6],[41,7,42,11],[35,16,37,16],[31,5,31,11],[25,5,26,6],[25,7,26,11],[27,5,28,6],[27,7,28,11],[29,5,30,6],[29,7,30,11],[34,5,35,6],[34,7,35,11],[36,5,37,6],[36,7,37,11],[13,7,14,11],[24,5,24,6],[24,7,24,11],[22,5,23,6],[22,7,23,11],[35,13,37,15],[15,5,15,11],[18,5,19,6],[18,7,19,11],[20,5,21,6],[20,7,21,11],[0,4,0,5],[16,4,16,5],[32,4,32,5],[48,4,48,5],[94,4,94,5],[110,4,110,5],[95,3,109,3],[1,18,15,18],[33,18,47,18],[49,18,93,18],[95,18,109,18],[8,5,8,6],[8,7,8,11],[6,5,7,6],[6,7,7,11],[9,5,10,6],[9,7,10,11],[11,5,12,6],[11,7,12,11],[2,5,3,6],[2,7,3,11],[4,5,5,6],[4,7,5,11],[13,5,14,6]]}
["Texto/Número","Nº requisito",null,null,"Volver al índice"]
["T",50,null,"INST.CAI 11R1 - CUMPLIR CON LAS TASAS MÍNIMAS DE VENTILACIÓN",null,null,null,null,null,null,null,null,null,null,null,null,null,null,"INST.CAI 11R1 - CUMPLIR CON LAS TASAS MÍNIMAS DE VENTILACIÓN"]
["T",{"$f":"+B2","v":50},null,null,null,"Tipo requerimiento",null,{"$f":"+IF(VLOOKUP(B2,TablaResumen[],4)=\"C\",\"Voluntario\",\"Obligatorio\")","v":"Obligatorio"},null,null,null,null,null,null,null,null,null,null,null,null,null,"Puntaje crédito numérico"]
["T",50,null,null,null,null,null,null,null,null,null,null,null,{"$f":"+IF(H3=\"Obligatorio\",\"Cumple Requerimiento\",\"Puntaje obtenido\")","v":"Cumple Requerimiento"},null,null,{"$f":"+IF(H3=\"Obligatorio\",X15,IF(A4=\"N\",IF(Uso_Edificio=\"Oficinas\",SUM(W5:W8),SUM(X5:X8)),IF(Uso_Edificio=\"Oficinas\",SUM(X11:X14),SUM(Y11:Y14))))","v":"SI"},null,null,null,null,"Calificación","Of. Y Serv.","Ed. Y Salud"]
["T",50,null,null,null,"Nombre Requerimiento",null,{"$f":"+VLOOKUP(B7,TablaResumen[],16,0)","v":"Cumplir con las tasas mínimas de ventilación indicadas"},null,null,null,null,null,null,null,null,{"$f":"+IF(H2=\"Requisito\",W14,IF(#REF!=\"N\",IF(Uso_Edificio=\"Oficinas\",SUM(W4:W7),SUM(X4:X7)),IF(Uso_Edificio=\"Oficinas\",SUM(X10:X13),SUM(Y10:Y13))))","v":{"$error":"#REF!"}},null,null,null,{"$f":"+CONCATENATE(B5,\".\",4)","v":"50.4"},{"$f":"+AND(Q8>VLOOKUP(U5,MatrizRequerimientos,10,FALSE),Q8<=VLOOKUP(U5,MatrizRequerimientos,11,FALSE))","v":false},{"$f":"+V5*VLOOKUP(U5,MatrizRequerimientos,8,FALSE)","v":0},{"$f":"+V5*VLOOKUP(U5,MatrizRequerimientos,9,FALSE)","v":0}]
["T",50,null,null,null,null,null,null,null,null,null,null,null,null,null,null,{"$f":"+IF(H3=\"Requisito\",W15,IF(A2=\"N\",IF(Uso_Edificio=\"Oficinas\",SUM(W5:W8),SUM(X5:X8)),IF(Uso_Edificio=\"Oficinas\",SUM(X11:X14),SUM(Y11:Y14))))","v":1},null,null,null,{"$f":"+CONCATENATE(B6,\".\",5)","v":"50.5"},{"$f":"+AND(Q8>VLOOKUP(U6,MatrizRequerimientos,10,FALSE),Q8<=VLOOKUP(U6,MatrizRequerimientos,11,FALSE))","v":false},{"$f":"+V6*VLOOKUP(U6,MatrizRequerimientos,8,FALSE)","v":0},{"$f":"+V6*VLOOKUP(U6,MatrizRequerimientos,9,FALSE)","v":0}]
["T",50,null,null,null,"Indicador",null,{"$f":"+VLOOKUP(B8,TablaResumen[],21,0)","v":"Caudal de diseño del sistema de ventilación mecánica"},null,null,null,null,null,null,null,null,null,null,null,null,{"$f":"+CONCATENATE(B7,\".\",6)","v":"50.6"},{"$f":"+AND(Q8>VLOOKUP(U7,MatrizRequerimientos,10,FALSE),Q8<=VLOOKUP(U7,MatrizRequerimientos,11,FALSE))","v":false},{"$f":"+V7*VLOOKUP(U7,MatrizRequerimientos,8,FALSE)","v":0},{"$f":"+V7*VLOOKUP(U7,MatrizRequerimientos,9,FALSE)","v":0}]
["T",50,null,null,null,null,null,null,null,null,null,null,null,{"$f":"+IF(A7=\"N\",CONCATENATE(\"Valor obtenido en proyecto para \",H7),\"Seleccione Nivel de Cumplimiento\")","v":"Seleccione Nivel de Cumplimiento"},null,null,"No Aplica",null,null,null,{"$f":"+CONCATENATE(B8,\".\",7)","v":"50.7"},{"$f":"+AND(Q8>VLOOKUP(U8,MatrizRequerimientos,10,FALSE),Q8<=VLOOKUP(U8,MatrizRequerimientos,11,FALSE))","v":false},{"$f":"+V8*VLOOKUP(U8,MatrizRequerimientos,8,FALSE)","v":0},{"$f":"+V8*VLOOKUP(U8,MatrizRequerimientos,9,FALSE)","v":0}]
["T",50]
["T",50,null,null,null,"OPCIÓN ",null,{"$f":"CONCATENATE(VLOOKUP(B10,'Resumen requerimientos'!$T$5:$AB$96,5,FALSE), \" de \",VLOOKUP(B10,'Resumen requerimientos'!$T$5:$AB$96,6,FALSE))","v":"1 de 1"},null,null,null,null,null,null,null,null,null,null,null,null,null,null,null,"Of. Y Serv.","Ed. Y Salud"]
["T",50,null,null,null,null,null,null,null,null,null,null,null,null,null,null,null,null,null,null,{"$f":"+CONCATENATE(B11,\".\",4)","v":"50.4"},{"$f":"+VLOOKUP(U11,MatrizRequerimientos,6,FALSE)","v":"No Aplica"},{"$f":"+IF(A8=\"T\",Q8=V11,V5)","v":true},{"$f":"+W11*VLOOKUP(U11,MatrizRequerimientos,8,FALSE)","v":1},{"$f":"+W11*VLOOKUP(U11,MatrizRequerimientos,9,FALSE)","v":1}]
["T",50,null,null,null,{"$f":"+IF(H12=\"No\",\"¿OTROS REQUERIMIENTOS SIMULTÁNEOS?\",\"REQUERIMIENTOS SIMULTANEOS PARA LA OPCION\")","v":"¿OTROS REQUERIMIENTOS SIMULTÁNEOS?"},null,{"$f":"IF(VLOOKUP(B12,'Resumen requerimientos'!$T$5:$AB$96,7,FALSE)=0,\"No\",CONCATENATE(VLOOKUP(B12,'Resumen requerimientos'!$T$5:$AB$96,7,FALSE), \" de \",VLOOKUP(B12,'Resumen requerimientos'!$T$5:$AB$96,8,FALSE)))","v":"No"},null,null,null,null,null,null,null,null,null,null,null,null,{"$f":"+CONCATENATE(B12,\".\",5)","v":"50.5"},{"$f":"+VLOOKUP(U12,MatrizRequerimientos,6,FALSE)","v":""},{"$f":"+IF(A9=\"T\",Q8=V12,V6)","v":false},{"$f":"+W12*VLOOKUP(U12,MatrizRequerimientos,8,FALSE)","v":0},{"$f":"+W12*VLOOKUP(U12,MatrizRequerimientos,9,FALSE)","v":0}]
["T",50,null,null,null,null,null,null,null,null,null,null,null,null,null,null,null,null,null,null,{"$f":"+CONCATENATE(B13,\".\",6)","v":"50.6"},{"$f":"+VLOOKUP(U13,MatrizRequerimientos,6,FALSE)","v":0},{"$f":"+IF(A10=\"T\",Q8=V13,V7)","v":false},{"$f":"+W13*VLOOKUP(U13,MatrizRequerimientos,8,FALSE)","v":0},{"$f":"+W13*VLOOKUP(U13,MatrizRequerimientos,9,FALSE)","v":0}]
["T",50,null,null,null,"REQUERIMIENTO ADICIONAL",null,{"$f":"VLOOKUP(B14,'Resumen requerimientos'!$T$5:$AB$96,9,FALSE)","v":"No"},null,null,null,null,null,null,null,null,null,null,null,null,{"$f":"+CONCATENATE(B14,\".\",7)","v":"50.7"},{"$f":"+VLOOKUP(U14,MatrizRequerimientos,6,FALSE)","v":0},{"$f":"+IF(A11=\"T\",Q8=V14,V8)","v":false},{"$f":"+W14*VLOOKUP(U14,MatrizRequerimientos,8,FALSE)","v":0},{"$f":"+W14*VLOOKUP(U14,MatrizRequerimientos,9,FALSE)","v":0}]
["T",50,null,null,null,null,null,null,null,null,null,null,null,null,null,null,null,null,null,null,null,null,{"$f":"+IF(AND(A11=\"N\",H3=\"Voluntario\"),SUMIF(W11:W14,TRUE,IF(Uso_Edificio=\"Oficinas\",X11:X14,Y11:Y14)),IF(AND(A11=\"T\",H3=\"Obligatorio\"),VLOOKUP(Q8,V11:X14,3,FALSE)=1,W11))","v":true},{"$f":"+IF(W15,\"SI\",\"NO\")","v":"SI"}]
["T",50]
["T",50,null,null,"Volver al índice"]
["T",48,null,"INST.CAI 11R2 - EFICIENCIA PROMEDIO MÍNIMA DE FILTRAJE",null,null,null,null,null,null,null,null,null,null,null,null,null,null,"INST.CAI 11R2 - EFICIENCIA PROMEDIO MÍNIMA DE FILTRAJE"]
["T",{"$f":"+B18","v":48},null,null,null,"Tipo requerimiento",null,{"$f":"+IF(VLOOKUP(B18,TablaResumen[],4)=\"C\",\"Voluntario\",\"Obligatorio\")","v":"Obligatorio"},null,null,null,null,null,null,null,null,null,null,null,null,null,"Puntaje crédito numérico"]
["T",48,null,null,null,null,null,null,null,null,null,null,null,{"$f":"+IF(H19=\"Obligatorio\",\"Cumple Requerimiento\",\"Puntaje obtenido\")","v":"Cumple Requerimiento"},null,null,{"$f":"+IF(H19=\"Obligatorio\",X31,IF(A20=\"N\",IF(Uso_Edificio=\"Oficinas\",SUM(W21:W24),SUM(X21:X24)),IF(Uso_Edificio=\"Oficinas\",SUM(X27:X30),SUM(Y27:Y30))))","v":"SI"},null,null,null,null,"Calificación","Of. Y Serv.","Ed. Y Salud"]
["T",48,null,null,null,"Nombre Requerimiento",null,{"$f":"+VLOOKUP(B23,TablaResumen[],16,0)","v":"Eficiencia promedio de filtraje"},null,null,null,null,null,null,null,null,{"$f":"+IF(H18=\"Requisito\",W30,IF(#REF!=\"N\",IF(Uso_Edificio=\"Oficinas\",SUM(W20:W23),SUM(X20:X23)),IF(Uso_Edificio=\"Oficinas\",SUM(X26:X29),SUM(Y26:Y29))))","v":{"$error":"#REF!"}},null,null,null,{"$f":"+CONCATENATE(B21,\".\",4)","v":"48.4"},{"$f":"+AND(Q24>VLOOKUP(U21,MatrizRequerimientos,10,FALSE),Q24<=VLOOKUP(U21,MatrizRequerimientos,11,FALSE))","v":false},{"$f":"+V21*VLOOKUP(U21,MatrizRequerimientos,8,FALSE)","v":0},{"$f":"+V21*VLOOKUP(U21,MatrizRequerimientos,9,FALSE)","v":0}]
["T",48,null,null,null,null,null,null,null,null,null,null,null,null,null,null,{"$f":"+IF(H19=\"Requisito\",W31,IF(A18=\"N\",IF(Uso_Edificio=\"Oficinas\",SUM(W21:W24),SUM(X21:X24)),IF(Uso_Edificio=\"Oficinas\",SUM(X27:X30),SUM(Y27:Y30))))","v":1},null,null,null,{"$f":"+CONCATENATE(B22,\".\",5)","v":"48.5"},{"$f":"+AND(Q24>VLOOKUP(U22,MatrizRequerimientos,10,FALSE),Q24<=VLOOKUP(U22,MatrizRequerimientos,11,FALSE))","v":false},{"$f":"+V22*VLOOKUP(U22,MatrizRequerimientos,8,FALSE)","v":0},{"$f":"+V22*VLOOKUP(U22,MatrizRequerimientos,9,FALSE)","v":0}]
["T",48,null,null,null,"Indicador",null,{"$f":"+VLOOKUP(B24,TablaResumen[],21,0)","v":"Requisito Eficiencia promedio filtraje [% o MERV]"},null,null,null,null,null,null,null,null,null,null,null,null,{"$f":"+CONCATENATE(B23,\".\",6)","v":"48.6"},{"$f":"+AND(Q24>VLOOKUP(U23,MatrizRequerimientos,10,FALSE),Q24<=VLOOKUP(U23,MatrizRequerimientos,11,FALSE))","v":false},{"$f":"+V23*VLOOKUP(U23,MatrizRequerimientos,8,FALSE)","v":0},{"$f":"+V23*VLOOKUP(U23,MatrizRequerimientos,9,FALSE)","v":0}]
["T",48,null,null,null,null,null,null,null,null,null,null,null,{"$f":"+IF(A23=\"N\",CONCATENATE(\"Valor obtenido en proyecto para \",H23),\"Seleccione Nivel de Cumplimiento\")","v":"Seleccione Nivel de Cumplimiento"},null,null,"No Aplica",null,null,null,{"$f":"+CONCATENATE(B24,\".\",7)","v":"48.7"},{"$f":"+AND(Q24>VLOOKUP(U24,MatrizRequerimientos,10,FALSE),Q24<=VLOOKUP(U24,MatrizRequerimientos,11,FALSE))","v":false},{"$f":"+V24*VLOOKUP(U24,MatrizRequerimientos,8,FALSE)","v":0},{"$f":"+V24*VLOOKUP(U24,MatrizRequerimientos,9,FALSE)","v":0}]
["T",48]
["T",48,null,null,null,"OPCIÓN ",null,{"$f":"CONCATENATE(VLOOKUP(B26,'Resumen requerimientos'!$T$5:$AB$96,5,FALSE), \" de \",VLOOKUP(B26,'Resumen requerimientos'!$T$5:$AB$96,6,FALSE))","v":"1 de 1"},null,null,null,null,null,null,null,null,null,null,null,null,null,null,null,"Of. Y Serv.","Ed. Y Salud"]
["T",48,null,null,null,null,null,null,null,null,null,null,null,null,null,null,null,null,null,null,{"$f":"+CONCATENATE(B27,\".\",4)","v":"48.4"},{"$f":"+VLOOKUP(U27,MatrizRequerimientos,6,FALSE)","v":"No Aplica"},{"$f":"+IF(A24=\"T\",Q24=V27,V21)","v":true},{"$f":"+W27*VLOOKUP(U27,MatrizRequerimientos,8,FALSE)","v":1},{"$f":"+W27*VLOOKUP(U27,MatrizRequerimientos,9,FALSE)","v":1}]
["T",48,null,null,null,{"$f":"+IF(H28=\"No\",\"¿OTROS REQUERIMIENTOS SIMULTÁNEOS?\",\"REQUERIMIENTOS SIMULTANEOS PARA LA OPCION\")","v":"¿OTROS REQUERIMIENTOS SIMULTÁNEOS?"},null,{"$f":"IF(VLOOKUP(B28,'Resumen requerimientos'!$T$5:$AB$96,7,FALSE)=0,\"No\",CONCATENATE(VLOOKUP(B28,'Resumen requerimientos'!$T$5:$AB$96,7,FALSE), \" de \",VLOOKUP(B28,'Resumen requerimientos'!$T$5:$AB$96,8,FALSE)))","v":"No"},null,null,null,null,null,null,null,null,null,null,null,null,{"$f":"+CONCATENATE(B28,\".\",5)","v":"48.5"},{"$f":"+VLOOKUP(U28,MatrizRequerimientos,6,FALSE)","v":""},{"$f":"+IF(A25=\"T\",Q24=V28,V22)","v":false},{"$f":"+W28*VLOOKUP(U28,MatrizRequerimientos,8,FALSE)","v":0},{"$f":"+W28*VLOOKUP(U28,MatrizRequerimientos,9,FALSE)","v":0}]
["T",48,null,null,null,null,null,null,null,null,null,null,null,null,null,null,null,null,null,null,{"$f":"+CONCATENATE(B29,\".\",6)","v":"48.6"},{"$f":"+VLOOKUP(U29,MatrizRequerimientos,6,FALSE)","v":0},{"$f":"+IF(A26=\"T\",Q24=V29,V23)","v":false},{"$f":"+W29*VLOOKUP(U29,MatrizRequerimientos,8,FALSE)","v":0},{"$f":"+W29*VLOOKUP(U29,MatrizRequerimientos,9,FALSE)","v":0}]
["T",48,null,null,null,"REQUERIMIENTO ADICIONAL",null,{"$f":"VLOOKUP(B30,'Resumen requerimientos'!$T$5:$AB$96,9,FALSE)","v":"No"},null,null,null,null,null,null,null,null,null,null,null,null,{"$f":"+CONCATENATE(B30,\".\",7)","v":"48.7"},{"$f":"+VLOOKUP(U30,MatrizRequerimientos,6,FALSE)","v":0},{"$f":"+IF(A27=\"T\",Q24=V30,V24)","v":false},{"$f":"+W30*VLOOKUP(U30,MatrizRequerimientos,8,FALSE)","v":0},{"$f":"+W30*VLOOKUP(U30,MatrizRequerimientos,9,FALSE)","v":0}]
["T",48,null,null,null,null,null,null,null,null,null,null,null,null,null,null,null,null,null,null,null,null,{"$f":"+IF(AND(A27=\"N\",H19=\"Voluntario\"),SUMIF(W27:W30,TRUE,IF(Uso_Edificio=\"Oficinas\",X27:X30,Y27:Y30)),IF(AND(A27=\"T\",H19=\"Obligatorio\"),VLOOKUP(Q24,V27:X30,3,FALSE)=1,W27))","v":true},{"$f":"+IF(W31,\"SI\",\"NO\")","v":"SI"}]
["T",48]
["T",48,null,null,"Volver al índice"]
["T",47,null,"INST.CAI 11R3 - NO UTILIZAR SISTEMAS DE CALEFACCIÓN DE LLAMA ABIERTA",null,null,null,null,null,null,null,null,null,null,null,null,null,null,"INST.CAI 11R3 - NO UTILIZAR SISTEMAS DE CALEFACCIÓN DE LLAMA ABIERTA"]
["T",{"$f":"+B34","v":47},null,null,null,"Tipo requerimiento",null,{"$f":"+IF(VLOOKUP(B34,TablaResumen[],4)=\"C\",\"Voluntario\",\"Obligatorio\")","v":"Obligatorio"},null,null,null,null,null,null,null,null,null,null,null,null,null,"Puntaje crédito numérico"]
["T",47,null,null,null,null,null,null,null,null,null,null,null,{"$f":"+IF(H35=\"Obligatorio\",\"Cumple Requerimiento\",\"Puntaje obtenido\")","v":"Cumple Requerimiento"},null,null,{"$f":"+IF(H35=\"Obligatorio\",X47,IF(A36=\"N\",IF(Uso_Edificio=\"Oficinas\",SUM(W37:W40),SUM(X37:X40)),IF(Uso_Edificio=\"Oficinas\",SUM(X43:X46),SUM(Y43:Y46))))","v":"NO"},null,null,null,null,"Calificación","Of. Y Serv.","Ed. Y Salud"]
["T",47,null,null,null,"Nombre Requerimiento",null,{"$f":"+VLOOKUP(B39,TablaResumen[],16,0)","v":"No utlizar sistemas de calefacción de combustión en base a llama abierta"},null,null,null,null,null,null,null,null,{"$f":"+IF(H34=\"Requisito\",W46,IF(#REF!=\"N\",IF(Uso_Edificio=\"Oficinas\",SUM(W36:W39),SUM(X36:X39)),IF(Uso_Edificio=\"Oficinas\",SUM(X42:X45),SUM(Y42:Y45))))","v":{"$error":"#REF!"}},null,null,null,{"$f":"+CONCATENATE(B37,\".\",4)","v":"47.4"},{"$f":"+AND(Q40>VLOOKUP(U37,MatrizRequerimientos,10,FALSE),Q40<=VLOOKUP(U37,MatrizRequerimientos,11,FALSE))","v":false},{"$f":"+V37*VLOOKUP(U37,MatrizRequerimientos,8,FALSE)","v":0},{"$f":"+V37*VLOOKUP(U37,MatrizRequerimientos,9,FALSE)","v":0}]
["T",47,null,null,null,null,null,null,null,null,null,null,null,null,null,null,{"$f":"+IF(H35=\"Requisito\",W47,IF(A34=\"N\",IF(Uso_Edificio=\"Oficinas\",SUM(W37:W40),SUM(X37:X40)),IF(Uso_Edificio=\"Oficinas\",SUM(X43:X46),SUM(Y43:Y46))))","v":0},null,null,null,{"$f":"+CONCATENATE(B38,\".\",5)","v":"47.5"},{"$f":"+AND(Q40>VLOOKUP(U38,MatrizRequerimientos,10,FALSE),Q40<=VLOOKUP(U38,MatrizRequerimientos,11,FALSE))","v":false},{"$f":"+V38*VLOOKUP(U38,MatrizRequerimientos,8,FALSE)","v":0},{"$f":"+V38*VLOOKUP(U38,MatrizRequerimientos,9,FALSE)","v":0}]
["T",47,null,null,null,"Indicador",null,{"$f":"+VLOOKUP(B40,TablaResumen[],21,0)","v":"Sistemas de calefacción utilizados"},null,null,null,null,null,null,null,null,null,null,null,null,{"$f":"+CONCATENATE(B39,\".\",6)","v":"47.6"},{"$f":"+AND(Q40>VLOOKUP(U39,MatrizRequerimientos,10,FALSE),Q40<=VLOOKUP(U39,MatrizRequerimientos,11,FALSE))","v":false},{"$f":"+V39*VLOOKUP(U39,MatrizRequerimientos,8,FALSE)","v":0},{"$f":"+V39*VLOOKUP(U39,MatrizRequerimientos,9,FALSE)","v":0}]
["T",47,null,null,null,null,null,null,null,null,null,null,null,{"$f":"+IF(A39=\"N\",CONCATENATE(\"Valor obtenido en proyecto para \",H39),\"Seleccione Nivel de Cumplimiento\")","v":"Seleccione Nivel de Cumplimiento"},null,null,null,null,null,null,{"$f":"+CONCATENATE(B40,\".\",7)","v":"47.7"},{"$f":"+AND(Q40>VLOOKUP(U40,MatrizRequerimientos,10,FALSE),Q40<=VLOOKUP(U40,MatrizRequerimientos,11,FALSE))","v":false},{"$f":"+V40*VLOOKUP(U40,MatrizRequerimientos,8,FALSE)","v":0},{"$f":"+V40*VLOOKUP(U40,MatrizRequerimientos,9,FALSE)","v":0}]
["T",47]
["T",47,null,null,null,"OPCIÓN ",null,{"$f":"CONCATENATE(VLOOKUP(B42,'Resumen requerimientos'!$T$5:$AB$96,5,FALSE), \" de \",VLOOKUP(B42,'Resumen requerimientos'!$T$5:$AB$96,6,FALSE))","v":"1 de 1"},null,null,null,null,null,null,null,null,null,null,null,null,null,null,null,"Of. Y Serv.","Ed. Y Salud"]
["T",47,null,null,null,null,null,null,null,null,null,null,null,null,null,null,null,null,null,null,{"$f":"+CONCATENATE(B43,\".\",4)","v":"47.4"},{"$f":"+VLOOKUP(U43,MatrizRequerimientos,6,FALSE)","v":"NO presenta combustión llama abierta en calefacción"},{"$f":"+IF(A40=\"T\",Q40=V43,V37)","v":false},{"$f":"+W43*VLOOKUP(U43,MatrizRequerimientos,8,FALSE)","v":0},{"$f":"+W43*VLOOKUP(U43,MatrizRequerimientos,9,FALSE)","v":0}]
["T",47,null,null,null,{"$f":"+IF(H44=\"No\",\"¿OTROS REQUERIMIENTOS SIMULTÁNEOS?\",\"REQUERIMIENTOS SIMULTANEOS PARA LA OPCION\")","v":"¿OTROS REQUERIMIENTOS SIMULTÁNEOS?"},null,{"$f":"IF(VLOOKUP(B44,'Resumen requerimientos'!$T$5:$AB$96,7,FALSE)=0,\"No\",CONCATENATE(VLOOKUP(B44,'Resumen requerimientos'!$T$5:$AB$96,7,FALSE), \" de \",VLOOKUP(B44,'Resumen requerimientos'!$T$5:$AB$96,8,FALSE)))","v":"No"},null,null,null,null,null,null,null,null,null,null,null,null,{"$f":"+CONCATENATE(B44,\".\",5)","v":"47.5"},{"$f":"+VLOOKUP(U44,MatrizRequerimientos,6,FALSE)","v":"Presenta combustión llama abierta en calefacción"},{"$f":"+IF(A41=\"T\",Q40=V44,V38)","v":false},{"$f":"+W44*VLOOKUP(U44,MatrizRequerimientos,8,FALSE)","v":0},{"$f":"+W44*VLOOKUP(U44,MatrizRequerimientos,9,FALSE)","v":0}]
["T",47,null,null,null,null,null,null,null,null,null,null,null,null,null,null,null,null,null,null,{"$f":"+CONCATENATE(B45,\".\",6)","v":"47.6"},{"$f":"+VLOOKUP(U45,MatrizRequerimientos,6,FALSE)","v":0},{"$f":"+IF(A42=\"T\",Q40=V45,V39)","v":true},{"$f":"+W45*VLOOKUP(U45,MatrizRequerimientos,8,FALSE)","v":0},{"$f":"+W45*VLOOKUP(U45,MatrizRequerimientos,9,FALSE)","v":0}]
["T",47,null,null,null,"REQUERIMIENTO ADICIONAL",null,{"$f":"VLOOKUP(B46,'Resumen requerimientos'!$T$5:$AB$96,9,FALSE)","v":"No"},null,null,null,null,null,null,null,null,null,null,null,null,{"$f":"+CONCATENATE(B46,\".\",7)","v":"47.7"},{"$f":"+VLOOKUP(U46,MatrizRequerimientos,6,FALSE)","v":0},{"$f":"+IF(A43=\"T\",Q40=V46,V40)","v":true},{"$f":"+W46*VLOOKUP(U46,MatrizRequerimientos,8,FALSE)","v":0},{"$f":"+W46*VLOOKUP(U46,MatrizRequerimientos,9,FALSE)","v":0}]
["T",47,null,null,null,null,null,null,null,null,null,null,null,null,null,null,null,null,null,null,null,null,{"$f":"+IF(AND(A43=\"N\",H35=\"Voluntario\"),SUMIF(W43:W46,TRUE,IF(Uso_Edificio=\"Oficinas\",X43:X46,Y43:Y46)),IF(AND(A43=\"T\",H35=\"Obligatorio\"),VLOOKUP(Q40,V43:X46,3,FALSE)=1,W43))","v":false},{"$f":"+IF(W47,\"SI\",\"NO\")","v":"NO"}]
["T",47]
["T",47,null,null,"Volver al índice"]
["T",57,null,"INST.CAI 13R - CONDICIONES DE DISEÑO MÍNIMAS",null,null,null,null,null,null,null,null,null,null,null,null,null,null,"INST.CAI 13R - CONDICIONES DE DISEÑO MÍNIMAS"]
["T",{"$f":"+B50","v":57},null,null,null,"Tipo requerimiento",null,{"$f":"+IF(VLOOKUP(B50,TablaResumen[],4)=\"C\",\"Voluntario\",\"Obligatorio\")","v":"Obligatorio"},null,null,null,null,null,null,null,null,null,null,null,null,null,"Puntaje crédito numérico"]
["T",57,null,null,null,null,null,null,null,null,null,null,null,{"$f":"+IF(H51=\"Obligatorio\",\"Cumple Requerimiento\",\"Puntaje obtenido\")","v":"Cumple Requerimiento"},null,null,{"$f":"+IF(H51=\"Obligatorio\",X63,IF(A52=\"N\",IF(Uso_Edificio=\"Oficinas\",SUM(W53:W56),SUM(X53:X56)),IF(Uso_Edificio=\"Oficinas\",SUM(X59:X62),SUM(Y59:Y62))))","v":"NO"},null,null,null,null,"Calificación","Of. Y Serv.","Ed. Y Salud"]
["T",57,null,null,null,"Nombre Requerimiento",null,{"$f":"+VLOOKUP(B55,TablaResumen[],16,0)","v":"Nivel mínimo de Iluminancia, rendimiento cromático y deslumbramiento"},null,null,null,null,null,null,null,null,{"$f":"+IF(H50=\"Requisito\",W62,IF(#REF!=\"N\",IF(Uso_Edificio=\"Oficinas\",SUM(W52:W55),SUM(X52:X55)),IF(Uso_Edificio=\"Oficinas\",SUM(X58:X61),SUM(Y58:Y61))))","v":{"$error":"#REF!"}},null,null,null,{"$f":"+CONCATENATE(B53,\".\",4)","v":"57.4"},{"$f":"+AND(Q56>VLOOKUP(U53,MatrizRequerimientos,10,FALSE),Q56<=VLOOKUP(U53,MatrizRequerimientos,11,FALSE))","v":false},{"$f":"+V53*VLOOKUP(U53,MatrizRequerimientos,8,FALSE)","v":0},{"$f":"+V53*VLOOKUP(U53,MatrizRequerimientos,9,FALSE)","v":0}]
["T",57,null,null,null,null,null,null,null,null,null,null,null,null,null,null,{"$f":"+IF(H51=\"Requisito\",W63,IF(A50=\"N\",IF(Uso_Edificio=\"Oficinas\",SUM(W53:W56),SUM(X53:X56)),IF(Uso_Edificio=\"Oficinas\",SUM(X59:X62),SUM(Y59:Y62))))","v":0},null,null,null,{"$f":"+CONCATENATE(B54,\".\",5)","v":"57.5"},{"$f":"+AND(Q56>VLOOKUP(U54,MatrizRequerimientos,10,FALSE),Q56<=VLOOKUP(U54,MatrizRequerimientos,11,FALSE))","v":false},{"$f":"+V54*VLOOKUP(U54,MatrizRequerimientos,8,FALSE)","v":0},{"$f":"+V54*VLOOKUP(U54,MatrizRequerimientos,9,FALSE)","v":0}]
["T",57,null,null,null,"Indicador",null,{"$f":"+VLOOKUP(B56,TablaResumen[],21,0)","v":"Iluminancia mínima [lux]"},null,null,null,null,null,null,null,null,null,null,null,null,{"$f":"+CONCATENATE(B55,\".\",6)","v":"57.6"},{"$f":"+AND(Q56>VLOOKUP(U55,MatrizRequerimientos,10,FALSE),Q56<=VLOOKUP(U55,MatrizRequerimientos,11,FALSE))","v":false},{"$f":"+V55*VLOOKUP(U55,MatrizRequerimientos,8,FALSE)","v":0},{"$f":"+V55*VLOOKUP(U55,MatrizRequerimientos,9,FALSE)","v":0}]
["T",57,null,null,null,null,null,null,null,null,null,null,null,{"$f":"+IF(A55=\"N\",CONCATENATE(\"Valor obtenido en proyecto para \",H55),\"Seleccione Nivel de Cumplimiento\")","v":"Seleccione Nivel de Cumplimiento"},null,null,null,null,null,null,{"$f":"+CONCATENATE(B56,\".\",7)","v":"57.7"},{"$f":"+AND(Q56>VLOOKUP(U56,MatrizRequerimientos,10,FALSE),Q56<=VLOOKUP(U56,MatrizRequerimientos,11,FALSE))","v":false},{"$f":"+V56*VLOOKUP(U56,MatrizRequerimientos,8,FALSE)","v":0},{"$f":"+V56*VLOOKUP(U56,MatrizRequerimientos,9,FALSE)","v":0}]
["T",57]
["T",57,null,null,null,"OPCIÓN ",null,{"$f":"CONCATENATE(VLOOKUP(B58,'Resumen requerimientos'!$T$5:$AB$92,5,FALSE), \" de \",VLOOKUP(B58,'Resumen requerimientos'!$T$5:$AB$92,6,FALSE))","v":"1 de 1"},null,null,null,null,null,null,null,null,null,null,null,null,null,null,null,"Of. Y Serv.","Ed. Y Salud"]
["T",57,null,null,null,null,null,null,null,null,null,null,null,null,null,null,null,null,null,null,{"$f":"+CONCATENATE(B59,\".\",4)","v":"57.4"},{"$f":"+VLOOKUP(U59,MatrizRequerimientos,6,FALSE)","v":"Cumple mínimo de lux para todos los recintos"},{"$f":"+IF(A56=\"T\",Q56=V59,V53)","v":false},{"$f":"+W59*VLOOKUP(U59,MatrizRequerimientos,8,FALSE)","v":0},{"$f":"+W59*VLOOKUP(U59,MatrizRequerimientos,9,FALSE)","v":0}]
["T",57,null,null,null,{"$f":"+IF(H60=\"No\",\"¿OTROS REQUERIMIENTOS SIMULTÁNEOS?\",\"REQUERIMIENTOS SIMULTANEOS PARA LA OPCION\")","v":"REQUERIMIENTOS SIMULTANEOS PARA LA OPCION"},null,{"$f":"IF(VLOOKUP(B60,'Resumen requerimientos'!$T$5:$AB$92,7,FALSE)=0,\"No\",CONCATENATE(VLOOKUP(B60,'Resumen requerimientos'!$T$5:$AB$92,7,FALSE), \" de \",VLOOKUP(B60,'Resumen requerimientos'!$T$5:$AB$92,8,FALSE)))","v":"1 de 3"},null,null,null,null,null,null,null,null,null,null,null,null,{"$f":"+CONCATENATE(B60,\".\",5)","v":"57.5"},{"$f":"+VLOOKUP(U60,MatrizRequerimientos,6,FALSE)","v":"NO cumple mínimo de lux para todos los recintos"},{"$f":"+IF(A57=\"T\",Q56=V60,V54)","v":false},{"$f":"+W60*VLOOKUP(U60,MatrizRequerimientos,8,FALSE)","v":0},{"$f":"+W60*VLOOKUP(U60,MatrizRequerimientos,9,FALSE)","v":0}]
["T",57,null,null,null,null,null,null,null,null,null,null,null,null,null,null,null,null,null,null,{"$f":"+CONCATENATE(B61,\".\",6)","v":"57.6"},{"$f":"+VLOOKUP(U61,MatrizRequerimientos,6,FALSE)","v":0},{"$f":"+IF(A58=\"T\",Q56=V61,V55)","v":true},{"$f":"+W61*VLOOKUP(U61,MatrizRequerimientos,8,FALSE)","v":0},{"$f":"+W61*VLOOKUP(U61,MatrizRequerimientos,9,FALSE)","v":0}]
["T",57,null,null,null,"REQUERIMIENTO ADICIONAL",null,{"$f":"VLOOKUP(B62,'Resumen requerimientos'!$T$5:$AB$92,9,FALSE)","v":"No"},null,null,null,null,null,null,null,null,null,null,null,null,{"$f":"+CONCATENATE(B62,\".\",7)","v":"57.7"},{"$f":"+VLOOKUP(U62,MatrizRequerimientos,6,FALSE)","v":0},{"$f":"+IF(A59=\"T\",Q56=V62,V56)","v":true},{"$f":"+W62*VLOOKUP(U62,MatrizRequerimientos,8,FALSE)","v":0},{"$f":"+W62*VLOOKUP(U62,MatrizRequerimientos,9,FALSE)","v":0}]
["T",57,null,null,null,null,null,null,null,null,null,null,null,null,null,null,null,null,null,null,null,null,{"$f":"+IF(AND(A59=\"N\",H51=\"Voluntario\"),SUMIF(W59:W62,TRUE,IF(Uso_Edificio=\"Oficinas\",X59:X62,Y59:Y62)),IF(AND(A59=\"T\",H51=\"Obligatorio\"),VLOOKUP(Q56,V59:X62,3,FALSE)=1,W59))","v":false},{"$f":"+IF(W63,\"SI\",\"NO\")","v":"NO"}]
["T",57]
["N",58]
["N",{"$f":"+B65","v":58},null,null,null,"Tipo requerimiento",null,{"$f":"+IF(VLOOKUP(B65,TablaResumen[],4)=\"C\",\"Voluntario\",\"Obligatorio\")","v":"Obligatorio"},null,null,null,null,null,null,null,null,null,null,null,null,null,"Puntaje crédito numérico"]
["N",58,null,null,null,null,null,null,null,null,null,null,null,{"$f":"+IF(H66=\"Obligatorio\",\"Cumple Requerimiento\",\"Puntaje obtenido\")","v":"Cumple Requerimiento"},null,null,{"$f":"+IF(H66=\"Obligatorio\",X78,IF(A67=\"N\",IF(Uso_Edificio=\"Oficinas\",SUM(W68:W71),SUM(X68:X71)),IF(Uso_Edificio=\"Oficinas\",SUM(X74:X77),SUM(Y74:Y77))))","v":"NO"},null,null,null,null,"Calificación","Of. Y Serv.","Ed. Y Salud"]
["N",58,null,null,null,"Nombre Requerimiento",null,{"$f":"+VLOOKUP(B70,TablaResumen[],16,0)","v":"Nivel mínimo de Iluminancia, rendimiento cromático y deslumbramiento"},null,null,null,null,null,null,null,null,{"$f":"+IF(H65=\"Requisito\",W77,IF(#REF!=\"N\",IF(Uso_Edificio=\"Oficinas\",SUM(W67:W70),SUM(X67:X70)),IF(Uso_Edificio=\"Oficinas\",SUM(X73:X76),SUM(Y73:Y76))))","v":{"$error":"#REF!"}},null,null,null,{"$f":"+CONCATENATE(B68,\".\",4)","v":"58.4"},{"$f":"+AND(Q71>VLOOKUP(U68,MatrizRequerimientos,10,FALSE),Q71<=VLOOKUP(U68,MatrizRequerimientos,11,FALSE))","v":false},{"$f":"+V68*VLOOKUP(U68,MatrizRequerimientos,8,FALSE)","v":0},{"$f":"+V68*VLOOKUP(U68,MatrizRequerimientos,9,FALSE)","v":0}]
["N",58,null,null,null,null,null,null,null,null,null,null,null,null,null,null,{"$f":"+IF(H66=\"Requisito\",W78,IF(A65=\"N\",IF(Uso_Edificio=\"Oficinas\",SUM(W68:W71),SUM(X68:X71)),IF(Uso_Edificio=\"Oficinas\",SUM(X74:X77),SUM(Y74:Y77))))","v":0},null,null,null,{"$f":"+CONCATENATE(B69,\".\",5)","v":"58.5"},{"$f":"+AND(Q71>VLOOKUP(U69,MatrizRequerimientos,10,FALSE),Q71<=VLOOKUP(U69,MatrizRequerimientos,11,FALSE))","v":false},{"$f":"+V69*VLOOKUP(U69,MatrizRequerimientos,8,FALSE)","v":0},{"$f":"+V69*VLOOKUP(U69,MatrizRequerimientos,9,FALSE)","v":0}]
["N",58,null,null,null,"Indicador",null,{"$f":"+VLOOKUP(B71,TablaResumen[],21,0)","v":"Índice de rendimiento cromático [IRC]"},null,null,null,null,null,null,null,null,null,null,null,null,{"$f":"+CONCATENATE(B70,\".\",6)","v":"58.6"},{"$f":"+AND(Q71>VLOOKUP(U70,MatrizRequerimientos,10,FALSE),Q71<=VLOOKUP(U70,MatrizRequerimientos,11,FALSE))","v":false},{"$f":"+V70*VLOOKUP(U70,MatrizRequerimientos,8,FALSE)","v":0},{"$f":"+V70*VLOOKUP(U70,MatrizRequerimientos,9,FALSE)","v":0}]
["N",58,null,null,null,null,null,null,null,null,null,null,null,{"$f":"+IF(A70=\"N\",CONCATENATE(\"Valor obtenido en proyecto para \",H70),\"Seleccione Nivel de Cumplimiento\")","v":"Valor obtenido en proyecto para Índice de rendimiento cromático [IRC]"},null,null,null,null,null,null,{"$f":"+CONCATENATE(B71,\".\",7)","v":"58.7"},{"$f":"+AND(Q71>VLOOKUP(U71,MatrizRequerimientos,10,FALSE),Q71<=VLOOKUP(U71,MatrizRequerimientos,11,FALSE))","v":false},{"$f":"+V71*VLOOKUP(U71,MatrizRequerimientos,8,FALSE)","v":0},{"$f":"+V71*VLOOKUP(U71,MatrizRequerimientos,9,FALSE)","v":0}]
["N",58]
["N",58,null,null,null,"OPCIÓN ",null,{"$f":"CONCATENATE(VLOOKUP(B73,'Resumen requerimientos'!$T$5:$AB$92,5,FALSE), \" de \",VLOOKUP(B73,'Resumen requerimientos'!$T$5:$AB$92,6,FALSE))","v":"1 de 1"},null,null,null,null,null,null,null,null,null,null,null,null,null,null,null,"Of. Y Serv.","Ed. Y Salud"]
["N",58,null,null,null,null,null,null,null,null,null,null,null,null,null,null,null,null,null,null,{"$f":"+CONCATENATE(B74,\".\",4)","v":"58.4"},{"$f":"+VLOOKUP(U74,MatrizRequerimientos,6,FALSE)","v":"79,99999-100"},{"$f":"+IF(A71=\"T\",Q71=V74,V68)","v":false},{"$f":"+W74*VLOOKUP(U74,MatrizRequerimientos,8,FALSE)","v":0},{"$f":"+W74*VLOOKUP(U74,MatrizRequerimientos,9,FALSE)","v":0}]
["N",58,null,null,null,{"$f":"+IF(H75=\"No\",\"¿OTROS REQUERIMIENTOS SIMULTÁNEOS?\",\"REQUERIMIENTOS SIMULTANEOS PARA LA OPCION\")","v":"REQUERIMIENTOS SIMULTANEOS PARA LA OPCION"},null,{"$f":"IF(VLOOKUP(B75,'Resumen requerimientos'!$T$5:$AB$92,7,FALSE)=0,\"No\",CONCATENATE(VLOOKUP(B75,'Resumen requerimientos'!$T$5:$AB$92,7,FALSE), \" de \",VLOOKUP(B75,'Resumen requerimientos'!$T$5:$AB$92,8,FALSE)))","v":"2 de 3"},null,null,null,null,null,null,null,null,null,null,null,null,{"$f":"+CONCATENATE(B75,\".\",5)","v":"58.5"},{"$f":"+VLOOKUP(U75,MatrizRequerimientos,6,FALSE)","v":"79,99999-100"},{"$f":"+IF(A72=\"T\",Q71=V75,V69)","v":false},{"$f":"+W75*VLOOKUP(U75,MatrizRequerimientos,8,FALSE)","v":0},{"$f":"+W75*VLOOKUP(U75,MatrizRequerimientos,9,FALSE)","v":0}]
["N",58,null,null,null,null,null,null,null,null,null,null,null,null,null,null,null,null,null,null,{"$f":"+CONCATENATE(B76,\".\",6)","v":"58.6"},{"$f":"+VLOOKUP(U76,MatrizRequerimientos,6,FALSE)","v":"79,99999-100"},{"$f":"+IF(A73=\"T\",Q71=V76,V70)","v":false},{"$f":"+W76*VLOOKUP(U76,MatrizRequerimientos,8,FALSE)","v":0},{"$f":"+W76*VLOOKUP(U76,MatrizRequerimientos,9,FALSE)","v":0}]
["N",58,null,null,null,"REQUERIMIENTO ADICIONAL",null,{"$f":"VLOOKUP(B77,'Resumen requerimientos'!$T$5:$AB$92,9,FALSE)","v":"No"},null,null,null,null,null,null,null,null,null,null,null,null,{"$f":"+CONCATENATE(B77,\".\",7)","v":"58.7"},{"$f":"+VLOOKUP(U77,MatrizRequerimientos,6,FALSE)","v":"79,99999-100"},{"$f":"+IF(A74=\"T\",Q71=V77,V71)","v":false},{"$f":"+W77*VLOOKUP(U77,MatrizRequerimientos,8,FALSE)","v":0},{"$f":"+W77*VLOOKUP(U77,MatrizRequerimientos,9,FALSE)","v":0}]
["N",58,null,null,null,null,null,null,null,null,null,null,null,null,null,null,null,null,null,null,null,null,{"$f":"+IF(AND(A74=\"N\",H66=\"Voluntario\"),SUMIF(W74:W77,TRUE,IF(Uso_Edificio=\"Oficinas\",X74:X77,Y74:Y77)),IF(AND(A74=\"T\",H66=\"Obligatorio\"),VLOOKUP(Q71,V74:X77,3,FALSE)=1,W74))","v":false},{"$f":"+IF(W78,\"SI\",\"NO\")","v":"NO"}]
["N",58]
["N",59]
["N",{"$f":"+B80","v":59},null,null,null,"Tipo requerimiento",null,{"$f":"+IF(VLOOKUP(B80,TablaResumen[],4)=\"C\",\"Voluntario\",\"Obligatorio\")","v":"Obligatorio"},null,null,null,null,null,null,null,null,null,null,null,null,null,"Puntaje crédito numérico"]
["N",59,null,null,null,null,null,null,null,null,null,null,null,{"$f":"+IF(H81=\"Obligatorio\",\"Cumple Requerimiento\",\"Puntaje obtenido\")","v":"Cumple Requerimiento"},null,null,{"$f":"+IF(H81=\"Obligatorio\",X93,IF(A82=\"N\",IF(Uso_Edificio=\"Oficinas\",SUM(W83:W86),SUM(X83:X86)),IF(Uso_Edificio=\"Oficinas\",SUM(X89:X92),SUM(Y89:Y92))))","v":"NO"},null,null,null,null,"Calificación","Of. Y Serv.","Ed. Y Salud"]
["N",59,null,null,null,"Nombre Requerimiento",null,{"$f":"+VLOOKUP(B85,TablaResumen[],16,0)","v":"Nivel mínimo de Iluminancia, rendimiento cromático y deslumbramiento"},null,null,null,null,null,null,null,null,{"$f":"+IF(H80=\"Requisito\",W92,IF(#REF!=\"N\",IF(Uso_Edificio=\"Oficinas\",SUM(W82:W85),SUM(X82:X85)),IF(Uso_Edificio=\"Oficinas\",SUM(X88:X91),SUM(Y88:Y91))))","v":{"$error":"#REF!"}},null,null,null,{"$f":"+CONCATENATE(B83,\".\",4)","v":"59.4"},{"$f":"+AND(Q86>VLOOKUP(U83,MatrizRequerimientos,10,FALSE),Q86<=VLOOKUP(U83,MatrizRequerimientos,11,FALSE))","v":false},{"$f":"+V83*VLOOKUP(U83,MatrizRequerimientos,8,FALSE)","v":0},{"$f":"+V83*VLOOKUP(U83,MatrizRequerimientos,9,FALSE)","v":0}]
["N",59,null,null,null,null,null,null,null,null,null,null,null,null,null,null,{"$f":"+IF(H81=\"Requisito\",W93,IF(A80=\"N\",IF(Uso_Edificio=\"Oficinas\",SUM(W83:W86),SUM(X83:X86)),IF(Uso_Edificio=\"Oficinas\",SUM(X89:X92),SUM(Y89:Y92))))","v":0},null,null,null,{"$f":"+CONCATENATE(B84,\".\",5)","v":"59.5"},{"$f":"+AND(Q86>VLOOKUP(U84,MatrizRequerimientos,10,FALSE),Q86<=VLOOKUP(U84,MatrizRequerimientos,11,FALSE))","v":false},{"$f":"+V84*VLOOKUP(U84,MatrizRequerimientos,8,FALSE)","v":0},{"$f":"+V84*VLOOKUP(U84,MatrizRequerimientos,9,FALSE)","v":0}]
["N",59,null,null,null,"Indicador",null,{"$f":"+VLOOKUP(B86,TablaResumen[],21,0)","v":"Índice de deslumbramiento unificado [UGR]"},null,null,null,null,null,null,null,null,null,null,null,null,{"$f":"+CONCATENATE(B85,\".\",6)","v":"59.6"},{"$f":"+AND(Q86>VLOOKUP(U85,MatrizRequerimientos,10,FALSE),Q86<=VLOOKUP(U85,MatrizRequerimientos,11,FALSE))","v":false},{"$f":"+V85*VLOOKUP(U85,MatrizRequerimientos,8,FALSE)","v":0},{"$f":"+V85*VLOOKUP(U85,MatrizRequerimientos,9,FALSE)","v":0}]
["N",59,null,null,null,null,null,null,null,null,null,null,null,{"$f":"+IF(A85=\"N\",CONCATENATE(\"Valor obtenido en proyecto para \",H85),\"Seleccione Nivel de Cumplimiento\")","v":"Valor obtenido en proyecto para Índice de deslumbramiento unificado [UGR]"},null,null,null,null,null,null,{"$f":"+CONCATENATE(B86,\".\",7)","v":"59.7"},{"$f":"+AND(Q86>VLOOKUP(U86,MatrizRequerimientos,10,FALSE),Q86<=VLOOKUP(U86,MatrizRequerimientos,11,FALSE))","v":false},{"$f":"+V86*VLOOKUP(U86,MatrizRequerimientos,8,FALSE)","v":0},{"$f":"+V86*VLOOKUP(U86,MatrizRequerimientos,9,FALSE)","v":0}]
["N",59]
["N",59,null,null,null,"OPCIÓN ",null,{"$f":"CONCATENATE(VLOOKUP(B88,'Resumen requerimientos'!$T$5:$AB$92,5,FALSE), \" de \",VLOOKUP(B88,'Resumen requerimientos'!$T$5:$AB$92,6,FALSE))","v":"1 de 1"},null,null,null,null,null,null,null,null,null,null,null,null,null,null,null,"Of. Y Serv.","Ed. Y Salud"]
["N",59,null,null,null,null,null,null,null,null,null,null,null,null,null,null,null,null,null,null,{"$f":"+CONCATENATE(B89,\".\",4)","v":"59.4"},{"$f":"+VLOOKUP(U89,MatrizRequerimientos,6,FALSE)","v":"0-22"},{"$f":"+IF(A86=\"T\",Q86=V89,V83)","v":false},{"$f":"+W89*VLOOKUP(U89,MatrizRequerimientos,8,FALSE)","v":0},{"$f":"+W89*VLOOKUP(U89,MatrizRequerimientos,9,FALSE)","v":0}]
["N",59,null,null,null,{"$f":"+IF(H90=\"No\",\"¿OTROS REQUERIMIENTOS SIMULTÁNEOS?\",\"REQUERIMIENTOS SIMULTANEOS PARA LA OPCION\")","v":"REQUERIMIENTOS SIMULTANEOS PARA LA OPCION"},null,{"$f":"IF(VLOOKUP(B90,'Resumen requerimientos'!$T$5:$AB$92,7,FALSE)=0,\"No\",CONCATENATE(VLOOKUP(B90,'Resumen requerimientos'!$T$5:$AB$92,7,FALSE), \" de \",VLOOKUP(B90,'Resumen requerimientos'!$T$5:$AB$92,8,FALSE)))","v":"3 de 3"},null,null,null,null,null,null,null,null,null,null,null,null,{"$f":"+CONCATENATE(B90,\".\",5)","v":"59.5"},{"$f":"+VLOOKUP(U90,MatrizRequerimientos,6,FALSE)","v":"0-22"},{"$f":"+IF(A87=\"T\",Q86=V90,V84)","v":false},{"$f":"+W90*VLOOKUP(U90,MatrizRequerimientos,8,FALSE)","v":0},{"$f":"+W90*VLOOKUP(U90,MatrizRequerimientos,9,FALSE)","v":0}]
["N",59,null,null,null,null,null,null,null,null,null,null,null,null,null,null,null,null,null,null,{"$f":"+CONCATENATE(B91,\".\",6)","v":"59.6"},{"$f":"+VLOOKUP(U91,MatrizRequerimientos,6,FALSE)","v":"0-22"},{"$f":"+IF(A88=\"T\",Q86=V91,V85)","v":false},{"$f":"+W91*VLOOKUP(U91,MatrizRequerimientos,8,FALSE)","v":0},{"$f":"+W91*VLOOKUP(U91,MatrizRequerimientos,9,FALSE)","v":0}]
["N",59,null,null,null,"REQUERIMIENTO ADICIONAL",null,{"$f":"VLOOKUP(B92,'Resumen requerimientos'!$T$5:$AB$92,9,FALSE)","v":"No"},null,null,null,null,null,null,null,null,null,null,null,null,{"$f":"+CONCATENATE(B92,\".\",7)","v":"59.7"},{"$f":"+VLOOKUP(U92,MatrizRequerimientos,6,FALSE)","v":"0-22"},{"$f":"+IF(A89=\"T\",Q86=V92,V86)","v":false},{"$f":"+W92*VLOOKUP(U92,MatrizRequerimientos,8,FALSE)","v":0},{"$f":"+W92*VLOOKUP(U92,MatrizRequerimientos,9,FALSE)","v":0}]
["N",59,null,null,null,null,null,null,null,null,null,null,null,null,null,null,null,null,null,null,null,null,{"$f":"+IF(AND(A89=\"N\",H81=\"Voluntario\"),SUMIF(W89:W92,TRUE,IF(Uso_Edificio=\"Oficinas\",X89:X92,Y89:Y92)),IF(AND(A89=\"T\",H81=\"Obligatorio\"),VLOOKUP(Q86,V89:X92,3,FALSE)=1,W89))","v":false},{"$f":"+IF(W93,\"SI\",\"NO\")","v":"NO"}]
["N",59]
["N",59,null,null,"Volver al índice"]
["T",61,null,"INST.CAI 14R -DEFINIR CONDICIONES DE DISEÑO DEL PROYECTO DE CLIMATIZACIÓN",null,null,null,null,null,null,null,null,null,null,null,null,null,null,"INST.CAI 14R -DEFINIR CONDICIONES DE DISEÑO DEL PROYECTO DE CLIMATIZACIÓN"]
["T",{"$f":"+B96","v":61},null,null,null,"Tipo requerimiento",null,{"$f":"+IF(VLOOKUP(B96,TablaResumen[],4)=\"C\",\"Voluntario\",\"Obligatorio\")","v":"Obligatorio"},null,null,null,null,null,null,null,null,null,null,null,null,null,"Puntaje crédito numérico"]
["T",61,null,null,null,null,null,null,null,null,null,null,null,{"$f":"+IF(H97=\"Obligatorio\",\"Cumple Requerimiento\",\"Puntaje obtenido\")","v":"Cumple Requerimiento"},null,null,{"$f":"+IF(H97=\"Obligatorio\",X109,IF(A98=\"N\",IF(Uso_Edificio=\"Oficinas\",SUM(W99:W102),SUM(X99:X102)),IF(Uso_Edificio=\"Oficinas\",SUM(X105:X108),SUM(Y105:Y108))))","v":"NO"},null,null,null,null,"Calificación","Of. Y Serv.","Ed. Y Salud"]
["T",61,null,null,null,"Nombre Requerimiento",null,{"$f":"+VLOOKUP(B101,TablaResumen[],16,0)","v":"Definir condiciones de diseño del proyecto de climatización"},null,null,null,null,null,null,null,null,{"$f":"+IF(H96=\"Requisito\",W108,IF(#REF!=\"N\",IF(Uso_Edificio=\"Oficinas\",SUM(W98:W101),SUM(X98:X101)),IF(Uso_Edificio=\"Oficinas\",SUM(X104:X107),SUM(Y104:Y107))))","v":{"$error":"#REF!"}},null,null,null,{"$f":"+CONCATENATE(B99,\".\",4)","v":"61.4"},{"$f":"+AND(Q102>VLOOKUP(U99,MatrizRequerimientos,10,FALSE),Q102<=VLOOKUP(U99,MatrizRequerimientos,11,FALSE))","v":false},{"$f":"+V99*VLOOKUP(U99,MatrizRequerimientos,8,FALSE)","v":0},{"$f":"+V99*VLOOKUP(U99,MatrizRequerimientos,9,FALSE)","v":0}]
["T",61,null,null,null,null,null,null,null,null,null,null,null,null,null,null,{"$f":"+IF(H97=\"Requisito\",W109,IF(A96=\"N\",IF(Uso_Edificio=\"Oficinas\",SUM(W99:W102),SUM(X99:X102)),IF(Uso_Edificio=\"Oficinas\",SUM(X105:X108),SUM(Y105:Y108))))","v":0},null,null,null,{"$f":"+CONCATENATE(B100,\".\",5)","v":"61.5"},{"$f":"+AND(Q102>VLOOKUP(U100,MatrizRequerimientos,10,FALSE),Q102<=VLOOKUP(U100,MatrizRequerimientos,11,FALSE))","v":false},{"$f":"+V100*VLOOKUP(U100,MatrizRequerimientos,8,FALSE)","v":0},{"$f":"+V100*VLOOKUP(U100,MatrizRequerimientos,9,FALSE)","v":0}]
["T",61,null,null,null,"Indicador",null,{"$f":"+VLOOKUP(B102,TablaResumen[],21,0)","v":"Declaración de condiciones de diseño del proyeto de climatización"},null,null,null,null,null,null,null,null,null,null,null,null,{"$f":"+CONCATENATE(B101,\".\",6)","v":"61.6"},{"$f":"+AND(Q102>VLOOKUP(U101,MatrizRequerimientos,10,FALSE),Q102<=VLOOKUP(U101,MatrizRequerimientos,11,FALSE))","v":false},{"$f":"+V101*VLOOKUP(U101,MatrizRequerimientos,8,FALSE)","v":0},{"$f":"+V101*VLOOKUP(U101,MatrizRequerimientos,9,FALSE)","v":0}]
["T",61,null,null,null,null,null,null,null,null,null,null,null,{"$f":"+IF(A101=\"N\",CONCATENATE(\"Valor obtenido en proyecto para \",H101),\"Seleccione Nivel de Cumplimiento\")","v":"Seleccione Nivel de Cumplimiento"},null,null,null,null,null,null,{"$f":"+CONCATENATE(B102,\".\",7)","v":"61.7"},{"$f":"+AND(Q102>VLOOKUP(U102,MatrizRequerimientos,10,FALSE),Q102<=VLOOKUP(U102,MatrizRequerimientos,11,FALSE))","v":false},{"$f":"+V102*VLOOKUP(U102,MatrizRequerimientos,8,FALSE)","v":0},{"$f":"+V102*VLOOKUP(U102,MatrizRequerimientos,9,FALSE)","v":0}]
["T",61]
["T",61,null,null,null,"OPCIÓN ",null,{"$f":"CONCATENATE(VLOOKUP(B104,'Resumen requerimientos'!$T$5:$AB$92,5,FALSE), \" de \",VLOOKUP(B104,'Resumen requerimientos'!$T$5:$AB$92,6,FALSE))","v":"1 de 1"},null,null,null,null,null,null,null,null,null,null,null,null,null,null,null,"Of. Y Serv.","Ed. Y Salud"]
["T",61,null,null,null,null,null,null,null,null,null,null,null,null,null,null,null,null,null,null,{"$f":"+CONCATENATE(B105,\".\",4)","v":"61.4"},{"$f":"+VLOOKUP(U105,MatrizRequerimientos,6,FALSE)","v":"Se declaran condiciones de diseño del proyecto de climatización"},{"$f":"+IF(A102=\"T\",Q102=V105,V99)","v":false},{"$f":"+W105*VLOOKUP(U105,MatrizRequerimientos,8,FALSE)","v":0},{"$f":"+W105*VLOOKUP(U105,MatrizRequerimientos,9,FALSE)","v":0}]
["T",61,null,null,null,{"$f":"+IF(H106=\"No\",\"¿OTROS REQUERIMIENTOS SIMULTÁNEOS?\",\"REQUERIMIENTOS SIMULTANEOS PARA LA OPCION\")","v":"¿OTROS REQUERIMIENTOS SIMULTÁNEOS?"},null,{"$f":"IF(VLOOKUP(B106,'Resumen requerimientos'!$T$5:$AB$92,7,FALSE)=0,\"No\",CONCATENATE(VLOOKUP(B106,'Resumen requerimientos'!$T$5:$AB$92,7,FALSE), \" de \",VLOOKUP(B106,'Resumen requerimientos'!$T$5:$AB$92,8,FALSE)))","v":"No"},null,null,null,null,null,null,null,null,null,null,null,null,{"$f":"+CONCATENATE(B106,\".\",5)","v":"61.5"},{"$f":"+VLOOKUP(U106,MatrizRequerimientos,6,FALSE)","v":"NO se declaran condiciones de diseño del proyecto de climatización"},{"$f":"+IF(A103=\"T\",Q102=V106,V100)","v":false},{"$f":"+W106*VLOOKUP(U106,MatrizRequerimientos,8,FALSE)","v":0},{"$f":"+W106*VLOOKUP(U106,MatrizRequerimientos,9,FALSE)","v":0}]
["T",61,null,null,null,null,null,null,null,null,null,null,null,null,null,null,null,null,null,null,{"$f":"+CONCATENATE(B107,\".\",6)","v":"61.6"},{"$f":"+VLOOKUP(U107,MatrizRequerimientos,6,FALSE)","v":0},{"$f":"+IF(A104=\"T\",Q102=V107,V101)","v":true},{"$f":"+W107*VLOOKUP(U107,MatrizRequerimientos,8,FALSE)","v":0},{"$f":"+W107*VLOOKUP(U107,MatrizRequerimientos,9,FALSE)","v":0}]
["T",61,null,null,null,"REQUERIMIENTO ADICIONAL",null,{"$f":"VLOOKUP(B108,'Resumen requerimientos'!$T$5:$AB$92,9,FALSE)","v":"No"},null,null,null,null,null,null,null,null,null,null,null,null,{"$f":"+CONCATENATE(B108,\".\",7)","v":"61.7"},{"$f":"+VLOOKUP(U108,MatrizRequerimientos,6,FALSE)","v":0},{"$f":"+IF(A105=\"T\",Q102=V108,V102)","v":true},{"$f":"+W108*VLOOKUP(U108,MatrizRequerimientos,8,FALSE)","v":0},{"$f":"+W108*VLOOKUP(U108,MatrizRequerimientos,9,FALSE)","v":0}]
["T",61,null,null,null,null,null,null,null,null,null,null,null,null,null,null,null,null,null,null,null,null,{"$f":"+IF(AND(A105=\"N\",H97=\"Voluntario\"),SUMIF(W105:W108,TRUE,IF(Uso_Edificio=\"Oficinas\",X105:X108,Y105:Y108)),IF(AND(A105=\"T\",H97=\"Obligatorio\"),VLOOKUP(Q102,V105:X108,3,FALSE)=1,W105))","v":false},{"$f":"+IF(W109,\"SI\",\"NO\")","v":"NO"}]
["T",61]
["T",61,null,null,"Volver al índice"]

{"sheet":"Evaluacion ARQ.Energia Obligat.","index":8,"n_rows":153,"n_cols":25,"rows_kept":153,"cut":false,"hidden":false,"merged":[[1,3,135,3],[1,18,135,18],[122,21,122,23],[123,13,125,15],[123,16,125,16],[124,5,125,6],[124,7,125,11],[126,5,127,6],[126,7,127,11],[127,13,134,15],[127,16,134,16],[128,5,128,6],[128,7,128,11],[129,5,130,6],[129,7,130,11],[131,5,132,6],[131,7,132,11],[133,5,134,6],[133,7,134,11],[92,5,93,6],[92,7,93,11],[98,5,98,6],[98,7,98,11],[99,5,100,6],[99,7,100,11],[101,5,102,6],[101,7,102,11],[103,5,104,6],[103,7,104,11],[17,21,17,23],[77,21,77,23],[92,21,92,23],[77,5,78,6],[77,7,78,11],[78,13,80,15],[78,16,80,16],[79,5,80,6],[79,7,80,11],[81,5,82,6],[81,7,82,11],[82,13,89,15],[82,16,89,16],[83,5,83,6],[83,7,83,11],[84,5,85,6],[84,7,85,11],[86,5,87,6],[86,7,87,11],[88,5,89,6],[88,7,89,11],[17,5,18,6],[17,7,18,11],[18,13,20,15],[18,16,20,16],[19,5,20,6],[19,7,20,11],[21,5,22,6],[21,7,22,11],[22,13,29,15],[22,16,29,16],[23,5,23,6],[23,7,23,11],[24,5,25,6],[24,7,25,11],[26,5,27,6],[26,7,27,11],[28,5,29,6],[28,7,29,11],[38,5,38,6],[38,7,38,11],[43,5,44,6],[43,7,44,11],[112,16,119,16],[93,13,95,15],[93,16,95,16],[3,13,5,15],[3,16,5,16],[7,13,14,15],[7,16,14,16],[33,13,35,15],[33,16,35,16],[37,13,44,15],[37,16,44,16],[48,13,50,15],[48,16,50,16],[63,16,65,16],[108,13,110,15],[108,16,110,16],[112,13,119,15],[97,13,104,15],[97,16,104,16],[52,16,59,16],[63,13,65,15],[139,13,141,15],[139,16,141,16],[58,5,59,6],[58,7,59,11],[62,5,63,6],[62,7,63,11],[60,5,60,11],[75,5,75,11],[73,5,74,6],[73,7,74,11],[107,5,108,6],[107,7,108,11],[118,5,119,6],[118,7,119,11],[120,5,120,11],[71,5,72,6],[71,7,72,11],[109,5,110,6],[109,7,110,11],[113,5,113,6],[67,13,74,15],[67,16,74,16],[94,5,95,6],[94,7,95,11],[137,3,151,3],[137,18,151,18],[2,5,3,6],[2,7,3,11],[4,5,5,6],[4,7,5,11],[143,13,150,15],[8,5,8,6],[8,7,8,11],[6,5,7,6],[6,7,7,11],[9,5,10,6],[9,7,10,11],[11,5,12,6],[11,7,12,11],[15,5,15,11],[13,5,14,6],[13,7,14,11],[32,5,33,6],[32,7,33,11],[34,5,35,6],[34,7,35,11],[90,5,90,11],[105,5,105,11],[151,5,151,11],[138,5,139,6],[138,7,139,11],[114,7,115,11],[116,5,117,6],[116,7,117,11],[140,5,141,6],[140,7,141,11],[144,5,144,6],[144,7,144,11],[142,5,143,6],[142,7,143,11],[122,5,123,6],[122,7,123,11],[135,5,135,11],[114,5,115,6],[149,5,150,6],[149,7,150,11],[96,5,97,6],[96,7,97,11],[41,5,42,6],[41,7,42,11],[45,5,45,11],[143,16,150,16],[145,5,146,6],[145,7,146,11],[147,5,148,6],[147,7,148,11],[56,5,57,6],[56,7,57,11],[64,5,65,6],[64,7,65,11],[68,5,68,6],[68,7,68,11],[66,5,67,6],[66,7,67,11],[69,5,70,6],[69,7,70,11],[113,7,113,11],[111,5,112,6],[111,7,112,11],[52,13,59,15],[0,4,0,5],[136,4,136,5],[152,4,152,5],[30,5,30,11],[62,21,62,23],[107,21,107,23],[138,21,138,23],[2,21,2,23],[32,21,32,23],[47,21,47,23],[47,5,48,6],[47,7,48,11],[53,5,53,6],[53,7,53,11],[49,5,50,6],[49,7,50,11],[51,5,52,6],[51,7,52,11],[54,5,55,6],[54,7,55,11],[36,5,37,6],[36,7,37,11],[39,5,40,6],[39,7,40,11]]}
["Texto /Número","Nº requisito",null,null,"Volver al índice"]
["N",28,null,"ARQ. ENERGIA 5R - TRANSMITANCIA TÉRMICA DE LA ENVOLVENTE Y FACTOR SOLAR MODIFICADO                                                                                                                                                                         ARQ. ENERGIA 5R - TRANSMITANCIA TÉRMICA DE LA ENVOLVENTE Y FACTOR SOLAR MODIFICADO",null,null,null,null,null,null,null,null,null,null,null,null,null,null,"ARQ. ENERGIA 5R - TRANSMITANCIA TÉRMICA DE LA ENVOLVENTE Y FACTOR SOLAR MODIFICADO                                                                                                                                                                         ARQ. ENERGIA 5R - TRANSMITANCIA TÉRMICA DE LA ENVOLVENTE Y FACTOR SOLAR MODIFICADO"]
["N",{"$f":"+B2","v":28},null,null,null,"Tipo requerimiento",null,{"$f":"+IF(VLOOKUP(B2,TablaResumen[],4)=\"C\",\"Voluntario\",\"Obligatorio\")","v":"Obligatorio"},null,null,null,null,null,null,null,null,null,null,null,null,null,"Puntaje crédito numérico"]
["N",28,null,null,null,null,null,null,null,null,null,null,null,{"$f":"+IF(H3=\"Obligatorio\",\"Cumple Requerimiento\",\"Puntaje obtenido\")","v":"Cumple Requerimiento"},null,null,{"$f":"+IF(H3=\"Obligatorio\",X15,IF(A4=\"N\",IF(Uso_Edificio=\"Oficinas\",SUM(W5:W8),SUM(X5:X8)),IF(Uso_Edificio=\"Oficinas\",SUM(X11:X14),SUM(Y11:Y14))))","v":"NO"},null,null,null,null,"Calificación","Of. Y Serv.","Ed. Y Salud"]
["N",28,null,null,null,"Nombre Requerimiento",null,{"$f":"+VLOOKUP(B7,TablaResumen[],16,0)","v":"Transmitancia térmica de la envolvente y Factor Solar Modificado"},null,null,null,null,null,null,null,null,{"$f":"+IF(H2=\"Requisito\",W14,IF(#REF!=\"N\",IF(Uso_Edificio=\"Oficinas\",SUM(W4:W7),SUM(X4:X7)),IF(Uso_Edificio=\"Oficinas\",SUM(X10:X13),SUM(Y10:Y13))))","v":{"$error":"#REF!"}},null,null,null,{"$f":"+CONCATENATE(B5,\".\",4)","v":"28.4"},{"$f":"+AND(Q8>VLOOKUP(U5,MatrizRequerimientos,10,FALSE),Q8<=VLOOKUP(U5,MatrizRequerimientos,11,FALSE))","v":false},{"$f":"+V5*VLOOKUP(U5,MatrizRequerimientos,8,FALSE)","v":0},{"$f":"+V5*VLOOKUP(U5,MatrizRequerimientos,9,FALSE)","v":0}]
["N",28,null,null,null,null,null,null,null,null,null,null,null,null,null,null,{"$f":"+IF(H3=\"Requisito\",W15,IF(A2=\"N\",IF(Uso_Edificio=\"Oficinas\",SUM(W5:W8),SUM(X5:X8)),IF(Uso_Edificio=\"Oficinas\",SUM(X11:X14),SUM(Y11:Y14))))","v":0},null,null,null,{"$f":"+CONCATENATE(B6,\".\",5)","v":"28.5"},{"$f":"+AND(Q8>VLOOKUP(U6,MatrizRequerimientos,10,FALSE),Q8<=VLOOKUP(U6,MatrizRequerimientos,11,FALSE))","v":false},{"$f":"+V6*VLOOKUP(U6,MatrizRequerimientos,8,FALSE)","v":0},{"$f":"+V6*VLOOKUP(U6,MatrizRequerimientos,9,FALSE)","v":0}]
["N",28,null,null,null,"Indicador",null,{"$f":"+VLOOKUP(B8,TablaResumen[],21,0)","v":"Transmitancia Térmica Cubierta [W/m2K]"},null,null,null,null,null,null,null,null,null,null,null,null,{"$f":"+CONCATENATE(B7,\".\",6)","v":"28.6"},{"$f":"+AND(Q8>VLOOKUP(U7,MatrizRequerimientos,10,FALSE),Q8<=VLOOKUP(U7,MatrizRequerimientos,11,FALSE))","v":false},{"$f":"+V7*VLOOKUP(U7,MatrizRequerimientos,8,FALSE)","v":0},{"$f":"+V7*VLOOKUP(U7,MatrizRequerimientos,9,FALSE)","v":0}]
["N",28,null,null,null,null,null,null,null,null,null,null,null,{"$f":"+IF(A7=\"N\",CONCATENATE(\"Valor obtenido en proyecto para \",H7),\"Seleccione Nivel de Cumplimiento\")","v":"Valor obtenido en proyecto para Transmitancia Térmica Cubierta [W/m2K]"},null,null,null,null,null,null,{"$f":"+CONCATENATE(B8,\".\",7)","v":"28.7"},{"$f":"+AND(Q8>VLOOKUP(U8,MatrizRequerimientos,10,FALSE),Q8<=VLOOKUP(U8,MatrizRequerimientos,11,FALSE))","v":false},{"$f":"+V8*VLOOKUP(U8,MatrizRequerimientos,8,FALSE)","v":0},{"$f":"+V8*VLOOKUP(U8,MatrizRequerimientos,9,FALSE)","v":0}]
["N",28]
["N",28,null,null,null,"OPCIÓN ",null,{"$f":"CONCATENATE(VLOOKUP(B10,'Resumen requerimientos'!$T$5:$AB$96,5,FALSE), \" de \",VLOOKUP(B10,'Resumen requerimientos'!$T$5:$AB$96,6,FALSE))","v":"1 de 1"},null,null,null,null,null,null,null,null,null,null,null,null,null,null,null,"Of. Y Serv.","Ed. Y Salud"]
["N",28,null,null,null,null,null,null,null,null,null,null,null,null,null,null,null,null,null,null,{"$f":"+CONCATENATE(B11,\".\",4)","v":"28.4"},{"$f":"+VLOOKUP(U11,MatrizRequerimientos,6,FALSE)","v":"0-0,8"},{"$f":"+IF(A8=\"T\",Q8=V11,V5)","v":false},{"$f":"+W11*VLOOKUP(U11,MatrizRequerimientos,8,FALSE)","v":0},{"$f":"+W11*VLOOKUP(U11,MatrizRequerimientos,9,FALSE)","v":0}]
["N",28,null,null,null,{"$f":"+IF(H12=\"No\",\"¿OTROS REQUERIMIENTOS SIMULTÁNEOS?\",\"REQUERIMIENTOS SIMULTANEOS PARA LA OPCION\")","v":"REQUERIMIENTOS SIMULTANEOS PARA LA OPCION"},null,{"$f":"IF(VLOOKUP(B12,'Resumen requerimientos'!$T$5:$AB$96,7,FALSE)=0,\"No\",CONCATENATE(VLOOKUP(B12,'Resumen requerimientos'!$T$5:$AB$96,7,FALSE), \" de \",VLOOKUP(B12,'Resumen requerimientos'!$T$5:$AB$96,8,FALSE)))","v":"1 de 9"},null,null,null,null,null,null,null,null,null,null,null,null,{"$f":"+CONCATENATE(B12,\".\",5)","v":"28.5"},{"$f":"+VLOOKUP(U12,MatrizRequerimientos,6,FALSE)","v":"0-0,8"},{"$f":"+IF(A9=\"T\",Q8=V12,V6)","v":false},{"$f":"+W12*VLOOKUP(U12,MatrizRequerimientos,8,FALSE)","v":0},{"$f":"+W12*VLOOKUP(U12,MatrizRequerimientos,9,FALSE)","v":0}]
["N",28,null,null,null,null,null,null,null,null,null,null,null,null,null,null,null,null,null,null,{"$f":"+CONCATENATE(B13,\".\",6)","v":"28.6"},{"$f":"+VLOOKUP(U13,MatrizRequerimientos,6,FALSE)","v":"0-0,8"},{"$f":"+IF(A10=\"T\",Q8=V13,V7)","v":false},{"$f":"+W13*VLOOKUP(U13,MatrizRequerimientos,8,FALSE)","v":0},{"$f":"+W13*VLOOKUP(U13,MatrizRequerimientos,9,FALSE)","v":0}]
["N",28,null,null,null,"REQUERIMIENTO ADICIONAL",null,{"$f":"VLOOKUP(B14,'Resumen requerimientos'!$T$5:$AB$96,9,FALSE)","v":"No"},null,null,null,null,null,null,null,null,null,null,null,null,{"$f":"+CONCATENATE(B14,\".\",7)","v":"28.7"},{"$f":"+VLOOKUP(U14,MatrizRequerimientos,6,FALSE)","v":"0-0,8"},{"$f":"+IF(A11=\"T\",Q8=V14,V8)","v":false},{"$f":"+W14*VLOOKUP(U14,MatrizRequerimientos,8,FALSE)","v":0},{"$f":"+W14*VLOOKUP(U14,MatrizRequerimientos,9,FALSE)","v":0}]
["N",28,null,null,null,null,null,null,null,null,null,null,null,null,null,null,null,null,null,null,null,null,{"$f":"+IF(AND(A11=\"N\",H3=\"Voluntario\"),SUMIF(W11:W14,TRUE,IF(Uso_Edificio=\"Oficinas\",X11:X14,Y11:Y14)),IF(AND(A11=\"T\",H3=\"Obligatorio\"),VLOOKUP(Q8,V11:X14,3,FALSE)=1,W11))","v":false},{"$f":"+IF(W15,\"SI\",\"NO\")","v":"NO"}]
["N",28]
["N",28]
["N",89,null,null,null,"Tipo requerimiento",null,{"$f":"+IF(VLOOKUP(B16,TablaResumen[],4)=\"C\",\"Voluntario\",\"Obligatorio\")","v":"Obligatorio"},null,null,null,null,null,null,null,null,null,null,null,null,null,"Puntaje crédito numérico"]
["N",89,null,null,null,null,null,null,null,null,null,null,null,{"$f":"+IF(H18=\"Obligatorio\",\"Cumple Requerimiento\",\"Puntaje obtenido\")","v":"Cumple Requerimiento"},null,null,{"$f":"IF(Q23=\"\",\"SI\",IF(H18=\"Obligatorio\",X30,IF(A19=\"N\",IF(Uso_Edificio=\"Oficinas\",SUM(W20:W23),SUM(X20:X23)),IF(Uso_Edificio=\"Oficinas\",SUM(X26:X29),SUM(Y26:Y29)))))","v":"SI"},null,null,null,null,"Calificación","Of. Y Serv.","Ed. Y Salud"]
["N",89,null,null,null,"Nombre Requerimiento",null,{"$f":"+VLOOKUP(B21,TablaResumen[],16,0)","v":"Transmitancia térmica de la envolvente y Factor Solar Modificado"},null,null,null,null,null,null,null,null,{"$f":"+IF(H17=\"Requisito\",W29,IF(#REF!=\"N\",IF(Uso_Edificio=\"Oficinas\",SUM(W19:W22),SUM(X19:X22)),IF(Uso_Edificio=\"Oficinas\",SUM(X25:X28),SUM(Y25:Y28))))","v":{"$error":"#REF!"}},null,null,null,{"$f":"+CONCATENATE(B20,\".\",4)","v":"89.4"},{"$f":"+AND(Q23>VLOOKUP(U20,MatrizRequerimientos,10,FALSE),Q23<=VLOOKUP(U20,MatrizRequerimientos,11,FALSE))","v":false},{"$f":"+V20*VLOOKUP(U20,MatrizRequerimientos,8,FALSE)","v":0},{"$f":"+V20*VLOOKUP(U20,MatrizRequerimientos,9,FALSE)","v":0}]
["N",89,null,null,null,null,null,null,null,null,null,null,null,null,null,null,{"$f":"+IF(H18=\"Requisito\",W30,IF(A17=\"N\",IF(Uso_Edificio=\"Oficinas\",SUM(W20:W23),SUM(X20:X23)),IF(Uso_Edificio=\"Oficinas\",SUM(X26:X29),SUM(Y26:Y29))))","v":0},null,null,null,{"$f":"+CONCATENATE(B21,\".\",5)","v":"89.5"},{"$f":"+AND(Q23>VLOOKUP(U21,MatrizRequerimientos,10,FALSE),Q23<=VLOOKUP(U21,MatrizRequerimientos,11,FALSE))","v":false},{"$f":"+V21*VLOOKUP(U21,MatrizRequerimientos,8,FALSE)","v":0},{"$f":"+V21*VLOOKUP(U21,MatrizRequerimientos,9,FALSE)","v":0}]
["N",89,null,null,null,"Indicador",null,{"$f":"+VLOOKUP(B22,TablaResumen[],21,0)","v":"Transmitancia Térmica Piso Ventilado [W/m2K]"},null,null,null,null,null,null,null,null,null,null,null,null,{"$f":"+CONCATENATE(B22,\".\",6)","v":"89.6"},{"$f":"+AND(Q23>VLOOKUP(U22,MatrizRequerimientos,10,FALSE),Q23<=VLOOKUP(U22,MatrizRequerimientos,11,FALSE))","v":false},{"$f":"+V22*VLOOKUP(U22,MatrizRequerimientos,8,FALSE)","v":0},{"$f":"+V22*VLOOKUP(U22,MatrizRequerimientos,9,FALSE)","v":0}]
["N",89,null,null,null,null,null,null,null,null,null,null,null,{"$f":"+IF(A21=\"N\",CONCATENATE(\"Valor obtenido en proyecto para \",H22),\"Seleccione Nivel de Cumplimiento\")","v":"Valor obtenido en proyecto para Transmitancia Térmica Piso Ventilado [W/m2K]"},null,null,null,null,null,null,{"$f":"+CONCATENATE(B23,\".\",7)","v":"89.7"},{"$f":"+AND(Q23>VLOOKUP(U23,MatrizRequerimientos,10,FALSE),Q23<=VLOOKUP(U23,MatrizRequerimientos,11,FALSE))","v":false},{"$f":"+V23*VLOOKUP(U23,MatrizRequerimientos,8,FALSE)","v":0},{"$f":"+V23*VLOOKUP(U23,MatrizRequerimientos,9,FALSE)","v":0}]
["N",89]
["N",89,null,null,null,"OPCIÓN ",null,{"$f":"CONCATENATE(VLOOKUP(B24,'Resumen requerimientos'!$T$5:$AB$96,5,FALSE), \" de \",VLOOKUP(B24,'Resumen requerimientos'!$T$5:$AB$96,6,FALSE))","v":"1 de 1"},null,null,null,null,null,null,null,null,null,null,null,null,null,null,null,"Of. Y Serv.","Ed. Y Salud"]
["N",89,null,null,null,null,null,null,null,null,null,null,null,null,null,null,null,null,null,null,{"$f":"+CONCATENATE(B26,\".\",4)","v":"89.4"},{"$f":"+VLOOKUP(U26,MatrizRequerimientos,6,FALSE)","v":"0-0,8"},{"$f":"+IF(A23=\"T\",Q23=V26,V20)","v":false},{"$f":"+W26*VLOOKUP(U26,MatrizRequerimientos,8,FALSE)","v":0},{"$f":"+W26*VLOOKUP(U26,MatrizRequerimientos,9,FALSE)","v":0}]
["N",89,null,null,null,{"$f":"+IF(H27=\"No\",\"¿OTROS REQUERIMIENTOS SIMULTÁNEOS?\",\"REQUERIMIENTOS SIMULTANEOS PARA LA OPCION\")","v":"REQUERIMIENTOS SIMULTANEOS PARA LA OPCION"},null,{"$f":"IF(VLOOKUP(B26,'Resumen requerimientos'!$T$5:$AB$96,7,FALSE)=0,\"No\",CONCATENATE(VLOOKUP(B26,'Resumen requerimientos'!$T$5:$AB$96,7,FALSE), \" de \",VLOOKUP(B26,'Resumen requerimientos'!$T$5:$AB$96,8,FALSE)))","v":"2 de 9"},null,null,null,null,null,null,null,null,null,null,null,null,{"$f":"+CONCATENATE(B27,\".\",5)","v":"89.5"},{"$f":"+VLOOKUP(U27,MatrizRequerimientos,6,FALSE)","v":"0-0,8"},{"$f":"+IF(A24=\"T\",Q23=V27,V21)","v":false},{"$f":"+W27*VLOOKUP(U27,MatrizRequerimientos,8,FALSE)","v":0},{"$f":"+W27*VLOOKUP(U27,MatrizRequerimientos,9,FALSE)","v":0}]
["N",89,null,null,null,null,null,null,null,null,null,null,null,null,null,null,null,null,null,null,{"$f":"+CONCATENATE(B28,\".\",6)","v":"89.6"},{"$f":"+VLOOKUP(U28,MatrizRequerimientos,6,FALSE)","v":"0-0,8"},{"$f":"+IF(A25=\"T\",Q23=V28,V22)","v":false},{"$f":"+W28*VLOOKUP(U28,MatrizRequerimientos,8,FALSE)","v":0},{"$f":"+W28*VLOOKUP(U28,MatrizRequerimientos,9,FALSE)","v":0}]
["N",89,null,null,null,"REQUERIMIENTO ADICIONAL",null,{"$f":"VLOOKUP(B28,'Resumen requerimientos'!$T$5:$AB$96,9,FALSE)","v":"no"},null,null,null,null,null,null,null,null,null,null,null,null,{"$f":"+CONCATENATE(B29,\".\",7)","v":"89.7"},{"$f":"+VLOOKUP(U29,MatrizRequerimientos,6,FALSE)","v":"0-0,8"},{"$f":"+IF(A26=\"T\",Q23=V29,V23)","v":false},{"$f":"+W29*VLOOKUP(U29,MatrizRequerimientos,8,FALSE)","v":0},{"$f":"+W29*VLOOKUP(U29,MatrizRequerimientos,9,FALSE)","v":0}]
["N",89,null,null,null,null,null,null,null,null,null,null,null,null,null,null,null,null,null,null,null,null,{"$f":"+IF(AND(A26=\"N\",H18=\"Voluntario\"),SUMIF(W26:W29,TRUE,IF(Uso_Edificio=\"Oficinas\",X26:X29,Y26:Y29)),IF(AND(A26=\"T\",H18=\"Obligatorio\"),VLOOKUP(Q23,V26:X29,3,FALSE)=1,W26))","v":false},{"$f":"+IF(W30,\"SI\",\"NO\")","v":"NO"}]
["N",89]
["N",29]
["N",{"$f":"+B32","v":29},null,null,null,"Tipo requerimiento",null,{"$f":"+IF(VLOOKUP(B32,TablaResumen[],4)=\"C\",\"Voluntario\",\"Obligatorio\")","v":"Obligatorio"},null,null,null,null,null,null,null,null,null,null,null,null,null,"Puntaje crédito numérico"]
["N",29,null,null,null,null,null,null,null,null,null,null,null,{"$f":"+IF(H33=\"Obligatorio\",\"Cumple Requerimiento\",\"Puntaje obtenido\")","v":"Cumple Requerimiento"},null,null,{"$f":"+IF(H33=\"Obligatorio\",X45,IF(A34=\"N\",IF(Uso_Edificio=\"Oficinas\",SUM(W35:W38),SUM(X35:X38)),IF(Uso_Edificio=\"Oficinas\",SUM(X41:X44),SUM(Y41:Y44))))","v":"NO"},null,null,null,null,"Calificación","Of. Y Serv.","Ed. Y Salud"]
["N",29,null,null,null,"Nombre Requerimiento",null,{"$f":"+VLOOKUP(B37,TablaResumen[],16,0)","v":"Transmitancia térmica de la envolvente y Factor Solar Modificado"},null,null,null,null,null,null,null,null,{"$f":"+IF(H32=\"Requisito\",W44,IF(#REF!=\"N\",IF(Uso_Edificio=\"Oficinas\",SUM(W34:W37),SUM(X34:X37)),IF(Uso_Edificio=\"Oficinas\",SUM(X40:X43),SUM(Y40:Y43))))","v":{"$error":"#REF!"}},null,null,null,{"$f":"+CONCATENATE(B35,\".\",4)","v":"29.4"},{"$f":"+AND(Q38>VLOOKUP(U35,MatrizRequerimientos,10,FALSE),Q38<=VLOOKUP(U35,MatrizRequerimientos,11,FALSE))","v":false},{"$f":"+V35*VLOOKUP(U35,MatrizRequerimientos,8,FALSE)","v":0},{"$f":"+V35*VLOOKUP(U35,MatrizRequerimientos,9,FALSE)","v":0}]
["N",29,null,null,null,null,null,null,null,null,null,null,null,null,null,null,{"$f":"+IF(H33=\"Requisito\",W45,IF(A32=\"N\",IF(Uso_Edificio=\"Oficinas\",SUM(W35:W38),SUM(X35:X38)),IF(Uso_Edificio=\"Oficinas\",SUM(X41:X44),SUM(Y41:Y44))))","v":0},null,null,null,{"$f":"+CONCATENATE(B36,\".\",5)","v":"29.5"},{"$f":"+AND(Q38>VLOOKUP(U36,MatrizRequerimientos,10,FALSE),Q38<=VLOOKUP(U36,MatrizRequerimientos,11,FALSE))","v":false},{"$f":"+V36*VLOOKUP(U36,MatrizRequerimientos,8,FALSE)","v":0},{"$f":"+V36*VLOOKUP(U36,MatrizRequerimientos,9,FALSE)","v":0}]
["N",29,null,null,null,"Indicador",null,{"$f":"+VLOOKUP(B38,TablaResumen[],21,0)","v":"Transmitancia Térmica Muro [W/m2K]"},null,null,null,null,null,null,null,null,null,null,null,null,{"$f":"+CONCATENATE(B37,\".\",6)","v":"29.6"},{"$f":"+AND(Q38>VLOOKUP(U37,MatrizRequerimientos,10,FALSE),Q38<=VLOOKUP(U37,MatrizRequerimientos,11,FALSE))","v":false},{"$f":"+V37*VLOOKUP(U37,MatrizRequerimientos,8,FALSE)","v":0},{"$f":"+V37*VLOOKUP(U37,MatrizRequerimientos,9,FALSE)","v":0}]
["N",29,null,null,null,null,null,null,null,null,null,null,null,{"$f":"+IF(A37=\"N\",CONCATENATE(\"Valor obtenido en proyecto para \",H37),\"Seleccione Nivel de Cumplimiento\")","v":"Valor obtenido en proyecto para Transmitancia Térmica Muro [W/m2K]"},null,null,null,null,null,null,{"$f":"+CONCATENATE(B38,\".\",7)","v":"29.7"},{"$f":"+AND(Q38>VLOOKUP(U38,MatrizRequerimientos,10,FALSE),Q38<=VLOOKUP(U38,MatrizRequerimientos,11,FALSE))","v":false},{"$f":"+V38*VLOOKUP(U38,MatrizRequerimientos,8,FALSE)","v":0},{"$f":"+V38*VLOOKUP(U38,MatrizRequerimientos,9,FALSE)","v":0}]
["N",29]
["N",29,null,null,null,"OPCIÓN ",null,{"$f":"CONCATENATE(VLOOKUP(B40,'Resumen requerimientos'!$T$5:$AB$96,5,FALSE), \" de \",VLOOKUP(B40,'Resumen requerimientos'!$T$5:$AB$96,6,FALSE))","v":"1 de 1"},null,null,null,null,null,null,null,null,null,null,null,null,null,null,null,"Of. Y Serv.","Ed. Y Salud"]
["N",29,null,null,null,null,null,null,null,null,null,null,null,null,null,null,null,null,null,null,{"$f":"+CONCATENATE(B41,\".\",4)","v":"29.4"},{"$f":"+VLOOKUP(U41,MatrizRequerimientos,6,FALSE)","v":"0-2,9"},{"$f":"+IF(A38=\"T\",Q38=V41,V35)","v":false},{"$f":"+W41*VLOOKUP(U41,MatrizRequerimientos,8,FALSE)","v":0},{"$f":"+W41*VLOOKUP(U41,MatrizRequerimientos,9,FALSE)","v":0}]
["N",29,null,null,null,{"$f":"+IF(H42=\"No\",\"¿OTROS REQUERIMIENTOS SIMULTÁNEOS?\",\"REQUERIMIENTOS SIMULTANEOS PARA LA OPCION\")","v":"REQUERIMIENTOS SIMULTANEOS PARA LA OPCION"},null,{"$f":"IF(VLOOKUP(B42,'Resumen requerimientos'!$T$5:$AB$96,7,FALSE)=0,\"No\",CONCATENATE(VLOOKUP(B42,'Resumen requerimientos'!$T$5:$AB$96,7,FALSE), \" de \",VLOOKUP(B42,'Resumen requerimientos'!$T$5:$AB$96,8,FALSE)))","v":"3 de 9"},null,null,null,null,null,null,null,null,null,null,null,null,{"$f":"+CONCATENATE(B42,\".\",5)","v":"29.5"},{"$f":"+VLOOKUP(U42,MatrizRequerimientos,6,FALSE)","v":"0-2,9"},{"$f":"+IF(A39=\"T\",Q38=V42,V36)","v":false},{"$f":"+W42*VLOOKUP(U42,MatrizRequerimientos,8,FALSE)","v":0},{"$f":"+W42*VLOOKUP(U42,MatrizRequerimientos,9,FALSE)","v":0}]
["N",29,null,null,null,null,null,null,null,null,null,null,null,null,null,null,null,null,null,null,{"$f":"+CONCATENATE(B43,\".\",6)","v":"29.6"},{"$f":"+VLOOKUP(U43,MatrizRequerimientos,6,FALSE)","v":"0-2,9"},{"$f":"+IF(A40=\"T\",Q38=V43,V37)","v":false},{"$f":"+W43*VLOOKUP(U43,MatrizRequerimientos,8,FALSE)","v":0},{"$f":"+W43*VLOOKUP(U43,MatrizRequerimientos,9,FALSE)","v":0}]
["N",29,null,null,null,"REQUERIMIENTO ADICIONAL",null,{"$f":"VLOOKUP(B44,'Resumen requerimientos'!$T$5:$AB$96,9,FALSE)","v":"No"},null,null,null,null,null,null,null,null,null,null,null,null,{"$f":"+CONCATENATE(B44,\".\",7)","v":"29.7"},{"$f":"+VLOOKUP(U44,MatrizRequerimientos,6,FALSE)","v":"0-2,9"},{"$f":"+IF(A41=\"T\",Q38=V44,V38)","v":false},{"$f":"+W44*VLOOKUP(U44,MatrizRequerimientos,8,FALSE)","v":0},{"$f":"+W44*VLOOKUP(U44,MatrizRequerimientos,9,FALSE)","v":0}]
["N",29,null,null,null,null,null,null,null,null,null,null,null,null,null,null,null,null,null,null,null,null,{"$f":"+IF(AND(A41=\"N\",H33=\"Voluntario\"),SUMIF(W41:W44,TRUE,IF(Uso_Edificio=\"Oficinas\",X41:X44,Y41:Y44)),IF(AND(A41=\"T\",H33=\"Obligatorio\"),VLOOKUP(Q38,V41:X44,3,FALSE)=1,W41))","v":false},{"$f":"+IF(W45,\"SI\",\"NO\")","v":"NO"}]
["N",29]
["N",30]
["N",{"$f":"+B47","v":30},null,null,null,"Tipo requerimiento",null,{"$f":"+IF(VLOOKUP(B47,TablaResumen[],4)=\"C\",\"Voluntario\",\"Obligatorio\")","v":"Obligatorio"},null,null,null,null,null,null,null,null,null,null,null,null,null,"Puntaje crédito numérico"]
["N",30,null,null,null,null,null,null,null,null,null,null,null,{"$f":"+IF(H48=\"Obligatorio\",\"Cumple Requerimiento\",\"Puntaje obtenido\")","v":"Cumple Requerimiento"},null,null,{"$f":"+IF(H48=\"Obligatorio\",X60,IF(A49=\"N\",IF(Uso_Edificio=\"Oficinas\",SUM(W50:W53),SUM(X50:X53)),IF(Uso_Edificio=\"Oficinas\",SUM(X56:X59),SUM(Y56:Y59))))","v":"NO"},null,null,null,null,"Calificación","Of. Y Serv.","Ed. Y Salud"]
["N",30,null,null,null,"Nombre Requerimiento",null,{"$f":"+VLOOKUP(B52,TablaResumen[],16,0)","v":"Transmitancia térmica de la envolvente y Factor Solar Modificado"},null,null,null,null,null,null,null,null,{"$f":"+IF(H47=\"Requisito\",W59,IF(#REF!=\"N\",IF(Uso_Edificio=\"Oficinas\",SUM(W49:W52),SUM(X49:X52)),IF(Uso_Edificio=\"Oficinas\",SUM(X55:X58),SUM(Y55:Y58))))","v":{"$error":"#REF!"}},null,null,null,{"$f":"+CONCATENATE(B50,\".\",4)","v":"30.4"},{"$f":"+AND(Q53>VLOOKUP(U50,MatrizRequerimientos,10,FALSE),Q53<=VLOOKUP(U50,MatrizRequerimientos,11,FALSE))","v":false},{"$f":"+V50*VLOOKUP(U50,MatrizRequerimientos,8,FALSE)","v":0},{"$f":"+V50*VLOOKUP(U50,MatrizRequerimientos,9,FALSE)","v":0}]
["N",30,null,null,null,null,null,null,null,null,null,null,null,null,null,null,{"$f":"+IF(H48=\"Requisito\",W60,IF(A47=\"N\",IF(Uso_Edificio=\"Oficinas\",SUM(W50:W53),SUM(X50:X53)),IF(Uso_Edificio=\"Oficinas\",SUM(X56:X59),SUM(Y56:Y59))))","v":0},null,null,null,{"$f":"+CONCATENATE(B51,\".\",5)","v":"30.5"},{"$f":"+AND(Q53>VLOOKUP(U51,MatrizRequerimientos,10,FALSE),Q53<=VLOOKUP(U51,MatrizRequerimientos,11,FALSE))","v":false},{"$f":"+V51*VLOOKUP(U51,MatrizRequerimientos,8,FALSE)","v":0},{"$f":"+V51*VLOOKUP(U51,MatrizRequerimientos,9,FALSE)","v":0}]
["N",30,null,null,null,"Indicador",null,{"$f":"+VLOOKUP(B53,TablaResumen[],21,0)","v":"Transmitancia Térmica Ventana [W/m2K]"},null,null,null,null,null,null,null,null,null,null,null,null,{"$f":"+CONCATENATE(B52,\".\",6)","v":"30.6"},{"$f":"+AND(Q53>VLOOKUP(U52,MatrizRequerimientos,10,FALSE),Q53<=VLOOKUP(U52,MatrizRequerimientos,11,FALSE))","v":false},{"$f":"+V52*VLOOKUP(U52,MatrizRequerimientos,8,FALSE)","v":0},{"$f":"+V52*VLOOKUP(U52,MatrizRequerimientos,9,FALSE)","v":0}]
["N",30,null,null,null,null,null,null,null,null,null,null,null,{"$f":"+IF(A52=\"N\",CONCATENATE(\"Valor obtenido en proyecto para \",H52),\"Seleccione Nivel de Cumplimiento\")","v":"Valor obtenido en proyecto para Transmitancia Térmica Ventana [W/m2K]"},null,null,null,null,null,null,{"$f":"+CONCATENATE(B53,\".\",7)","v":"30.7"},{"$f":"+AND(Q53>VLOOKUP(U53,MatrizRequerimientos,10,FALSE),Q53<=VLOOKUP(U53,MatrizRequerimientos,11,FALSE))","v":false},{"$f":"+V53*VLOOKUP(U53,MatrizRequerimientos,8,FALSE)","v":0},{"$f":"+V53*VLOOKUP(U53,MatrizRequerimientos,9,FALSE)","v":0}]
["N",30]
["N",30,null,null,null,"OPCIÓN ",null,{"$f":"CONCATENATE(VLOOKUP(B55,'Resumen requerimientos'!$T$5:$AB$96,5,FALSE), \" de \",VLOOKUP(B55,'Resumen requerimientos'!$T$5:$AB$96,6,FALSE))","v":"1 de 1"},null,null,null,null,null,null,null,null,null,null,null,null,null,null,null,"Of. Y Serv.","Ed. Y Salud"]
["N",30,null,null,null,null,null,null,null,null,null,null,null,null,null,null,null,null,null,null,{"$f":"+CONCATENATE(B56,\".\",4)","v":"30.4"},{"$f":"+VLOOKUP(U56,MatrizRequerimientos,6,FALSE)","v":"0-3,4"},{"$f":"+IF(A53=\"T\",Q53=V56,V50)","v":false},{"$f":"+W56*VLOOKUP(U56,MatrizRequerimientos,8,FALSE)","v":0},{"$f":"+W56*VLOOKUP(U56,MatrizRequerimientos,9,FALSE)","v":0}]
["N",30,null,null,null,{"$f":"+IF(H57=\"No\",\"¿OTROS REQUERIMIENTOS SIMULTÁNEOS?\",\"REQUERIMIENTOS SIMULTANEOS PARA LA OPCION\")","v":"REQUERIMIENTOS SIMULTANEOS PARA LA OPCION"},null,{"$f":"IF(VLOOKUP(B57,'Resumen requerimientos'!$T$5:$AB$96,7,FALSE)=0,\"No\",CONCATENATE(VLOOKUP(B57,'Resumen requerimientos'!$T$5:$AB$96,7,FALSE), \" de \",VLOOKUP(B57,'Resumen requerimientos'!$T$5:$AB$96,8,FALSE)))","v":"4 de 9"},null,null,null,null,null,null,null,null,null,null,null,null,{"$f":"+CONCATENATE(B57,\".\",5)","v":"30.5"},{"$f":"+VLOOKUP(U57,MatrizRequerimientos,6,FALSE)","v":"0-3,4"},{"$f":"+IF(A54=\"T\",Q53=V57,V51)","v":false},{"$f":"+W57*VLOOKUP(U57,MatrizRequerimientos,8,FALSE)","v":0},{"$f":"+W57*VLOOKUP(U57,MatrizRequerimientos,9,FALSE)","v":0}]
["N",30,null,null,null,null,null,null,null,null,null,null,null,null,null,null,null,null,null,null,{"$f":"+CONCATENATE(B58,\".\",6)","v":"30.6"},{"$f":"+VLOOKUP(U58,MatrizRequerimientos,6,FALSE)","v":"0-3,4"},{"$f":"+IF(A55=\"T\",Q53=V58,V52)","v":false},{"$f":"+W58*VLOOKUP(U58,MatrizRequerimientos,8,FALSE)","v":0},{"$f":"+W58*VLOOKUP(U58,MatrizRequerimientos,9,FALSE)","v":0}]
["N",30,null,null,null,"REQUERIMIENTO ADICIONAL",null,{"$f":"VLOOKUP(B59,'Resumen requerimientos'!$T$5:$AB$96,9,FALSE)","v":"No"},null,null,null,null,null,null,null,null,null,null,null,null,{"$f":"+CONCATENATE(B59,\".\",7)","v":"30.7"},{"$f":"+VLOOKUP(U59,MatrizRequerimientos,6,FALSE)","v":"0-3,4"},{"$f":"+IF(A56=\"T\",Q53=V59,V53)","v":false},{"$f":"+W59*VLOOKUP(U59,MatrizRequerimientos,8,FALSE)","v":0},{"$f":"+W59*VLOOKUP(U59,MatrizRequerimientos,9,FALSE)","v":0}]
["N",30,null,null,null,null,null,null,null,null,null,null,null,null,null,null,null,null,null,null,null,null,{"$f":"+IF(AND(A56=\"N\",H48=\"Voluntario\"),SUMIF(W56:W59,TRUE,IF(Uso_Edificio=\"Oficinas\",X56:X59,Y56:Y59)),IF(AND(A56=\"T\",H48=\"Obligatorio\"),VLOOKUP(Q53,V56:X59,3,FALSE)=1,W56))","v":false},{"$f":"+IF(W60,\"SI\",\"NO\")","v":"NO"}]
["N",30]
[{"$f":"+IF(OR(Zona_Climatica_Edificio=\"SL - Sur Litoral\",Zona_Climatica_Edificio=\"SE - Sur Extremo\",Zona_Climatica_Edificio=\"An - Andino\"),\"T\",\"N\")","v":"N"},31]
["N",{"$f":"+B62","v":31},null,null,null,"Tipo requerimiento",null,{"$f":"+IF(VLOOKUP(B62,TablaResumen[],4)=\"C\",\"Voluntario\",\"Obligatorio\")","v":"Obligatorio"},null,null,null,null,null,null,null,null,null,null,null,null,null,"Puntaje crédito numérico"]
["N",31,null,null,null,null,null,null,null,null,null,null,null,{"$f":"+IF(H63=\"Obligatorio\",\"Cumple Requerimiento\",\"Puntaje obtenido\")","v":"Cumple Requerimiento"},null,null,{"$f":"+IF(H63=\"Obligatorio\",X75,IF(A64=\"N\",IF(Uso_Edificio=\"Oficinas\",SUM(W65:W68),SUM(X65:X68)),IF(Uso_Edificio=\"Oficinas\",SUM(X71:X74),SUM(Y71:Y74))))","v":"NO"},null,null,null,null,"Calificación","Of. Y Serv.","Ed. Y Salud"]
["N",31,null,null,null,"Nombre Requerimiento",null,{"$f":"+VLOOKUP(B67,TablaResumen[],16,0)","v":"Transmitancia térmica de la envolvente y Factor Solar Modificado"},null,null,null,null,null,null,null,null,{"$f":"+IF(H62=\"Requisito\",W74,IF(#REF!=\"N\",IF(Uso_Edificio=\"Oficinas\",SUM(W64:W67),SUM(X64:X67)),IF(Uso_Edificio=\"Oficinas\",SUM(X70:X73),SUM(Y70:Y73))))","v":{"$error":"#REF!"}},null,null,null,{"$f":"+CONCATENATE(B65,\".\",4)","v":"31.4"},{"$f":"+AND(Q68>VLOOKUP(U65,MatrizRequerimientos,10,FALSE),Q68<=VLOOKUP(U65,MatrizRequerimientos,11,FALSE))","v":false},{"$f":"+V65*VLOOKUP(U65,MatrizRequerimientos,8,FALSE)","v":0},{"$f":"+V65*VLOOKUP(U65,MatrizRequerimientos,9,FALSE)","v":0}]
["N",31,null,null,null,null,null,null,null,null,null,null,null,null,null,null,{"$f":"+IF(H63=\"Requisito\",W75,IF(A62=\"N\",IF(Uso_Edificio=\"Oficinas\",SUM(W65:W68),SUM(X65:X68)),IF(Uso_Edificio=\"Oficinas\",SUM(X71:X74),SUM(Y71:Y74))))","v":0},null,null,null,{"$f":"+CONCATENATE(B66,\".\",5)","v":"31.5"},{"$f":"+AND(Q68>VLOOKUP(U66,MatrizRequerimientos,10,FALSE),Q68<=VLOOKUP(U66,MatrizRequerimientos,11,FALSE))","v":false},{"$f":"+V66*VLOOKUP(U66,MatrizRequerimientos,8,FALSE)","v":0},{"$f":"+V66*VLOOKUP(U66,MatrizRequerimientos,9,FALSE)","v":0}]
["N",31,null,null,null,"Indicador",null,{"$f":"+VLOOKUP(B68,TablaResumen[],21,0)","v":"FSM - Norte"},null,null,null,null,null,null,null,null,null,null,null,null,{"$f":"+CONCATENATE(B67,\".\",6)","v":"31.6"},{"$f":"+AND(Q68>VLOOKUP(U67,MatrizRequerimientos,10,FALSE),Q68<=VLOOKUP(U67,MatrizRequerimientos,11,FALSE))","v":false},{"$f":"+V67*VLOOKUP(U67,MatrizRequerimientos,8,FALSE)","v":0},{"$f":"+V67*VLOOKUP(U67,MatrizRequerimientos,9,FALSE)","v":0}]
["N",31,null,null,null,null,null,null,null,null,null,null,null,{"$f":"+IF(A67=\"N\",CONCATENATE(\"Valor obtenido en proyecto para \",H67),\"Seleccione Nivel de Cumplimiento\")","v":"Valor obtenido en proyecto para FSM - Norte"},null,null,null,null,null,null,{"$f":"+CONCATENATE(B68,\".\",7)","v":"31.7"},{"$f":"+AND(Q68>VLOOKUP(U68,MatrizRequerimientos,10,FALSE),Q68<=VLOOKUP(U68,MatrizRequerimientos,11,FALSE))","v":false},{"$f":"+V68*VLOOKUP(U68,MatrizRequerimientos,8,FALSE)","v":0},{"$f":"+V68*VLOOKUP(U68,MatrizRequerimientos,9,FALSE)","v":0}]
["N",31]
["N",31,null,null,null,"OPCIÓN ",null,{"$f":"CONCATENATE(VLOOKUP(B70,'Resumen requerimientos'!$T$5:$AB$96,5,FALSE), \" de \",VLOOKUP(B70,'Resumen requerimientos'!$T$5:$AB$96,6,FALSE))","v":"1 de 1"},null,null,null,null,null,null,null,null,null,null,null,null,null,null,null,"Of. Y Serv.","Ed. Y Salud"]
["N",31,null,null,null,null,null,null,null,null,null,null,null,null,null,null,null,null,null,null,{"$f":"+CONCATENATE(B71,\".\",4)","v":"31.4"},{"$f":"+VLOOKUP(U71,MatrizRequerimientos,6,FALSE)","v":"0-0,75"},{"$f":"+IF(A68=\"T\",Q68=V71,V65)","v":false},{"$f":"+W71*VLOOKUP(U71,MatrizRequerimientos,8,FALSE)","v":0},{"$f":"+W71*VLOOKUP(U71,MatrizRequerimientos,9,FALSE)","v":0}]
["N",31,null,null,null,{"$f":"+IF(H72=\"No\",\"¿OTROS REQUERIMIENTOS SIMULTÁNEOS?\",\"REQUERIMIENTOS SIMULTANEOS PARA LA OPCION\")","v":"REQUERIMIENTOS SIMULTANEOS PARA LA OPCION"},null,{"$f":"IF(VLOOKUP(B72,'Resumen requerimientos'!$T$5:$AB$96,7,FALSE)=0,\"No\",CONCATENATE(VLOOKUP(B72,'Resumen requerimientos'!$T$5:$AB$96,7,FALSE), \" de \",VLOOKUP(B72,'Resumen requerimientos'!$T$5:$AB$96,8,FALSE)))","v":"5 de 9"},null,null,null,null,null,null,null,null,null,null,null,null,{"$f":"+CONCATENATE(B72,\".\",5)","v":"31.5"},{"$f":"+VLOOKUP(U72,MatrizRequerimientos,6,FALSE)","v":"0-0,75"},{"$f":"+IF(A69=\"T\",Q68=V72,V66)","v":false},{"$f":"+W72*VLOOKUP(U72,MatrizRequerimientos,8,FALSE)","v":0},{"$f":"+W72*VLOOKUP(U72,MatrizRequerimientos,9,FALSE)","v":0}]
["N",31,null,null,null,null,null,null,null,null,null,null,null,null,null,null,null,null,null,null,{"$f":"+CONCATENATE(B73,\".\",6)","v":"31.6"},{"$f":"+VLOOKUP(U73,MatrizRequerimientos,6,FALSE)","v":"0-0,75"},{"$f":"+IF(A70=\"T\",Q68=V73,V67)","v":false},{"$f":"+W73*VLOOKUP(U73,MatrizRequerimientos,8,FALSE)","v":0},{"$f":"+W73*VLOOKUP(U73,MatrizRequerimientos,9,FALSE)","v":0}]
["N",31,null,null,null,"REQUERIMIENTO ADICIONAL",null,{"$f":"VLOOKUP(B74,'Resumen requerimientos'!$T$5:$AB$96,9,FALSE)","v":"No"},null,null,null,null,null,null,null,null,null,null,null,null,{"$f":"+CONCATENATE(B74,\".\",7)","v":"31.7"},{"$f":"+VLOOKUP(U74,MatrizRequerimientos,6,FALSE)","v":"0-0,75"},{"$f":"+IF(A71=\"T\",Q68=V74,V68)","v":false},{"$f":"+W74*VLOOKUP(U74,MatrizRequerimientos,8,FALSE)","v":0},{"$f":"+W74*VLOOKUP(U74,MatrizRequerimientos,9,FALSE)","v":0}]
["N",31,null,null,null,null,null,null,null,null,null,null,null,null,null,null,null,null,null,null,null,null,{"$f":"+IF(AND(A71=\"N\",H63=\"Voluntario\"),SUMIF(W71:W74,TRUE,IF(Uso_Edificio=\"Oficinas\",X71:X74,Y71:Y74)),IF(AND(A71=\"T\",H63=\"Obligatorio\"),VLOOKUP(Q68,V71:X74,3,FALSE)=1,W71))","v":false},{"$f":"+IF(W75,\"SI\",\"NO\")","v":"NO"}]
["N",31]
["N",90]
["N",90,null,null,null,"Tipo requerimiento",null,{"$f":"+IF(VLOOKUP(B77,TablaResumen[],4)=\"C\",\"Voluntario\",\"Obligatorio\")","v":"Obligatorio"},null,null,null,null,null,null,null,null,null,null,null,null,null,"Puntaje crédito numérico"]
["N",90,null,null,null,null,null,null,null,null,null,null,null,{"$f":"+IF(H78=\"Obligatorio\",\"Cumple Requerimiento\",\"Puntaje obtenido\")","v":"Cumple Requerimiento"},null,null,{"$f":"+IF(H78=\"Obligatorio\",X90,IF(A79=\"N\",IF(Uso_Edificio=\"Oficinas\",SUM(W80:W83),SUM(X80:X83)),IF(Uso_Edificio=\"Oficinas\",SUM(X86:X89),SUM(Y86:Y89))))","v":"NO"},null,null,null,null,"Calificación","Of. Y Serv.","Ed. Y Salud"]
["N",90,null,null,null,"Nombre Requerimiento",null,{"$f":"+VLOOKUP(B82,TablaResumen[],16,0)","v":"Transmitancia térmica de la envolvente y Factor Solar Modificado"},null,null,null,null,null,null,null,null,{"$f":"+IF(H77=\"Requisito\",W89,IF(#REF!=\"N\",IF(Uso_Edificio=\"Oficinas\",SUM(W79:W82),SUM(X79:X82)),IF(Uso_Edificio=\"Oficinas\",SUM(X85:X88),SUM(Y85:Y88))))","v":{"$error":"#REF!"}},null,null,null,{"$f":"+CONCATENATE(B80,\".\",4)","v":"90.4"},{"$f":"+AND(Q83>VLOOKUP(U80,MatrizRequerimientos,10,FALSE),Q83<=VLOOKUP(U80,MatrizRequerimientos,11,FALSE))","v":false},{"$f":"+V80*VLOOKUP(U80,MatrizRequerimientos,8,FALSE)","v":0},{"$f":"+V80*VLOOKUP(U80,MatrizRequerimientos,9,FALSE)","v":0}]
["N",90,null,null,null,null,null,null,null,null,null,null,null,null,null,null,{"$f":"+IF(H78=\"Requisito\",W90,IF(A77=\"N\",IF(Uso_Edificio=\"Oficinas\",SUM(W80:W83),SUM(X80:X83)),IF(Uso_Edificio=\"Oficinas\",SUM(X86:X89),SUM(Y86:Y89))))","v":0},null,null,null,{"$f":"+CONCATENATE(B81,\".\",5)","v":"90.5"},{"$f":"+AND(Q83>VLOOKUP(U81,MatrizRequerimientos,10,FALSE),Q83<=VLOOKUP(U81,MatrizRequerimientos,11,FALSE))","v":false},{"$f":"+V81*VLOOKUP(U81,MatrizRequerimientos,8,FALSE)","v":0},{"$f":"+V81*VLOOKUP(U81,MatrizRequerimientos,9,FALSE)","v":0}]
["N",90,null,null,null,"Indicador",null,{"$f":"+VLOOKUP(B83,TablaResumen[],21,0)","v":"FSM - NorEste"},null,null,null,null,null,null,null,null,null,null,null,null,{"$f":"+CONCATENATE(B82,\".\",6)","v":"90.6"},{"$f":"+AND(Q83>VLOOKUP(U82,MatrizRequerimientos,10,FALSE),Q83<=VLOOKUP(U82,MatrizRequerimientos,11,FALSE))","v":false},{"$f":"+V82*VLOOKUP(U82,MatrizRequerimientos,8,FALSE)","v":0},{"$f":"+V82*VLOOKUP(U82,MatrizRequerimientos,9,FALSE)","v":0}]
["N",90,null,null,null,null,null,null,null,null,null,null,null,{"$f":"+IF(A82=\"N\",CONCATENATE(\"Valor obtenido en proyecto para \",H82),\"Seleccione Nivel de Cumplimiento\")","v":"Valor obtenido en proyecto para FSM - NorEste"},null,null,null,null,null,null,{"$f":"+CONCATENATE(B83,\".\",7)","v":"90.7"},{"$f":"+AND(Q83>VLOOKUP(U83,MatrizRequerimientos,10,FALSE),Q83<=VLOOKUP(U83,MatrizRequerimientos,11,FALSE))","v":false},{"$f":"+V83*VLOOKUP(U83,MatrizRequerimientos,8,FALSE)","v":0},{"$f":"+V83*VLOOKUP(U83,MatrizRequerimientos,9,FALSE)","v":0}]
["N",90]
["N",90,null,null,null,"OPCIÓN ",null,{"$f":"CONCATENATE(VLOOKUP(B85,'Resumen requerimientos'!$T$5:$AB$96,5,FALSE), \" de \",VLOOKUP(B85,'Resumen requerimientos'!$T$5:$AB$96,6,FALSE))","v":"1 de 1"},null,null,null,null,null,null,null,null,null,null,null,null,null,null,null,"Of. Y Serv.","Ed. Y Salud"]
["N",90,null,null,null,null,null,null,null,null,null,null,null,null,null,null,null,null,null,null,{"$f":"+CONCATENATE(B86,\".\",4)","v":"90.4"},{"$f":"+VLOOKUP(U86,MatrizRequerimientos,6,FALSE)","v":"0-0,75"},{"$f":"+IF(A83=\"T\",Q83=V86,V80)","v":false},{"$f":"+W86*VLOOKUP(U86,MatrizRequerimientos,8,FALSE)","v":0},{"$f":"+W86*VLOOKUP(U86,MatrizRequerimientos,9,FALSE)","v":0}]
["N",90,null,null,null,{"$f":"+IF(H87=\"No\",\"¿OTROS REQUERIMIENTOS SIMULTÁNEOS?\",\"REQUERIMIENTOS SIMULTANEOS PARA LA OPCION\")","v":"REQUERIMIENTOS SIMULTANEOS PARA LA OPCION"},null,{"$f":"IF(VLOOKUP(B87,'Resumen requerimientos'!$T$5:$AB$96,7,FALSE)=0,\"No\",CONCATENATE(VLOOKUP(B87,'Resumen requerimientos'!$T$5:$AB$96,7,FALSE), \" de \",VLOOKUP(B87,'Resumen requerimientos'!$T$5:$AB$96,8,FALSE)))","v":"6 de 9"},null,null,null,null,null,null,null,null,null,null,null,null,{"$f":"+CONCATENATE(B87,\".\",5)","v":"90.5"},{"$f":"+VLOOKUP(U87,MatrizRequerimientos,6,FALSE)","v":"0-0,75"},{"$f":"+IF(A84=\"T\",Q83=V87,V81)","v":false},{"$f":"+W87*VLOOKUP(U87,MatrizRequerimientos,8,FALSE)","v":0},{"$f":"+W87*VLOOKUP(U87,MatrizRequerimientos,9,FALSE)","v":0}]
["N",90,null,null,null,null,null,null,null,null,null,null,null,null,null,null,null,null,null,null,{"$f":"+CONCATENATE(B88,\".\",6)","v":"90.6"},{"$f":"+VLOOKUP(U88,MatrizRequerimientos,6,FALSE)","v":"0-0,75"},{"$f":"+IF(A85=\"T\",Q83=V88,V82)","v":false},{"$f":"+W88*VLOOKUP(U88,MatrizRequerimientos,8,FALSE)","v":0},{"$f":"+W88*VLOOKUP(U88,MatrizRequerimientos,9,FALSE)","v":0}]
["N",90,null,null,null,"REQUERIMIENTO ADICIONAL",null,{"$f":"VLOOKUP(B89,'Resumen requerimientos'!$T$5:$AB$96,9,FALSE)","v":"no"},null,null,null,null,null,null,null,null,null,null,null,null,{"$f":"+CONCATENATE(B89,\".\",7)","v":"90.7"},{"$f":"+VLOOKUP(U89,MatrizRequerimientos,6,FALSE)","v":"0-0,75"},{"$f":"+IF(A86=\"T\",Q83=V89,V83)","v":false},{"$f":"+W89*VLOOKUP(U89,MatrizRequerimientos,8,FALSE)","v":0},{"$f":"+W89*VLOOKUP(U89,MatrizRequerimientos,9,FALSE)","v":0}]
["N",90,null,null,null,null,null,null,null,null,null,null,null,null,null,null,null,null,null,null,null,null,{"$f":"+IF(AND(A86=\"N\",H78=\"Voluntario\"),SUMIF(W86:W89,TRUE,IF(Uso_Edificio=\"Oficinas\",X86:X89,Y86:Y89)),IF(AND(A86=\"T\",H78=\"Obligatorio\"),VLOOKUP(Q83,V86:X89,3,FALSE)=1,W86))","v":false},{"$f":"+IF(W90,\"SI\",\"NO\")","v":"NO"}]
["N",90]
["N",91]
["N",91,null,null,null,"Tipo requerimiento",null,{"$f":"+IF(VLOOKUP(B92,TablaResumen[],4)=\"C\",\"Voluntario\",\"Obligatorio\")","v":"Obligatorio"},null,null,null,null,null,null,null,null,null,null,null,null,null,"Puntaje crédito numérico"]
[{"$f":"+IF(OR(Zona_Climatica_Edificio=\"SL - Sur Litoral\",Zona_Climatica_Edificio=\"SE - Sur Extremo\",Zona_Climatica_Edificio=\"An - Andino\"),\"T\",\"N\")","v":"N"},91,null,null,null,null,null,null,null,null,null,null,null,{"$f":"+IF(H93=\"Obligatorio\",\"Cumple Requerimiento\",\"Puntaje obtenido\")","v":"Cumple Requerimiento"},null,null,{"$f":"+IF(H93=\"Obligatorio\",X105,IF(A94=\"N\",IF(Uso_Edificio=\"Oficinas\",SUM(W95:W98),SUM(X95:X98)),IF(Uso_Edificio=\"Oficinas\",SUM(X101:X104),SUM(Y101:Y104))))","v":"NO"},null,null,null,null,"Calificación","Of. Y Serv.","Ed. Y Salud"]
["N",91,null,null,null,"Nombre Requerimiento",null,{"$f":"+VLOOKUP(B97,TablaResumen[],16,0)","v":"Transmitancia térmica de la envolvente y Factor Solar Modificado"},null,null,null,null,null,null,null,null,{"$f":"+IF(H92=\"Requisito\",W104,IF(#REF!=\"N\",IF(Uso_Edificio=\"Oficinas\",SUM(W94:W97),SUM(X94:X97)),IF(Uso_Edificio=\"Oficinas\",SUM(X100:X103),SUM(Y100:Y103))))","v":{"$error":"#REF!"}},null,null,null,{"$f":"+CONCATENATE(B95,\".\",4)","v":"91.4"},{"$f":"+AND(Q98>VLOOKUP(U95,MatrizRequerimientos,10,FALSE),Q98<=VLOOKUP(U95,MatrizRequerimientos,11,FALSE))","v":false},{"$f":"+V95*VLOOKUP(U95,MatrizRequerimientos,8,FALSE)","v":0},{"$f":"+V95*VLOOKUP(U95,MatrizRequerimientos,9,FALSE)","v":0}]
["N",91,null,null,null,null,null,null,null,null,null,null,null,null,null,null,{"$f":"+IF(H93=\"Requisito\",W105,IF(A92=\"N\",IF(Uso_Edificio=\"Oficinas\",SUM(W95:W98),SUM(X95:X98)),IF(Uso_Edificio=\"Oficinas\",SUM(X101:X104),SUM(Y101:Y104))))","v":0},null,null,null,{"$f":"+CONCATENATE(B96,\".\",5)","v":"91.5"},{"$f":"+AND(Q98>VLOOKUP(U96,MatrizRequerimientos,10,FALSE),Q98<=VLOOKUP(U96,MatrizRequerimientos,11,FALSE))","v":false},{"$f":"+V96*VLOOKUP(U96,MatrizRequerimientos,8,FALSE)","v":0},{"$f":"+V96*VLOOKUP(U96,MatrizRequerimientos,9,FALSE)","v":0}]
["N",91,null,null,null,"Indicador",null,{"$f":"+VLOOKUP(B98,TablaResumen[],21,0)","v":"FSM - Nor Oeste"},null,null,null,null,null,null,null,null,null,null,null,null,{"$f":"+CONCATENATE(B97,\".\",6)","v":"91.6"},{"$f":"+AND(Q98>VLOOKUP(U97,MatrizRequerimientos,10,FALSE),Q98<=VLOOKUP(U97,MatrizRequerimientos,11,FALSE))","v":false},{"$f":"+V97*VLOOKUP(U97,MatrizRequerimientos,8,FALSE)","v":0},{"$f":"+V97*VLOOKUP(U97,MatrizRequerimientos,9,FALSE)","v":0}]
["N",91,null,null,null,null,null,null,null,null,null,null,null,{"$f":"+IF(A97=\"N\",CONCATENATE(\"Valor obtenido en proyecto para \",H97),\"Seleccione Nivel de Cumplimiento\")","v":"Valor obtenido en proyecto para FSM - Nor Oeste"},null,null,null,null,null,null,{"$f":"+CONCATENATE(B98,\".\",7)","v":"91.7"},{"$f":"+AND(Q98>VLOOKUP(U98,MatrizRequerimientos,10,FALSE),Q98<=VLOOKUP(U98,MatrizRequerimientos,11,FALSE))","v":false},{"$f":"+V98*VLOOKUP(U98,MatrizRequerimientos,8,FALSE)","v":0},{"$f":"+V98*VLOOKUP(U98,MatrizRequerimientos,9,FALSE)","v":0}]
["N",91]
["N",91,null,null,null,"OPCIÓN ",null,{"$f":"CONCATENATE(VLOOKUP(B100,'Resumen requerimientos'!$T$5:$AB$96,5,FALSE), \" de \",VLOOKUP(B100,'Resumen requerimientos'!$T$5:$AB$96,6,FALSE))","v":"1 de 1"},null,null,null,null,null,null,null,null,null,null,null,null,null,null,null,"Of. Y Serv.","Ed. Y Salud"]
["N",91,null,null,null,null,null,null,null,null,null,null,null,null,null,null,null,null,null,null,{"$f":"+CONCATENATE(B101,\".\",4)","v":"91.4"},{"$f":"+VLOOKUP(U101,MatrizRequerimientos,6,FALSE)","v":"0-0,75"},{"$f":"+IF(A98=\"T\",Q98=V101,V95)","v":false},{"$f":"+W101*VLOOKUP(U101,MatrizRequerimientos,8,FALSE)","v":0},{"$f":"+W101*VLOOKUP(U101,MatrizRequerimientos,9,FALSE)","v":0}]
["N",91,null,null,null,{"$f":"+IF(H102=\"No\",\"¿OTROS REQUERIMIENTOS SIMULTÁNEOS?\",\"REQUERIMIENTOS SIMULTANEOS PARA LA OPCION\")","v":"REQUERIMIENTOS SIMULTANEOS PARA LA OPCION"},null,{"$f":"IF(VLOOKUP(B102,'Resumen requerimientos'!$T$5:$AB$104,7,FALSE)=0,\"No\",CONCATENATE(VLOOKUP(B102,'Resumen requerimientos'!$T$5:$AB$104,7,FALSE), \" de \",VLOOKUP(B102,'Resumen requerimientos'!$T$5:$AB$104,8,FALSE)))","v":"7 de 9"},null,null,null,null,null,null,null,null,null,null,null,null,{"$f":"+CONCATENATE(B102,\".\",5)","v":"91.5"},{"$f":"+VLOOKUP(U102,MatrizRequerimientos,6,FALSE)","v":"0-0,75"},{"$f":"+IF(A99=\"T\",Q98=V102,V96)","v":false},{"$f":"+W102*VLOOKUP(U102,MatrizRequerimientos,8,FALSE)","v":0},{"$f":"+W102*VLOOKUP(U102,MatrizRequerimientos,9,FALSE)","v":0}]
["N",91,null,null,null,null,null,null,null,null,null,null,null,null,null,null,null,null,null,null,{"$f":"+CONCATENATE(B103,\".\",6)","v":"91.6"},{"$f":"+VLOOKUP(U103,MatrizRequerimientos,6,FALSE)","v":"0-0,75"},{"$f":"+IF(A100=\"T\",Q98=V103,V97)","v":false},{"$f":"+W103*VLOOKUP(U103,MatrizRequerimientos,8,FALSE)","v":0},{"$f":"+W103*VLOOKUP(U103,MatrizRequerimientos,9,FALSE)","v":0}]
["N",91,null,null,null,"REQUERIMIENTO ADICIONAL",null,{"$f":"VLOOKUP(B104,'Resumen requerimientos'!$T$5:$AB$104,9,FALSE)","v":"no"},null,null,null,null,null,null,null,null,null,null,null,null,{"$f":"+CONCATENATE(B104,\".\",7)","v":"91.7"},{"$f":"+VLOOKUP(U104,MatrizRequerimientos,6,FALSE)","v":"0-0,75"},{"$f":"+IF(A101=\"T\",Q98=V104,V98)","v":false},{"$f":"+W104*VLOOKUP(U104,MatrizRequerimientos,8,FALSE)","v":0},{"$f":"+W104*VLOOKUP(U104,MatrizRequerimientos,9,FALSE)","v":0}]
["N",91,null,null,null,null,null,null,null,null,null,null,null,null,null,null,null,null,null,null,null,null,{"$f":"+IF(AND(A101=\"N\",H93=\"Voluntario\"),SUMIF(W101:W104,TRUE,IF(Uso_Edificio=\"Oficinas\",X101:X104,Y101:Y104)),IF(AND(A101=\"T\",H93=\"Obligatorio\"),VLOOKUP(Q98,V101:X104,3,FALSE)=1,W101))","v":false},{"$f":"+IF(W105,\"SI\",\"NO\")","v":"NO"}]
["N",91]
["N",32]
["N",{"$f":"+B107","v":32},null,null,null,"Tipo requerimiento",null,{"$f":"+IF(VLOOKUP(B107,TablaResumen[],4)=\"C\",\"Voluntario\",\"Obligatorio\")","v":"Obligatorio"},null,null,null,null,null,null,null,null,null,null,null,null,null,"Puntaje crédito numérico"]
["N",32,null,null,null,null,null,null,null,null,null,null,null,{"$f":"+IF(H108=\"Obligatorio\",\"Cumple Requerimiento\",\"Puntaje obtenido\")","v":"Cumple Requerimiento"},null,null,{"$f":"+IF(H108=\"Obligatorio\",X120,IF(A109=\"N\",IF(Uso_Edificio=\"Oficinas\",SUM(W110:W113),SUM(X110:X113)),IF(Uso_Edificio=\"Oficinas\",SUM(X116:X119),SUM(Y116:Y119))))","v":"NO"},null,null,null,null,"Calificación","Of. Y Serv.","Ed. Y Salud"]
["N",32,null,null,null,"Nombre Requerimiento",null,{"$f":"+VLOOKUP(B112,TablaResumen[],16,0)","v":"Transmitancia térmica de la envolvente y Factor Solar Modificado"},null,null,null,null,null,null,null,null,{"$f":"+IF(H107=\"Requisito\",W119,IF(#REF!=\"N\",IF(Uso_Edificio=\"Oficinas\",SUM(W109:W112),SUM(X109:X112)),IF(Uso_Edificio=\"Oficinas\",SUM(X115:X118),SUM(Y115:Y118))))","v":{"$error":"#REF!"}},null,null,null,{"$f":"+CONCATENATE(B110,\".\",4)","v":"32.4"},{"$f":"+AND(Q113>VLOOKUP(U110,MatrizRequerimientos,10,FALSE),Q113<=VLOOKUP(U110,MatrizRequerimientos,11,FALSE))","v":false},{"$f":"+V110*VLOOKUP(U110,MatrizRequerimientos,8,FALSE)","v":0},{"$f":"+V110*VLOOKUP(U110,MatrizRequerimientos,9,FALSE)","v":0}]
["N",32,null,null,null,null,null,null,null,null,null,null,null,null,null,null,{"$f":"+IF(H108=\"Requisito\",W120,IF(A107=\"N\",IF(Uso_Edificio=\"Oficinas\",SUM(W110:W113),SUM(X110:X113)),IF(Uso_Edificio=\"Oficinas\",SUM(X116:X119),SUM(Y116:Y119))))","v":0},null,null,null,{"$f":"+CONCATENATE(B111,\".\",5)","v":"32.5"},{"$f":"+AND(Q113>VLOOKUP(U111,MatrizRequerimientos,10,FALSE),Q113<=VLOOKUP(U111,MatrizRequerimientos,11,FALSE))","v":false},{"$f":"+V111*VLOOKUP(U111,MatrizRequerimientos,8,FALSE)","v":0},{"$f":"+V111*VLOOKUP(U111,MatrizRequerimientos,9,FALSE)","v":0}]
["N",32,null,null,null,"Indicador",null,{"$f":"+VLOOKUP(B113,TablaResumen[],21,0)","v":"FSM - Este"},null,null,null,null,null,null,null,null,null,null,null,null,{"$f":"+CONCATENATE(B112,\".\",6)","v":"32.6"},{"$f":"+AND(Q113>VLOOKUP(U112,MatrizRequerimientos,10,FALSE),Q113<=VLOOKUP(U112,MatrizRequerimientos,11,FALSE))","v":false},{"$f":"+V112*VLOOKUP(U112,MatrizRequerimientos,8,FALSE)","v":0},{"$f":"+V112*VLOOKUP(U112,MatrizRequerimientos,9,FALSE)","v":0}]
["N",32,null,null,null,null,null,null,null,null,null,null,null,{"$f":"+IF(A112=\"N\",CONCATENATE(\"Valor obtenido en proyecto para \",H112),\"Seleccione Nivel de Cumplimiento\")","v":"Valor obtenido en proyecto para FSM - Este"},null,null,null,null,null,null,{"$f":"+CONCATENATE(B113,\".\",7)","v":"32.7"},{"$f":"+AND(Q113>VLOOKUP(U113,MatrizRequerimientos,10,FALSE),Q113<=VLOOKUP(U113,MatrizRequerimientos,11,FALSE))","v":false},{"$f":"+V113*VLOOKUP(U113,MatrizRequerimientos,8,FALSE)","v":0},{"$f":"+V113*VLOOKUP(U113,MatrizRequerimientos,9,FALSE)","v":0}]
["N",32]
["N",32,null,null,null,"OPCIÓN ",null,{"$f":"CONCATENATE(VLOOKUP(B115,'Resumen requerimientos'!$T$5:$AB$96,5,FALSE), \" de \",VLOOKUP(B115,'Resumen requerimientos'!$T$5:$AB$96,6,FALSE))","v":"1 de 1"},null,null,null,null,null,null,null,null,null,null,null,null,null,null,null,"Of. Y Serv.","Ed. Y Salud"]
["N",32,null,null,null,null,null,null,null,null,null,null,null,null,null,null,null,null,null,null,{"$f":"+CONCATENATE(B116,\".\",4)","v":"32.4"},{"$f":"+VLOOKUP(U116,MatrizRequerimientos,6,FALSE)","v":"0-0,6"},{"$f":"+IF(A113=\"T\",Q113=V116,V110)","v":false},{"$f":"+W116*VLOOKUP(U116,MatrizRequerimientos,8,FALSE)","v":0},{"$f":"+W116*VLOOKUP(U116,MatrizRequerimientos,9,FALSE)","v":0}]
["N",32,null,null,null,{"$f":"+IF(H117=\"No\",\"¿OTROS REQUERIMIENTOS SIMULTÁNEOS?\",\"REQUERIMIENTOS SIMULTANEOS PARA LA OPCION\")","v":"REQUERIMIENTOS SIMULTANEOS PARA LA OPCION"},null,{"$f":"IF(VLOOKUP(B117,'Resumen requerimientos'!$T$5:$AB$96,7,FALSE)=0,\"No\",CONCATENATE(VLOOKUP(B117,'Resumen requerimientos'!$T$5:$AB$96,7,FALSE), \" de \",VLOOKUP(B117,'Resumen requerimientos'!$T$5:$AB$96,8,FALSE)))","v":"8 de 9"},null,null,null,null,null,null,null,null,null,null,null,null,{"$f":"+CONCATENATE(B117,\".\",5)","v":"32.5"},{"$f":"+VLOOKUP(U117,MatrizRequerimientos,6,FALSE)","v":"0-0,6"},{"$f":"+IF(A114=\"T\",Q113=V117,V111)","v":false},{"$f":"+W117*VLOOKUP(U117,MatrizRequerimientos,8,FALSE)","v":0},{"$f":"+W117*VLOOKUP(U117,MatrizRequerimientos,9,FALSE)","v":0}]
["N",32,null,null,null,null,null,null,null,null,null,null,null,null,null,null,null,null,null,null,{"$f":"+CONCATENATE(B118,\".\",6)","v":"32.6"},{"$f":"+VLOOKUP(U118,MatrizRequerimientos,6,FALSE)","v":"0-0,6"},{"$f":"+IF(A115=\"T\",Q113=V118,V112)","v":false},{"$f":"+W118*VLOOKUP(U118,MatrizRequerimientos,8,FALSE)","v":0},{"$f":"+W118*VLOOKUP(U118,MatrizRequerimientos,9,FALSE)","v":0}]
["N",32,null,null,null,"REQUERIMIENTO ADICIONAL",null,{"$f":"VLOOKUP(B119,'Resumen requerimientos'!$T$5:$AB$96,9,FALSE)","v":"No"},null,null,null,null,null,null,null,null,null,null,null,null,{"$f":"+CONCATENATE(B119,\".\",7)","v":"32.7"},{"$f":"+VLOOKUP(U119,MatrizRequerimientos,6,FALSE)","v":"0-0,6"},{"$f":"+IF(A116=\"T\",Q113=V119,V113)","v":false},{"$f":"+W119*VLOOKUP(U119,MatrizRequerimientos,8,FALSE)","v":0},{"$f":"+W119*VLOOKUP(U119,MatrizRequerimientos,9,FALSE)","v":0}]
["N",32,null,null,null,null,null,null,null,null,null,null,null,null,null,null,null,null,null,null,null,null,{"$f":"+IF(AND(A116=\"N\",H108=\"Voluntario\"),SUMIF(W116:W119,TRUE,IF(Uso_Edificio=\"Oficinas\",X116:X119,Y116:Y119)),IF(AND(A116=\"T\",H108=\"Obligatorio\"),VLOOKUP(Q113,V116:X119,3,FALSE)=1,W116))","v":false},{"$f":"+IF(W120,\"SI\",\"NO\")","v":"NO"}]
["N",32]
["N",92]
["N",92,null,null,null,"Tipo requerimiento",null,{"$f":"+IF(VLOOKUP(B122,TablaResumen[],4)=\"C\",\"Voluntario\",\"Obligatorio\")","v":"Obligatorio"},null,null,null,null,null,null,null,null,null,null,null,null,null,"Puntaje crédito numérico"]
["N",92,null,null,null,null,null,null,null,null,null,null,null,{"$f":"+IF(H123=\"Obligatorio\",\"Cumple Requerimiento\",\"Puntaje obtenido\")","v":"Cumple Requerimiento"},null,null,{"$f":"+IF(H123=\"Obligatorio\",X135,IF(A124=\"N\",IF(Uso_Edificio=\"Oficinas\",SUM(W125:W128),SUM(X125:X128)),IF(Uso_Edificio=\"Oficinas\",SUM(X131:X134),SUM(Y131:Y134))))","v":"NO"},null,null,null,null,"Calificación","Of. Y Serv.","Ed. Y Salud"]
["N",92,null,null,null,"Nombre Requerimiento",null,{"$f":"+VLOOKUP(B127,TablaResumen[],16,0)","v":"Transmitancia térmica de la envolvente y Factor Solar Modificado"},null,null,null,null,null,null,null,null,{"$f":"+IF(H122=\"Requisito\",W134,IF(#REF!=\"N\",IF(Uso_Edificio=\"Oficinas\",SUM(W124:W127),SUM(X124:X127)),IF(Uso_Edificio=\"Oficinas\",SUM(X130:X133),SUM(Y130:Y133))))","v":{"$error":"#REF!"}},null,null,null,{"$f":"+CONCATENATE(B125,\".\",4)","v":"92.4"},{"$f":"+AND(Q128>VLOOKUP(U125,MatrizRequerimientos,10,FALSE),Q128<=VLOOKUP(U125,MatrizRequerimientos,11,FALSE))","v":false},{"$f":"+V125*VLOOKUP(U125,MatrizRequerimientos,8,FALSE)","v":0},{"$f":"+V125*VLOOKUP(U125,MatrizRequerimientos,9,FALSE)","v":0}]
[{"$f":"+IF(OR(Zona_Climatica_Edificio=\"SL - Sur Litoral\",Zona_Climatica_Edificio=\"SE - Sur Extremo\",Zona_Climatica_Edificio=\"An - Andino\"),\"T\",\"N\")","v":"N"},92,null,null,null,null,null,null,null,null,null,null,null,null,null,null,{"$f":"+IF(H123=\"Requisito\",W135,IF(A122=\"N\",IF(Uso_Edificio=\"Oficinas\",SUM(W125:W128),SUM(X125:X128)),IF(Uso_Edificio=\"Oficinas\",SUM(X131:X134),SUM(Y131:Y134))))","v":0},null,null,null,{"$f":"+CONCATENATE(B126,\".\",5)","v":"92.5"},{"$f":"+AND(Q128>VLOOKUP(U126,MatrizRequerimientos,10,FALSE),Q128<=VLOOKUP(U126,MatrizRequerimientos,11,FALSE))","v":false},{"$f":"+V126*VLOOKUP(U126,MatrizRequerimientos,8,FALSE)","v":0},{"$f":"+V126*VLOOKUP(U126,MatrizRequerimientos,9,FALSE)","v":0}]
["N",92,null,null,null,"Indicador",null,{"$f":"+VLOOKUP(B128,TablaResumen[],21,0)","v":"FSM - Oeste"},null,null,null,null,null,null,null,null,null,null,null,null,{"$f":"+CONCATENATE(B127,\".\",6)","v":"92.6"},{"$f":"+AND(Q128>VLOOKUP(U127,MatrizRequerimientos,10,FALSE),Q128<=VLOOKUP(U127,MatrizRequerimientos,11,FALSE))","v":false},{"$f":"+V127*VLOOKUP(U127,MatrizRequerimientos,8,FALSE)","v":0},{"$f":"+V127*VLOOKUP(U127,MatrizRequerimientos,9,FALSE)","v":0}]
["N",92,null,null,null,null,null,null,null,null,null,null,null,{"$f":"+IF(A127=\"N\",CONCATENATE(\"Valor obtenido en proyecto para \",H127),\"Seleccione Nivel de Cumplimiento\")","v":"Valor obtenido en proyecto para FSM - Oeste"},null,null,null,null,null,null,{"$f":"+CONCATENATE(B128,\".\",7)","v":"92.7"},{"$f":"+AND(Q128>VLOOKUP(U128,MatrizRequerimientos,10,FALSE),Q128<=VLOOKUP(U128,MatrizRequerimientos,11,FALSE))","v":false},{"$f":"+V128*VLOOKUP(U128,MatrizRequerimientos,8,FALSE)","v":0},{"$f":"+V128*VLOOKUP(U128,MatrizRequerimientos,9,FALSE)","v":0}]
["N",92]
["N",92,null,null,null,"OPCIÓN ",null,{"$f":"CONCATENATE(VLOOKUP(B130,'Resumen requerimientos'!$T$5:$AB$96,5,FALSE), \" de \",VLOOKUP(B130,'Resumen requerimientos'!$T$5:$AB$96,6,FALSE))","v":"1 de 1"},null,null,null,null,null,null,null,null,null,null,null,null,null,null,null,"Of. Y Serv.","Ed. Y Salud"]
["N",92,null,null,null,null,null,null,null,null,null,null,null,null,null,null,null,null,null,null,{"$f":"+CONCATENATE(B131,\".\",4)","v":"92.4"},{"$f":"+VLOOKUP(U131,MatrizRequerimientos,6,FALSE)","v":"0-0,6"},{"$f":"+IF(A128=\"T\",Q128=V131,V125)","v":false},{"$f":"+W131*VLOOKUP(U131,MatrizRequerimientos,8,FALSE)","v":0},{"$f":"+W131*VLOOKUP(U131,MatrizRequerimientos,9,FALSE)","v":0}]
["N",92,null,null,null,{"$f":"+IF(H132=\"No\",\"¿OTROS REQUERIMIENTOS SIMULTÁNEOS?\",\"REQUERIMIENTOS SIMULTANEOS PARA LA OPCION\")","v":"REQUERIMIENTOS SIMULTANEOS PARA LA OPCION"},null,{"$f":"IF(VLOOKUP(B132,'Resumen requerimientos'!$T$5:$AB$96,7,FALSE)=0,\"No\",CONCATENATE(VLOOKUP(B132,'Resumen requerimientos'!$T$5:$AB$96,7,FALSE), \" de \",VLOOKUP(B132,'Resumen requerimientos'!$T$5:$AB$96,8,FALSE)))","v":"9 de 9"},null,null,null,null,null,null,null,null,null,null,null,null,{"$f":"+CONCATENATE(B132,\".\",5)","v":"92.5"},{"$f":"+VLOOKUP(U132,MatrizRequerimientos,6,FALSE)","v":"0-0,6"},{"$f":"+IF(A129=\"T\",Q128=V132,V126)","v":false},{"$f":"+W132*VLOOKUP(U132,MatrizRequerimientos,8,FALSE)","v":0},{"$f":"+W132*VLOOKUP(U132,MatrizRequerimientos,9,FALSE)","v":0}]
["N",92,null,null,null,null,null,null,null,null,null,null,null,null,null,null,null,null,null,null,{"$f":"+CONCATENATE(B133,\".\",6)","v":"92.6"},{"$f":"+VLOOKUP(U133,MatrizRequerimientos,6,FALSE)","v":"0-0,6"},{"$f":"+IF(A130=\"T\",Q128=V133,V127)","v":false},{"$f":"+W133*VLOOKUP(U133,MatrizRequerimientos,8,FALSE)","v":0},{"$f":"+W133*VLOOKUP(U133,MatrizRequerimientos,9,FALSE)","v":0}]
["N",92,null,null,null,"REQUERIMIENTO ADICIONAL",null,{"$f":"VLOOKUP(B134,'Resumen requerimientos'!$T$5:$AB$96,9,FALSE)","v":"no"},null,null,null,null,null,null,null,null,null,null,null,null,{"$f":"+CONCATENATE(B134,\".\",7)","v":"92.7"},{"$f":"+VLOOKUP(U134,MatrizRequerimientos,6,FALSE)","v":"0-0,6"},{"$f":"+IF(A131=\"T\",Q128=V134,V128)","v":false},{"$f":"+W134*VLOOKUP(U134,MatrizRequerimientos,8,FALSE)","v":0},{"$f":"+W134*VLOOKUP(U134,MatrizRequerimientos,9,FALSE)","v":0}]
["N",92,null,null,null,null,null,null,null,null,null,null,null,null,null,null,null,null,null,null,null,null,{"$f":"+IF(AND(A131=\"N\",H123=\"Voluntario\"),SUMIF(W131:W134,TRUE,IF(Uso_Edificio=\"Oficinas\",X131:X134,Y131:Y134)),IF(AND(A131=\"T\",H123=\"Obligatorio\"),VLOOKUP(Q128,V131:X134,3,FALSE)=1,W131))","v":false},{"$f":"+IF(W135,\"SI\",\"NO\")","v":"NO"}]
["N",92]
["N",{"$f":"+B121","v":32},null,null,"Volver al índice"]
["T",36,null,"ARQ.ENERGIA 6R - SELLOS EXTERIORES PARA CARPINTERÍA Y PASO DE INSTALACIONES",null,null,null,null,null,null,null,null,null,null,null,null,null,null,"ARQ.ENERGIA 6R - SELLOS EXTERIORES PARA CARPINTERÍA Y PASO DE INSTALACIONES"]
["T",{"$f":"+B138","v":36},null,null,null,"Tipo requerimiento",null,{"$f":"+IF(VLOOKUP(B138,TablaResumen[],4)=\"C\",\"Voluntario\",\"Obligatorio\")","v":"Obligatorio"},null,null,null,null,null,null,null,null,null,null,null,null,null,"Puntaje crédito numérico"]
["T",36,null,null,null,null,null,null,null,null,null,null,null,{"$f":"+IF(H139=\"Obligatorio\",\"Cumple Requerimiento\",\"Puntaje obtenido\")","v":"Cumple Requerimiento"},null,null,{"$f":"+IF(H139=\"Obligatorio\",X151,IF(A140=\"N\",IF(Uso_Edificio=\"Oficinas\",SUM(W141:W144),SUM(X141:X144)),IF(Uso_Edificio=\"Oficinas\",SUM(X147:X150),SUM(Y147:Y150))))","v":"NO"},null,null,null,null,"Calificación","Of. Y Serv.","Ed. Y Salud"]
["T",36,null,null,null,"Nombre Requerimiento",null,{"$f":"+VLOOKUP(B143,TablaResumen[],16,0)","v":"Sellos exteriores para carpintería y paso de instalaciones"},null,null,null,null,null,null,null,null,{"$f":"+IF(H138=\"Requisito\",W150,IF(#REF!=\"N\",IF(Uso_Edificio=\"Oficinas\",SUM(W140:W143),SUM(X140:X143)),IF(Uso_Edificio=\"Oficinas\",SUM(X146:X149),SUM(Y146:Y149))))","v":{"$error":"#REF!"}},null,null,null,{"$f":"+CONCATENATE(B141,\".\",4)","v":"36.4"},{"$f":"+AND(Q144>VLOOKUP(U141,MatrizRequerimientos,10,FALSE),Q144<=VLOOKUP(U141,MatrizRequerimientos,11,FALSE))","v":false},{"$f":"+V141*VLOOKUP(U141,MatrizRequerimientos,8,FALSE)","v":0},{"$f":"+V141*VLOOKUP(U141,MatrizRequerimientos,9,FALSE)","v":0}]
["T",36,null,null,null,null,null,null,null,null,null,null,null,null,null,null,{"$f":"+IF(H139=\"Requisito\",W151,IF(A138=\"N\",IF(Uso_Edificio=\"Oficinas\",SUM(W141:W144),SUM(X141:X144)),IF(Uso_Edificio=\"Oficinas\",SUM(X147:X150),SUM(Y147:Y150))))","v":0},null,null,null,{"$f":"+CONCATENATE(B142,\".\",5)","v":"36.5"},{"$f":"+AND(Q144>VLOOKUP(U142,MatrizRequerimientos,10,FALSE),Q144<=VLOOKUP(U142,MatrizRequerimientos,11,FALSE))","v":false},{"$f":"+V142*VLOOKUP(U142,MatrizRequerimientos,8,FALSE)","v":0},{"$f":"+V142*VLOOKUP(U142,MatrizRequerimientos,9,FALSE)","v":0}]
["T",36,null,null,null,"Indicador",null,{"$f":"+VLOOKUP(B144,TablaResumen[],21,0)","v":"Especificación de sellos"},null,null,null,null,null,null,null,null,null,null,null,null,{"$f":"+CONCATENATE(B143,\".\",6)","v":"36.6"},{"$f":"+AND(Q144>VLOOKUP(U143,MatrizRequerimientos,10,FALSE),Q144<=VLOOKUP(U143,MatrizRequerimientos,11,FALSE))","v":false},{"$f":"+V143*VLOOKUP(U143,MatrizRequerimientos,8,FALSE)","v":0},{"$f":"+V143*VLOOKUP(U143,MatrizRequerimientos,9,FALSE)","v":0}]
["T",36,null,null,null,null,null,null,null,null,null,null,null,{"$f":"+IF(A143=\"N\",CONCATENATE(\"Valor obtenido en proyecto para \",H143),\"Seleccione Nivel de Cumplimiento\")","v":"Seleccione Nivel de Cumplimiento"},null,null,null,null,null,null,{"$f":"+CONCATENATE(B144,\".\",7)","v":"36.7"},{"$f":"+AND(Q144>VLOOKUP(U144,MatrizRequerimientos,10,FALSE),Q144<=VLOOKUP(U144,MatrizRequerimientos,11,FALSE))","v":false},{"$f":"+V144*VLOOKUP(U144,MatrizRequerimientos,8,FALSE)","v":0},{"$f":"+V144*VLOOKUP(U144,MatrizRequerimientos,9,FALSE)","v":0}]
["T",36]
["T",36,null,null,null,"OPCIÓN ",null,{"$f":"CONCATENATE(VLOOKUP(B146,'Resumen requerimientos'!$T$5:$AB$96,5,FALSE), \" de \",VLOOKUP(B146,'Resumen requerimientos'!$T$5:$AB$96,6,FALSE))","v":"1 de 1"},null,null,null,null,null,null,null,null,null,null,null,null,null,null,null,"Of. Y Serv.","Ed. Y Salud"]
["T",36,null,null,null,null,null,null,null,null,null,null,null,null,null,null,null,null,null,null,{"$f":"+CONCATENATE(B147,\".\",4)","v":"36.4"},{"$f":"+VLOOKUP(U147,MatrizRequerimientos,6,FALSE)","v":"Cumple con requisitos de sello"},{"$f":"+IF(A144=\"T\",Q144=V147,V141)","v":false},{"$f":"+W147*VLOOKUP(U147,MatrizRequerimientos,8,FALSE)","v":0},{"$f":"+W147*VLOOKUP(U147,MatrizRequerimientos,9,FALSE)","v":0}]
["T",36,null,null,null,{"$f":"+IF(H148=\"No\",\"¿OTROS REQUERIMIENTOS SIMULTÁNEOS?\",\"REQUERIMIENTOS SIMULTANEOS PARA LA OPCION\")","v":"¿OTROS REQUERIMIENTOS SIMULTÁNEOS?"},null,{"$f":"IF(VLOOKUP(B148,'Resumen requerimientos'!$T$5:$AB$96,7,FALSE)=0,\"No\",CONCATENATE(VLOOKUP(B148,'Resumen requerimientos'!$T$5:$AB$96,7,FALSE), \" de \",VLOOKUP(B148,'Resumen requerimientos'!$T$5:$AB$96,8,FALSE)))","v":"No"},null,null,null,null,null,null,null,null,null,null,null,null,{"$f":"+CONCATENATE(B148,\".\",5)","v":"36.5"},{"$f":"+VLOOKUP(U148,MatrizRequerimientos,6,FALSE)","v":"NO cumple con requisitos de sello"},{"$f":"+IF(A145=\"T\",Q144=V148,V142)","v":false},{"$f":"+W148*VLOOKUP(U148,MatrizRequerimientos,8,FALSE)","v":0},{"$f":"+W148*VLOOKUP(U148,MatrizRequerimientos,9,FALSE)","v":0}]
["T",36,null,null,null,null,null,null,null,null,null,null,null,null,null,null,null,null,null,null,{"$f":"+CONCATENATE(B149,\".\",6)","v":"36.6"},{"$f":"+VLOOKUP(U149,MatrizRequerimientos,6,FALSE)","v":0},{"$f":"+IF(A146=\"T\",Q144=V149,V143)","v":true},{"$f":"+W149*VLOOKUP(U149,MatrizRequerimientos,8,FALSE)","v":0},{"$f":"+W149*VLOOKUP(U149,MatrizRequerimientos,9,FALSE)","v":0}]
["T",36,null,null,null,"REQUERIMIENTO ADICIONAL",null,{"$f":"VLOOKUP(B150,'Resumen requerimientos'!$T$5:$AB$96,9,FALSE)","v":"No"},null,null,null,null,null,null,null,null,null,null,null,null,{"$f":"+CONCATENATE(B150,\".\",7)","v":"36.7"},{"$f":"+VLOOKUP(U150,MatrizRequerimientos,6,FALSE)","v":0},{"$f":"+IF(A147=\"T\",Q144=V150,V144)","v":true},{"$f":"+W150*VLOOKUP(U150,MatrizRequerimientos,8,FALSE)","v":0},{"$f":"+W150*VLOOKUP(U150,MatrizRequerimientos,9,FALSE)","v":0}]
["T",36,null,null,null,null,null,null,null,null,null,null,null,null,null,null,null,null,null,null,null,null,{"$f":"+IF(AND(A147=\"N\",H139=\"Voluntario\"),SUMIF(W147:W150,TRUE,IF(Uso_Edificio=\"Oficinas\",X147:X150,Y147:Y150)),IF(AND(A147=\"T\",H139=\"Obligatorio\"),VLOOKUP(Q144,V147:X150,3,FALSE)=1,W147))","v":false},{"$f":"+IF(W151,\"SI\",\"NO\")","v":"NO"}]
["T",36]
["T",36,null,null,"Volver al índice"]

{"sheet":"Evaluacion ARQ.Agua Obligat.","index":9,"n_rows":17,"n_cols":27,"rows_kept":17,"cut":false,"hidden":false,"merged":[[3,16,5,16],[7,13,14,15],[7,16,14,16],[2,21,2,23],[1,3,15,3],[15,5,15,11],[13,5,14,6],[1,18,15,18],[3,13,5,15],[13,7,14,11],[4,5,5,6],[4,7,5,11],[11,5,12,6],[11,7,12,11],[8,5,8,6],[8,7,8,11],[0,4,0,5],[16,4,16,5],[6,5,7,6],[6,7,7,11],[9,5,10,6],[9,7,10,11],[2,5,3,6],[2,7,3,11]]}
["Texto /Número","Nº requisito",null,null,"Volver al índice"]
[{"$f":"+IF(Nivel_Precipitaciones=\"mayor o igual a 500 mm\",\"T\",\"N\")","v":"N"},41,null,"ARQ.AGUA 8R - REDUCIR UN 20% LA EVAPOTRANSPIRACIÓN DEL PROYECTO DE PAISAJISMO",null,null,null,null,null,null,null,null,null,null,null,null,null,null,"ARQ.AGUA 8R - REDUCIR UN 20% LA EVAPOTRANSPIRACIÓN DEL PROYECTO DE PAISAJISMO"]
["N",{"$f":"+B2","v":41},null,null,null,"Tipo requerimiento",null,{"$f":"+IF(VLOOKUP(B2,TablaResumen[],4)=\"C\",\"Voluntario\",\"Obligatorio\")","v":"Obligatorio"},null,null,null,null,null,null,null,null,null,null,null,null,null,"Puntaje crédito numérico"]
["N",41,null,null,null,null,null,null,null,null,null,null,null,{"$f":"+IF(H3=\"Obligatorio\",\"Cumple Requerimiento\",\"Puntaje obtenido\")","v":"Cumple Requerimiento"},null,null,{"$f":"+IF(H3=\"Obligatorio\",X15,IF(A4=\"N\",IF(Uso_Edificio=\"Oficinas\",SUM(W5:W8),SUM(X5:X8)),IF(Uso_Edificio=\"Oficinas\",SUM(X11:X14),SUM(Y11:Y14))))","v":"NO"},null,null,null,null,"Calificación","Of. Y Serv.","Ed. Y Salud"]
["N",41,null,null,null,"Nombre Requerimiento",null,{"$f":"+VLOOKUP(B7,TablaResumen[],16,0)","v":"Reducir 20% evapotransiración de proyecto de paisajismo"},null,null,null,null,null,null,null,null,{"$f":"+IF(H2=\"Requisito\",W14,IF(#REF!=\"N\",IF(Uso_Edificio=\"Oficinas\",SUM(W4:W7),SUM(X4:X7)),IF(Uso_Edificio=\"Oficinas\",SUM(X10:X13),SUM(Y10:Y13))))","v":{"$error":"#REF!"}},null,null,null,{"$f":"+CONCATENATE(B5,\".\",4)","v":"41.4"},{"$f":"+AND(Q8>VLOOKUP(U5,MatrizRequerimientos,10,FALSE),Q8<=VLOOKUP(U5,MatrizRequerimientos,11,FALSE))","v":false},{"$f":"+V5*VLOOKUP(U5,MatrizRequerimientos,8,FALSE)","v":0},{"$f":"+V5*VLOOKUP(U5,MatrizRequerimientos,9,FALSE)","v":0}]
["N",41,null,null,null,null,null,null,null,null,null,null,null,null,null,null,{"$f":"+IF(H3=\"Requisito\",W15,IF(A2=\"N\",IF(Uso_Edificio=\"Oficinas\",SUM(W5:W8),SUM(X5:X8)),IF(Uso_Edificio=\"Oficinas\",SUM(X11:X14),SUM(Y11:Y14))))","v":0},null,null,null,{"$f":"+CONCATENATE(B6,\".\",5)","v":"41.5"},{"$f":"+AND(Q8>VLOOKUP(U6,MatrizRequerimientos,10,FALSE),Q8<=VLOOKUP(U6,MatrizRequerimientos,11,FALSE))","v":false},{"$f":"+V6*VLOOKUP(U6,MatrizRequerimientos,8,FALSE)","v":0},{"$f":"+V6*VLOOKUP(U6,MatrizRequerimientos,9,FALSE)","v":0}]
["N",41,null,null,null,"Indicador",null,{"$f":"+VLOOKUP(B8,TablaResumen[],21,0)","v":"Disminución de la evapotranspiración [%]"},null,null,null,null,null,null,null,null,null,null,null,null,{"$f":"+CONCATENATE(B7,\".\",6)","v":"41.6"},{"$f":"+AND(Q8>VLOOKUP(U7,MatrizRequerimientos,10,FALSE),Q8<=VLOOKUP(U7,MatrizRequerimientos,11,FALSE))","v":false},{"$f":"+V7*VLOOKUP(U7,MatrizRequerimientos,8,FALSE)","v":0},{"$f":"+V7*VLOOKUP(U7,MatrizRequerimientos,9,FALSE)","v":0}]
["N",41,null,null,null,null,null,null,null,null,null,null,null,{"$f":"+IF(A7=\"N\",CONCATENATE(\"Valor obtenido en proyecto para \",H7),\"Seleccione Nivel de Cumplimiento\")","v":"Valor obtenido en proyecto para Disminución de la evapotranspiración [%]"},null,null,null,null,null,null,{"$f":"+CONCATENATE(B8,\".\",7)","v":"41.7"},{"$f":"+AND(Q8>VLOOKUP(U8,MatrizRequerimientos,10,FALSE),Q8<=VLOOKUP(U8,MatrizRequerimientos,11,FALSE))","v":false},{"$f":"+V8*VLOOKUP(U8,MatrizRequerimientos,8,FALSE)","v":0},{"$f":"+V8*VLOOKUP(U8,MatrizRequerimientos,9,FALSE)","v":0}]
["N",41]
["N",41,null,null,null,"OPCIÓN ",null,{"$f":"CONCATENATE(VLOOKUP(B10,'Resumen requerimientos'!$T$5:$AB$96,5,FALSE), \" de \",VLOOKUP(B10,'Resumen requerimientos'!$T$5:$AB$96,6,FALSE))","v":"1 de 1"},null,null,null,null,null,null,null,null,null,null,null,null,null,null,null,"Of. Y Serv.","Ed. Y Salud",null,{"$f":"+IF('Datos Generales Edificio'!$F$54=\"menor a 500 mm\",\"$V$11:$V$12\",\"$V$11\")","v":"$V$11:$V$12"}]
["N",41,null,null,null,null,null,null,null,null,null,null,null,null,null,null,null,null,null,null,{"$f":"+CONCATENATE(B11,\".\",4)","v":"41.4"},{"$f":"+VLOOKUP(U11,MatrizRequerimientos,6,FALSE)","v":"19,99999%-100%"},{"$f":"+IF(A8=\"T\",Q8=V11,V5)","v":false},{"$f":"+W11*VLOOKUP(U11,MatrizRequerimientos,8,FALSE)","v":0},{"$f":"+W11*VLOOKUP(U11,MatrizRequerimientos,9,FALSE)","v":0}]
["N",41,null,null,null,{"$f":"+IF(H12=\"No\",\"¿OTROS REQUERIMIENTOS SIMULTÁNEOS?\",\"REQUERIMIENTOS SIMULTANEOS PARA LA OPCION\")","v":"¿OTROS REQUERIMIENTOS SIMULTÁNEOS?"},null,{"$f":"IF(VLOOKUP(B12,'Resumen requerimientos'!$T$5:$AB$96,7,FALSE)=0,\"No\",CONCATENATE(VLOOKUP(B12,'Resumen requerimientos'!$T$5:$AB$96,7,FALSE), \" de \",VLOOKUP(B12,'Resumen requerimientos'!$T$5:$AB$96,8,FALSE)))","v":"No"},null,null,null,null,null,null,null,null,null,null,null,null,{"$f":"+CONCATENATE(B12,\".\",5)","v":"41.5"},{"$f":"+VLOOKUP(U12,MatrizRequerimientos,6,FALSE)","v":"0%-19,99999%"},{"$f":"+IF(A9=\"T\",Q8=V12,V6)","v":false},{"$f":"+W12*VLOOKUP(U12,MatrizRequerimientos,8,FALSE)","v":0},{"$f":"+W12*VLOOKUP(U12,MatrizRequerimientos,9,FALSE)","v":0}]
["N",41,null,null,null,null,null,null,null,null,null,null,null,null,null,null,null,null,null,null,{"$f":"+CONCATENATE(B13,\".\",6)","v":"41.6"},{"$f":"+VLOOKUP(U13,MatrizRequerimientos,6,FALSE)","v":0},{"$f":"+IF(A10=\"T\",Q8=V13,V7)","v":false},{"$f":"+W13*VLOOKUP(U13,MatrizRequerimientos,8,FALSE)","v":0},{"$f":"+W13*VLOOKUP(U13,MatrizRequerimientos,9,FALSE)","v":0}]
["N",41,null,null,null,"REQUERIMIENTO ADICIONAL",null,{"$f":"VLOOKUP(B14,'Resumen requerimientos'!$T$5:$AB$96,9,FALSE)","v":"No"},null,null,null,null,null,null,null,null,null,null,null,null,{"$f":"+CONCATENATE(B14,\".\",7)","v":"41.7"},{"$f":"+VLOOKUP(U14,MatrizRequerimientos,6,FALSE)","v":0},{"$f":"+IF(A11=\"T\",Q8=V14,V8)","v":false},{"$f":"+W14*VLOOKUP(U14,MatrizRequerimientos,8,FALSE)","v":0},{"$f":"+W14*VLOOKUP(U14,MatrizRequerimientos,9,FALSE)","v":0}]
["N",41,null,null,null,null,null,null,null,null,null,null,null,null,null,null,null,null,null,null,null,null,{"$f":"+IF(AND(A11=\"N\",H3=\"Voluntario\"),SUMIF(W11:W14,TRUE,IF(Uso_Edificio=\"Oficinas\",X11:X14,Y11:Y14)),IF(AND(A11=\"T\",H3=\"Obligatorio\"),VLOOKUP(Q8,V11:X14,3,FALSE)=1,W11))","v":false},{"$f":"+IF(W15,\"SI\",\"NO\")","v":"NO"}]
["N",41]
["N",41,null,null,"Volver al índice"]

{"sheet":"Evaluacion INST.Energia Obligat","index":10,"n_rows":62,"n_cols":25,"rows_kept":62,"cut":false,"hidden":false,"merged":[[39,5,40,6],[39,7,40,11],[41,5,42,6],[41,7,42,11],[48,13,50,15],[54,5,55,6],[54,7,55,11],[56,5,57,6],[56,7,57,11],[48,16,50,16],[52,13,59,15],[52,16,59,16],[58,5,59,6],[58,7,59,11],[11,5,12,6],[11,7,12,11],[23,5,23,6],[23,7,23,11],[60,5,60,11],[43,5,44,6],[43,7,44,11],[47,5,48,6],[47,7,48,11],[45,5,45,11],[53,5,53,6],[53,7,53,11],[49,5,50,6],[49,7,50,11],[51,5,52,6],[51,7,52,11],[30,5,30,11],[15,5,15,11],[13,5,14,6],[13,7,14,11],[17,5,18,6],[17,7,18,11],[36,5,37,6],[36,7,37,11],[2,5,3,6],[2,7,3,11],[4,5,5,6],[4,7,5,11],[8,5,8,6],[8,7,8,11],[6,5,7,6],[6,7,7,11],[9,5,10,6],[9,7,10,11],[28,5,29,6],[28,7,29,11],[32,5,33,6],[32,7,33,11],[1,3,60,3],[1,18,60,18],[2,21,2,23],[17,21,17,23],[3,13,5,15],[3,16,5,16],[7,13,14,15],[7,16,14,16],[18,13,20,15],[18,16,20,16],[22,13,29,15],[22,16,29,16],[34,5,35,6],[34,7,35,11],[38,5,38,6],[38,7,38,11],[0,4,0,5],[61,4,61,5],[47,21,47,23],[33,13,35,15],[33,16,35,16],[32,21,32,23],[19,5,20,6],[19,7,20,11],[26,5,27,6],[26,7,27,11],[21,5,22,6],[21,7,22,11],[24,5,25,6],[24,7,25,11],[37,13,44,15],[37,16,44,16]]}
["Texto/Número","Nº requisito",null,null,"Volver al índice"]
[{"$f":"+IF('Datos Generales Edificio'!$F$46=\"\",\"T\",\"N\")","v":"N"},72,null,"INST.ENERGIA 16R - AISLACIÓN TÉRMICA EN DISTRIBUCIÓN DE CALOR Y FRÍO",null,null,null,null,null,null,null,null,null,null,null,null,null,null,"INST.ENERGIA 16R - AISLACIÓN TÉRMICA EN DISTRIBUCIÓN DE CALOR Y FRÍO"]
[{"$f":"+IF('Datos Generales Edificio'!$F$46=\"\",\"T\",\"N\")","v":"N"},{"$f":"+B2","v":72},null,null,null,"Tipo requerimiento",null,{"$f":"+IF(VLOOKUP(B2,TablaResumen[],4)=\"C\",\"Voluntario\",\"Obligatorio\")","v":"Obligatorio"},null,null,null,null,null,null,null,null,null,null,null,null,null,"Puntaje crédito numérico"]
[{"$f":"+IF('Datos Generales Edificio'!$F$46=\"\",\"T\",\"N\")","v":"N"},72,null,null,null,null,null,null,null,null,null,null,null,{"$f":"+IF(H3=\"Obligatorio\",\"Cumple Requerimiento\",\"Puntaje obtenido\")","v":"Cumple Requerimiento"},null,null,{"$f":"+IF(H3=\"Obligatorio\",X15,IF(A4=\"N\",IF(Uso_Edificio=\"Oficinas\",SUM(W5:W8),SUM(X5:X8)),IF(Uso_Edificio=\"Oficinas\",SUM(X11:X14),SUM(Y11:Y14))))","v":"SI"},null,null,null,null,"Calificación","Of. Y Serv.","Ed. Y Salud"]
[{"$f":"+IF('Datos Generales Edificio'!$F$46=\"\",\"T\",\"N\")","v":"N"},72,null,null,null,"Nombre Requerimiento",null,{"$f":"+VLOOKUP(B7,TablaResumen[],16,0)","v":"Aislación térmica en distribución de calor y frío"},null,null,null,null,null,null,null,null,{"$f":"+IF(H2=\"Requisito\",W14,IF(#REF!=\"N\",IF(Uso_Edificio=\"Oficinas\",SUM(W4:W7),SUM(X4:X7)),IF(Uso_Edificio=\"Oficinas\",SUM(X10:X13),SUM(Y10:Y13))))","v":{"$error":"#REF!"}},null,null,null,{"$f":"+CONCATENATE(B5,\".\",4)","v":"72.4"},{"$f":"+AND(Q8>VLOOKUP(U5,MatrizRequerimientos,10,FALSE),Q8<=VLOOKUP(U5,MatrizRequerimientos,11,FALSE))","v":true},{"$f":"+V5*VLOOKUP(U5,MatrizRequerimientos,8,FALSE)","v":1},{"$f":"+V5*VLOOKUP(U5,MatrizRequerimientos,9,FALSE)","v":1}]
[{"$f":"+IF('Datos Generales Edificio'!$F$46=\"\",\"T\",\"N\")","v":"N"},72,null,null,null,null,null,null,null,null,null,null,null,null,null,null,{"$f":"+IF(H3=\"Requisito\",W15,IF(A2=\"N\",IF(Uso_Edificio=\"Oficinas\",SUM(W5:W8),SUM(X5:X8)),IF(Uso_Edificio=\"Oficinas\",SUM(X11:X14),SUM(Y11:Y14))))","v":4},null,null,null,{"$f":"+CONCATENATE(B6,\".\",5)","v":"72.5"},{"$f":"+AND(Q8>VLOOKUP(U6,MatrizRequerimientos,10,FALSE),Q8<=VLOOKUP(U6,MatrizRequerimientos,11,FALSE))","v":true},{"$f":"+V6*VLOOKUP(U6,MatrizRequerimientos,8,FALSE)","v":1},{"$f":"+V6*VLOOKUP(U6,MatrizRequerimientos,9,FALSE)","v":1}]
[{"$f":"+IF('Datos Generales Edificio'!$F$46=\"\",\"T\",\"N\")","v":"N"},72,null,null,null,"Indicador",null,{"$f":"+VLOOKUP(B8,TablaResumen[],21,0)","v":"Espesor de aislación térmica de cañerías para climatización/líquido [mm]"},null,null,null,null,null,null,null,null,null,null,null,null,{"$f":"+CONCATENATE(B7,\".\",6)","v":"72.6"},{"$f":"+AND(Q8>VLOOKUP(U7,MatrizRequerimientos,10,FALSE),Q8<=VLOOKUP(U7,MatrizRequerimientos,11,FALSE))","v":true},{"$f":"+V7*VLOOKUP(U7,MatrizRequerimientos,8,FALSE)","v":1},{"$f":"+V7*VLOOKUP(U7,MatrizRequerimientos,9,FALSE)","v":1}]
[{"$f":"+IF('Datos Generales Edificio'!$F$46=\"\",\"T\",\"N\")","v":"N"},72,null,null,null,null,null,null,null,null,null,null,null,{"$f":"+IF(A7=\"N\",CONCATENATE(\"Valor obtenido en proyecto para \",H7),\"Seleccione Nivel de Cumplimiento\")","v":"Valor obtenido en proyecto para Espesor de aislación térmica de cañerías para climatización/líquido [mm]"},null,null,20,null,null,null,{"$f":"+CONCATENATE(B8,\".\",7)","v":"72.7"},{"$f":"+AND(Q8>VLOOKUP(U8,MatrizRequerimientos,10,FALSE),Q8<=VLOOKUP(U8,MatrizRequerimientos,11,FALSE))","v":true},{"$f":"+V8*VLOOKUP(U8,MatrizRequerimientos,8,FALSE)","v":1},{"$f":"+V8*VLOOKUP(U8,MatrizRequerimientos,9,FALSE)","v":1}]
[{"$f":"+IF('Datos Generales Edificio'!$F$46=\"\",\"T\",\"N\")","v":"N"},72]
[{"$f":"+IF('Datos Generales Edificio'!$F$46=\"\",\"T\",\"N\")","v":"N"},72,null,null,null,"OPCIÓN ",null,{"$f":"CONCATENATE(VLOOKUP(B10,'Resumen requerimientos'!$T$5:$AB$92,5,FALSE), \" de \",VLOOKUP(B10,'Resumen requerimientos'!$T$5:$AB$92,6,FALSE))","v":"1 de 1"},null,null,null,null,null,null,null,null,null,null,null,null,null,null,null,"Of. Y Serv.","Ed. Y Salud"]
[{"$f":"+IF('Datos Generales Edificio'!$F$46=\"\",\"T\",\"N\")","v":"N"},72,null,null,null,null,null,null,null,null,null,null,null,null,null,null,null,null,null,null,{"$f":"+CONCATENATE(B11,\".\",4)","v":"72.4"},{"$f":"+VLOOKUP(U11,MatrizRequerimientos,6,FALSE)","v":"12,999-500"},{"$f":"+IF(A8=\"T\",Q8=V11,V5)","v":true},{"$f":"+W11*VLOOKUP(U11,MatrizRequerimientos,8,FALSE)","v":1},{"$f":"+W11*VLOOKUP(U11,MatrizRequerimientos,9,FALSE)","v":1}]
[{"$f":"+IF('Datos Generales Edificio'!$F$46=\"\",\"T\",\"N\")","v":"N"},72,null,null,null,{"$f":"+IF(H12=\"No\",\"¿OTROS REQUERIMIENTOS SIMULTÁNEOS?\",\"REQUERIMIENTOS SIMULTANEOS PARA LA OPCION\")","v":"REQUERIMIENTOS SIMULTANEOS PARA LA OPCION"},null,{"$f":"IF(VLOOKUP(B12,'Resumen requerimientos'!$T$5:$AB$92,7,FALSE)=0,\"No\",CONCATENATE(VLOOKUP(B12,'Resumen requerimientos'!$T$5:$AB$92,7,FALSE), \" de \",VLOOKUP(B12,'Resumen requerimientos'!$T$5:$AB$92,8,FALSE)))","v":"1 de 4"},null,null,null,null,null,null,null,null,null,null,null,null,{"$f":"+CONCATENATE(B12,\".\",5)","v":"72.5"},{"$f":"+VLOOKUP(U12,MatrizRequerimientos,6,FALSE)","v":"12,999-500"},{"$f":"+IF(A9=\"T\",Q8=V12,V6)","v":true},{"$f":"+W12*VLOOKUP(U12,MatrizRequerimientos,8,FALSE)","v":1},{"$f":"+W12*VLOOKUP(U12,MatrizRequerimientos,9,FALSE)","v":1}]
[{"$f":"+IF('Datos Generales Edificio'!$F$46=\"\",\"T\",\"N\")","v":"N"},72,null,null,null,null,null,null,null,null,null,null,null,null,null,null,null,null,null,null,{"$f":"+CONCATENATE(B13,\".\",6)","v":"72.6"},{"$f":"+VLOOKUP(U13,MatrizRequerimientos,6,FALSE)","v":"12,999-500"},{"$f":"+IF(A10=\"T\",Q8=V13,V7)","v":true},{"$f":"+W13*VLOOKUP(U13,MatrizRequerimientos,8,FALSE)","v":1},{"$f":"+W13*VLOOKUP(U13,MatrizRequerimientos,9,FALSE)","v":1}]
[{"$f":"+IF('Datos Generales Edificio'!$F$46=\"\",\"T\",\"N\")","v":"N"},72,null,null,null,"REQUERIMIENTO ADICIONAL",null,{"$f":"VLOOKUP(B14,'Resumen requerimientos'!$T$5:$AB$92,9,FALSE)","v":"No"},null,null,null,null,null,null,null,null,null,null,null,null,{"$f":"+CONCATENATE(B14,\".\",7)","v":"72.7"},{"$f":"+VLOOKUP(U14,MatrizRequerimientos,6,FALSE)","v":"12,999-500"},{"$f":"+IF(A11=\"T\",Q8=V14,V8)","v":true},{"$f":"+W14*VLOOKUP(U14,MatrizRequerimientos,8,FALSE)","v":1},{"$f":"+W14*VLOOKUP(U14,MatrizRequerimientos,9,FALSE)","v":1}]
[{"$f":"+IF('Datos Generales Edificio'!$F$46=\"\",\"T\",\"N\")","v":"N"},72,null,null,null,null,null,null,null,null,null,null,null,null,null,null,null,null,null,null,null,null,{"$f":"+IF(AND(A11=\"N\",H3=\"Voluntario\"),SUMIF(W11:W14,TRUE,IF(Uso_Edificio=\"Oficinas\",X11:X14,Y11:Y14)),IF(AND(A11=\"T\",H3=\"Obligatorio\"),VLOOKUP(Q8,V11:X14,3,FALSE)=1,W11))","v":true},{"$f":"+IF(W15,\"SI\",\"NO\")","v":"SI"}]
[{"$f":"+IF('Datos Generales Edificio'!$F$46=\"\",\"T\",\"N\")","v":"N"},72]
[{"$f":"+IF('Datos Generales Edificio'!$F$47=\"\",\"T\",\"N\")","v":"N"},73]
[{"$f":"+IF('Datos Generales Edificio'!$F$47=\"\",\"T\",\"N\")","v":"N"},{"$f":"+B17","v":73},null,null,null,"Tipo requerimiento",null,{"$f":"+IF(VLOOKUP(B17,TablaResumen[],4)=\"C\",\"Voluntario\",\"Obligatorio\")","v":"Obligatorio"},null,null,null,null,null,null,null,null,null,null,null,null,null,"Puntaje crédito numérico"]
[{"$f":"+IF('Datos Generales Edificio'!$F$47=\"\",\"T\",\"N\")","v":"N"},73,null,null,null,null,null,null,null,null,null,null,null,{"$f":"+IF(H18=\"Obligatorio\",\"Cumple Requerimiento\",\"Puntaje obtenido\")","v":"Cumple Requerimiento"},null,null,{"$f":"+IF(H18=\"Obligatorio\",X30,IF(A19=\"N\",IF(Uso_Edificio=\"Oficinas\",SUM(W20:W23),SUM(X20:X23)),IF(Uso_Edificio=\"Oficinas\",SUM(X26:X29),SUM(Y26:Y29))))","v":"SI"},null,null,null,null,"Calificación","Of. Y Serv.","Ed. Y Salud"]
[{"$f":"+IF('Datos Generales Edificio'!$F$47=\"\",\"T\",\"N\")","v":"N"},73,null,null,null,"Nombre Requerimiento",null,{"$f":"+VLOOKUP(B22,TablaResumen[],16,0)","v":"Aislación térmica en distribución de calor y frío"},null,null,null,null,null,null,null,null,{"$f":"+IF(H17=\"Requisito\",W29,IF(#REF!=\"N\",IF(Uso_Edificio=\"Oficinas\",SUM(W19:W22),SUM(X19:X22)),IF(Uso_Edificio=\"Oficinas\",SUM(X25:X28),SUM(Y25:Y28))))","v":{"$error":"#REF!"}},null,null,null,{"$f":"+CONCATENATE(B20,\".\",4)","v":"73.4"},{"$f":"+AND(Q23>VLOOKUP(U20,MatrizRequerimientos,10,FALSE),Q23<=VLOOKUP(U20,MatrizRequerimientos,11,FALSE))","v":true},{"$f":"+V20*VLOOKUP(U20,MatrizRequerimientos,8,FALSE)","v":1},{"$f":"+V20*VLOOKUP(U20,MatrizRequerimientos,9,FALSE)","v":1}]
[{"$f":"+IF('Datos Generales Edificio'!$F$47=\"\",\"T\",\"N\")","v":"N"},73,null,null,null,null,null,null,null,null,null,null,null,null,null,null,{"$f":"+IF(H18=\"Requisito\",W30,IF(A17=\"N\",IF(Uso_Edificio=\"Oficinas\",SUM(W20:W23),SUM(X20:X23)),IF(Uso_Edificio=\"Oficinas\",SUM(X26:X29),SUM(Y26:Y29))))","v":4},null,null,null,{"$f":"+CONCATENATE(B21,\".\",5)","v":"73.5"},{"$f":"+AND(Q23>VLOOKUP(U21,MatrizRequerimientos,10,FALSE),Q23<=VLOOKUP(U21,MatrizRequerimientos,11,FALSE))","v":true},{"$f":"+V21*VLOOKUP(U21,MatrizRequerimientos,8,FALSE)","v":1},{"$f":"+V21*VLOOKUP(U21,MatrizRequerimientos,9,FALSE)","v":1}]
[{"$f":"+IF('Datos Generales Edificio'!$F$47=\"\",\"T\",\"N\")","v":"N"},73,null,null,null,"Indicador",null,{"$f":"+VLOOKUP(B23,TablaResumen[],21,0)","v":"Espesor de aislación térmica de cañerías para ACS/líquido [mm]"},null,null,null,null,null,null,null,null,null,null,null,null,{"$f":"+CONCATENATE(B22,\".\",6)","v":"73.6"},{"$f":"+AND(Q23>VLOOKUP(U22,MatrizRequerimientos,10,FALSE),Q23<=VLOOKUP(U22,MatrizRequerimientos,11,FALSE))","v":true},{"$f":"+V22*VLOOKUP(U22,MatrizRequerimientos,8,FALSE)","v":1},{"$f":"+V22*VLOOKUP(U22,MatrizRequerimientos,9,FALSE)","v":1}]
[{"$f":"+IF('Datos Generales Edificio'!$F$47=\"\",\"T\",\"N\")","v":"N"},73,null,null,null,null,null,null,null,null,null,null,null,{"$f":"+IF(A22=\"N\",CONCATENATE(\"Valor obtenido en proyecto para \",H22),\"Seleccione Nivel de Cumplimiento\")","v":"Valor obtenido en proyecto para Espesor de aislación térmica de cañerías para ACS/líquido [mm]"},null,null,10,null,null,null,{"$f":"+CONCATENATE(B23,\".\",7)","v":"73.7"},{"$f":"+AND(Q23>VLOOKUP(U23,MatrizRequerimientos,10,FALSE),Q23<=VLOOKUP(U23,MatrizRequerimientos,11,FALSE))","v":true},{"$f":"+V23*VLOOKUP(U23,MatrizRequerimientos,8,FALSE)","v":1},{"$f":"+V23*VLOOKUP(U23,MatrizRequerimientos,9,FALSE)","v":1}]
[{"$f":"+IF('Datos Generales Edificio'!$F$47=\"\",\"T\",\"N\")","v":"N"},73]
[{"$f":"+IF('Datos Generales Edificio'!$F$47=\"\",\"T\",\"N\")","v":"N"},73,null,null,null,"OPCIÓN ",null,{"$f":"CONCATENATE(VLOOKUP(B25,'Resumen requerimientos'!$T$5:$AB$92,5,FALSE), \" de \",VLOOKUP(B25,'Resumen requerimientos'!$T$5:$AB$92,6,FALSE))","v":"1 de 1"},null,null,null,null,null,null,null,null,null,null,null,null,null,null,null,"Of. Y Serv.","Ed. Y Salud"]
[{"$f":"+IF('Datos Generales Edificio'!$F$47=\"\",\"T\",\"N\")","v":"N"},73,null,null,null,null,null,null,null,null,null,null,null,null,null,null,null,null,null,null,{"$f":"+CONCATENATE(B26,\".\",4)","v":"73.4"},{"$f":"+VLOOKUP(U26,MatrizRequerimientos,6,FALSE)","v":"8,999-500"},{"$f":"+IF(A23=\"T\",Q23=V26,V20)","v":true},{"$f":"+W26*VLOOKUP(U26,MatrizRequerimientos,8,FALSE)","v":1},{"$f":"+W26*VLOOKUP(U26,MatrizRequerimientos,9,FALSE)","v":1}]
[{"$f":"+IF('Datos Generales Edificio'!$F$47=\"\",\"T\",\"N\")","v":"N"},73,null,null,null,{"$f":"+IF(H27=\"No\",\"¿OTROS REQUERIMIENTOS SIMULTÁNEOS?\",\"REQUERIMIENTOS SIMULTANEOS PARA LA OPCION\")","v":"REQUERIMIENTOS SIMULTANEOS PARA LA OPCION"},null,{"$f":"IF(VLOOKUP(B27,'Resumen requerimientos'!$T$5:$AB$92,7,FALSE)=0,\"No\",CONCATENATE(VLOOKUP(B27,'Resumen requerimientos'!$T$5:$AB$92,7,FALSE), \" de \",VLOOKUP(B27,'Resumen requerimientos'!$T$5:$AB$92,8,FALSE)))","v":"2 de 4"},null,null,null,null,null,null,null,null,null,null,null,null,{"$f":"+CONCATENATE(B27,\".\",5)","v":"73.5"},{"$f":"+VLOOKUP(U27,MatrizRequerimientos,6,FALSE)","v":"8,999-500"},{"$f":"+IF(A24=\"T\",Q23=V27,V21)","v":true},{"$f":"+W27*VLOOKUP(U27,MatrizRequerimientos,8,FALSE)","v":1},{"$f":"+W27*VLOOKUP(U27,MatrizRequerimientos,9,FALSE)","v":1}]
[{"$f":"+IF('Datos Generales Edificio'!$F$47=\"\",\"T\",\"N\")","v":"N"},73,null,null,null,null,null,null,null,null,null,null,null,null,null,null,null,null,null,null,{"$f":"+CONCATENATE(B28,\".\",6)","v":"73.6"},{"$f":"+VLOOKUP(U28,MatrizRequerimientos,6,FALSE)","v":"8,999-500"},{"$f":"+IF(A25=\"T\",Q23=V28,V22)","v":true},{"$f":"+W28*VLOOKUP(U28,MatrizRequerimientos,8,FALSE)","v":1},{"$f":"+W28*VLOOKUP(U28,MatrizRequerimientos,9,FALSE)","v":1}]
[{"$f":"+IF('Datos Generales Edificio'!$F$47=\"\",\"T\",\"N\")","v":"N"},73,null,null,null,"REQUERIMIENTO ADICIONAL",null,{"$f":"VLOOKUP(B29,'Resumen requerimientos'!$T$5:$AB$92,9,FALSE)","v":"No"},null,null,null,null,null,null,null,null,null,null,null,null,{"$f":"+CONCATENATE(B29,\".\",7)","v":"73.7"},{"$f":"+VLOOKUP(U29,MatrizRequerimientos,6,FALSE)","v":"8,999-500"},{"$f":"+IF(A26=\"T\",Q23=V29,V23)","v":true},{"$f":"+W29*VLOOKUP(U29,MatrizRequerimientos,8,FALSE)","v":1},{"$f":"+W29*VLOOKUP(U29,MatrizRequerimientos,9,FALSE)","v":1}]
[{"$f":"+IF('Datos Generales Edificio'!$F$47=\"\",\"T\",\"N\")","v":"N"},73,null,null,null,null,null,null,null,null,null,null,null,null,null,null,null,null,null,null,null,null,{"$f":"+IF(AND(A26=\"N\",H18=\"Voluntario\"),SUMIF(W26:W29,TRUE,IF(Uso_Edificio=\"Oficinas\",X26:X29,Y26:Y29)),IF(AND(A26=\"T\",H18=\"Obligatorio\"),VLOOKUP(Q23,V26:X29,3,FALSE)=1,W26))","v":true},{"$f":"+IF(W30,\"SI\",\"NO\")","v":"SI"}]
[{"$f":"+IF('Datos Generales Edificio'!$F$47=\"\",\"T\",\"N\")","v":"N"},73]
[{"$f":"+IF('Datos Generales Edificio'!$F$48=\"\",\"T\",\"N\")","v":"N"},74]
[{"$f":"+IF('Datos Generales Edificio'!$F$48=\"\",\"T\",\"N\")","v":"N"},{"$f":"+B32","v":74},null,null,null,"Tipo requerimiento",null,{"$f":"+IF(VLOOKUP(B32,TablaResumen[],4)=\"C\",\"Voluntario\",\"Obligatorio\")","v":"Obligatorio"},null,null,null,null,null,null,null,null,null,null,null,null,null,"Puntaje crédito numérico"]
[{"$f":"+IF('Datos Generales Edificio'!$F$48=\"\",\"T\",\"N\")","v":"N"},74,null,null,null,null,null,null,null,null,null,null,null,{"$f":"+IF(H33=\"Obligatorio\",\"Cumple Requerimiento\",\"Puntaje obtenido\")","v":"Cumple Requerimiento"},null,null,{"$f":"+IF(H33=\"Obligatorio\",X45,IF(A34=\"N\",IF(Uso_Edificio=\"Oficinas\",SUM(W35:W38),SUM(X35:X38)),IF(Uso_Edificio=\"Oficinas\",SUM(X41:X44),SUM(Y41:Y44))))","v":"SI"},null,null,null,null,"Calificación","Of. Y Serv.","Ed. Y Salud"]
[{"$f":"+IF('Datos Generales Edificio'!$F$48=\"\",\"T\",\"N\")","v":"N"},74,null,null,null,"Nombre Requerimiento",null,{"$f":"+VLOOKUP(B37,TablaResumen[],16,0)","v":"Aislación térmica en distribución de calor y frío"},null,null,null,null,null,null,null,null,{"$f":"+IF(H32=\"Requisito\",W44,IF(#REF!=\"N\",IF(Uso_Edificio=\"Oficinas\",SUM(W34:W37),SUM(X34:X37)),IF(Uso_Edificio=\"Oficinas\",SUM(X40:X43),SUM(Y40:Y43))))","v":{"$error":"#REF!"}},null,null,null,{"$f":"+CONCATENATE(B35,\".\",4)","v":"74.4"},{"$f":"+AND(Q38>VLOOKUP(U35,MatrizRequerimientos,10,FALSE),Q38<=VLOOKUP(U35,MatrizRequerimientos,11,FALSE))","v":true},{"$f":"+V35*VLOOKUP(U35,MatrizRequerimientos,8,FALSE)","v":1},{"$f":"+V35*VLOOKUP(U35,MatrizRequerimientos,9,FALSE)","v":1}]
[{"$f":"+IF('Datos Generales Edificio'!$F$48=\"\",\"T\",\"N\")","v":"N"},74,null,null,null,null,null,null,null,null,null,null,null,null,null,null,{"$f":"+IF(H33=\"Requisito\",W45,IF(A32=\"N\",IF(Uso_Edificio=\"Oficinas\",SUM(W35:W38),SUM(X35:X38)),IF(Uso_Edificio=\"Oficinas\",SUM(X41:X44),SUM(Y41:Y44))))","v":4},null,null,null,{"$f":"+CONCATENATE(B36,\".\",5)","v":"74.5"},{"$f":"+AND(Q38>VLOOKUP(U36,MatrizRequerimientos,10,FALSE),Q38<=VLOOKUP(U36,MatrizRequerimientos,11,FALSE))","v":true},{"$f":"+V36*VLOOKUP(U36,MatrizRequerimientos,8,FALSE)","v":1},{"$f":"+V36*VLOOKUP(U36,MatrizRequerimientos,9,FALSE)","v":1}]
[{"$f":"+IF('Datos Generales Edificio'!$F$48=\"\",\"T\",\"N\")","v":"N"},74,null,null,null,"Indicador",null,{"$f":"+VLOOKUP(B38,TablaResumen[],21,0)","v":"Espesor de aislación térmica de cañerías interiores de climatización/aire [mm]"},null,null,null,null,null,null,null,null,null,null,null,null,{"$f":"+CONCATENATE(B37,\".\",6)","v":"74.6"},{"$f":"+AND(Q38>VLOOKUP(U37,MatrizRequerimientos,10,FALSE),Q38<=VLOOKUP(U37,MatrizRequerimientos,11,FALSE))","v":true},{"$f":"+V37*VLOOKUP(U37,MatrizRequerimientos,8,FALSE)","v":1},{"$f":"+V37*VLOOKUP(U37,MatrizRequerimientos,9,FALSE)","v":1}]
[{"$f":"+IF('Datos Generales Edificio'!$F$48=\"\",\"T\",\"N\")","v":"N"},74,null,null,null,null,null,null,null,null,null,null,null,{"$f":"+IF(A37=\"N\",CONCATENATE(\"Valor obtenido en proyecto para \",H37),\"Seleccione Nivel de Cumplimiento\")","v":"Valor obtenido en proyecto para Espesor de aislación térmica de cañerías interiores de climatización/aire [mm]"},null,null,20,null,null,null,{"$f":"+CONCATENATE(B38,\".\",7)","v":"74.7"},{"$f":"+AND(Q38>VLOOKUP(U38,MatrizRequerimientos,10,FALSE),Q38<=VLOOKUP(U38,MatrizRequerimientos,11,FALSE))","v":true},{"$f":"+V38*VLOOKUP(U38,MatrizRequerimientos,8,FALSE)","v":1},{"$f":"+V38*VLOOKUP(U38,MatrizRequerimientos,9,FALSE)","v":1}]
[{"$f":"+IF('Datos Generales Edificio'!$F$48=\"\",\"T\",\"N\")","v":"N"},74]
[{"$f":"+IF('Datos Generales Edificio'!$F$48=\"\",\"T\",\"N\")","v":"N"},74,null,null,null,"OPCIÓN ",null,{"$f":"CONCATENATE(VLOOKUP(B40,'Resumen requerimientos'!$T$5:$AB$92,5,FALSE), \" de \",VLOOKUP(B40,'Resumen requerimientos'!$T$5:$AB$92,6,FALSE))","v":"1 de 1"},null,null,null,null,null,null,null,null,null,null,null,null,null,null,null,"Of. Y Serv.","Ed. Y Salud"]
[{"$f":"+IF('Datos Generales Edificio'!$F$48=\"\",\"T\",\"N\")","v":"N"},74,null,null,null,null,null,null,null,null,null,null,null,null,null,null,null,null,null,null,{"$f":"+CONCATENATE(B41,\".\",4)","v":"74.4"},{"$f":"+VLOOKUP(U41,MatrizRequerimientos,6,FALSE)","v":"18,999-500"},{"$f":"+IF(A38=\"T\",Q38=V41,V35)","v":true},{"$f":"+W41*VLOOKUP(U41,MatrizRequerimientos,8,FALSE)","v":1},{"$f":"+W41*VLOOKUP(U41,MatrizRequerimientos,9,FALSE)","v":1}]
[{"$f":"+IF('Datos Generales Edificio'!$F$48=\"\",\"T\",\"N\")","v":"N"},74,null,null,null,{"$f":"+IF(H42=\"No\",\"¿OTROS REQUERIMIENTOS SIMULTÁNEOS?\",\"REQUERIMIENTOS SIMULTANEOS PARA LA OPCION\")","v":"REQUERIMIENTOS SIMULTANEOS PARA LA OPCION"},null,{"$f":"IF(VLOOKUP(B42,'Resumen requerimientos'!$T$5:$AB$92,7,FALSE)=0,\"No\",CONCATENATE(VLOOKUP(B42,'Resumen requerimientos'!$T$5:$AB$92,7,FALSE), \" de \",VLOOKUP(B42,'Resumen requerimientos'!$T$5:$AB$92,8,FALSE)))","v":"3 de 4"},null,null,null,null,null,null,null,null,null,null,null,null,{"$f":"+CONCATENATE(B42,\".\",5)","v":"74.5"},{"$f":"+VLOOKUP(U42,MatrizRequerimientos,6,FALSE)","v":"18,999-500"},{"$f":"+IF(A39=\"T\",Q38=V42,V36)","v":true},{"$f":"+W42*VLOOKUP(U42,MatrizRequerimientos,8,FALSE)","v":1},{"$f":"+W42*VLOOKUP(U42,MatrizRequerimientos,9,FALSE)","v":1}]
[{"$f":"+IF('Datos Generales Edificio'!$F$48=\"\",\"T\",\"N\")","v":"N"},74,null,null,null,null,null,null,null,null,null,null,null,null,null,null,null,null,null,null,{"$f":"+CONCATENATE(B43,\".\",6)","v":"74.6"},{"$f":"+VLOOKUP(U43,MatrizRequerimientos,6,FALSE)","v":"18,999-500"},{"$f":"+IF(A40=\"T\",Q38=V43,V37)","v":true},{"$f":"+W43*VLOOKUP(U43,MatrizRequerimientos,8,FALSE)","v":1},{"$f":"+W43*VLOOKUP(U43,MatrizRequerimientos,9,FALSE)","v":1}]
[{"$f":"+IF('Datos Generales Edificio'!$F$48=\"\",\"T\",\"N\")","v":"N"},74,null,null,null,"REQUERIMIENTO ADICIONAL",null,{"$f":"VLOOKUP(B44,'Resumen requerimientos'!$T$5:$AB$92,9,FALSE)","v":"No"},null,null,null,null,null,null,null,null,null,null,null,null,{"$f":"+CONCATENATE(B44,\".\",7)","v":"74.7"},{"$f":"+VLOOKUP(U44,MatrizRequerimientos,6,FALSE)","v":"18,999-500"},{"$f":"+IF(A41=\"T\",Q38=V44,V38)","v":true},{"$f":"+W44*VLOOKUP(U44,MatrizRequerimientos,8,FALSE)","v":1},{"$f":"+W44*VLOOKUP(U44,MatrizRequerimientos,9,FALSE)","v":1}]
[{"$f":"+IF('Datos Generales Edificio'!$F$48=\"\",\"T\",\"N\")","v":"N"},74,null,null,null,null,null,null,null,null,null,null,null,null,null,null,null,null,null,null,null,null,{"$f":"+IF(AND(A41=\"N\",H33=\"Voluntario\"),SUMIF(W41:W44,TRUE,IF(Uso_Edificio=\"Oficinas\",X41:X44,Y41:Y44)),IF(AND(A41=\"T\",H33=\"Obligatorio\"),VLOOKUP(Q38,V41:X44,3,FALSE)=1,W41))","v":true},{"$f":"+IF(W45,\"SI\",\"NO\")","v":"SI"}]
[{"$f":"+IF('Datos Generales Edificio'!$F$48=\"\",\"T\",\"N\")","v":"N"},74]
[{"$f":"+IF('Datos Generales Edificio'!$F$49=\"\",\"T\",\"N\")","v":"N"},75]
[{"$f":"+IF('Datos Generales Edificio'!$F$49=\"\",\"T\",\"N\")","v":"N"},{"$f":"+B47","v":75},null,null,null,"Tipo requerimiento",null,{"$f":"+IF(VLOOKUP(B47,TablaResumen[],4)=\"C\",\"Voluntario\",\"Obligatorio\")","v":"Obligatorio"},null,null,null,null,null,null,null,null,null,null,null,null,null,"Puntaje crédito numérico"]
[{"$f":"+IF('Datos Generales Edificio'!$F$49=\"\",\"T\",\"N\")","v":"N"},75,null,null,null,null,null,null,null,null,null,null,null,{"$f":"+IF(H48=\"Obligatorio\",\"Cumple Requerimiento\",\"Puntaje obtenido\")","v":"Cumple Requerimiento"},null,null,{"$f":"+IF(H48=\"Obligatorio\",X60,IF(A49=\"N\",IF(Uso_Edificio=\"Oficinas\",SUM(W50:W53),SUM(X50:X53)),IF(Uso_Edificio=\"Oficinas\",SUM(X56:X59),SUM(Y56:Y59))))","v":"NO"},null,null,null,null,"Calificación","Of. Y Serv.","Ed. Y Salud"]
[{"$f":"+IF('Datos Generales Edificio'!$F$49=\"\",\"T\",\"N\")","v":"N"},75,null,null,null,"Nombre Requerimiento",null,{"$f":"+VLOOKUP(B52,TablaResumen[],16,0)","v":"Aislación térmica en distribución de calor y frío"},null,null,null,null,null,null,null,null,{"$f":"+IF(H47=\"Requisito\",W59,IF(#REF!=\"N\",IF(Uso_Edificio=\"Oficinas\",SUM(W49:W52),SUM(X49:X52)),IF(Uso_Edificio=\"Oficinas\",SUM(X55:X58),SUM(Y55:Y58))))","v":{"$error":"#REF!"}},null,null,null,{"$f":"+CONCATENATE(B50,\".\",4)","v":"75.4"},{"$f":"+AND(Q53>VLOOKUP(U50,MatrizRequerimientos,10,FALSE),Q53<=VLOOKUP(U50,MatrizRequerimientos,11,FALSE))","v":false},{"$f":"+V50*VLOOKUP(U50,MatrizRequerimientos,8,FALSE)","v":0},{"$f":"+V50*VLOOKUP(U50,MatrizRequerimientos,9,FALSE)","v":0}]
[{"$f":"+IF('Datos Generales Edificio'!$F$49=\"\",\"T\",\"N\")","v":"N"},75,null,null,null,null,null,null,null,null,null,null,null,null,null,null,{"$f":"+IF(H48=\"Requisito\",W60,IF(A47=\"N\",IF(Uso_Edificio=\"Oficinas\",SUM(W50:W53),SUM(X50:X53)),IF(Uso_Edificio=\"Oficinas\",SUM(X56:X59),SUM(Y56:Y59))))","v":0},null,null,null,{"$f":"+CONCATENATE(B51,\".\",5)","v":"75.5"},{"$f":"+AND(Q53>VLOOKUP(U51,MatrizRequerimientos,10,FALSE),Q53<=VLOOKUP(U51,MatrizRequerimientos,11,FALSE))","v":false},{"$f":"+V51*VLOOKUP(U51,MatrizRequerimientos,8,FALSE)","v":0},{"$f":"+V51*VLOOKUP(U51,MatrizRequerimientos,9,FALSE)","v":0}]
[{"$f":"+IF('Datos Generales Edificio'!$F$49=\"\",\"T\",\"N\")","v":"N"},75,null,null,null,"Indicador",null,{"$f":"+VLOOKUP(B53,TablaResumen[],21,0)","v":"Espesor de aislación térmica de cañerías exteriores de climatización/aire [mm]"},null,null,null,null,null,null,null,null,null,null,null,null,{"$f":"+CONCATENATE(B52,\".\",6)","v":"75.6"},{"$f":"+AND(Q53>VLOOKUP(U52,MatrizRequerimientos,10,FALSE),Q53<=VLOOKUP(U52,MatrizRequerimientos,11,FALSE))","v":false},{"$f":"+V52*VLOOKUP(U52,MatrizRequerimientos,8,FALSE)","v":0},{"$f":"+V52*VLOOKUP(U52,MatrizRequerimientos,9,FALSE)","v":0}]
[{"$f":"+IF('Datos Generales Edificio'!$F$49=\"\",\"T\",\"N\")","v":"N"},75,null,null,null,null,null,null,null,null,null,null,null,{"$f":"+IF(A52=\"N\",CONCATENATE(\"Valor obtenido en proyecto para \",H52),\"Seleccione Nivel de Cumplimiento\")","v":"Valor obtenido en proyecto para Espesor de aislación térmica de cañerías exteriores de climatización/aire [mm]"},null,null,20,null,null,null,{"$f":"+CONCATENATE(B53,\".\",7)","v":"75.7"},{"$f":"+AND(Q53>VLOOKUP(U53,MatrizRequerimientos,10,FALSE),Q53<=VLOOKUP(U53,MatrizRequerimientos,11,FALSE))","v":false},{"$f":"+V53*VLOOKUP(U53,MatrizRequerimientos,8,FALSE)","v":0},{"$f":"+V53*VLOOKUP(U53,MatrizRequerimientos,9,FALSE)","v":0}]
[{"$f":"+IF('Datos Generales Edificio'!$F$49=\"\",\"T\",\"N\")","v":"N"},75]
[{"$f":"+IF('Datos Generales Edificio'!$F$49=\"\",\"T\",\"N\")","v":"N"},75,null,null,null,"OPCIÓN ",null,{"$f":"CONCATENATE(VLOOKUP(B55,'Resumen requerimientos'!$T$5:$AB$92,5,FALSE), \" de \",VLOOKUP(B55,'Resumen requerimientos'!$T$5:$AB$92,6,FALSE))","v":"1 de 1"},null,null,null,null,null,null,null,null,null,null,null,null,null,null,null,"Of. Y Serv.","Ed. Y Salud"]
[{"$f":"+IF('Datos Generales Edificio'!$F$49=\"\",\"T\",\"N\")","v":"N"},75,null,null,null,null,null,null,null,null,null,null,null,null,null,null,null,null,null,null,{"$f":"+CONCATENATE(B56,\".\",4)","v":"75.4"},{"$f":"+VLOOKUP(U56,MatrizRequerimientos,6,FALSE)","v":"29,999-500"},{"$f":"+IF(A53=\"T\",Q53=V56,V50)","v":false},{"$f":"+W56*VLOOKUP(U56,MatrizRequerimientos,8,FALSE)","v":0},{"$f":"+W56*VLOOKUP(U56,MatrizRequerimientos,9,FALSE)","v":0}]
[{"$f":"+IF('Datos Generales Edificio'!$F$49=\"\",\"T\",\"N\")","v":"N"},75,null,null,null,{"$f":"+IF(H57=\"No\",\"¿OTROS REQUERIMIENTOS SIMULTÁNEOS?\",\"REQUERIMIENTOS SIMULTANEOS PARA LA OPCION\")","v":"REQUERIMIENTOS SIMULTANEOS PARA LA OPCION"},null,{"$f":"IF(VLOOKUP(B57,'Resumen requerimientos'!$T$5:$AB$92,7,FALSE)=0,\"No\",CONCATENATE(VLOOKUP(B57,'Resumen requerimientos'!$T$5:$AB$92,7,FALSE), \" de \",VLOOKUP(B57,'Resumen requerimientos'!$T$5:$AB$92,8,FALSE)))","v":"4 de 4"},null,null,null,null,null,null,null,null,null,null,null,null,{"$f":"+CONCATENATE(B57,\".\",5)","v":"75.5"},{"$f":"+VLOOKUP(U57,MatrizRequerimientos,6,FALSE)","v":"29,999-500"},{"$f":"+IF(A54=\"T\",Q53=V57,V51)","v":false},{"$f":"+W57*VLOOKUP(U57,MatrizRequerimientos,8,FALSE)","v":0},{"$f":"+W57*VLOOKUP(U57,MatrizRequerimientos,9,FALSE)","v":0}]
[{"$f":"+IF('Datos Generales Edificio'!$F$49=\"\",\"T\",\"N\")","v":"N"},75,null,null,null,null,null,null,null,null,null,null,null,null,null,null,null,null,null,null,{"$f":"+CONCATENATE(B58,\".\",6)","v":"75.6"},{"$f":"+VLOOKUP(U58,MatrizRequerimientos,6,FALSE)","v":"29,999-500"},{"$f":"+IF(A55=\"T\",Q53=V58,V52)","v":false},{"$f":"+W58*VLOOKUP(U58,MatrizRequerimientos,8,FALSE)","v":0},{"$f":"+W58*VLOOKUP(U58,MatrizRequerimientos,9,FALSE)","v":0}]
[{"$f":"+IF('Datos Generales Edificio'!$F$49=\"\",\"T\",\"N\")","v":"N"},75,null,null,null,"REQUERIMIENTO ADICIONAL",null,{"$f":"VLOOKUP(B59,'Resumen requerimientos'!$T$5:$AB$92,9,FALSE)","v":"No"},null,null,null,null,null,null,null,null,null,null,null,null,{"$f":"+CONCATENATE(B59,\".\",7)","v":"75.7"},{"$f":"+VLOOKUP(U59,MatrizRequerimientos,6,FALSE)","v":"29,999-500"},{"$f":"+IF(A56=\"T\",Q53=V59,V53)","v":false},{"$f":"+W59*VLOOKUP(U59,MatrizRequerimientos,8,FALSE)","v":0},{"$f":"+W59*VLOOKUP(U59,MatrizRequerimientos,9,FALSE)","v":0}]
[{"$f":"+IF('Datos Generales Edificio'!$F$49=\"\",\"T\",\"N\")","v":"N"},75,null,null,null,null,null,null,null,null,null,null,null,null,null,null,null,null,null,null,null,null,{"$f":"+IF(AND(A56=\"N\",H48=\"Voluntario\"),SUMIF(W56:W59,TRUE,IF(Uso_Edificio=\"Oficinas\",X56:X59,Y56:Y59)),IF(AND(A56=\"T\",H48=\"Obligatorio\"),VLOOKUP(Q53,V56:X59,3,FALSE)=1,W56))","v":false},{"$f":"+IF(W60,\"SI\",\"NO\")","v":"NO"}]
[{"$f":"+IF('Datos Generales Edificio'!$F$49=\"\",\"T\",\"N\")","v":"N"},75]
[{"$f":"+IF('Datos Generales Edificio'!$F$49=\"\",\"T\",\"N\")","v":"N"},75,null,null,"Volver al índice"]

{"sheet":"Evaluacion INST.AGUA Obligat","index":11,"n_rows":33,"n_cols":27,"rows_kept":33,"cut":false,"hidden":false,"merged":[[17,3,31,3],[29,5,30,6],[29,7,30,11],[31,5,31,11],[24,5,24,6],[24,7,24,11],[25,5,26,6],[25,7,26,11],[27,5,28,6],[27,7,28,11],[18,5,19,6],[18,7,19,11],[20,5,21,6],[20,7,21,11],[22,5,23,6],[22,7,23,11],[1,3,15,3],[11,7,12,11],[2,5,3,6],[2,7,3,11],[4,5,5,6],[4,7,5,11],[8,5,8,6],[8,7,8,11],[6,5,7,6],[6,7,7,11],[9,5,10,6],[9,7,10,11],[11,5,12,6],[15,5,15,11],[13,5,14,6],[13,7,14,11],[0,4,0,5],[16,4,16,5],[32,4,32,5],[1,18,15,18],[2,21,2,23],[17,18,31,18],[18,21,18,23],[19,13,21,15],[19,16,21,16],[23,13,30,15],[23,16,30,16],[3,13,5,15],[3,16,5,16],[7,13,14,15],[7,16,14,16]]}
["Texto/Número","Nº requisito",null,null,"Volver al índice"]
["N",81,null,"INST.AGUA 19R - REDUCIR EN UN 20% EL CONSUMO DE AGUA POTABLE",null,null,null,null,null,null,null,null,null,null,null,null,null,null,"INST.AGUA 19R - REDUCIR EN UN 20% EL CONSUMO DE AGUA POTABLE"]
["N",{"$f":"+B2","v":81},null,null,null,"Tipo requerimiento",null,{"$f":"+IF(VLOOKUP(B2,TablaResumen[],4)=\"C\",\"Voluntario\",\"Obligatorio\")","v":"Obligatorio"},null,null,null,null,null,null,null,null,null,null,null,null,null,"Puntaje crédito numérico"]
["N",81,null,null,null,null,null,null,null,null,null,null,null,{"$f":"+IF(H3=\"Obligatorio\",\"Cumple Requerimiento\",\"Puntaje obtenido\")","v":"Cumple Requerimiento"},null,null,{"$f":"+IF(H3=\"Obligatorio\",X15,IF(A4=\"N\",IF(Uso_Edificio=\"Oficinas\",SUM(W5:W8),SUM(X5:X8)),IF(Uso_Edificio=\"Oficinas\",SUM(X11:X14),SUM(Y11:Y14))))","v":"NO"},null,null,null,null,"Calificación","Of. Y Serv.","Ed. Y Salud"]
["N",81,null,null,null,"Nombre Requerimiento",null,{"$f":"+VLOOKUP(B7,TablaResumen[],16,0)","v":"Reducir en un 20% el consumo de agua potable"},null,null,null,null,null,null,null,null,{"$f":"+IF(H2=\"Requisito\",W14,IF(#REF!=\"N\",IF(Uso_Edificio=\"Oficinas\",SUM(W4:W7),SUM(X4:X7)),IF(Uso_Edificio=\"Oficinas\",SUM(X10:X13),SUM(Y10:Y13))))","v":{"$error":"#REF!"}},null,null,null,{"$f":"+CONCATENATE(B5,\".\",4)","v":"81.4"},{"$f":"+AND(Q8>VLOOKUP(U5,MatrizRequerimientos,10,FALSE),Q8<=VLOOKUP(U5,MatrizRequerimientos,11,FALSE))","v":false},{"$f":"+V5*VLOOKUP(U5,MatrizRequerimientos,8,FALSE)","v":0},{"$f":"+V5*VLOOKUP(U5,MatrizRequerimientos,9,FALSE)","v":0}]
["N",81,null,null,null,null,null,null,null,null,null,null,null,null,null,null,{"$f":"+IF(H3=\"Requisito\",W15,IF(A2=\"N\",IF(Uso_Edificio=\"Oficinas\",SUM(W5:W8),SUM(X5:X8)),IF(Uso_Edificio=\"Oficinas\",SUM(X11:X14),SUM(Y11:Y14))))","v":0},null,null,null,{"$f":"+CONCATENATE(B6,\".\",5)","v":"81.5"},{"$f":"+AND(Q8>VLOOKUP(U6,MatrizRequerimientos,10,FALSE),Q8<=VLOOKUP(U6,MatrizRequerimientos,11,FALSE))","v":false},{"$f":"+V6*VLOOKUP(U6,MatrizRequerimientos,8,FALSE)","v":0},{"$f":"+V6*VLOOKUP(U6,MatrizRequerimientos,9,FALSE)","v":0}]
["N",81,null,null,null,"Indicador",null,{"$f":"+VLOOKUP(B8,TablaResumen[],21,0)","v":"Disminución del consumo de agua potable por griferías y artefactos [%]"},null,null,null,null,null,null,null,null,null,null,null,null,{"$f":"+CONCATENATE(B7,\".\",6)","v":"81.6"},{"$f":"+AND(Q8>VLOOKUP(U7,MatrizRequerimientos,10,FALSE),Q8<=VLOOKUP(U7,MatrizRequerimientos,11,FALSE))","v":false},{"$f":"+V7*VLOOKUP(U7,MatrizRequerimientos,8,FALSE)","v":0},{"$f":"+V7*VLOOKUP(U7,MatrizRequerimientos,9,FALSE)","v":0}]
["N",81,null,null,null,null,null,null,null,null,null,null,null,{"$f":"+IF(A7=\"N\",CONCATENATE(\"Valor obtenido en proyecto para \",H7),\"Seleccione Nivel de Cumplimiento\")","v":"Valor obtenido en proyecto para Disminución del consumo de agua potable por griferías y artefactos [%]"},null,null,null,null,null,null,{"$f":"+CONCATENATE(B8,\".\",7)","v":"81.7"},{"$f":"+AND(Q8>VLOOKUP(U8,MatrizRequerimientos,10,FALSE),Q8<=VLOOKUP(U8,MatrizRequerimientos,11,FALSE))","v":false},{"$f":"+V8*VLOOKUP(U8,MatrizRequerimientos,8,FALSE)","v":0},{"$f":"+V8*VLOOKUP(U8,MatrizRequerimientos,9,FALSE)","v":0}]
["N",81]
["N",81,null,null,null,"OPCIÓN ",null,{"$f":"CONCATENATE(VLOOKUP(B10,'Resumen requerimientos'!$T$5:$AB$92,5,FALSE), \" de \",VLOOKUP(B10,'Resumen requerimientos'!$T$5:$AB$92,6,FALSE))","v":"1 de 1"},null,null,null,null,null,null,null,null,null,null,null,null,null,null,null,"Of. Y Serv.","Ed. Y Salud"]
["N",81,null,null,null,null,null,null,null,null,null,null,null,null,null,null,null,null,null,null,{"$f":"+CONCATENATE(B11,\".\",4)","v":"81.4"},{"$f":"+VLOOKUP(U11,MatrizRequerimientos,6,FALSE)","v":"19,999%-1000%"},{"$f":"+IF(A8=\"T\",Q8=V11,V5)","v":false},{"$f":"+W11*VLOOKUP(U11,MatrizRequerimientos,8,FALSE)","v":0},{"$f":"+W11*VLOOKUP(U11,MatrizRequerimientos,9,FALSE)","v":0}]
["N",81,null,null,null,{"$f":"+IF(H12=\"No\",\"¿OTROS REQUERIMIENTOS SIMULTÁNEOS?\",\"REQUERIMIENTOS SIMULTANEOS PARA LA OPCION\")","v":"¿OTROS REQUERIMIENTOS SIMULTÁNEOS?"},null,{"$f":"IF(VLOOKUP(B12,'Resumen requerimientos'!$T$5:$AB$92,7,FALSE)=0,\"No\",CONCATENATE(VLOOKUP(B12,'Resumen requerimientos'!$T$5:$AB$92,7,FALSE), \" de \",VLOOKUP(B12,'Resumen requerimientos'!$T$5:$AB$92,8,FALSE)))","v":"No"},null,null,null,null,null,null,null,null,null,null,null,null,{"$f":"+CONCATENATE(B12,\".\",5)","v":"81.5"},{"$f":"+VLOOKUP(U12,MatrizRequerimientos,6,FALSE)","v":"19,999%-1000%"},{"$f":"+IF(A9=\"T\",Q8=V12,V6)","v":false},{"$f":"+W12*VLOOKUP(U12,MatrizRequerimientos,8,FALSE)","v":0},{"$f":"+W12*VLOOKUP(U12,MatrizRequerimientos,9,FALSE)","v":0}]
["N",81,null,null,null,null,null,null,null,null,null,null,null,null,null,null,null,null,null,null,{"$f":"+CONCATENATE(B13,\".\",6)","v":"81.6"},{"$f":"+VLOOKUP(U13,MatrizRequerimientos,6,FALSE)","v":"19,999%-1000%"},{"$f":"+IF(A10=\"T\",Q8=V13,V7)","v":false},{"$f":"+W13*VLOOKUP(U13,MatrizRequerimientos,8,FALSE)","v":0},{"$f":"+W13*VLOOKUP(U13,MatrizRequerimientos,9,FALSE)","v":0}]
["N",81,null,null,null,"REQUERIMIENTO ADICIONAL",null,{"$f":"VLOOKUP(B14,'Resumen requerimientos'!$T$5:$AB$92,9,FALSE)","v":"No"},null,null,null,null,null,null,null,null,null,null,null,null,{"$f":"+CONCATENATE(B14,\".\",7)","v":"81.7"},{"$f":"+VLOOKUP(U14,MatrizRequerimientos,6,FALSE)","v":"19,999%-1000%"},{"$f":"+IF(A11=\"T\",Q8=V14,V8)","v":false},{"$f":"+W14*VLOOKUP(U14,MatrizRequerimientos,8,FALSE)","v":0},{"$f":"+W14*VLOOKUP(U14,MatrizRequerimientos,9,FALSE)","v":0}]
["N",81,null,null,null,null,null,null,null,null,null,null,null,null,null,null,null,null,null,null,null,null,{"$f":"+IF(AND(A11=\"N\",H3=\"Voluntario\"),SUMIF(W11:W14,TRUE,IF(Uso_Edificio=\"Oficinas\",X11:X14,Y11:Y14)),IF(AND(A11=\"T\",H3=\"Obligatorio\"),VLOOKUP(Q8,V11:X14,3,FALSE)=1,W11))","v":false},{"$f":"+IF(W15,\"SI\",\"NO\")","v":"NO"}]
["N",81]
["N",81,null,null,"Volver al índice"]
["T",83,null,"INST.AGUA 20R - REDUCIR EN UN 20% EL CONSUMO DE AGUA PARA RIEGO",null,null,null,null,null,null,null,null,null,null,null,null,null,null,"INST.AGUA 20R - REDUCIR EN UN 20% EL CONSUMO DE AGUA PARA RIEGO"]
["T",{"$f":"+B18","v":83},null,null,null,"Tipo requerimiento",null,{"$f":"+IF(VLOOKUP(B18,TablaResumen[],4)=\"C\",\"Voluntario\",\"Obligatorio\")","v":"Obligatorio"},null,null,null,null,null,null,null,null,null,null,null,null,null,"Puntaje crédito numérico"]
["T",83,null,null,null,null,null,null,null,null,null,null,null,{"$f":"+IF(H19=\"Obligatorio\",\"Cumple Requerimiento\",\"Puntaje obtenido\")","v":"Cumple Requerimiento"},null,null,{"$f":"+IF(H19=\"Obligatorio\",X31,IF(A20=\"N\",IF(Uso_Edificio=\"Oficinas\",SUM(W21:W24),SUM(X21:X24)),IF(Uso_Edificio=\"Oficinas\",SUM(X27:X30),SUM(Y27:Y30))))","v":"NO"},null,null,null,null,"Calificación","Of. Y Serv.","Ed. Y Salud"]
["T",83,null,null,null,"Nombre Requerimiento",null,{"$f":"+VLOOKUP(B23,TablaResumen[],16,0)","v":"Reducir en un 20% el consumo de agua para riego"},null,null,null,null,null,null,null,null,{"$f":"+IF(H18=\"Requisito\",W30,IF(#REF!=\"N\",IF(Uso_Edificio=\"Oficinas\",SUM(W20:W23),SUM(X20:X23)),IF(Uso_Edificio=\"Oficinas\",SUM(X26:X29),SUM(Y26:Y29))))","v":{"$error":"#REF!"}},null,null,null,{"$f":"+CONCATENATE(B21,\".\",4)","v":"83.4"},{"$f":"+AND(Q24>VLOOKUP(U21,MatrizRequerimientos,10,FALSE),Q24<=VLOOKUP(U21,MatrizRequerimientos,11,FALSE))","v":false},{"$f":"+V21*VLOOKUP(U21,MatrizRequerimientos,8,FALSE)","v":0},{"$f":"+V21*VLOOKUP(U21,MatrizRequerimientos,9,FALSE)","v":0}]
["T",83,null,null,null,null,null,null,null,null,null,null,null,null,null,null,{"$f":"+IF(H19=\"Requisito\",W31,IF(A18=\"N\",IF(Uso_Edificio=\"Oficinas\",SUM(W21:W24),SUM(X21:X24)),IF(Uso_Edificio=\"Oficinas\",SUM(X27:X30),SUM(Y27:Y30))))","v":0},null,null,null,{"$f":"+CONCATENATE(B22,\".\",5)","v":"83.5"},{"$f":"+AND(Q24>VLOOKUP(U22,MatrizRequerimientos,10,FALSE),Q24<=VLOOKUP(U22,MatrizRequerimientos,11,FALSE))","v":false},{"$f":"+V22*VLOOKUP(U22,MatrizRequerimientos,8,FALSE)","v":0},{"$f":"+V22*VLOOKUP(U22,MatrizRequerimientos,9,FALSE)","v":0}]
["T",83,null,null,null,"Indicador",null,{"$f":"+VLOOKUP(B24,TablaResumen[],21,0)","v":"Disminución del consumo de agua para riego por sistema de riego [%]"},null,null,null,null,null,null,null,null,null,null,null,null,{"$f":"+CONCATENATE(B23,\".\",6)","v":"83.6"},{"$f":"+AND(Q24>VLOOKUP(U23,MatrizRequerimientos,10,FALSE),Q24<=VLOOKUP(U23,MatrizRequerimientos,11,FALSE))","v":false},{"$f":"+V23*VLOOKUP(U23,MatrizRequerimientos,8,FALSE)","v":0},{"$f":"+V23*VLOOKUP(U23,MatrizRequerimientos,9,FALSE)","v":0}]
["T",83,null,null,null,null,null,null,null,null,null,null,null,{"$f":"+IF('Datos Generales Edificio'!$F$54=\"menor a 500 mm\",\"Seleccione [%] de disminución de consumo de agua para riego\",\"Seleccione nivel de cumplimiento\")","v":"Seleccione [%] de disminución de consumo de agua para riego"},null,null,null,null,null,null,{"$f":"+CONCATENATE(B24,\".\",7)","v":"83.7"},{"$f":"+AND(Q24>VLOOKUP(U24,MatrizRequerimientos,10,FALSE),Q24<=VLOOKUP(U24,MatrizRequerimientos,11,FALSE))","v":false},{"$f":"+V24*VLOOKUP(U24,MatrizRequerimientos,8,FALSE)","v":0},{"$f":"+V24*VLOOKUP(U24,MatrizRequerimientos,9,FALSE)","v":0}]
["T",83]
["T",83,null,null,null,"OPCIÓN ",null,{"$f":"CONCATENATE(VLOOKUP(B26,'Resumen requerimientos'!$T$5:$AB$92,5,FALSE), \" de \",VLOOKUP(B26,'Resumen requerimientos'!$T$5:$AB$92,6,FALSE))","v":"1 de 1"},null,null,null,null,null,null,null,null,null,null,null,null,null,null,null,"Of. Y Serv.","Ed. Y Salud",null,{"$f":"+IF('Datos Generales Edificio'!$F$54=\"menor a 500 mm\",\"$V$27:$V$28\",\"$V$27\")","v":"$V$27:$V$28"}]
["T",83,null,null,null,null,null,null,null,null,null,null,null,null,null,null,null,null,null,null,{"$f":"+CONCATENATE(B27,\".\",4)","v":"83.4"},{"$f":"+VLOOKUP(U27,MatrizRequerimientos,6,FALSE)","v":"20% o más"},{"$f":"+IF(A24=\"T\",Q24=V27,V21)","v":false},{"$f":"+W27*VLOOKUP(U27,MatrizRequerimientos,8,FALSE)","v":0},{"$f":"+W27*VLOOKUP(U27,MatrizRequerimientos,9,FALSE)","v":0}]
["T",83,null,null,null,{"$f":"+IF(H28=\"No\",\"¿OTROS REQUERIMIENTOS SIMULTÁNEOS?\",\"REQUERIMIENTOS SIMULTANEOS PARA LA OPCION\")","v":"¿OTROS REQUERIMIENTOS SIMULTÁNEOS?"},null,{"$f":"IF(VLOOKUP(B28,'Resumen requerimientos'!$T$5:$AB$92,7,FALSE)=0,\"No\",CONCATENATE(VLOOKUP(B28,'Resumen requerimientos'!$T$5:$AB$92,7,FALSE), \" de \",VLOOKUP(B28,'Resumen requerimientos'!$T$5:$AB$92,8,FALSE)))","v":"No"},null,null,null,null,null,null,null,null,null,null,null,null,{"$f":"+CONCATENATE(B28,\".\",5)","v":"83.5"},{"$f":"+VLOOKUP(U28,MatrizRequerimientos,6,FALSE)","v":"0%-20%"},{"$f":"+IF(A25=\"T\",Q24=V28,V22)","v":false},{"$f":"+W28*VLOOKUP(U28,MatrizRequerimientos,8,FALSE)","v":0},{"$f":"+W28*VLOOKUP(U28,MatrizRequerimientos,9,FALSE)","v":0}]
["T",83,null,null,null,null,null,null,null,null,null,null,null,null,null,null,null,null,null,null,{"$f":"+CONCATENATE(B29,\".\",6)","v":"83.6"},{"$f":"+VLOOKUP(U29,MatrizRequerimientos,6,FALSE)","v":0},{"$f":"+IF(A26=\"T\",Q24=V29,V23)","v":true},{"$f":"+W29*VLOOKUP(U29,MatrizRequerimientos,8,FALSE)","v":0},{"$f":"+W29*VLOOKUP(U29,MatrizRequerimientos,9,FALSE)","v":0}]
["T",83,null,null,null,"REQUERIMIENTO ADICIONAL",null,{"$f":"VLOOKUP(B30,'Resumen requerimientos'!$T$5:$AB$92,9,FALSE)","v":"No"},null,null,null,null,null,null,null,null,null,null,null,null,{"$f":"+CONCATENATE(B30,\".\",7)","v":"83.7"},{"$f":"+VLOOKUP(U30,MatrizRequerimientos,6,FALSE)","v":0},{"$f":"+IF(A27=\"T\",Q24=V30,V24)","v":true},{"$f":"+W30*VLOOKUP(U30,MatrizRequerimientos,8,FALSE)","v":0},{"$f":"+W30*VLOOKUP(U30,MatrizRequerimientos,9,FALSE)","v":0}]
["T",83,null,null,null,null,null,null,null,null,null,null,null,null,null,null,null,null,null,null,null,null,{"$f":"+IF(AND(A27=\"N\",H19=\"Voluntario\"),SUMIF(W27:W30,TRUE,IF(Uso_Edificio=\"Oficinas\",X27:X30,Y27:Y30)),IF(AND(A27=\"T\",H19=\"Obligatorio\"),VLOOKUP(Q24,V27:X30,3,FALSE)=1,W27))","v":false},{"$f":"+IF(W31,\"SI\",\"NO\")","v":"NO"}]
["T",83]
["T",83,null,null,"Volver al índice"]

{"sheet":"Evaluacion CONST.Residuos Oblig","index":12,"n_rows":17,"n_cols":25,"rows_kept":17,"cut":false,"hidden":false,"merged":[[2,21,2,23],[4,5,5,6],[4,7,5,11],[13,5,14,6],[13,7,14,11],[3,13,5,15],[3,16,5,16],[7,13,14,15],[7,16,14,16],[6,5,7,6],[6,7,7,11],[8,5,8,6],[8,7,8,11],[9,5,10,6],[9,7,10,11],[11,5,12,6],[0,4,0,5],[16,4,16,5],[1,3,15,3],[1,18,15,18],[2,5,3,6],[2,7,3,11],[15,5,15,11],[11,7,12,11]]}
["Texto/Número","Nº requisito",null,null,"Volver al índice"]
["T",85,null,"CONST.RESIDUOS 21R - MEDIDAS DE CONTROL Y MITIGACIÓN DURANTE LA CONSTRUCCIÓN",null,null,null,null,null,null,null,null,null,null,null,null,null,null,"CONST.RESIDUOS 21R - MEDIDAS DE CONTROL Y MITIGACIÓN DURANTE LA CONSTRUCCIÓN"]
["T",{"$f":"+B2","v":85},null,null,null,"Tipo requerimiento",null,{"$f":"+IF(VLOOKUP(B2,TablaResumen[],4)=\"C\",\"Voluntario\",\"Obligatorio\")","v":"Obligatorio"},null,null,null,null,null,null,null,null,null,null,null,null,null,"Puntaje crédito numérico"]
["T",85,null,null,null,null,null,null,null,null,null,null,null,{"$f":"+IF(H3=\"Obligatorio\",\"Cumple Requerimiento\",\"Puntaje obtenido\")","v":"Cumple Requerimiento"},null,null,{"$f":"+IF(H3=\"Obligatorio\",X15,IF(A4=\"N\",IF(Uso_Edificio=\"Oficinas\",SUM(W5:W8),SUM(X5:X8)),IF(Uso_Edificio=\"Oficinas\",SUM(X11:X14),SUM(Y11:Y14))))","v":"NO"},null,null,null,null,"Calificación","Of. Y Serv.","Ed. Y Salud"]
["T",85,null,null,null,"Nombre Requerimiento",null,{"$f":"+VLOOKUP(B7,TablaResumen[],16,0)","v":"Medidas de control y mitigación durante la construcción"},null,null,null,null,null,null,null,null,{"$f":"+IF(H2=\"Requisito\",W14,IF(#REF!=\"N\",IF(Uso_Edificio=\"Oficinas\",SUM(W4:W7),SUM(X4:X7)),IF(Uso_Edificio=\"Oficinas\",SUM(X10:X13),SUM(Y10:Y13))))","v":{"$error":"#REF!"}},null,null,null,{"$f":"+CONCATENATE(B5,\".\",4)","v":"85.4"},{"$f":"+AND(Q8>VLOOKUP(U5,MatrizRequerimientos,10,FALSE),Q8<=VLOOKUP(U5,MatrizRequerimientos,11,FALSE))","v":false},{"$f":"+V5*VLOOKUP(U5,MatrizRequerimientos,8,FALSE)","v":0},{"$f":"+V5*VLOOKUP(U5,MatrizRequerimientos,9,FALSE)","v":0}]
["T",85,null,null,null,null,null,null,null,null,null,null,null,null,null,null,{"$f":"+IF(H3=\"Requisito\",W15,IF(A2=\"N\",IF(Uso_Edificio=\"Oficinas\",SUM(W5:W8),SUM(X5:X8)),IF(Uso_Edificio=\"Oficinas\",SUM(X11:X14),SUM(Y11:Y14))))","v":0},null,null,null,{"$f":"+CONCATENATE(B6,\".\",5)","v":"85.5"},{"$f":"+AND(Q8>VLOOKUP(U6,MatrizRequerimientos,10,FALSE),Q8<=VLOOKUP(U6,MatrizRequerimientos,11,FALSE))","v":false},{"$f":"+V6*VLOOKUP(U6,MatrizRequerimientos,8,FALSE)","v":0},{"$f":"+V6*VLOOKUP(U6,MatrizRequerimientos,9,FALSE)","v":0}]
["T",85,null,null,null,"Indicador",null,{"$f":"+VLOOKUP(B8,TablaResumen[],21,0)","v":"Separación, control y reciclaje de residuos"},null,null,null,null,null,null,null,null,null,null,null,null,{"$f":"+CONCATENATE(B7,\".\",6)","v":"85.6"},{"$f":"+AND(Q8>VLOOKUP(U7,MatrizRequerimientos,10,FALSE),Q8<=VLOOKUP(U7,MatrizRequerimientos,11,FALSE))","v":false},{"$f":"+V7*VLOOKUP(U7,MatrizRequerimientos,8,FALSE)","v":0},{"$f":"+V7*VLOOKUP(U7,MatrizRequerimientos,9,FALSE)","v":0}]
["T",85,null,null,null,null,null,null,null,null,null,null,null,{"$f":"+IF(A7=\"N\",CONCATENATE(\"Valor obtenido en proyecto para \",H7),\"Seleccione Nivel de Cumplimiento\")","v":"Seleccione Nivel de Cumplimiento"},null,null,null,null,null,null,{"$f":"+CONCATENATE(B8,\".\",7)","v":"85.7"},{"$f":"+AND(Q8>VLOOKUP(U8,MatrizRequerimientos,10,FALSE),Q8<=VLOOKUP(U8,MatrizRequerimientos,11,FALSE))","v":false},{"$f":"+V8*VLOOKUP(U8,MatrizRequerimientos,8,FALSE)","v":0},{"$f":"+V8*VLOOKUP(U8,MatrizRequerimientos,9,FALSE)","v":0}]
["T",85]
["T",85,null,null,null,"OPCIÓN ",null,{"$f":"CONCATENATE(VLOOKUP(B10,'Resumen requerimientos'!$T$5:$AB$92,5,FALSE), \" de \",VLOOKUP(B10,'Resumen requerimientos'!$T$5:$AB$92,6,FALSE))","v":"1 de 1"},null,null,null,null,null,null,null,null,null,null,null,null,null,null,null,"Of. Y Serv.","Ed. Y Salud"]
["T",85,null,null,null,null,null,null,null,null,null,null,null,null,null,null,null,null,null,null,{"$f":"+CONCATENATE(B11,\".\",4)","v":"85.4"},{"$f":"+VLOOKUP(U11,MatrizRequerimientos,6,FALSE)","v":"Cumple con el artículo 5.8.3 de la O.G.U.C."},{"$f":"+IF(A8=\"T\",Q8=V11,V5)","v":false},{"$f":"+W11*VLOOKUP(U11,MatrizRequerimientos,8,FALSE)","v":0},{"$f":"+W11*VLOOKUP(U11,MatrizRequerimientos,9,FALSE)","v":0}]
["T",85,null,null,null,{"$f":"+IF(H12=\"No\",\"¿OTROS REQUERIMIENTOS SIMULTÁNEOS?\",\"REQUERIMIENTOS SIMULTANEOS PARA LA OPCION\")","v":"¿OTROS REQUERIMIENTOS SIMULTÁNEOS?"},null,{"$f":"IF(VLOOKUP(B12,'Resumen requerimientos'!$T$5:$AB$92,7,FALSE)=0,\"No\",CONCATENATE(VLOOKUP(B12,'Resumen requerimientos'!$T$5:$AB$92,7,FALSE), \" de \",VLOOKUP(B12,'Resumen requerimientos'!$T$5:$AB$92,8,FALSE)))","v":"No"},null,null,null,null,null,null,null,null,null,null,null,null,{"$f":"+CONCATENATE(B12,\".\",5)","v":"85.5"},{"$f":"+VLOOKUP(U12,MatrizRequerimientos,6,FALSE)","v":"NO cumple con el artículo 5.8.3 de la O.G.U.C."},{"$f":"+IF(A9=\"T\",Q8=V12,V6)","v":false},{"$f":"+W12*VLOOKUP(U12,MatrizRequerimientos,8,FALSE)","v":0},{"$f":"+W12*VLOOKUP(U12,MatrizRequerimientos,9,FALSE)","v":0}]
["T",85,null,null,null,null,null,null,null,null,null,null,null,null,null,null,null,null,null,null,{"$f":"+CONCATENATE(B13,\".\",6)","v":"85.6"},{"$f":"+VLOOKUP(U13,MatrizRequerimientos,6,FALSE)","v":0},{"$f":"+IF(A10=\"T\",Q8=V13,V7)","v":true},{"$f":"+W13*VLOOKUP(U13,MatrizRequerimientos,8,FALSE)","v":0},{"$f":"+W13*VLOOKUP(U13,MatrizRequerimientos,9,FALSE)","v":0}]
["T",85,null,null,null,"REQUERIMIENTO ADICIONAL",null,{"$f":"VLOOKUP(B14,'Resumen requerimientos'!$T$5:$AB$92,9,FALSE)","v":"No"},null,null,null,null,null,null,null,null,null,null,null,null,{"$f":"+CONCATENATE(B14,\".\",7)","v":"85.7"},{"$f":"+VLOOKUP(U14,MatrizRequerimientos,6,FALSE)","v":0},{"$f":"+IF(A11=\"T\",Q8=V14,V8)","v":true},{"$f":"+W14*VLOOKUP(U14,MatrizRequerimientos,8,FALSE)","v":0},{"$f":"+W14*VLOOKUP(U14,MatrizRequerimientos,9,FALSE)","v":0}]
["T",85,null,null,null,null,null,null,null,null,null,null,null,null,null,null,null,null,null,null,null,null,{"$f":"+IF(AND(A11=\"N\",H3=\"Voluntario\"),SUMIF(W11:W14,TRUE,IF(Uso_Edificio=\"Oficinas\",X11:X14,Y11:Y14)),IF(AND(A11=\"T\",H3=\"Obligatorio\"),VLOOKUP(Q8,V11:X14,3,FALSE)=1,W11))","v":false},{"$f":"+IF(W15,\"SI\",\"NO\")","v":"NO"}]
["T",85]
["T",85,null,null,"Volver al índice"]

{"sheet":"Resumen Criterios","index":13,"n_rows":803,"n_cols":47,"rows_kept":803,"cut":false,"hidden":true,"merged":[[5,22,5,23]]}
[]
[]
[null,null,null,null,null,null,null,null,null,null,null,null,null,null,null,null,"Categoría"]
[null,null,null,null,null,null,null,null,null,null,null,null,"Texto  Numero","Referencia",1,1,{"$f":"+VLOOKUP(O4,'Resumen requerimientos'!$A$5:$B$104,2,FALSE)","v":"ARQ.CAI.1"},{"$f":"+VLOOKUP(Q5,'Resumen requerimientos'!$B$5:$AJ$91,10,0)","v":"Confort térmico pasivo"},null,{"$f":"+VLOOKUP(O5,TablaResumen[],16,0)","v":"Confort térmico pasivo"},null,"Opción",{"$f":"+CONCATENATE(VLOOKUP(O5,'Resumen requerimientos'!$A$5:$AB$91,24),\" de \",VLOOKUP(O5,'Resumen requerimientos'!$A$5:$AB$91,25))","v":"1 de 2"},null,null,null,{"$f":"+'Datos Generales Edificio'!$C$5","v":"RM - Región Metropolitana de Santiago"}]
[null,null,null,null,null,null,null,null,null,null,null,null,"N",{"$f":"+CONCATENATE(O5,\".\",P5)","v":"1.2"},1,{"$f":"+IF(O5=O4,P4+1,1)","v":2},{"$f":"+VLOOKUP(O5,'Resumen requerimientos'!$A$5:$B$104,2,FALSE)","v":"ARQ.CAI.1"},{"$f":"+VLOOKUP(O5,TablaResumen[],21,0)","v":"Reducción % horas de disconfort Taire"},null,null,null,"Simultáneo",{"$f":"+CONCATENATE(IF(VLOOKUP(O5,'Resumen requerimientos'!$A$5:$AB$91,26)=0,1,VLOOKUP(O5,'Resumen requerimientos'!$A$5:$AB$91,26)),\" de \",IF(VLOOKUP(O5,'Resumen requerimientos'!$A$5:$AB$91,27)=0,1,VLOOKUP(O5,'Resumen requerimientos'!$A$5:$AB$91,27)))","v":"1 de 1"},null,null,null,{"$f":"+'Datos Generales Edificio'!$F$28","v":"CI - Central Interior"}]
[null,null,null,null,null,null,null,null,null,null,null,null,"N",{"$f":"+CONCATENATE(O6,\".\",P6)","v":"1.3"},{"$f":"+IF(R5=\"\",O5+1,O5)","v":1},{"$f":"+IF(O6=O5,P5+1,1)","v":3},{"$f":"+VLOOKUP(O6,'Resumen requerimientos'!$A$5:$B$104,2,FALSE)","v":"ARQ.CAI.1"},"Nivel","Rango","Prioridad","Ponderación Of. Y Serv.","Ponderación Educ. y Salud.","Rango",null,null,null,{"$f":"+R5","v":"Reducción % horas de disconfort Taire"},"NL - Norte Litoral","ND - Norte Desértico","NVT - Norte Valle Transversal","CL - Central Litoral","CI - Central Interior","SL - Sur Litoral","SI - Sur Interior","SE - Sur Extremo","An - Andino"]
[null,null,null,null,null,null,null,null,null,null,null,null,"N","1.4",{"$f":"+IF(R6=\"\",O6+1,O6)","v":1},4,{"$f":"+VLOOKUP(O7,'Resumen requerimientos'!$A$5:$B$104,2,FALSE)","v":"ARQ.CAI.1"},"Muy bueno",{"$f":"+HLOOKUP($AA$5,$AB$6:$AJ$10,AK7,0)","v":"14,999%-100%"},{"$f":"+IF(Uso_Edificio=\"Oficinas\",1,1)","v":1},{"$f":"+VLOOKUP(O5,TablaResumen[],22,0)*T7","v":0.08},{"$f":"+VLOOKUP(O5,TablaResumen[],23,0)*T7","v":0.05},{"$f":"+IFERROR(VALUE(MID(S7,1,FIND(\"-\",S7)-1)),S7)","v":0.14999000000000001},{"$f":"+IFERROR(VALUE(MID(S7,FIND(\"-\",S7)+1,LEN(S7)-FIND(\"-\",S7))),S7)","v":1},null,null,"Muy bueno","29,999%-100%","14,999%-100%","29,999%-100%","29,999%-100%","14,999%-100%",{"$f":"+IF(OR(AA4=\"VIII - Región de Biobío\",AA4=\"IX - Región de Araucanía\"),\"14,999%-100%\",\"19,999%-100%\")","v":"19,999%-100%"},"19,999%-100%","19,999%-100%","19,999%-100%",2]
[null,null,null,null,null,null,null,null,null,null,null,null,"N","1.5",{"$f":"+IF(R7=\"\",O7+1,O7)","v":1},5,{"$f":"+VLOOKUP(O8,'Resumen requerimientos'!$A$5:$B$104,2,FALSE)","v":"ARQ.CAI.1"},"Bueno",{"$f":"+HLOOKUP($AA$5,$AB$6:$AJ$10,AK8,0)","v":"10,999%-14,999%"},{"$f":"+IF(Uso_Edificio=\"Oficinas\",6/8,3.5/5)","v":0.75},{"$f":"+VLOOKUP(O6,TablaResumen[],22,0)*T8","v":0.06},{"$f":"+VLOOKUP(O6,TablaResumen[],23,0)*T8","v":3.7500000000000006E-2},{"$f":"+IFERROR(VALUE(MID(S8,1,FIND(\"-\",S8)-1)),S8)","v":0.10999},{"$f":"+IFERROR(VALUE(MID(S8,FIND(\"-\",S8)+1,LEN(S8)-FIND(\"-\",S8))),S8)","v":0.14999000000000001},null,null,"Bueno","24,999%-29,999%","10,999%-14,999%","24,999%-29,999%","24,999%-29,999%","10,999%-14,999%",{"$f":"+IF(OR(AA4=\"VIII - Región de Biobío\",AA4=\"IX - Región de Araucanía\"),\"10,999%-14,999%\",\"15,999%-19,999%\")","v":"15,999%-19,999%"},"15,999%-19,999%","15,999%-19,999%","15,999%-19,999%",3]
[null,null,null,null,null,null,null,null,null,null,null,null,"N","1.6",{"$f":"+IF(R8=\"\",O8+1,O8)","v":1},6,{"$f":"+VLOOKUP(O9,'Resumen requerimientos'!$A$5:$B$104,2,FALSE)","v":"ARQ.CAI.1"},"Regular",{"$f":"+HLOOKUP($AA$5,$AB$6:$AJ$10,AK9,0)","v":"7,999%-10,999%"},{"$f":"+IF(Uso_Edificio=\"Oficinas\",4/8,2.5/5)","v":0.5},{"$f":"+VLOOKUP(O7,TablaResumen[],22,0)*T9","v":0.04},{"$f":"+VLOOKUP(O7,TablaResumen[],23,0)*T9","v":2.5000000000000001E-2},{"$f":"+IFERROR(VALUE(MID(S9,1,FIND(\"-\",S9)-1)),S9)","v":7.9990000000000006E-2},{"$f":"+IFERROR(VALUE(MID(S9,FIND(\"-\",S9)+1,LEN(S9)-FIND(\"-\",S9))),S9)","v":0.10999},null,null,"Regular","19,999%-24,999%","7,999%-10,999%","19,999%-24,999%","19,999%-24,999%","7,999%-10,999%",{"$f":"+IF(OR(AA4=\"VIII - Región de Biobío\",AA4=\"IX - Región de Araucanía\"),\"7,999%-10,999%\",\"12,999%-15,999%\")","v":"12,999%-15,999%"},"12,999%-15,999%","12,999%-15,999%","12,999%-15,999%",4]
[null,null,null,null,null,null,null,null,null,null,null,null,"N","1.7",{"$f":"+IF(R9=\"\",O9+1,O9)","v":1},7,{"$f":"+VLOOKUP(O10,'Resumen requerimientos'!$A$5:$B$104,2,FALSE)","v":"ARQ.CAI.1"},"Minimo",{"$f":"+HLOOKUP($AA$5,$AB$6:$AJ$10,AK10,0)","v":"4,999%-7,999%"},{"$f":"+IF(Uso_Edificio=\"Oficinas\",2/8,1.5/5)","v":0.25},{"$f":"+VLOOKUP(O8,TablaResumen[],22,0)*T10","v":0.02},{"$f":"+VLOOKUP(O8,TablaResumen[],23,0)*T10","v":1.2500000000000001E-2},{"$f":"+IFERROR(VALUE(MID(S10,1,FIND(\"-\",S10)-1)),S10)","v":4.999E-2},{"$f":"+IFERROR(VALUE(MID(S10,FIND(\"-\",S10)+1,LEN(S10)-FIND(\"-\",S10))),S10)","v":7.9990000000000006E-2},null,null,"Minimo","14,999%-19,999%","4,999%-7,999%","14,999%-19,999%","14,999%-19,999%","4,999%-7,999%",{"$f":"+IF(OR(AA4=\"VIII - Región de Biobío\",AA4=\"IX - Región de Araucanía\"),\"4,999%-7,999%\",\"9,999%-12,999%\")","v":"9,999%-12,999%"},"9,999%-12,999%","9,999%-12,999%","9,999%-12,999%",5]
[null,null,null,null,null,null,null,null,null,null,null,null,"N","1.8",1,8]
[null,null,null,null,null,null,null,null,null,null,null,null,"N","2.1",{"$f":"+IF(R11=\"\",O11+1,O11)","v":2},1,{"$f":"+VLOOKUP(O12,'Resumen requerimientos'!$A$5:$B$104,2,FALSE)","v":"ARQ.CAI.1"},{"$f":"+VLOOKUP(Q13,'Resumen requerimientos'!$B$5:$AJ$91,10,0)","v":"Confort térmico pasivo"},null,{"$f":"+VLOOKUP(O13,TablaResumen[],16,0)","v":"Confort térmico pasivo"},null,"Opción",{"$f":"+CONCATENATE(VLOOKUP(O13,'Resumen requerimientos'!$A$5:$AB$91,24),\" de \",VLOOKUP(O13,'Resumen requerimientos'!$A$5:$AB$91,25))","v":"2 de 2"},null,null,null,{"$f":"+'Datos Generales Edificio'!$C$5","v":"RM - Región Metropolitana de Santiago"}]
[null,null,null,null,null,null,null,null,null,null,null,null,"N","2.2",{"$f":"+O12","v":2},2,{"$f":"+VLOOKUP(O13,'Resumen requerimientos'!$A$5:$B$104,2,FALSE)","v":"ARQ.CAI.1"},{"$f":"+VLOOKUP(O13,TablaResumen[],21,0)","v":"Reducción % horas de disconfort Top y HR"},null,null,null,"Simultáneo",{"$f":"+CONCATENATE(IF(VLOOKUP(O13,'Resumen requerimientos'!$A$5:$AB$91,26)=0,1,VLOOKUP(O13,'Resumen requerimientos'!$A$5:$AB$91,26)),\" de \",IF(VLOOKUP(O13,'Resumen requerimientos'!$A$5:$AB$91,27)=0,1,VLOOKUP(O13,'Resumen requerimientos'!$A$5:$AB$91,27)))","v":"1 de 1"},null,null,null,{"$f":"+'Datos Generales Edificio'!$F$28","v":"CI - Central Interior"}]
[null,null,null,null,null,null,null,null,null,null,null,null,"N","2.3",{"$f":"+O13","v":2},3,{"$f":"+VLOOKUP(O14,'Resumen requerimientos'!$A$5:$B$104,2,FALSE)","v":"ARQ.CAI.1"},"Nivel","Rango","Prioridad","Ponderación Of. Y Serv.","Ponderación Educ. y Salud.","Rango",null,null,null,{"$f":"+R13","v":"Reducción % horas de disconfort Top y HR"},"NL - Norte Litoral","ND - Norte Desértico","NVT - Norte Valle Transversal","CL - Central Litoral","CI - Central Interior","SL - Sur Litoral","SI - Sur Interior","SE - Sur Extremo","An - Andino"]
[null,null,null,null,null,null,null,null,null,null,null,null,"N","2.4",2,4,{"$f":"+VLOOKUP(O15,'Resumen requerimientos'!$A$5:$B$104,2,FALSE)","v":"ARQ.CAI.1"},"Muy bueno",{"$f":"+HLOOKUP($AA$13,$AB$14:$AJ$18,AK15,0)","v":"14,999%-100%"},{"$f":"+IF(Uso_Edificio=\"Oficinas\",1,1)","v":1},{"$f":"+VLOOKUP(O13,TablaResumen[],22,0)*T15","v":0.16},{"$f":"+VLOOKUP(O13,TablaResumen[],23,0)*T15","v":0.1},{"$f":"+IFERROR(VALUE(MID(S15,1,FIND(\"-\",S15)-1)),S15)","v":0.14999000000000001},{"$f":"+IFERROR(VALUE(MID(S15,FIND(\"-\",S15)+1,LEN(S15)-FIND(\"-\",S15))),S15)","v":1},null,null,"Muy bueno","29,999%-100%","14,999%-100%","29,999%-100%","29,999%-100%","14,999%-100%",{"$f":"+IF(OR(AA12=\"VIII - Región de Biobío\",AA12=\"IX - Región de Araucanía\"),\"14,999%-100%\",\"19,999%-100%\")","v":"19,999%-100%"},"19,999%-100%","19,999%-100%","19,999%-100%",2]
[null,null,null,null,null,null,null,null,null,null,null,null,"N","2.5",2,5,{"$f":"+VLOOKUP(O16,'Resumen requerimientos'!$A$5:$B$104,2,FALSE)","v":"ARQ.CAI.1"},"Bueno",{"$f":"+HLOOKUP($AA$13,$AB$14:$AJ$18,AK16,0)","v":"10,999%-14,999%"},{"$f":"+IF(Uso_Edificio=\"Oficinas\",11/16,7/10)","v":0.6875},{"$f":"+VLOOKUP(O14,TablaResumen[],22,0)*T16","v":0.11},{"$f":"+VLOOKUP(O14,TablaResumen[],23,0)*T16","v":6.8750000000000006E-2},{"$f":"+IFERROR(VALUE(MID(S16,1,FIND(\"-\",S16)-1)),S16)","v":0.10999},{"$f":"+IFERROR(VALUE(MID(S16,FIND(\"-\",S16)+1,LEN(S16)-FIND(\"-\",S16))),S16)","v":0.14999000000000001},null,null,"Bueno","24,999%-29,999%","10,999%-14,999%","24,999%-29,999%","24,999%-29,999%","10,999%-14,999%",{"$f":"+IF(OR(AA12=\"VIII - Región de Biobío\",AA12=\"IX - Región de Araucanía\"),\"10,999%-14,999%\",\"15,999%-19,999%\")","v":"15,999%-19,999%"},"15,999%-19,999%","15,999%-19,999%","15,999%-19,999%",3]
[null,null,null,null,null,null,null,null,null,null,null,null,"N","2.6",2,6,{"$f":"+VLOOKUP(O17,'Resumen requerimientos'!$A$5:$B$104,2,FALSE)","v":"ARQ.CAI.1"},"Regular",{"$f":"+HLOOKUP($AA$13,$AB$14:$AJ$18,AK17,0)","v":"7,999%-10,999%"},{"$f":"+IF(Uso_Edificio=\"Oficinas\",8/16,5/10)","v":0.5},{"$f":"+VLOOKUP(O15,TablaResumen[],22,0)*T17","v":0.08},{"$f":"+VLOOKUP(O15,TablaResumen[],23,0)*T17","v":0.05},{"$f":"+IFERROR(VALUE(MID(S17,1,FIND(\"-\",S17)-1)),S17)","v":7.9990000000000006E-2},{"$f":"+IFERROR(VALUE(MID(S17,FIND(\"-\",S17)+1,LEN(S17)-FIND(\"-\",S17))),S17)","v":0.10999},null,null,"Regular","19,999%-24,999%","7,999%-10,999%","19,999%-24,999%","19,999%-24,999%","7,999%-10,999%",{"$f":"+IF(OR(AA12=\"VIII - Región de Biobío\",AA12=\"IX - Región de Araucanía\"),\"7,999%-10,999%\",\"12,999%-15,999%\")","v":"12,999%-15,999%"},"12,999%-15,999%","12,999%-15,999%","12,999%-15,999%",4]
[null,null,null,null,null,null,null,null,null,null,null,null,"N","2.7",2,7,{"$f":"+VLOOKUP(O18,'Resumen requerimientos'!$A$5:$B$104,2,FALSE)","v":"ARQ.CAI.1"},"Minimo",{"$f":"+HLOOKUP($AA$13,$AB$14:$AJ$18,AK18,0)","v":"4,999%-7,999%"},{"$f":"+IF(Uso_Edificio=\"Oficinas\",4/16,2.5/10)","v":0.25},{"$f":"+VLOOKUP(O16,TablaResumen[],22,0)*T18","v":0.04},{"$f":"+VLOOKUP(O16,TablaResumen[],23,0)*T18","v":2.5000000000000001E-2},{"$f":"+IFERROR(VALUE(MID(S18,1,FIND(\"-\",S18)-1)),S18)","v":4.999E-2},{"$f":"+IFERROR(VALUE(MID(S18,FIND(\"-\",S18)+1,LEN(S18)-FIND(\"-\",S18))),S18)","v":7.9990000000000006E-2},null,null,"Minimo","14,999%-19,999%","4,999%-7,999%","14,999%-19,999%","14,999%-19,999%","4,999%-7,999%",{"$f":"+IF(OR(AA12=\"VIII - Región de Biobío\",AA12=\"IX - Región de Araucanía\"),\"4,999%-7,999%\",\"9,999%-12,999%\")","v":"9,999%-12,999%"},"9,999%-12,999%","9,999%-12,999%","9,999%-12,999%",5]
[null,null,null,null,null,null,null,null,null,null,null,null,"N","2.8",2,8]
[null,null,null,null,null,null,null,null,null,null,null,null,"N","3.1",{"$f":"+IF(R19=\"\",O19+1,O19)","v":3},1,{"$f":"+VLOOKUP(O20,'Resumen requerimientos'!$A$5:$B$104,2,FALSE)","v":"ARQ.CAI.2.1"},{"$f":"+VLOOKUP(Q21,'Resumen requerimientos'!$B$5:$AJ$91,10,0)","v":"Confort visual pasivo"},null,{"$f":"+VLOOKUP(O21,TablaResumen[],16,0)","v":"Aporte luz natural"},null,"Opción",{"$f":"+CONCATENATE(VLOOKUP(O21,'Resumen requerimientos'!$A$5:$AB$91,24),\" de \",VLOOKUP(O21,'Resumen requerimientos'!$A$5:$AB$91,25))","v":"1 de 3"},null,null,null,{"$f":"+'Datos Generales Edificio'!$C$5","v":"RM - Región Metropolitana de Santiago"}]
[null,null,null,null,null,null,null,null,null,null,null,null,"N","3.2",{"$f":"+O20","v":3},2,{"$f":"+VLOOKUP(O21,'Resumen requerimientos'!$A$5:$B$104,2,FALSE)","v":"ARQ.CAI.2.1"},{"$f":"+VLOOKUP(O21,TablaResumen[],21,0)","v":"FLD"},null,null,null,"Simultáneo",{"$f":"+CONCATENATE(IF(VLOOKUP(O21,'Resumen requerimientos'!$A$5:$AB$91,26)=0,1,VLOOKUP(O21,'Resumen requerimientos'!$A$5:$AB$91,26)),\" de \",IF(VLOOKUP(O21,'Resumen requerimientos'!$A$5:$AB$91,27)=0,1,VLOOKUP(O21,'Resumen requerimientos'!$A$5:$AB$91,27)))","v":"1 de 1"},null,null,null,{"$f":"+'Datos Generales Edificio'!$F$28","v":"CI - Central Interior"}]
[null,null,null,null,null,null,null,null,null,null,null,null,"N","3.3",3,3,{"$f":"+VLOOKUP(O22,'Resumen requerimientos'!$A$5:$B$104,2,FALSE)","v":"ARQ.CAI.2.1"},"Nivel","Rango","Prioridad","Ponderación Of. Y Serv.","Ponderación Educ. y Salud.","Rango",null,null,null,{"$f":"+R21","v":"FLD"},"NL - Norte Litoral","ND - Norte Desértico","NVT - Norte Valle Transversal","CL - Central Litoral","CI - Central Interior","SL - Sur Litoral","SI - Sur Interior","SE - Sur Extremo","An - Andino"]
[null,null,null,null,null,null,null,null,null,null,null,null,"N","3.4",3,4,{"$f":"+VLOOKUP(O23,'Resumen requerimientos'!$A$5:$B$104,2,FALSE)","v":"ARQ.CAI.2.1"},"Muy bueno",{"$f":"+HLOOKUP($AA$21,$AB$22:$AJ$26,AK23,0)","v":"4,999-14"},{"$f":"+IF(Uso_Edificio=\"Oficinas\",2.5/6,3.5/7.5)","v":0.41666666666666669},{"$f":"+VLOOKUP(O21,TablaResumen[],22,0)*T23","v":2.5000000000000001E-2},{"$f":"+VLOOKUP(O21,TablaResumen[],23,0)*T23","v":3.125E-2},{"$f":"+IFERROR(VALUE(MID(S23,1,FIND(\"-\",S23)-1)),S23)","v":4.9989999999999997},{"$f":"+IFERROR(VALUE(MID(S23,FIND(\"-\",S23)+1,LEN(S23)-FIND(\"-\",S23))),S23)","v":14},null,null,"Muy bueno","4,999-10","4,999-11","4,999-12","4,999-13","4,999-14","4,999-15","4,999-16","4,999-17","4,999-18",2]
[null,null,null,null,null,null,null,null,null,null,null,null,"N","3.5",3,5,{"$f":"+VLOOKUP(O24,'Resumen requerimientos'!$A$5:$B$104,2,FALSE)","v":"ARQ.CAI.2.1"},"Bueno",{"$f":"+HLOOKUP($AA$21,$AB$22:$AJ$26,AK24,0)","v":"2-4,1003"},{"$f":"+IF(Uso_Edificio=\"Oficinas\",1/6,1.5/7.5)","v":0.16666666666666666},{"$f":"+VLOOKUP(O22,TablaResumen[],22,0)*T24","v":9.9999999999999985E-3},{"$f":"+VLOOKUP(O22,TablaResumen[],23,0)*T24","v":1.2499999999999999E-2},{"$f":"+IFERROR(VALUE(MID(S24,1,FIND(\"-\",S24)-1)),S24)","v":2},{"$f":"+IFERROR(VALUE(MID(S24,FIND(\"-\",S24)+1,LEN(S24)-FIND(\"-\",S24))),S24)","v":4.1002999999999998},null,null,"Bueno","2-4,999","2-4,1000","2-4,1001","2-4,1002","2-4,1003","2-4,1004","2-4,1005","2-4,1006","2-4,1007",3]
[null,null,null,null,null,null,null,null,null,null,null,null,"N","3.6",3,6,{"$f":"+VLOOKUP(O25,'Resumen requerimientos'!$A$5:$B$104,2,FALSE)","v":"ARQ.CAI.2.1"},"Regular",null,null,{"$f":"+VLOOKUP(O23,TablaResumen[],22,0)*T25","v":0},{"$f":"+VLOOKUP(O23,TablaResumen[],23,0)*T25","v":0},{"$f":"+IFERROR(VALUE(MID(S25,1,FIND(\"-\",S25)-1)),S25)","v":0},{"$f":"+IFERROR(VALUE(MID(S25,FIND(\"-\",S25)+1,LEN(S25)-FIND(\"-\",S25))),S25)","v":0},null,null,"Regular",null,null,null,null,null,null,null,null,null,4]
[null,null,null,null,null,null,null,null,null,null,null,null,"N","3.7",3,7,{"$f":"+VLOOKUP(O26,'Resumen requerimientos'!$A$5:$B$104,2,FALSE)","v":"ARQ.CAI.2.1"},"Minimo",null,null,{"$f":"+VLOOKUP(O24,TablaResumen[],22,0)*T26","v":0},{"$f":"+VLOOKUP(O24,TablaResumen[],23,0)*T26","v":0},{"$f":"+IFERROR(VALUE(MID(S26,1,FIND(\"-\",S26)-1)),S26)","v":0},{"$f":"+IFERROR(VALUE(MID(S26,FIND(\"-\",S26)+1,LEN(S26)-FIND(\"-\",S26))),S26)","v":0},null,null,"Minimo",null,null,null,null,null,null,null,null,null,5]
[null,null,null,null,null,null,null,null,null,null,null,null,"N","3.8",3,8]
[null,null,null,null,null,null,null,null,null,null,null,null,"N","4.1",{"$f":"+IF(R27=\"\",O27+1,O27)","v":4},1,{"$f":"+VLOOKUP(O28,'Resumen requerimientos'!$A$5:$B$104,2,FALSE)","v":"ARQ.CAI.2.1"},{"$f":"+VLOOKUP(Q29,'Resumen requerimientos'!$B$5:$AJ$91,10,0)","v":"Confort visual pasivo"},null,{"$f":"+VLOOKUP(O29,TablaResumen[],16,0)","v":"Aporte luz natural"},null,"Opción",{"$f":"+CONCATENATE(VLOOKUP(O29,'Resumen requerimientos'!$A$5:$AB$91,24),\" de \",VLOOKUP(O29,'Resumen requerimientos'!$A$5:$AB$91,25))","v":"2 de 3"},null,null,null,{"$f":"+'Datos Generales Edificio'!$C$5","v":"RM - Región Metropolitana de Santiago"}]
[null,null,null,null,null,null,null,null,null,null,null,null,"N","4.2",{"$f":"+O28","v":4},2,{"$f":"+VLOOKUP(O29,'Resumen requerimientos'!$A$5:$B$104,2,FALSE)","v":"ARQ.CAI.2.1"},{"$f":"+VLOOKUP(O29,TablaResumen[],21,0)","v":"Iluminancia útil"},null,null,null,"Simultáneo",{"$f":"+CONCATENATE(IF(VLOOKUP(O29,'Resumen requerimientos'!$A$5:$AB$91,26)=0,1,VLOOKUP(O29,'Resumen requerimientos'!$A$5:$AB$91,26)),\" de \",IF(VLOOKUP(O29,'Resumen requerimientos'!$A$5:$AB$91,27)=0,1,VLOOKUP(O29,'Resumen requerimientos'!$A$5:$AB$91,27)))","v":"1 de 1"},null,null,null,{"$f":"+'Datos Generales Edificio'!$F$28","v":"CI - Central Interior"}]
[null,null,null,null,null,null,null,null,null,null,null,null,"N","4.3",4,3,{"$f":"+VLOOKUP(O30,'Resumen requerimientos'!$A$5:$B$104,2,FALSE)","v":"ARQ.CAI.2.1"},"Nivel","Rango","Prioridad","Ponderación Of. Y Serv.","Ponderación Educ. y Salud.","Rango",null,null,null,{"$f":"+R29","v":"Iluminancia útil"},"NL - Norte Litoral","ND - Norte Desértico","NVT - Norte Valle Transversal","CL - Central Litoral","CI - Central Interior","SL - Sur Litoral","SI - Sur Interior","SE - Sur Extremo","An - Andino"]
[null,null,null,null,null,null,null,null,null,null,null,null,"N","4.4",4,4,{"$f":"+VLOOKUP(O31,'Resumen requerimientos'!$A$5:$B$104,2,FALSE)","v":"ARQ.CAI.2.1"},"Muy bueno",{"$f":"+HLOOKUP($AA$29,$AB$30:$AJ$34,AK31,0)","v":"69,999%-100%"},{"$f":"+IF(Uso_Edificio=\"Oficinas\",5/6,6.5/7.5)","v":0.83333333333333337},{"$f":"+VLOOKUP(O29,TablaResumen[],22,0)*T31","v":0.05},{"$f":"+VLOOKUP(O29,TablaResumen[],23,0)*T31","v":6.25E-2},{"$f":"+IFERROR(VALUE(MID(S31,1,FIND(\"-\",S31)-1)),S31)","v":0.69999},{"$f":"+IFERROR(VALUE(MID(S31,FIND(\"-\",S31)+1,LEN(S31)-FIND(\"-\",S31))),S31)","v":1},null,null,"Muy bueno","79,999%-100%","79,999%-100%","79,999%-100%","69,999%-100%","69,999%-100%","59,999%-100%","59,999%-100%","59,999%-100%","79,999%-100%",2]
[null,null,null,null,null,null,null,null,null,null,null,null,"N","4.5",4,5,{"$f":"+VLOOKUP(O32,'Resumen requerimientos'!$A$5:$B$104,2,FALSE)","v":"ARQ.CAI.2.1"},"Bueno",{"$f":"+HLOOKUP($AA$29,$AB$30:$AJ$34,AK32,0)","v":"59,999%-69,999%"},{"$f":"+IF(Uso_Edificio=\"Oficinas\",2.5/6,3.5/7.5)","v":0.41666666666666669},{"$f":"+VLOOKUP(O30,TablaResumen[],22,0)*T32","v":2.5000000000000001E-2},{"$f":"+VLOOKUP(O30,TablaResumen[],23,0)*T32","v":3.125E-2},{"$f":"+IFERROR(VALUE(MID(S32,1,FIND(\"-\",S32)-1)),S32)","v":0.59999000000000002},{"$f":"+IFERROR(VALUE(MID(S32,FIND(\"-\",S32)+1,LEN(S32)-FIND(\"-\",S32))),S32)","v":0.69999},null,null,"Bueno","69,999%-79,999%","69,999%-79,999%","69,999%-79,999%","59,999%-69,999%","59,999%-69,999%","49,999%-59,99%","49,999%-59,99%","49,999%-59,99%","69,999%-79,999%",3]
[null,null,null,null,null,null,null,null,null,null,null,null,"N","4.6",4,6,{"$f":"+VLOOKUP(O33,'Resumen requerimientos'!$A$5:$B$104,2,FALSE)","v":"ARQ.CAI.2.1"},"Regular",{"$f":"+HLOOKUP($AA$29,$AB$30:$AJ$34,AK33,0)","v":"49,999%-59,999%"},{"$f":"+IF(Uso_Edificio=\"Oficinas\",1/6,1.5/7.5)","v":0.16666666666666666},{"$f":"+VLOOKUP(O31,TablaResumen[],22,0)*T33","v":9.9999999999999985E-3},{"$f":"+VLOOKUP(O31,TablaResumen[],23,0)*T33","v":1.2499999999999999E-2},{"$f":"+IFERROR(VALUE(MID(S33,1,FIND(\"-\",S33)-1)),S33)","v":0.49998999999999999},{"$f":"+IFERROR(VALUE(MID(S33,FIND(\"-\",S33)+1,LEN(S33)-FIND(\"-\",S33))),S33)","v":0.59999000000000002},null,null,"Regular","59,999%-69,999%","59,999%-69,999%","59,999%-69,999%","49,999%-59,999%","49,999%-59,999%","39,999%-49,999%","39,999%-49,999%","39,999%-49,999%","59,999%-69,999%",4]
[null,null,null,null,null,null,null,null,null,null,null,null,"N","4.7",4,7,{"$f":"+VLOOKUP(O34,'Resumen requerimientos'!$A$5:$B$104,2,FALSE)","v":"ARQ.CAI.2.1"},"Minimo",null,null,{"$f":"+VLOOKUP(O32,TablaResumen[],22,0)*T34","v":0},{"$f":"+VLOOKUP(O32,TablaResumen[],23,0)*T34","v":0},{"$f":"+IFERROR(VALUE(MID(S34,1,FIND(\"-\",S34)-1)),S34)","v":0},{"$f":"+IFERROR(VALUE(MID(S34,FIND(\"-\",S34)+1,LEN(S34)-FIND(\"-\",S34))),S34)","v":0},null,null,"Minimo",null,null,null,null,null,null,null,null,null,5]
[null,null,null,null,null,null,null,null,null,null,null,null,"N","4.8",4,8]
[null,null,null,null,null,null,null,null,null,null,null,null,"N","5.1",{"$f":"+IF(R35=\"\",O35+1,O35)","v":5},1,{"$f":"+VLOOKUP(O36,'Resumen requerimientos'!$A$5:$B$104,2,FALSE)","v":"ARQ.CAI.2.1"},{"$f":"+VLOOKUP(Q37,'Resumen requerimientos'!$B$5:$AJ$91,10,0)","v":"Confort visual pasivo"},null,{"$f":"+VLOOKUP(O37,TablaResumen[],16,0)","v":"Aporte luz natural"},null,"Opción",{"$f":"+CONCATENATE(VLOOKUP(O37,'Resumen requerimientos'!$A$5:$AB$91,24),\" de \",VLOOKUP(O37,'Resumen requerimientos'!$A$5:$AB$91,25))","v":"3 de 3"},null,null,null,{"$f":"+'Datos Generales Edificio'!$C$5","v":"RM - Región Metropolitana de Santiago"}]
[null,null,null,null,null,null,null,null,null,null,null,null,"N","5.2",{"$f":"+O36","v":5},2,{"$f":"+VLOOKUP(O37,'Resumen requerimientos'!$A$5:$B$104,2,FALSE)","v":"ARQ.CAI.2.1"},{"$f":"+VLOOKUP(O37,TablaResumen[],21,0)","v":"Spatial Daylight Autonomy"},null,null,null,"Simultáneo",{"$f":"+CONCATENATE(IF(VLOOKUP(O37,'Resumen requerimientos'!$A$5:$AB$91,26)=0,1,VLOOKUP(O37,'Resumen requerimientos'!$A$5:$AB$91,26)),\" de \",IF(VLOOKUP(O37,'Resumen requerimientos'!$A$5:$AB$91,27)=0,1,VLOOKUP(O37,'Resumen requerimientos'!$A$5:$AB$91,27)))","v":"1 de 1"},null,null,null,{"$f":"+'Datos Generales Edificio'!$F$28","v":"CI - Central Interior"}]
[null,null,null,null,null,null,null,null,null,null,null,null,"N","5.3",5,3,{"$f":"+VLOOKUP(O38,'Resumen requerimientos'!$A$5:$B$104,2,FALSE)","v":"ARQ.CAI.2.1"},"Nivel","Rango","Prioridad","Ponderación Of. Y Serv.","Ponderación Educ. y Salud.","Rango",null,null,null,{"$f":"+R37","v":"Spatial Daylight Autonomy"},"NL - Norte Litoral","ND - Norte Desértico","NVT - Norte Valle Transversal","CL - Central Litoral","CI - Central Interior","SL - Sur Litoral","SI - Sur Interior","SE - Sur Extremo","An - Andino"]
[null,null,null,null,null,null,null,null,null,null,null,null,"N","5.4",5,4,{"$f":"+VLOOKUP(O39,'Resumen requerimientos'!$A$5:$B$104,2,FALSE)","v":"ARQ.CAI.2.1"},"Muy bueno",{"$f":"+HLOOKUP($AA$37,$AB$38:$AJ$42,AK39,0)","v":"89,999%-100%"},{"$f":"+IF(Uso_Edificio=\"Oficinas\",5/6,6.5/7.5)","v":0.83333333333333337},{"$f":"+VLOOKUP(O37,TablaResumen[],22,0)*T39","v":0.05},{"$f":"+VLOOKUP(O37,TablaResumen[],23,0)*T39","v":6.25E-2},{"$f":"+IFERROR(VALUE(MID(S39,1,FIND(\"-\",S39)-1)),S39)","v":0.89998999999999996},{"$f":"+IFERROR(VALUE(MID(S39,FIND(\"-\",S39)+1,LEN(S39)-FIND(\"-\",S39))),S39)","v":1},null,null,"Muy bueno","94,999%-100%","94,999%-100%","94,999%-100%","89,999%-100%","89,999%-100%","84,999%-100%","84,999%-100%","84,999%-100%","94,999%-100%",2]
[null,null,null,null,null,null,null,null,null,null,null,null,"N","5.5",5,5,{"$f":"+VLOOKUP(O40,'Resumen requerimientos'!$A$5:$B$104,2,FALSE)","v":"ARQ.CAI.2.1"},"Bueno",{"$f":"+HLOOKUP($AA$37,$AB$38:$AJ$42,AK40,0)","v":"74,999%-89,999%"},{"$f":"+IF(Uso_Edificio=\"Oficinas\",2.5/6,3.5/7.5)","v":0.41666666666666669},{"$f":"+VLOOKUP(O38,TablaResumen[],22,0)*T40","v":2.5000000000000001E-2},{"$f":"+VLOOKUP(O38,TablaResumen[],23,0)*T40","v":3.125E-2},{"$f":"+IFERROR(VALUE(MID(S40,1,FIND(\"-\",S40)-1)),S40)","v":0.74999000000000005},{"$f":"+IFERROR(VALUE(MID(S40,FIND(\"-\",S40)+1,LEN(S40)-FIND(\"-\",S40))),S40)","v":0.89998999999999996},null,null,"Bueno","79,999%-94,999%","79,999%-94,999%","79,999%-94,999%","74,999%-89,999%","74,999%-89,999%","69,999%-84,999%","69,999%-84,999%","69,999%-84,999%","79,999%-94,999%",3]
[null,null,null,null,null,null,null,null,null,null,null,null,"N","5.6",5,6,{"$f":"+VLOOKUP(O41,'Resumen requerimientos'!$A$5:$B$104,2,FALSE)","v":"ARQ.CAI.2.1"},"Regular",{"$f":"+HLOOKUP($AA$37,$AB$38:$AJ$42,AK41,0)","v":"54,999%-74,999%"},{"$f":"+IF(Uso_Edificio=\"Oficinas\",1/6,1.5/7.5)","v":0.16666666666666666},{"$f":"+VLOOKUP(O39,TablaResumen[],22,0)*T41","v":9.9999999999999985E-3},{"$f":"+VLOOKUP(O39,TablaResumen[],23,0)*T41","v":1.2499999999999999E-2},{"$f":"+IFERROR(VALUE(MID(S41,1,FIND(\"-\",S41)-1)),S41)","v":0.54998999999999998},{"$f":"+IFERROR(VALUE(MID(S41,FIND(\"-\",S41)+1,LEN(S41)-FIND(\"-\",S41))),S41)","v":0.74999000000000005},null,null,"Regular","59,999%-79,999%","59,999%-79,999%","59,999%-79,999%","54,999%-74,999%","54,999%-74,999%","49,999%-69,999%","49,999%-69,999%","49,999%-69,999%","59,999%-79,999%",4]
[null,null,null,null,null,null,null,null,null,null,null,null,"N","5.7",5,7,{"$f":"+VLOOKUP(O42,'Resumen requerimientos'!$A$5:$B$104,2,FALSE)","v":"ARQ.CAI.2.1"},"Minimo",null,null,{"$f":"+VLOOKUP(O40,TablaResumen[],22,0)*T42","v":0},{"$f":"+VLOOKUP(O40,TablaResumen[],23,0)*T42","v":0},{"$f":"+IFERROR(VALUE(MID(S42,1,FIND(\"-\",S42)-1)),S42)","v":0},{"$f":"+IFERROR(VALUE(MID(S42,FIND(\"-\",S42)+1,LEN(S42)-FIND(\"-\",S42))),S42)","v":0},null,null,"Minimo",null,null,null,null,null,null,null,null,null,5]
[null,null,null,null,null,null,null,null,null,null,null,null,"N","5.8",5,8]
[null,null,null,null,null,null,null,null,null,null,null,null,"N","6.1",{"$f":"+IF(R43=\"\",O43+1,O43)","v":6},1,{"$f":"+VLOOKUP(O44,'Resumen requerimientos'!$A$5:$B$104,2,FALSE)","v":"ARQ.CAI.2.1"},{"$f":"+VLOOKUP(Q45,'Resumen requerimientos'!$B$5:$AJ$91,10,0)","v":"Confort visual pasivo"},null,{"$f":"+VLOOKUP(O45,TablaResumen[],16,0)","v":"Aporte luz natural"},null,"Opción",{"$f":"+CONCATENATE(VLOOKUP(O45,'Resumen requerimientos'!$A$5:$AB$91,24),\" de \",VLOOKUP(O45,'Resumen requerimientos'!$A$5:$AB$91,25))","v":"1 de 1"},null,null,null,{"$f":"+'Datos Generales Edificio'!$C$5","v":"RM - Región Metropolitana de Santiago"}]
[null,null,null,null,null,null,null,null,null,null,null,null,"N","6.2",{"$f":"+O44","v":6},2,{"$f":"+VLOOKUP(O45,'Resumen requerimientos'!$A$5:$B$104,2,FALSE)","v":"ARQ.CAI.2.1"},{"$f":"+VLOOKUP(O45,TablaResumen[],21,0)","v":"Índice de probabilidad de deslumbramiento"},null,null,null,"Simultáneo",{"$f":"+CONCATENATE(IF(VLOOKUP(O45,'Resumen requerimientos'!$A$5:$AB$91,26)=0,1,VLOOKUP(O45,'Resumen requerimientos'!$A$5:$AB$91,26)),\" de \",IF(VLOOKUP(O45,'Resumen requerimientos'!$A$5:$AB$91,27)=0,1,VLOOKUP(O45,'Resumen requerimientos'!$A$5:$AB$91,27)))","v":"1 de 1"},null,null,null,{"$f":"+'Datos Generales Edificio'!$F$28","v":"CI - Central Interior"}]
[null,null,null,null,null,null,null,null,null,null,null,null,"N","6.3",6,3,{"$f":"+VLOOKUP(O46,'Resumen requerimientos'!$A$5:$B$104,2,FALSE)","v":"ARQ.CAI.2.1"},"Nivel","Rango","Prioridad","Ponderación Of. Y Serv.","Ponderación Educ. y Salud.","Rango",null,null,null,{"$f":"+R45","v":"Índice de probabilidad de deslumbramiento"},"NL - Norte Litoral","ND - Norte Desértico","NVT - Norte Valle Transversal","CL - Central Litoral","CI - Central Interior","SL - Sur Litoral","SI - Sur Interior","SE - Sur Extremo","An - Andino"]
[null,null,null,null,null,null,null,null,null,null,null,null,"N","6.4",6,4,{"$f":"+VLOOKUP(O47,'Resumen requerimientos'!$A$5:$B$104,2,FALSE)","v":"ARQ.CAI.2.1"},"Muy bueno",{"$f":"+HLOOKUP($AA$45,$AB$46:$AJ$50,AK47,0)","v":"0%-35%"},1,{"$f":"+VLOOKUP(O45,TablaResumen[],22,0)*T47","v":0.01},{"$f":"+VLOOKUP(O45,TablaResumen[],23,0)*T47","v":0.01},{"$f":"+IFERROR(VALUE(MID(S47,1,FIND(\"-\",S47)-1)),S47)","v":0},{"$f":"+IFERROR(VALUE(MID(S47,FIND(\"-\",S47)+1,LEN(S47)-FIND(\"-\",S47))),S47)","v":0.35},null,null,"Muy bueno","0%-35%","0%-35%","0%-35%","0%-35%","0%-35%","0%-35%","0%-35%","0%-35%","0%-35%",2]
[null,null,null,null,null,null,null,null,null,null,null,null,"N","6.5",6,5,{"$f":"+VLOOKUP(O48,'Resumen requerimientos'!$A$5:$B$104,2,FALSE)","v":"ARQ.CAI.2.1"},"Bueno",{"$f":"+HLOOKUP($AA$45,$AB$46:$AJ$50,AK48,0)","v":"35%-40%"},{"$f":"+IF(Uso_Edificio=\"Oficinas\",0.5/1,0.5/1)","v":0.5},{"$f":"+VLOOKUP(O46,TablaResumen[],22,0)*T48","v":5.0000000000000001E-3},{"$f":"+VLOOKUP(O46,TablaResumen[],23,0)*T48","v":5.0000000000000001E-3},{"$f":"+IFERROR(VALUE(MID(S48,1,FIND(\"-\",S48)-1)),S48)","v":0.35},{"$f":"+IFERROR(VALUE(MID(S48,FIND(\"-\",S48)+1,LEN(S48)-FIND(\"-\",S48))),S48)","v":0.4},null,null,"Bueno","35%-40%","35%-40%","35%-40%","35%-40%","35%-40%","35%-40%","35%-40%","35%-40%","35%-40%",3]
[null,null,null,null,null,null,null,null,null,null,null,null,"N","6.6",6,6,{"$f":"+VLOOKUP(O49,'Resumen requerimientos'!$A$5:$B$104,2,FALSE)","v":"ARQ.CAI.2.1"},"Regular",null,null,null,null,{"$f":"+IFERROR(VALUE(MID(S49,1,FIND(\"-\",S49)-1)),S49)","v":0},{"$f":"+IFERROR(VALUE(MID(S49,FIND(\"-\",S49)+1,LEN(S49)-FIND(\"-\",S49))),S49)","v":0},null,null,"Regular",null,null,null,null,null,null,null,null,null,4]
[null,null,null,null,null,null,null,null,null,null,null,null,"N","6.7",6,7,{"$f":"+VLOOKUP(O50,'Resumen requerimientos'!$A$5:$B$104,2,FALSE)","v":"ARQ.CAI.2.1"},"Minimo",null,null,null,null,{"$f":"+IFERROR(VALUE(MID(S50,1,FIND(\"-\",S50)-1)),S50)","v":0},{"$f":"+IFERROR(VALUE(MID(S50,FIND(\"-\",S50)+1,LEN(S50)-FIND(\"-\",S50))),S50)","v":0},null,null,"Minimo",null,null,null,null,null,null,null,null,null,5]
[null,null,null,null,null,null,null,null,null,null,null,null,"N","6.8",6,8]
[null,null,null,null,null,null,null,null,null,null,null,null,"N","7.1",{"$f":"+IF(R51=\"\",O51+1,O51)","v":7},1,{"$f":"+VLOOKUP(O52,'Resumen requerimientos'!$A$5:$B$104,2,FALSE)","v":"ARQ.CAI.2.2"},{"$f":"+VLOOKUP(Q53,'Resumen requerimientos'!$B$5:$AJ$91,10,0)","v":"Confort visual pasivo"},null,{"$f":"+VLOOKUP(O53,TablaResumen[],16,0)","v":"Acceso visual al exterior"},null,"Opción",{"$f":"+CONCATENATE(VLOOKUP(O53,'Resumen requerimientos'!$A$5:$AB$91,24),\" de \",VLOOKUP(O53,'Resumen requerimientos'!$A$5:$AB$91,25))","v":"1 de 1"},null,null,null,{"$f":"+'Datos Generales Edificio'!$C$5","v":"RM - Región Metropolitana de Santiago"}]
[null,null,null,null,null,null,null,null,null,null,null,null,"N","7.2",{"$f":"+O52","v":7},2,{"$f":"+VLOOKUP(O53,'Resumen requerimientos'!$A$5:$B$104,2,FALSE)","v":"ARQ.CAI.2.2"},{"$f":"+VLOOKUP(O53,TablaResumen[],21,0)","v":"% de áreas con acceso visual al exterior"},null,null,null,"Simultáneo",{"$f":"+CONCATENATE(IF(VLOOKUP(O53,'Resumen requerimientos'!$A$5:$AB$91,26)=0,1,VLOOKUP(O53,'Resumen requerimientos'!$A$5:$AB$91,26)),\" de \",IF(VLOOKUP(O53,'Resumen requerimientos'!$A$5:$AB$91,27)=0,1,VLOOKUP(O53,'Resumen requerimientos'!$A$5:$AB$91,27)))","v":"1 de 1"},null,null,null,{"$f":"+'Datos Generales Edificio'!$F$28","v":"CI - Central Interior"}]
[null,null,null,null,null,null,null,null,null,null,null,null,"N","7.3",7,3,{"$f":"+VLOOKUP(O54,'Resumen requerimientos'!$A$5:$B$104,2,FALSE)","v":"ARQ.CAI.2.2"},"Nivel","Rango","Prioridad","Ponderación Of. Y Serv.","Ponderación Educ. y Salud.","Rango",null,null,null,{"$f":"+R53","v":"% de áreas con acceso visual al exterior"},"NL - Norte Litoral","ND - Norte Desértico","NVT - Norte Valle Transversal","CL - Central Litoral","CI - Central Interior","SL - Sur Litoral","SI - Sur Interior","SE - Sur Extremo","An - Andino"]
[null,null,null,null,null,null,null,null,null,null,null,null,"N","7.4",7,4,{"$f":"+VLOOKUP(O55,'Resumen requerimientos'!$A$5:$B$104,2,FALSE)","v":"ARQ.CAI.2.2"},"Muy bueno",{"$f":"+HLOOKUP($AA$53,$AB$54:$AJ$58,AK55,0)","v":"90%-100%"},1,{"$f":"+VLOOKUP(O53,TablaResumen[],22,0)*T55","v":0.01},{"$f":"+VLOOKUP(O53,TablaResumen[],23,0)*T55","v":1.4999999999999999E-2},{"$f":"+IFERROR(VALUE(MID(S55,1,FIND(\"-\",S55)-1)),S55)","v":0.9},{"$f":"+IFERROR(VALUE(MID(S55,FIND(\"-\",S55)+1,LEN(S55)-FIND(\"-\",S55))),S55)","v":1},null,null,"Muy bueno","90%-100%","90%-100%","90%-100%","90%-100%","90%-100%","90%-100%","90%-100%","90%-100%","90%-100%",2]
[null,null,null,null,null,null,null,null,null,null,null,null,"N","7.5",7,5,{"$f":"+VLOOKUP(O56,'Resumen requerimientos'!$A$5:$B$104,2,FALSE)","v":"ARQ.CAI.2.2"},"Bueno",{"$f":"+HLOOKUP($AA$53,$AB$54:$AJ$58,AK56,0)","v":"79,999%-90%"},{"$f":"+IF(Uso_Edificio=\"Oficinas\",0.5/1,1/1.5)","v":0.5},{"$f":"+VLOOKUP(O54,TablaResumen[],22,0)*T56","v":5.0000000000000001E-3},{"$f":"+VLOOKUP(O54,TablaResumen[],23,0)*T56","v":7.4999999999999997E-3},{"$f":"+IFERROR(VALUE(MID(S56,1,FIND(\"-\",S56)-1)),S56)","v":0.79998999999999998},{"$f":"+IFERROR(VALUE(MID(S56,FIND(\"-\",S56)+1,LEN(S56)-FIND(\"-\",S56))),S56)","v":0.9},null,null,"Bueno","79,999%-90%","79,999%-90%","79,999%-90%","79,999%-90%","79,999%-90%","79,999%-90%","79,999%-90%","79,999%-90%","79,999%-90%",3]
[null,null,null,null,null,null,null,null,null,null,null,null,"N","7.6",7,6,{"$f":"+VLOOKUP(O57,'Resumen requerimientos'!$A$5:$B$104,2,FALSE)","v":"ARQ.CAI.2.2"},"Regular",{"$f":"+HLOOKUP($AA$53,$AB$54:$AJ$58,AK57,0)","v":"74,999%-78,999%"},{"$f":"+IF(Uso_Edificio=\"Oficinas\",0,0.5/1.5)","v":0},{"$f":"+VLOOKUP(O55,TablaResumen[],22,0)*T57","v":0},{"$f":"+VLOOKUP(O55,TablaResumen[],23,0)*T57","v":0},{"$f":"+IFERROR(VALUE(MID(S57,1,FIND(\"-\",S57)-1)),S57)","v":0.74999000000000005},{"$f":"+IFERROR(VALUE(MID(S57,FIND(\"-\",S57)+1,LEN(S57)-FIND(\"-\",S57))),S57)","v":0.78998999999999997},null,null,"Regular","74,999%-78,999%","74,999%-78,999%","74,999%-78,999%","74,999%-78,999%","74,999%-78,999%","74,999%-78,999%","74,999%-78,999%","74,999%-78,999%","74,999%-78,999%",4]
[null,null,null,null,null,null,null,null,null,null,null,null,"N","7.7",7,7,{"$f":"+VLOOKUP(O58,'Resumen requerimientos'!$A$5:$B$104,2,FALSE)","v":"ARQ.CAI.2.2"},"Minimo",{"$f":"+HLOOKUP($AA$53,$AB$54:$AJ$58,AK58,0)","v":0},0,{"$f":"+VLOOKUP(O56,TablaResumen[],22,0)*T58","v":0},{"$f":"+VLOOKUP(O56,TablaResumen[],23,0)*T58","v":0},{"$f":"+IFERROR(VALUE(MID(S58,1,FIND(\"-\",S58)-1)),S58)","v":0},{"$f":"+IFERROR(VALUE(MID(S58,FIND(\"-\",S58)+1,LEN(S58)-FIND(\"-\",S58))),S58)","v":0},null,null,"Minimo",null,null,null,null,null,null,null,null,null,5]
[null,null,null,null,null,null,null,null,null,null,null,null,"N","7.8",7,8]
[null,null,null,null,null,null,null,null,null,null,null,null,"N","8.1",{"$f":"+IF(R59=\"\",O59+1,O59)","v":8},1,{"$f":"+VLOOKUP(O60,'Resumen requerimientos'!$A$5:$B$104,2,FALSE)","v":"2R"},{"$f":"+VLOOKUP(Q61,'Resumen requerimientos'!$B$5:$AJ$91,10,0)","v":"Confort visual pasivo"},null,{"$f":"+VLOOKUP(O61,TablaResumen[],16,0)","v":"Factor luz día o iluminancia útil mínimos"},null,"Opción",{"$f":"+CONCATENATE(VLOOKUP(O61,'Resumen requerimientos'!$A$5:$AB$91,24),\" de \",VLOOKUP(O61,'Resumen requerimientos'!$A$5:$AB$91,25))","v":"1 de 2"},null,null,null,{"$f":"+'Datos Generales Edificio'!$C$5","v":"RM - Región Metropolitana de Santiago"}]
[null,null,null,null,null,null,null,null,null,null,null,null,"N","8.2",{"$f":"+O60","v":8},2,{"$f":"+VLOOKUP(O61,'Resumen requerimientos'!$A$5:$B$104,2,FALSE)","v":"2R"},{"$f":"+VLOOKUP(O61,TablaResumen[],21,0)","v":"Factor Luz Día [FLD]"},null,null,null,"Simultáneo",{"$f":"+CONCATENATE(IF(VLOOKUP(O61,'Resumen requerimientos'!$A$5:$AB$91,26)=0,1,VLOOKUP(O61,'Resumen requerimientos'!$A$5:$AB$91,26)),\" de \",IF(VLOOKUP(O61,'Resumen requerimientos'!$A$5:$AB$91,27)=0,1,VLOOKUP(O61,'Resumen requerimientos'!$A$5:$AB$91,27)))","v":"1 de 1"},null,null,null,{"$f":"+'Datos Generales Edificio'!$F$28","v":"CI - Central Interior"}]
[null,null,null,null,null,null,null,null,null,null,null,null,"N","8.3",8,3,{"$f":"+VLOOKUP(O62,'Resumen requerimientos'!$A$5:$B$104,2,FALSE)","v":"2R"},"Nivel","Rango","Prioridad","Ponderación Of. Y Serv.","Ponderación Educ. y Salud.","Rango",null,null,null,{"$f":"+R61","v":"Factor Luz Día [FLD]"},"NL - Norte Litoral","ND - Norte Desértico","NVT - Norte Valle Transversal","CL - Central Litoral","CI - Central Interior","SL - Sur Litoral","SI - Sur Interior","SE - Sur Extremo","An - Andino"]
[null,null,null,null,null,null,null,null,null,null,null,null,"N","8.4",8,4,{"$f":"+VLOOKUP(O63,'Resumen requerimientos'!$A$5:$B$104,2,FALSE)","v":"2R"},"Muy bueno",{"$f":"+HLOOKUP($AA$61,$AB$62:$AJ$66,AK63,0)","v":"1,999999-100"},1,{"$f":"+VLOOKUP(O61,TablaResumen[],22,0)*T63","v":1},{"$f":"+VLOOKUP(O61,TablaResumen[],23,0)*T63","v":1},{"$f":"+IFERROR(VALUE(MID(S63,1,FIND(\"-\",S63)-1)),S63)","v":1.9999990000000001},{"$f":"+IFERROR(VALUE(MID(S63,FIND(\"-\",S63)+1,LEN(S63)-FIND(\"-\",S63))),S63)","v":100},null,null,"Muy bueno","1,999999-100","1,999999-100","1,999999-100","1,999999-100","1,999999-100","1,999999-100","1,999999-100","1,999999-100","1,999999-100",2]
[null,null,null,null,null,null,null,null,null,null,null,null,"N","8.5",8,5,{"$f":"+VLOOKUP(O64,'Resumen requerimientos'!$A$5:$B$104,2,FALSE)","v":"2R"},"Bueno",{"$f":"+HLOOKUP($AA$61,$AB$62:$AJ$66,AK64,0)","v":"1,999999-100"},1,{"$f":"+VLOOKUP(O62,TablaResumen[],22,0)*T64","v":1},{"$f":"+VLOOKUP(O62,TablaResumen[],23,0)*T64","v":1},{"$f":"+IFERROR(VALUE(MID(S64,1,FIND(\"-\",S64)-1)),S64)","v":1.9999990000000001},{"$f":"+IFERROR(VALUE(MID(S64,FIND(\"-\",S64)+1,LEN(S64)-FIND(\"-\",S64))),S64)","v":100},null,null,"Bueno","1,999999-100","1,999999-100","1,999999-100","1,999999-100","1,999999-100","1,999999-100","1,999999-100","1,999999-100","1,999999-100",3]
[null,null,null,null,null,null,null,null,null,null,null,null,"N","8.6",8,6,{"$f":"+VLOOKUP(O65,'Resumen requerimientos'!$A$5:$B$104,2,FALSE)","v":"2R"},"Regular",{"$f":"+HLOOKUP($AA$61,$AB$62:$AJ$66,AK65,0)","v":"1,999999-100"},1,{"$f":"+VLOOKUP(O63,TablaResumen[],22,0)*T65","v":1},{"$f":"+VLOOKUP(O63,TablaResumen[],23,0)*T65","v":1},{"$f":"+IFERROR(VALUE(MID(S65,1,FIND(\"-\",S65)-1)),S65)","v":1.9999990000000001},{"$f":"+IFERROR(VALUE(MID(S65,FIND(\"-\",S65)+1,LEN(S65)-FIND(\"-\",S65))),S65)","v":100},null,null,"Regular","1,999999-100","1,999999-100","1,999999-100","1,999999-100","1,999999-100","1,999999-100","1,999999-100","1,999999-100","1,999999-100",4]
[null,null,null,null,null,null,null,null,null,null,null,null,"N","8.7",8,7,{"$f":"+VLOOKUP(O66,'Resumen requerimientos'!$A$5:$B$104,2,FALSE)","v":"2R"},"Minimo",{"$f":"+HLOOKUP($AA$61,$AB$62:$AJ$66,AK66,0)","v":"1,999999-100"},1,{"$f":"+VLOOKUP(O64,TablaResumen[],22,0)*T66","v":1},{"$f":"+VLOOKUP(O64,TablaResumen[],23,0)*T66","v":1},{"$f":"+IFERROR(VALUE(MID(S66,1,FIND(\"-\",S66)-1)),S66)","v":1.9999990000000001},{"$f":"+IFERROR(VALUE(MID(S66,FIND(\"-\",S66)+1,LEN(S66)-FIND(\"-\",S66))),S66)","v":100},null,null,"Minimo","1,999999-100","1,999999-100","1,999999-100","1,999999-100","1,999999-100","1,999999-100","1,999999-100","1,999999-100","1,999999-100",5]
[null,null,null,null,null,null,null,null,null,null,null,null,"N","8.8",8,8]
[null,null,null,null,null,null,null,null,null,null,null,null,"N","9.1",{"$f":"+IF(R67=\"\",O67+1,O67)","v":9},1,{"$f":"+VLOOKUP(O68,'Resumen requerimientos'!$A$5:$B$104,2,FALSE)","v":"2R"},{"$f":"+VLOOKUP(Q69,'Resumen requerimientos'!$B$5:$AJ$91,10,0)","v":"Confort visual pasivo"},null,{"$f":"+VLOOKUP(O69,TablaResumen[],16,0)","v":"Factor luz día o iluminancia útil mínimos"},null,"Opción",{"$f":"+CONCATENATE(VLOOKUP(O69,'Resumen requerimientos'!$A$5:$AB$91,24),\" de \",VLOOKUP(O69,'Resumen requerimientos'!$A$5:$AB$91,25))","v":"2 de 2"},null,null,null,{"$f":"+'Datos Generales Edificio'!$C$5","v":"RM - Región Metropolitana de Santiago"}]
[null,null,null,null,null,null,null,null,null,null,null,null,"N","9.2",{"$f":"+O68","v":9},2,{"$f":"+VLOOKUP(O69,'Resumen requerimientos'!$A$5:$B$104,2,FALSE)","v":"2R"},{"$f":"+VLOOKUP(O69,TablaResumen[],21,0)","v":"Iluminancia útil [%]"},null,null,null,"Simultáneo",{"$f":"+CONCATENATE(IF(VLOOKUP(O69,'Resumen requerimientos'!$A$5:$AB$91,26)=0,1,VLOOKUP(O69,'Resumen requerimientos'!$A$5:$AB$91,26)),\" de \",IF(VLOOKUP(O69,'Resumen requerimientos'!$A$5:$AB$91,27)=0,1,VLOOKUP(O69,'Resumen requerimientos'!$A$5:$AB$91,27)))","v":"1 de 1"},null,null,null,{"$f":"+'Datos Generales Edificio'!$F$28","v":"CI - Central Interior"}]
[null,null,null,null,null,null,null,null,null,null,null,null,"N",{"$f":"+CONCATENATE(O70,\".\",P70)","v":"9.3"},9,{"$f":"+IF(O70=O69,P69+1,1)","v":3},{"$f":"+VLOOKUP(O70,'Resumen requerimientos'!$A$5:$B$104,2,FALSE)","v":"2R"},"Nivel","Rango","Prioridad","Ponderación Of. Y Serv.","Ponderación Educ. y Salud.","Rango",null,null,null,{"$f":"+R69","v":"Iluminancia útil [%]"},"NL - Norte Litoral","ND - Norte Desértico","NVT - Norte Valle Transversal","CL - Central Litoral","CI - Central Interior","SL - Sur Litoral","SI - Sur Interior","SE - Sur Extremo","An - Andino"]
[null,null,null,null,null,null,null,null,null,null,null,null,"N","9.4",9,4,{"$f":"+VLOOKUP(O71,'Resumen requerimientos'!$A$5:$B$104,2,FALSE)","v":"2R"},"Muy bueno",{"$f":"+HLOOKUP($AA$69,$AB$70:$AJ$74,AK71,0)","v":"49,999%-100%"},1,{"$f":"+VLOOKUP(O69,TablaResumen[],22,0)*T71","v":1},{"$f":"+VLOOKUP(O69,TablaResumen[],23,0)*T71","v":1},{"$f":"+IFERROR(VALUE(MID(S71,1,FIND(\"-\",S71)-1)),S71)","v":0.49998999999999999},{"$f":"+IFERROR(VALUE(MID(S71,FIND(\"-\",S71)+1,LEN(S71)-FIND(\"-\",S71))),S71)","v":1},null,null,"Muy bueno","59,999%-100%","59,999%-100%","59,999%-100%","49,999%-100%","49,999%-100%",{"$f":"+IF(OR(AA68=\"VIII - Región de Biobío\",AA68=\"IX - Región de Araucanía\"),\"50%-100%\",\"39,999%-100%\")","v":"39,999%-100%"},"39,999%-100%","39,999%-100%","59,999%-100%",2]
[null,null,null,null,null,null,null,null,null,null,null,null,"N","9.5",9,5,{"$f":"+VLOOKUP(O72,'Resumen requerimientos'!$A$5:$B$104,2,FALSE)","v":"2R"},"Bueno",{"$f":"+HLOOKUP($AA$69,$AB$70:$AJ$74,AK72,0)","v":"49,999%-100%"},1,{"$f":"+VLOOKUP(O70,TablaResumen[],22,0)*T72","v":1},{"$f":"+VLOOKUP(O70,TablaResumen[],23,0)*T72","v":1},{"$f":"+IFERROR(VALUE(MID(S72,1,FIND(\"-\",S72)-1)),S72)","v":0.49998999999999999},{"$f":"+IFERROR(VALUE(MID(S72,FIND(\"-\",S72)+1,LEN(S72)-FIND(\"-\",S72))),S72)","v":1},null,null,"Bueno","59,999%-100%","59,999%-100%","59,999%-100%","49,999%-100%","49,999%-100%",{"$f":"+IF(OR(AA68=\"VIII - Región de Biobío\",AA68=\"IX - Región de Araucanía\"),\"50%-100%\",\"39,999%-100%\")","v":"39,999%-100%"},"39,999%-100%","39,999%-100%","59,999%-100%",3]
[null,null,null,null,null,null,null,null,null,null,null,null,"N","9.6",9,6,{"$f":"+VLOOKUP(O73,'Resumen requerimientos'!$A$5:$B$104,2,FALSE)","v":"2R"},"Regular",{"$f":"+HLOOKUP($AA$69,$AB$70:$AJ$74,AK73,0)","v":"49,999%-100%"},1,{"$f":"+VLOOKUP(O71,TablaResumen[],22,0)*T73","v":1},{"$f":"+VLOOKUP(O71,TablaResumen[],23,0)*T73","v":1},{"$f":"+IFERROR(VALUE(MID(S73,1,FIND(\"-\",S73)-1)),S73)","v":0.49998999999999999},{"$f":"+IFERROR(VALUE(MID(S73,FIND(\"-\",S73)+1,LEN(S73)-FIND(\"-\",S73))),S73)","v":1},null,null,"Regular","59,999%-100%","59,999%-100%","59,999%-100%","49,999%-100%","49,999%-100%",{"$f":"+IF(OR(AA68=\"VIII - Región de Biobío\",AA68=\"IX - Región de Araucanía\"),\"50%-100%\",\"39,999%-100%\")","v":"39,999%-100%"},"39,999%-100%","39,999%-100%","59,999%-100%",4]
[null,null,null,null,null,null,null,null,null,null,null,null,"N","9.7",9,7,{"$f":"+VLOOKUP(O74,'Resumen requerimientos'!$A$5:$B$104,2,FALSE)","v":"2R"},"Minimo",{"$f":"+HLOOKUP($AA$69,$AB$70:$AJ$74,AK74,0)","v":"49,999%-100%"},1,{"$f":"+VLOOKUP(O72,TablaResumen[],22,0)*T74","v":1},{"$f":"+VLOOKUP(O72,TablaResumen[],23,0)*T74","v":1},{"$f":"+IFERROR(VALUE(MID(S74,1,FIND(\"-\",S74)-1)),S74)","v":0.49998999999999999},{"$f":"+IFERROR(VALUE(MID(S74,FIND(\"-\",S74)+1,LEN(S74)-FIND(\"-\",S74))),S74)","v":1},null,null,"Minimo","59,999%-100%","59,999%-100%","59,999%-100%","49,999%-100%","49,999%-100%",{"$f":"+IF(OR(AA68=\"VIII - Región de Biobío\",AA68=\"IX - Región de Araucanía\"),\"50%-100%\",\"39,999%-100%\")","v":"39,999%-100%"},"39,999%-100%","39,999%-100%","59,999%-100%",5]
[null,null,null,null,null,null,null,null,null,null,null,null,"N","9.8",9,8]
[null,null,null,null,null,null,null,null,null,null,null,null,"N","10.1",{"$f":"+IF(R75=\"\",O75+1,O75)","v":10},1,{"$f":"+VLOOKUP(O76,'Resumen requerimientos'!$A$5:$B$104,2,FALSE)","v":"ARQ.CAI.3.1"},{"$f":"+VLOOKUP(Q77,'Resumen requerimientos'!$B$5:$AJ$91,10,0)","v":"Calidad del aire interior"},null,{"$f":"+VLOOKUP(O77,TablaResumen[],16,0)","v":"Cobertura de las tasas de renovación"},null,"Opción",{"$f":"+CONCATENATE(VLOOKUP(O77,'Resumen requerimientos'!$A$5:$AB$91,24),\" de \",VLOOKUP(O77,'Resumen requerimientos'!$A$5:$AB$91,25))","v":"1 de 1"},null,null,null,{"$f":"+'Datos Generales Edificio'!$C$5","v":"RM - Región Metropolitana de Santiago"}]
[null,null,null,null,null,null,null,null,null,null,null,null,"N","10.2",{"$f":"+O76","v":10},2,{"$f":"+VLOOKUP(O77,'Resumen requerimientos'!$A$5:$B$104,2,FALSE)","v":"ARQ.CAI.3.1"},{"$f":"+VLOOKUP(O77,TablaResumen[],21,0)","v":"Cobertura de tasas de renovaciones de aire hora [RAH]"},null,null,null,"Simultáneo",{"$f":"+CONCATENATE(IF(VLOOKUP(O77,'Resumen requerimientos'!$A$5:$AB$91,26)=0,1,VLOOKUP(O77,'Resumen requerimientos'!$A$5:$AB$91,26)),\" de \",IF(VLOOKUP(O77,'Resumen requerimientos'!$A$5:$AB$91,27)=0,1,VLOOKUP(O77,'Resumen requerimientos'!$A$5:$AB$91,27)))","v":"1 de 1"},null,null,null,{"$f":"+'Datos Generales Edificio'!$F$28","v":"CI - Central Interior"}]
[null,null,null,null,null,null,null,null,null,null,null,null,"N","10.3",10,3,{"$f":"+VLOOKUP(O78,'Resumen requerimientos'!$A$5:$B$104,2,FALSE)","v":"ARQ.CAI.3.1"},"Nivel","Rango","Prioridad","Ponderación Of. Y Serv.","Ponderación Educ. y Salud.","Rango",null,null,null,{"$f":"+R77","v":"Cobertura de tasas de renovaciones de aire hora [RAH]"},"NL - Norte Litoral","ND - Norte Desértico","NVT - Norte Valle Transversal","CL - Central Litoral","CI - Central Interior","SL - Sur Litoral","SI - Sur Interior","SE - Sur Extremo","An - Andino"]
[null,null,null,null,null,null,null,null,null,null,null,null,"N","10.4",10,4,{"$f":"+VLOOKUP(O79,'Resumen requerimientos'!$A$5:$B$104,2,FALSE)","v":"ARQ.CAI.3.1"},"Muy bueno",{"$f":"+HLOOKUP($AA$77,$AB$78:$AJ$82,AK79,0)","v":""},{"$f":"+IF(Uso_Edificio=\"Oficinas\",6/6,7.5/7.5)","v":1},{"$f":"+VLOOKUP(O77,TablaResumen[],22,0)*T79","v":0.06},{"$f":"+VLOOKUP(O77,TablaResumen[],23,0)*T79","v":7.4999999999999997E-2},{"$f":"+IFERROR(VALUE(MID(S79,1,FIND(\"-\",S79)-1)),S79)","v":""},{"$f":"+IFERROR(VALUE(MID(S79,FIND(\"-\",S79)+1,LEN(S79)-FIND(\"-\",S79))),S79)","v":""},null,null,"Muy bueno",{"$f":"+IF(OR(AND(Vent_Mec=\"No\",Vent_Nat=\"Si\"),AND(Vent_Mec=\"Si\",Vent_Nat=\"Si\")),IF(CRITERIO_RAH=Tablas2!$DN$19,\"n/a\",IF(CRITERIO_RAH=Tablas2!$DN$20,\"99,999%-100%\",IF(CRITERIO_RAH=Tablas2!$DN$21,\"74,999%-100%\",\"-\"))),\"\")","v":""},{"$f":"+IF(OR(AND(Vent_Mec=\"No\",Vent_Nat=\"Si\"),AND(Vent_Mec=\"Si\",Vent_Nat=\"Si\")),IF(CRITERIO_RAH=Tablas2!$DN$19,\"n/a\",IF(CRITERIO_RAH=Tablas2!$DN$20,\"99,999%-100%\",IF(CRITERIO_RAH=Tablas2!$DN$21,\"74,999%-100%\",\"-\"))),\"\")","v":""},{"$f":"+IF(OR(AND(Vent_Mec=\"No\",Vent_Nat=\"Si\"),AND(Vent_Mec=\"Si\",Vent_Nat=\"Si\")),IF(CRITERIO_RAH=Tablas2!$DN$19,\"n/a\",IF(CRITERIO_RAH=Tablas2!$DN$20,\"99,999%-100%\",IF(CRITERIO_RAH=Tablas2!$DN$21,\"74,999%-100%\",\"-\"))),\"\")","v":""},{"$f":"+IF(OR(AND(Vent_Mec=\"No\",Vent_Nat=\"Si\"),AND(Vent_Mec=\"Si\",Vent_Nat=\"Si\")),IF(CRITERIO_RAH=Tablas2!$DN$19,\"n/a\",IF(CRITERIO_RAH=Tablas2!$DN$20,\"99,999%-100%\",IF(CRITERIO_RAH=Tablas2!$DN$21,\"74,999%-100%\",\"-\"))),\"\")","v":""},{"$f":"+IF(OR(AND(Vent_Mec=\"No\",Vent_Nat=\"Si\"),AND(Vent_Mec=\"Si\",Vent_Nat=\"Si\")),IF(CRITERIO_RAH=Tablas2!$DN$19,\"n/a\",IF(CRITERIO_RAH=Tablas2!$DN$20,\"99,999%-100%\",IF(CRITERIO_RAH=Tablas2!$DN$21,\"74,999%-100%\",\"-\"))),\"\")","v":""},{"$f":"+IF(OR(AND(Vent_Mec=\"No\",Vent_Nat=\"Si\"),AND(Vent_Mec=\"Si\",Vent_Nat=\"Si\")),IF(CRITERIO_RAH=Tablas2!$DN$19,\"n/a\",IF(CRITERIO_RAH=Tablas2!$DN$20,\"99,999%-100%\",IF(CRITERIO_RAH=Tablas2!$DN$21,\"74,999%-100%\",\"-\"))),\"\")","v":""},{"$f":"+IF(OR(AND(Vent_Mec=\"No\",Vent_Nat=\"Si\"),AND(Vent_Mec=\"Si\",Vent_Nat=\"Si\")),IF(CRITERIO_RAH=Tablas2!$DN$19,\"n/a\",IF(CRITERIO_RAH=Tablas2!$DN$20,\"99,999%-100%\",IF(CRITERIO_RAH=Tablas2!$DN$21,\"74,999%-100%\",\"-\"))),\"\")","v":""},{"$f":"+IF(OR(AND(Vent_Mec=\"No\",Vent_Nat=\"Si\"),AND(Vent_Mec=\"Si\",Vent_Nat=\"Si\")),IF(CRITERIO_RAH=Tablas2!$DN$19,\"n/a\",IF(CRITERIO_RAH=Tablas2!$DN$20,\"99,999%-100%\",IF(CRITERIO_RAH=Tablas2!$DN$21,\"74,999%-100%\",\"-\"))),\"\")","v":""},{"$f":"+IF(OR(AND(Vent_Mec=\"No\",Vent_Nat=\"Si\"),AND(Vent_Mec=\"Si\",Vent_Nat=\"Si\")),IF(CRITERIO_RAH=Tablas2!$DN$19,\"n/a\",IF(CRITERIO_RAH=Tablas2!$DN$20,\"99,999%-100%\",IF(CRITERIO_RAH=Tablas2!$DN$21,\"74,999%-100%\",\"-\"))),\"\")","v":""},2]
[null,null,null,null,null,null,null,null,null,null,null,null,"N","10.5",10,5,{"$f":"+VLOOKUP(O80,'Resumen requerimientos'!$A$5:$B$104,2,FALSE)","v":"ARQ.CAI.3.1"},"Bueno",{"$f":"+HLOOKUP($AA$77,$AB$78:$AJ$82,AK80,0)","v":""},{"$f":"+IF(Uso_Edificio=\"Oficinas\",4.5/6,5.5/7.5)","v":0.75},{"$f":"+VLOOKUP(O78,TablaResumen[],22,0)*T80","v":4.4999999999999998E-2},{"$f":"+VLOOKUP(O78,TablaResumen[],23,0)*T80","v":5.6249999999999994E-2},{"$f":"+IFERROR(VALUE(MID(S80,1,FIND(\"-\",S80)-1)),S80)","v":""},{"$f":"+IFERROR(VALUE(MID(S80,FIND(\"-\",S80)+1,LEN(S80)-FIND(\"-\",S80))),S80)","v":""},null,null,"Bueno",{"$f":"+IF(OR(AND(Vent_Mec=\"No\",Vent_Nat=\"Si\"),AND(Vent_Mec=\"Si\",Vent_Nat=\"Si\")),IF(OR(CRITERIO_RAH=Tablas2!$DN$19,CRITERIO_RAH=Tablas2!$DN$21),\"n/a\",IF(CRITERIO_RAH=Tablas2!$DN$20,\"74,999%-99,999%\",\"-\")),\"\")","v":""},{"$f":"+IF(OR(AND(Vent_Mec=\"No\",Vent_Nat=\"Si\"),AND(Vent_Mec=\"Si\",Vent_Nat=\"Si\")),IF(OR(CRITERIO_RAH=Tablas2!$DN$19,CRITERIO_RAH=Tablas2!$DN$21),\"n/a\",IF(CRITERIO_RAH=Tablas2!$DN$20,\"74,999%-99,999%\",\"-\")),\"\")","v":""},{"$f":"+IF(OR(AND(Vent_Mec=\"No\",Vent_Nat=\"Si\"),AND(Vent_Mec=\"Si\",Vent_Nat=\"Si\")),IF(OR(CRITERIO_RAH=Tablas2!$DN$19,CRITERIO_RAH=Tablas2!$DN$21),\"n/a\",IF(CRITERIO_RAH=Tablas2!$DN$20,\"74,999%-99,999%\",\"-\")),\"\")","v":""},{"$f":"+IF(OR(AND(Vent_Mec=\"No\",Vent_Nat=\"Si\"),AND(Vent_Mec=\"Si\",Vent_Nat=\"Si\")),IF(OR(CRITERIO_RAH=Tablas2!$DN$19,CRITERIO_RAH=Tablas2!$DN$21),\"n/a\",IF(CRITERIO_RAH=Tablas2!$DN$20,\"74,999%-99,999%\",\"-\")),\"\")","v":""},{"$f":"+IF(OR(AND(Vent_Mec=\"No\",Vent_Nat=\"Si\"),AND(Vent_Mec=\"Si\",Vent_Nat=\"Si\")),IF(OR(CRITERIO_RAH=Tablas2!$DN$19,CRITERIO_RAH=Tablas2!$DN$21),\"n/a\",IF(CRITERIO_RAH=Tablas2!$DN$20,\"74,999%-99,999%\",\"-\")),\"\")","v":""},{"$f":"+IF(OR(AND(Vent_Mec=\"No\",Vent_Nat=\"Si\"),AND(Vent_Mec=\"Si\",Vent_Nat=\"Si\")),IF(OR(CRITERIO_RAH=Tablas2!$DN$19,CRITERIO_RAH=Tablas2!$DN$21),\"n/a\",IF(CRITERIO_RAH=Tablas2!$DN$20,\"74,999%-99,999%\",\"-\")),\"\")","v":""},{"$f":"+IF(OR(AND(Vent_Mec=\"No\",Vent_Nat=\"Si\"),AND(Vent_Mec=\"Si\",Vent_Nat=\"Si\")),IF(OR(CRITERIO_RAH=Tablas2!$DN$19,CRITERIO_RAH=Tablas2!$DN$21),\"n/a\",IF(CRITERIO_RAH=Tablas2!$DN$20,\"74,999%-99,999%\",\"-\")),\"\")","v":""},{"$f":"+IF(OR(AND(Vent_Mec=\"No\",Vent_Nat=\"Si\"),AND(Vent_Mec=\"Si\",Vent_Nat=\"Si\")),IF(OR(CRITERIO_RAH=Tablas2!$DN$19,CRITERIO_RAH=Tablas2!$DN$21),\"n/a\",IF(CRITERIO_RAH=Tablas2!$DN$20,\"74,999%-99,999%\",\"-\")),\"\")","v":""},{"$f":"+IF(OR(AND(Vent_Mec=\"No\",Vent_Nat=\"Si\"),AND(Vent_Mec=\"Si\",Vent_Nat=\"Si\")),IF(OR(CRITERIO_RAH=Tablas2!$DN$19,CRITERIO_RAH=Tablas2!$DN$21),\"n/a\",IF(CRITERIO_RAH=Tablas2!$DN$20,\"74,999%-99,999%\",\"-\")),\"\")","v":""},3]
[null,null,null,null,null,null,null,null,null,null,null,null,"N","10.6",10,6,{"$f":"+VLOOKUP(O81,'Resumen requerimientos'!$A$5:$B$104,2,FALSE)","v":"ARQ.CAI.3.1"},"Regular",{"$f":"+HLOOKUP($AA$77,$AB$78:$AJ$82,AK81,0)","v":""},{"$f":"+IF(Uso_Edificio=\"Oficinas\",3/6,4/7.5)","v":0.5},{"$f":"+VLOOKUP(O79,TablaResumen[],22,0)*T81","v":0.03},{"$f":"+VLOOKUP(O79,TablaResumen[],23,0)*T81","v":3.7499999999999999E-2},{"$f":"+IFERROR(VALUE(MID(S81,1,FIND(\"-\",S81)-1)),S81)","v":""},{"$f":"+IFERROR(VALUE(MID(S81,FIND(\"-\",S81)+1,LEN(S81)-FIND(\"-\",S81))),S81)","v":""},null,null,"Regular",{"$f":"IF(OR(AND(Vent_Mec=\"No\",Vent_Nat=\"Si\"),AND(Vent_Mec=\"Si\",Vent_Nat=\"Si\")),IF(OR(CRITERIO_RAH=Tablas2!$DN$20,CRITERIO_RAH=Tablas2!$DN$21),\"n/a\",IF(CRITERIO_RAH=Tablas2!$DN$19,\"74,999%-100%\",\"-\")),\"\")","v":""},{"$f":"IF(OR(AND(Vent_Mec=\"No\",Vent_Nat=\"Si\"),AND(Vent_Mec=\"Si\",Vent_Nat=\"Si\")),IF(OR(CRITERIO_RAH=Tablas2!$DN$20,CRITERIO_RAH=Tablas2!$DN$21),\"n/a\",IF(CRITERIO_RAH=Tablas2!$DN$19,\"74,999%-100%\",\"-\")),\"\")","v":""},{"$f":"IF(OR(AND(Vent_Mec=\"No\",Vent_Nat=\"Si\"),AND(Vent_Mec=\"Si\",Vent_Nat=\"Si\")),IF(OR(CRITERIO_RAH=Tablas2!$DN$20,CRITERIO_RAH=Tablas2!$DN$21),\"n/a\",IF(CRITERIO_RAH=Tablas2!$DN$19,\"74,999%-100%\",\"-\")),\"\")","v":""},{"$f":"IF(OR(AND(Vent_Mec=\"No\",Vent_Nat=\"Si\"),AND(Vent_Mec=\"Si\",Vent_Nat=\"Si\")),IF(OR(CRITERIO_RAH=Tablas2!$DN$20,CRITERIO_RAH=Tablas2!$DN$21),\"n/a\",IF(CRITERIO_RAH=Tablas2!$DN$19,\"74,999%-100%\",\"-\")),\"\")","v":""},{"$f":"IF(OR(AND(Vent_Mec=\"No\",Vent_Nat=\"Si\"),AND(Vent_Mec=\"Si\",Vent_Nat=\"Si\")),IF(OR(CRITERIO_RAH=Tablas2!$DN$20,CRITERIO_RAH=Tablas2!$DN$21),\"n/a\",IF(CRITERIO_RAH=Tablas2!$DN$19,\"74,999%-100%\",\"-\")),\"\")","v":""},{"$f":"IF(OR(AND(Vent_Mec=\"No\",Vent_Nat=\"Si\"),AND(Vent_Mec=\"Si\",Vent_Nat=\"Si\")),IF(OR(CRITERIO_RAH=Tablas2!$DN$20,CRITERIO_RAH=Tablas2!$DN$21),\"n/a\",IF(CRITERIO_RAH=Tablas2!$DN$19,\"74,999%-100%\",\"-\")),\"\")","v":""},{"$f":"IF(OR(AND(Vent_Mec=\"No\",Vent_Nat=\"Si\"),AND(Vent_Mec=\"Si\",Vent_Nat=\"Si\")),IF(OR(CRITERIO_RAH=Tablas2!$DN$20,CRITERIO_RAH=Tablas2!$DN$21),\"n/a\",IF(CRITERIO_RAH=Tablas2!$DN$19,\"74,999%-100%\",\"-\")),\"\")","v":""},{"$f":"IF(OR(AND(Vent_Mec=\"No\",Vent_Nat=\"Si\"),AND(Vent_Mec=\"Si\",Vent_Nat=\"Si\")),IF(OR(CRITERIO_RAH=Tablas2!$DN$20,CRITERIO_RAH=Tablas2!$DN$21),\"n/a\",IF(CRITERIO_RAH=Tablas2!$DN$19,\"74,999%-100%\",\"-\")),\"\")","v":""},{"$f":"IF(OR(AND(Vent_Mec=\"No\",Vent_Nat=\"Si\"),AND(Vent_Mec=\"Si\",Vent_Nat=\"Si\")),IF(OR(CRITERIO_RAH=Tablas2!$DN$20,CRITERIO_RAH=Tablas2!$DN$21),\"n/a\",IF(CRITERIO_RAH=Tablas2!$DN$19,\"74,999%-100%\",\"-\")),\"\")","v":""},4]
[null,null,null,null,null,null,null,null,null,null,null,null,"N","10.7",10,7,{"$f":"+VLOOKUP(O82,'Resumen requerimientos'!$A$5:$B$104,2,FALSE)","v":"ARQ.CAI.3.1"},"Minimo",{"$f":"+HLOOKUP($AA$77,$AB$78:$AJ$82,AK82,0)","v":"No Aplica"},0,{"$f":"+VLOOKUP(O80,TablaResumen[],22,0)*T82","v":0},{"$f":"+VLOOKUP(O80,TablaResumen[],23,0)*T82","v":0},{"$f":"+IFERROR(VALUE(MID(S82,1,FIND(\"-\",S82)-1)),S82)","v":"No Aplica"},{"$f":"+IFERROR(VALUE(MID(S82,FIND(\"-\",S82)+1,LEN(S82)-FIND(\"-\",S82))),S82)","v":"No Aplica"},null,null,"Minimo",{"$f":"+IF(OR(AND(Vent_Mec=\"No\",Vent_Nat=\"Si\"),AND(Vent_Mec=\"Si\",Vent_Nat=\"Si\")),\"\",\"No Aplica\")","v":"No Aplica"},"No Aplica","No Aplica","No Aplica","No Aplica","No Aplica","No Aplica","No Aplica","No Aplica",5]
[null,null,null,null,null,null,null,null,null,null,null,null,"N","10.8",10,8]
[null,null,null,null,null,null,null,null,null,null,null,null,"N","11.1",{"$f":"+IF(R83=\"\",O83+1,O83)","v":11},1,{"$f":"+VLOOKUP(O84,'Resumen requerimientos'!$A$5:$B$104,2,FALSE)","v":"ARQ.CAI.3.2"},{"$f":"+VLOOKUP(Q85,'Resumen requerimientos'!$B$5:$AJ$91,10,0)","v":"Calidad del aire interior"},null,{"$f":"+VLOOKUP(O85,TablaResumen[],16,0)","v":"Concentraciones de compuestos orgánicos volátiles"},null,"Opción",{"$f":"+CONCATENATE(VLOOKUP(O85,'Resumen requerimientos'!$A$5:$AB$91,24),\" de \",VLOOKUP(O85,'Resumen requerimientos'!$A$5:$AB$91,25))","v":"1 de 3"},null,null,null,{"$f":"+'Datos Generales Edificio'!$C$5","v":"RM - Región Metropolitana de Santiago"}]
[null,null,null,null,null,null,null,null,null,null,null,null,"N","11.2",{"$f":"+O84","v":11},2,{"$f":"+VLOOKUP(O85,'Resumen requerimientos'!$A$5:$B$104,2,FALSE)","v":"ARQ.CAI.3.2"},{"$f":"+VLOOKUP(O85,TablaResumen[],21,0)","v":"Nº de grupos que cumplen con las características Opción 1"},null,null,null,"Simultáneo",{"$f":"+CONCATENATE(IF(VLOOKUP(O85,'Resumen requerimientos'!$A$5:$AB$91,26)=0,1,VLOOKUP(O85,'Resumen requerimientos'!$A$5:$AB$91,26)),\" de \",IF(VLOOKUP(O85,'Resumen requerimientos'!$A$5:$AB$91,27)=0,1,VLOOKUP(O85,'Resumen requerimientos'!$A$5:$AB$91,27)))","v":"1 de 1"},null,null,null,{"$f":"+'Datos Generales Edificio'!$F$28","v":"CI - Central Interior"}]
[null,null,null,null,null,null,null,null,null,null,null,null,"N","11.3",11,3,{"$f":"+VLOOKUP(O86,'Resumen requerimientos'!$A$5:$B$104,2,FALSE)","v":"ARQ.CAI.3.2"},"Nivel","Rango","Prioridad","Ponderación Of. Y Serv.","Ponderación Educ. y Salud.","Rango",null,null,null,{"$f":"+R85","v":"Nº de grupos que cumplen con las características Opción 1"},"NL - Norte Litoral","ND - Norte Desértico","NVT - Norte Valle Transversal","CL - Central Litoral","CI - Central Interior","SL - Sur Litoral","SI - Sur Interior","SE - Sur Extremo","An - Andino"]
[null,null,null,null,null,null,null,null,null,null,null,null,"N","11.4",11,4,{"$f":"+VLOOKUP(O87,'Resumen requerimientos'!$A$5:$B$104,2,FALSE)","v":"ARQ.CAI.3.2"},"Muy bueno",{"$f":"+HLOOKUP($AA$85,$AB$86:$AJ$90,AK87,0)","v":"4,999-5"},1,{"$f":"+VLOOKUP(O85,TablaResumen[],22,0)*T87","v":2.5000000000000001E-2},{"$f":"+VLOOKUP(O85,TablaResumen[],23,0)*T87","v":0.03},{"$f":"+IFERROR(VALUE(MID(S87,1,FIND(\"-\",S87)-1)),S87)","v":4.9989999999999997},{"$f":"+IFERROR(VALUE(MID(S87,FIND(\"-\",S87)+1,LEN(S87)-FIND(\"-\",S87))),S87)","v":5},null,null,"Muy bueno","4,999-5","4,999-5","4,999-5","4,999-5","4,999-5","4,999-5","4,999-5","4,999-5","4,999-5",2]
[null,null,null,null,null,null,null,null,null,null,null,null,"N","11.5",11,5,{"$f":"+VLOOKUP(O88,'Resumen requerimientos'!$A$5:$B$104,2,FALSE)","v":"ARQ.CAI.3.2"},"Bueno",{"$f":"+HLOOKUP($AA$85,$AB$86:$AJ$90,AK88,0)","v":"2,999-4"},{"$f":"+IF(Uso_Edificio=\"Oficinas\",1.5/2.5,2/3)","v":0.6},{"$f":"+VLOOKUP(O86,TablaResumen[],22,0)*T88","v":1.4999999999999999E-2},{"$f":"+VLOOKUP(O86,TablaResumen[],23,0)*T88","v":1.7999999999999999E-2},{"$f":"+IFERROR(VALUE(MID(S88,1,FIND(\"-\",S88)-1)),S88)","v":2.9990000000000001},{"$f":"+IFERROR(VALUE(MID(S88,FIND(\"-\",S88)+1,LEN(S88)-FIND(\"-\",S88))),S88)","v":4},null,null,"Bueno","2,999-4","2,999-4","2,999-4","2,999-4","2,999-4","2,999-4","2,999-4","2,999-4","2,999-4",3]
[null,null,null,null,null,null,null,null,null,null,null,null,"N","11.6",11,6,{"$f":"+VLOOKUP(O89,'Resumen requerimientos'!$A$5:$B$104,2,FALSE)","v":"ARQ.CAI.3.2"},"Regular",{"$f":"+HLOOKUP($AA$85,$AB$86:$AJ$90,AK89,0)","v":"1,999-2"},{"$f":"+IF(Uso_Edificio=\"Oficinas\",0.5/2.5,0.5/3)","v":0.2},{"$f":"+VLOOKUP(O87,TablaResumen[],22,0)*T89","v":5.000000000000001E-3},{"$f":"+VLOOKUP(O87,TablaResumen[],23,0)*T89","v":6.0000000000000001E-3},{"$f":"+IFERROR(VALUE(MID(S89,1,FIND(\"-\",S89)-1)),S89)","v":1.9990000000000001},{"$f":"+IFERROR(VALUE(MID(S89,FIND(\"-\",S89)+1,LEN(S89)-FIND(\"-\",S89))),S89)","v":2},null,null,"Regular","1,999-2","1,999-2","1,999-2","1,999-2","1,999-2","1,999-2","1,999-2","1,999-2","1,999-2",4]
[null,null,null,null,null,null,null,null,null,null,null,null,"N","11.7",11,7,{"$f":"+VLOOKUP(O90,'Resumen requerimientos'!$A$5:$B$104,2,FALSE)","v":"ARQ.CAI.3.2"},"Minimo",{"$f":"+HLOOKUP($AA$85,$AB$86:$AJ$90,AK90,0)","v":0},null,{"$f":"+VLOOKUP(O88,TablaResumen[],22,0)*T90","v":0},{"$f":"+VLOOKUP(O88,TablaResumen[],23,0)*T90","v":0},{"$f":"+IFERROR(VALUE(MID(S90,1,FIND(\"-\",S90)-1)),S90)","v":0},{"$f":"+IFERROR(VALUE(MID(S90,FIND(\"-\",S90)+1,LEN(S90)-FIND(\"-\",S90))),S90)","v":0},null,null,"Minimo",null,null,null,null,null,null,null,null,null,5]
[null,null,null,null,null,null,null,null,null,null,null,null,"N","11.8",11,8]
[null,null,null,null,null,null,null,null,null,null,null,null,"N","12.1",{"$f":"+IF(R91=\"\",O91+1,O91)","v":12},1,{"$f":"+VLOOKUP(O92,'Resumen requerimientos'!$A$5:$B$104,2,FALSE)","v":"ARQ.CAI.3.2"},{"$f":"+VLOOKUP(Q93,'Resumen requerimientos'!$B$5:$AJ$91,10,0)","v":"Calidad del aire interior"},null,{"$f":"+VLOOKUP(O93,TablaResumen[],16,0)","v":"Concentraciones de compuestos orgánicos volátiles"},null,"Opción",{"$f":"+CONCATENATE(VLOOKUP(O93,'Resumen requerimientos'!$A$5:$AB$91,24),\" de \",VLOOKUP(O93,'Resumen requerimientos'!$A$5:$AB$91,25))","v":"2 de 3"},null,null,null,{"$f":"+'Datos Generales Edificio'!$C$5","v":"RM - Región Metropolitana de Santiago"}]
[null,null,null,null,null,null,null,null,null,null,null,null,"N","12.2",{"$f":"+O92","v":12},2,{"$f":"+VLOOKUP(O93,'Resumen requerimientos'!$A$5:$B$104,2,FALSE)","v":"ARQ.CAI.3.2"},{"$f":"+VLOOKUP(O93,TablaResumen[],21,0)","v":"Nº de grupos que cumplen con la concentración límite de COV de Opción 2"},null,null,null,"Simultáneo",{"$f":"+CONCATENATE(IF(VLOOKUP(O93,'Resumen requerimientos'!$A$5:$AB$91,26)=0,1,VLOOKUP(O93,'Resumen requerimientos'!$A$5:$AB$91,26)),\" de \",IF(VLOOKUP(O93,'Resumen requerimientos'!$A$5:$AB$91,27)=0,1,VLOOKUP(O93,'Resumen requerimientos'!$A$5:$AB$91,27)))","v":"1 de 1"},null,null,null,{"$f":"+'Datos Generales Edificio'!$F$28","v":"CI - Central Interior"}]
[null,null,null,null,null,null,null,null,null,null,null,null,"N","12.3",12,3,{"$f":"+VLOOKUP(O94,'Resumen requerimientos'!$A$5:$B$104,2,FALSE)","v":"ARQ.CAI.3.2"},"Nivel","Rango","Prioridad","Ponderación Of. Y Serv.","Ponderación Educ. y Salud.","Rango",null,null,null,{"$f":"+R93","v":"Nº de grupos que cumplen con la concentración límite de COV de Opción 2"},"NL - Norte Litoral","ND - Norte Desértico","NVT - Norte Valle Transversal","CL - Central Litoral","CI - Central Interior","SL - Sur Litoral","SI - Sur Interior","SE - Sur Extremo","An - Andino"]
[null,null,null,null,null,null,null,null,null,null,null,null,"N","12.4",12,4,{"$f":"+VLOOKUP(O95,'Resumen requerimientos'!$A$5:$B$104,2,FALSE)","v":"ARQ.CAI.3.2"},"Muy bueno",{"$f":"+HLOOKUP($AA$93,$AB$94:$AJ$98,AK95,0)","v":"4,999-5"},1,{"$f":"+VLOOKUP(O93,TablaResumen[],22,0)*T95","v":2.5000000000000001E-2},{"$f":"+VLOOKUP(O93,TablaResumen[],23,0)*T95","v":0.03},{"$f":"+IFERROR(VALUE(MID(S95,1,FIND(\"-\",S95)-1)),S95)","v":4.9989999999999997},{"$f":"+IFERROR(VALUE(MID(S95,FIND(\"-\",S95)+1,LEN(S95)-FIND(\"-\",S95))),S95)","v":5},null,null,"Muy bueno","4,999-5","4,999-5","4,999-5","4,999-5","4,999-5","4,999-5","4,999-5","4,999-5","4,999-5",2]
[null,null,null,null,null,null,null,null,null,null,null,null,"N","12.5",12,5,{"$f":"+VLOOKUP(O96,'Resumen requerimientos'!$A$5:$B$104,2,FALSE)","v":"ARQ.CAI.3.2"},"Bueno",{"$f":"+HLOOKUP($AA$93,$AB$94:$AJ$98,AK96,0)","v":"2,999-4"},{"$f":"+IF(Uso_Edificio=\"Oficinas\",1.5/2.5,2/3)","v":0.6},{"$f":"+VLOOKUP(O94,TablaResumen[],22,0)*T96","v":1.4999999999999999E-2},{"$f":"+VLOOKUP(O94,TablaResumen[],23,0)*T96","v":1.7999999999999999E-2},{"$f":"+IFERROR(VALUE(MID(S96,1,FIND(\"-\",S96)-1)),S96)","v":2.9990000000000001},{"$f":"+IFERROR(VALUE(MID(S96,FIND(\"-\",S96)+1,LEN(S96)-FIND(\"-\",S96))),S96)","v":4},null,null,"Bueno","2,999-4","2,999-4","2,999-4","2,999-4","2,999-4","2,999-4","2,999-4","2,999-4","2,999-4",3]
[null,null,null,null,null,null,null,null,null,null,null,null,"N","12.6",12,6,{"$f":"+VLOOKUP(O97,'Resumen requerimientos'!$A$5:$B$104,2,FALSE)","v":"ARQ.CAI.3.2"},"Regular",{"$f":"+HLOOKUP($AA$93,$AB$94:$AJ$98,AK97,0)","v":"1,999-2"},{"$f":"+IF(Uso_Edificio=\"Oficinas\",0.5/2.5,0.5/3)","v":0.2},{"$f":"+VLOOKUP(O95,TablaResumen[],22,0)*T97","v":5.000000000000001E-3},{"$f":"+VLOOKUP(O95,TablaResumen[],23,0)*T97","v":6.0000000000000001E-3},{"$f":"+IFERROR(VALUE(MID(S97,1,FIND(\"-\",S97)-1)),S97)","v":1.9990000000000001},{"$f":"+IFERROR(VALUE(MID(S97,FIND(\"-\",S97)+1,LEN(S97)-FIND(\"-\",S97))),S97)","v":2},null,null,"Regular","1,999-2","1,999-2","1,999-2","1,999-2","1,999-2","1,999-2","1,999-2","1,999-2","1,999-2",4]
[null,null,null,null,null,null,null,null,null,null,null,null,"N","12.7",12,7,{"$f":"+VLOOKUP(O98,'Resumen requerimientos'!$A$5:$B$104,2,FALSE)","v":"ARQ.CAI.3.2"},"Minimo",{"$f":"+HLOOKUP($AA$93,$AB$94:$AJ$98,AK98,0)","v":0},null,{"$f":"+VLOOKUP(O96,TablaResumen[],22,0)*T98","v":0},{"$f":"+VLOOKUP(O96,TablaResumen[],23,0)*T98","v":0},{"$f":"+IFERROR(VALUE(MID(S98,1,FIND(\"-\",S98)-1)),S98)","v":0},{"$f":"+IFERROR(VALUE(MID(S98,FIND(\"-\",S98)+1,LEN(S98)-FIND(\"-\",S98))),S98)","v":0},null,null,"Minimo",null,null,null,null,null,null,null,null,null,5]
[null,null,null,null,null,null,null,null,null,null,null,null,"N","12.8",12,8]
[null,null,null,null,null,null,null,null,null,null,null,null,"N","13.1",{"$f":"+IF(R99=\"\",O99+1,O99)","v":13},1,{"$f":"+VLOOKUP(O100,'Resumen requerimientos'!$A$5:$B$104,2,FALSE)","v":"ARQ.CAI.3.2"},{"$f":"+VLOOKUP(Q101,'Resumen requerimientos'!$B$5:$AJ$91,10,0)","v":"Calidad del aire interior"},null,{"$f":"+VLOOKUP(O101,TablaResumen[],16,0)","v":"Concentraciones de compuestos orgánicos volátiles"},null,"Opción",{"$f":"+CONCATENATE(VLOOKUP(O101,'Resumen requerimientos'!$A$5:$AB$91,24),\" de \",VLOOKUP(O101,'Resumen requerimientos'!$A$5:$AB$91,25))","v":"3 de 3"},null,null,null,{"$f":"+'Datos Generales Edificio'!$C$5","v":"RM - Región Metropolitana de Santiago"}]
[null,null,null,null,null,null,null,null,null,null,null,null,"N","13.2",{"$f":"+O100","v":13},2,{"$f":"+VLOOKUP(O101,'Resumen requerimientos'!$A$5:$B$104,2,FALSE)","v":"ARQ.CAI.3.2"},{"$f":"+VLOOKUP(O101,TablaResumen[],21,0)","v":"Reducción de la concentración ponderada de COV"},null,null,null,"Simultáneo",{"$f":"+CONCATENATE(IF(VLOOKUP(O101,'Resumen requerimientos'!$A$5:$AB$91,26)=0,1,VLOOKUP(O101,'Resumen requerimientos'!$A$5:$AB$91,26)),\" de \",IF(VLOOKUP(O101,'Resumen requerimientos'!$A$5:$AB$91,27)=0,1,VLOOKUP(O101,'Resumen requerimientos'!$A$5:$AB$91,27)))","v":"1 de 1"},null,null,null,{"$f":"+'Datos Generales Edificio'!$F$28","v":"CI - Central Interior"}]
[null,null,null,null,null,null,null,null,null,null,null,null,"N","13.3",13,3,{"$f":"+VLOOKUP(O102,'Resumen requerimientos'!$A$5:$B$104,2,FALSE)","v":"ARQ.CAI.3.2"},"Nivel","Rango","Prioridad","Ponderación Of. Y Serv.","Ponderación Educ. y Salud.","Rango",null,null,null,{"$f":"+R101","v":"Reducción de la concentración ponderada de COV"},"NL - Norte Litoral","ND - Norte Desértico","NVT - Norte Valle Transversal","CL - Central Litoral","CI - Central Interior","SL - Sur Litoral","SI - Sur Interior","SE - Sur Extremo","An - Andino"]
[null,null,null,null,null,null,null,null,null,null,null,null,"N","13.4",13,4,{"$f":"+VLOOKUP(O103,'Resumen requerimientos'!$A$5:$B$104,2,FALSE)","v":"ARQ.CAI.3.2"},"Muy bueno",{"$f":"+HLOOKUP($AA$101,$AB$102:$AJ$106,AK103,0)","v":"39,999%-100%"},1,{"$f":"+VLOOKUP(O101,TablaResumen[],22,0)*T103","v":2.5000000000000001E-2},{"$f":"+VLOOKUP(O101,TablaResumen[],23,0)*T103","v":0.03},{"$f":"+IFERROR(VALUE(MID(S103,1,FIND(\"-\",S103)-1)),S103)","v":0.39999000000000001},{"$f":"+IFERROR(VALUE(MID(S103,FIND(\"-\",S103)+1,LEN(S103)-FIND(\"-\",S103))),S103)","v":1},null,null,"Muy bueno","39,999%-100%","39,999%-100%","39,999%-100%","39,999%-100%","39,999%-100%","39,999%-100%","39,999%-100%","39,999%-100%","39,999%-100%",2]
[null,null,null,null,null,null,null,null,null,null,null,null,"N","13.5",13,5,{"$f":"+VLOOKUP(O104,'Resumen requerimientos'!$A$5:$B$104,2,FALSE)","v":"ARQ.CAI.3.2"},"Bueno",{"$f":"+HLOOKUP($AA$101,$AB$102:$AJ$106,AK104,0)","v":"19,999%-39,999%"},{"$f":"+IF(Uso_Edificio=\"Oficinas\",1.5/2.5,2/3)","v":0.6},{"$f":"+VLOOKUP(O102,TablaResumen[],22,0)*T104","v":1.4999999999999999E-2},{"$f":"+VLOOKUP(O102,TablaResumen[],23,0)*T104","v":1.7999999999999999E-2},{"$f":"+IFERROR(VALUE(MID(S104,1,FIND(\"-\",S104)-1)),S104)","v":0.19999},{"$f":"+IFERROR(VALUE(MID(S104,FIND(\"-\",S104)+1,LEN(S104)-FIND(\"-\",S104))),S104)","v":0.39999000000000001},null,null,"Bueno","19,999%-39,999%","19,999%-39,999%","19,999%-39,999%","19,999%-39,999%","19,999%-39,999%","19,999%-39,999%","19,999%-39,999%","19,999%-39,999%","19,999%-39,999%",3]
[null,null,null,null,null,null,null,null,null,null,null,null,"N","13.6",13,6,{"$f":"+VLOOKUP(O105,'Resumen requerimientos'!$A$5:$B$104,2,FALSE)","v":"ARQ.CAI.3.2"},"Regular",{"$f":"+HLOOKUP($AA$101,$AB$102:$AJ$106,AK105,0)","v":"9,999%-19,999%"},{"$f":"+IF(Uso_Edificio=\"Oficinas\",0.5/2.5,0.5/3)","v":0.2},{"$f":"+VLOOKUP(O103,TablaResumen[],22,0)*T105","v":5.000000000000001E-3},{"$f":"+VLOOKUP(O103,TablaResumen[],23,0)*T105","v":6.0000000000000001E-3},{"$f":"+IFERROR(VALUE(MID(S105,1,FIND(\"-\",S105)-1)),S105)","v":9.9989999999999996E-2},{"$f":"+IFERROR(VALUE(MID(S105,FIND(\"-\",S105)+1,LEN(S105)-FIND(\"-\",S105))),S105)","v":0.19999},null,null,"Regular","9,999%-19,999%","9,999%-19,999%","9,999%-19,999%","9,999%-19,999%","9,999%-19,999%","9,999%-19,999%","9,999%-19,999%","9,999%-19,999%","9,999%-19,999%",4]
[null,null,null,null,null,null,null,null,null,null,null,null,"N","13.7",13,7,{"$f":"+VLOOKUP(O106,'Resumen requerimientos'!$A$5:$B$104,2,FALSE)","v":"ARQ.CAI.3.2"},"Minimo",null,null,{"$f":"+VLOOKUP(O104,TablaResumen[],22,0)*T106","v":0},{"$f":"+VLOOKUP(O104,TablaResumen[],23,0)*T106","v":0},{"$f":"+IFERROR(VALUE(MID(S106,1,FIND(\"-\",S106)-1)),S106)","v":0},{"$f":"+IFERROR(VALUE(MID(S106,FIND(\"-\",S106)+1,LEN(S106)-FIND(\"-\",S106))),S106)","v":0},null,null,"Minimo",null,null,null,null,null,null,null,null,null,5]
[null,null,null,null,null,null,null,null,null,null,null,null,"N","13.8",13,8]
[null,null,null,null,null,null,null,null,null,null,null,null,"T","14.1",{"$f":"+IF(R107=\"\",O107+1,O107)","v":14},1,{"$f":"+VLOOKUP(O108,'Resumen requerimientos'!$A$5:$B$104,2,FALSE)","v":"3R"},{"$f":"+VLOOKUP(Q109,'Resumen requerimientos'!$B$5:$AJ$91,10,0)","v":"Calidad del aire interior"},null,{"$f":"+VLOOKUP(O109,TablaResumen[],16,0)","v":"Superficie mínima de ventana o caudal mínimo de aire"},null,"Opción",{"$f":"+CONCATENATE(VLOOKUP(O109,'Resumen requerimientos'!$A$5:$AB$91,24),\" de \",VLOOKUP(O109,'Resumen requerimientos'!$A$5:$AB$91,25))","v":"1 de 2"},null,null,null,{"$f":"+'Datos Generales Edificio'!$C$5","v":"RM - Región Metropolitana de Santiago"}]
[null,null,null,null,null,null,null,null,null,null,null,null,"T","14.2",{"$f":"+O108","v":14},2,{"$f":"+VLOOKUP(O109,'Resumen requerimientos'!$A$5:$B$104,2,FALSE)","v":"3R"},{"$f":"+VLOOKUP(O109,TablaResumen[],21,0)","v":"Superficie practicable de las ventanas"},null,null,null,"Simultáneo",{"$f":"+CONCATENATE(IF(VLOOKUP(O109,'Resumen requerimientos'!$A$5:$AB$91,26)=0,1,VLOOKUP(O109,'Resumen requerimientos'!$A$5:$AB$91,26)),\" de \",IF(VLOOKUP(O109,'Resumen requerimientos'!$A$5:$AB$91,27)=0,1,VLOOKUP(O109,'Resumen requerimientos'!$A$5:$AB$91,27)))","v":"1 de 1"},null,null,null,{"$f":"+'Datos Generales Edificio'!$F$28","v":"CI - Central Interior"}]
[null,null,null,null,null,null,null,null,null,null,null,null,"T","14.3",14,3,{"$f":"+VLOOKUP(O110,'Resumen requerimientos'!$A$5:$B$104,2,FALSE)","v":"3R"},"Nivel","Rango","Prioridad","Ponderación Of. Y Serv.","Ponderación Educ. y Salud.","Rango",null,null,null,{"$f":"+R109","v":"Superficie practicable de las ventanas"},"NL - Norte Litoral","ND - Norte Desértico","NVT - Norte Valle Transversal","CL - Central Litoral","CI - Central Interior","SL - Sur Litoral","SI - Sur Interior","SE - Sur Extremo","An - Andino"]
[null,null,null,null,null,null,null,null,null,null,null,null,"T","14.4",14,4,{"$f":"+VLOOKUP(O111,'Resumen requerimientos'!$A$5:$B$104,2,FALSE)","v":"3R"},"Muy bueno",{"$f":"+HLOOKUP($AA$109,$AB$110:$AJ$114,AK111,0)","v":"No Aplica"},1,{"$f":"+VLOOKUP(O109,TablaResumen[],22,0)*T111","v":1},{"$f":"+VLOOKUP(O109,TablaResumen[],23,0)*T111","v":1},{"$f":"+IFERROR(VALUE(MID(S111,1,FIND(\"-\",S111)-1)),S111)","v":"No Aplica"},{"$f":"+IFERROR(VALUE(MID(S111,FIND(\"-\",S111)+1,LEN(S111)-FIND(\"-\",S111))),S111)","v":"No Aplica"},null,null,"Cumple",{"$f":"IF(OR(AND(Vent_Mec=\"No\",Vent_Nat=\"Si\"),AND(Vent_Mec=\"Si\",Vent_Nat=\"Si\")),\"Cumple requerimiento de superficie practicable de ventanas\",\"No Aplica\")","v":"No Aplica"},"No Aplica","No Aplica","No Aplica","No Aplica","No Aplica","No Aplica","No Aplica","No Aplica",2]
[null,null,null,null,null,null,null,null,null,null,null,null,"T","14.5",14,5,{"$f":"+VLOOKUP(O112,'Resumen requerimientos'!$A$5:$B$104,2,FALSE)","v":"3R"},"Bueno",{"$f":"+HLOOKUP($AA$109,$AB$110:$AJ$114,AK112,0)","v":""},-1,{"$f":"+VLOOKUP(O110,TablaResumen[],22,0)*T112","v":-1},{"$f":"+VLOOKUP(O110,TablaResumen[],23,0)*T112","v":-1},{"$f":"+IFERROR(VALUE(MID(S112,1,FIND(\"-\",S112)-1)),S112)","v":""},{"$f":"+IFERROR(VALUE(MID(S112,FIND(\"-\",S112)+1,LEN(S112)-FIND(\"-\",S112))),S112)","v":""},null,null,"No Cumple",{"$f":"IF(OR(AND(Vent_Mec=\"No\",Vent_Nat=\"Si\"),AND(Vent_Mec=\"Si\",Vent_Nat=\"Si\")),\"No cumple requerimiento de superficie practicable de ventanas\",\"\")","v":""},"","","","","","","","",3]
[null,null,null,null,null,null,null,null,null,null,null,null,"T","14.6",14,6,{"$f":"+VLOOKUP(O113,'Resumen requerimientos'!$A$5:$B$104,2,FALSE)","v":"3R"},"Regular",{"$f":"+HLOOKUP($AA$109,$AB$110:$AJ$114,AK113,0)","v":0},0,{"$f":"+VLOOKUP(O111,TablaResumen[],22,0)*T113","v":0},{"$f":"+VLOOKUP(O111,TablaResumen[],23,0)*T113","v":0},{"$f":"+IFERROR(VALUE(MID(S113,1,FIND(\"-\",S113)-1)),S113)","v":0},{"$f":"+IFERROR(VALUE(MID(S113,FIND(\"-\",S113)+1,LEN(S113)-FIND(\"-\",S113))),S113)","v":0},null,null,null,null,null,null,null,null,null,null,null,null,4]
[null,null,null,null,null,null,null,null,null,null,null,null,"T","14.7",14,7,{"$f":"+VLOOKUP(O114,'Resumen requerimientos'!$A$5:$B$104,2,FALSE)","v":"3R"},"Minimo",{"$f":"+HLOOKUP($AA$109,$AB$110:$AJ$114,AK114,0)","v":0},0,{"$f":"+VLOOKUP(O112,TablaResumen[],22,0)*T114","v":0},{"$f":"+VLOOKUP(O112,TablaResumen[],23,0)*T114","v":0},{"$f":"+IFERROR(VALUE(MID(S114,1,FIND(\"-\",S114)-1)),S114)","v":0},{"$f":"+IFERROR(VALUE(MID(S114,FIND(\"-\",S114)+1,LEN(S114)-FIND(\"-\",S114))),S114)","v":0},null,null,null,null,null,null,null,null,null,null,null,null,5]
[null,null,null,null,null,null,null,null,null,null,null,null,"T","14.8",14,8]
[null,null,null,null,null,null,null,null,null,null,null,null,"T","15.1",{"$f":"+IF(R115=\"\",O115+1,O115)","v":15},1,{"$f":"+VLOOKUP(O116,'Resumen requerimientos'!$A$5:$B$104,2,FALSE)","v":"3R"},{"$f":"+VLOOKUP(Q117,'Resumen requerimientos'!$B$5:$AJ$91,10,0)","v":"Calidad del aire interior"},null,{"$f":"+VLOOKUP(O117,TablaResumen[],16,0)","v":"Superficie mínima de ventana o caudal mínimo de aire"},null,"Opción",{"$f":"+CONCATENATE(VLOOKUP(O117,'Resumen requerimientos'!$A$5:$AB$91,24),\" de \",VLOOKUP(O117,'Resumen requerimientos'!$A$5:$AB$91,25))","v":"2 de 2"},null,null,null,{"$f":"+'Datos Generales Edificio'!$C$5","v":"RM - Región Metropolitana de Santiago"}]
[null,null,null,null,null,null,null,null,null,null,null,null,"T","15.2",{"$f":"+O116","v":15},2,{"$f":"+VLOOKUP(O117,'Resumen requerimientos'!$A$5:$B$104,2,FALSE)","v":"3R"},{"$f":"+VLOOKUP(O117,TablaResumen[],21,0)","v":"Renovaciones de aire hora [RAH]"},null,null,null,"Simultáneo",{"$f":"+CONCATENATE(IF(VLOOKUP(O117,'Resumen requerimientos'!$A$5:$AB$91,26)=0,1,VLOOKUP(O117,'Resumen requerimientos'!$A$5:$AB$91,26)),\" de \",IF(VLOOKUP(O117,'Resumen requerimientos'!$A$5:$AB$91,27)=0,1,VLOOKUP(O117,'Resumen requerimientos'!$A$5:$AB$91,27)))","v":"1 de 1"},null,null,null,{"$f":"+'Datos Generales Edificio'!$F$28","v":"CI - Central Interior"}]
[null,null,null,null,null,null,null,null,null,null,null,null,"T","15.3",15,3,{"$f":"+VLOOKUP(O118,'Resumen requerimientos'!$A$5:$B$104,2,FALSE)","v":"3R"},"Nivel","Rango","Prioridad","Ponderación Of. Y Serv.","Ponderación Educ. y Salud.","Rango",null,null,null,{"$f":"+R117","v":"Renovaciones de aire hora [RAH]"},"NL - Norte Litoral","ND - Norte Desértico","NVT - Norte Valle Transversal","CL - Central Litoral","CI - Central Interior","SL - Sur Litoral","SI - Sur Interior","SE - Sur Extremo","An - Andino"]
[null,null,null,null,null,null,null,null,null,null,null,null,"T","15.4",15,4,{"$f":"+VLOOKUP(O119,'Resumen requerimientos'!$A$5:$B$104,2,FALSE)","v":"3R"},"Muy bueno",{"$f":"+HLOOKUP($AA$117,$AB$118:$AJ$122,AK119,0)","v":"No Aplica"},1,{"$f":"+VLOOKUP(O117,TablaResumen[],22,0)*T119","v":1},{"$f":"+VLOOKUP(O117,TablaResumen[],23,0)*T119","v":1},{"$f":"+IFERROR(VALUE(MID(S119,1,FIND(\"-\",S119)-1)),S119)","v":"No Aplica"},{"$f":"+IFERROR(VALUE(MID(S119,FIND(\"-\",S119)+1,LEN(S119)-FIND(\"-\",S119))),S119)","v":"No Aplica"},null,null,"Muy bueno",{"$f":"IF(OR(AND(Vent_Mec=\"No\",Vent_Nat=\"Si\"),AND(Vent_Mec=\"Si\",Vent_Nat=\"Si\")),\"Cumple requerimiento de renovaciones de aire\",\"No Aplica\")","v":"No Aplica"},"No Aplica","No Aplica","No Aplica","No Aplica","No Aplica","No Aplica","No Aplica","No Aplica",2]
[null,null,null,null,null,null,null,null,null,null,null,null,"T","15.5",15,5,{"$f":"+VLOOKUP(O120,'Resumen requerimientos'!$A$5:$B$104,2,FALSE)","v":"3R"},"Bueno",{"$f":"+HLOOKUP($AA$117,$AB$118:$AJ$122,AK120,0)","v":""},-1,{"$f":"+VLOOKUP(O118,TablaResumen[],22,0)*T120","v":-1},{"$f":"+VLOOKUP(O118,TablaResumen[],23,0)*T120","v":-1},{"$f":"+IFERROR(VALUE(MID(S120,1,FIND(\"-\",S120)-1)),S120)","v":""},{"$f":"+IFERROR(VALUE(MID(S120,FIND(\"-\",S120)+1,LEN(S120)-FIND(\"-\",S120))),S120)","v":""},null,null,"Bueno",{"$f":"IF(OR(AND(Vent_Mec=\"No\",Vent_Nat=\"Si\"),AND(Vent_Mec=\"Si\",Vent_Nat=\"Si\")),\"No cumple requerimiento de renovaciones de aire\",\"\")","v":""},"","","","","","","","",3]
[null,null,null,null,null,null,null,null,null,null,null,null,"T","15.6",15,6,{"$f":"+VLOOKUP(O121,'Resumen requerimientos'!$A$5:$B$104,2,FALSE)","v":"3R"},"Regular",{"$f":"+HLOOKUP($AA$117,$AB$118:$AJ$122,AK121,0)","v":0},0,{"$f":"+VLOOKUP(O119,TablaResumen[],22,0)*T121","v":0},{"$f":"+VLOOKUP(O119,TablaResumen[],23,0)*T121","v":0},{"$f":"+IFERROR(VALUE(MID(S121,1,FIND(\"-\",S121)-1)),S121)","v":0},{"$f":"+IFERROR(VALUE(MID(S121,FIND(\"-\",S121)+1,LEN(S121)-FIND(\"-\",S121))),S121)","v":0},null,null,"Regular",null,null,null,null,null,null,null,null,null,4]
[null,null,null,null,null,null,null,null,null,null,null,null,"T","15.7",15,7,{"$f":"+VLOOKUP(O122,'Resumen requerimientos'!$A$5:$B$104,2,FALSE)","v":"3R"},"Minimo",{"$f":"+HLOOKUP($AA$117,$AB$118:$AJ$122,AK122,0)","v":0},0,{"$f":"+VLOOKUP(O120,TablaResumen[],22,0)*T122","v":0},{"$f":"+VLOOKUP(O120,TablaResumen[],23,0)*T122","v":0},{"$f":"+IFERROR(VALUE(MID(S122,1,FIND(\"-\",S122)-1)),S122)","v":0},{"$f":"+IFERROR(VALUE(MID(S122,FIND(\"-\",S122)+1,LEN(S122)-FIND(\"-\",S122))),S122)","v":0},null,null,"Minimo",null,null,null,null,null,null,null,null,null,5]
[null,null,null,null,null,null,null,null,null,null,null,null,"T","15.8",15,8]
[null,null,null,null,null,null,null,null,null,null,null,null,"N","16.1",{"$f":"+IF(R123=\"\",O123+1,O123)","v":16},1,{"$f":"+VLOOKUP(O124,'Resumen requerimientos'!$A$5:$B$104,2,FALSE)","v":"ARQ.CAI.4.1"},{"$f":"+VLOOKUP(Q125,'Resumen requerimientos'!$B$5:$AJ$91,10,0)","v":"Confort Acústico"},null,{"$f":"+VLOOKUP(O125,TablaResumen[],16,0)","v":"Aislamiento acústico"},null,"Opción",{"$f":"+CONCATENATE(VLOOKUP(O125,'Resumen requerimientos'!$A$5:$AB$91,24),\" de \",VLOOKUP(O125,'Resumen requerimientos'!$A$5:$AB$91,25))","v":"1 de 1"},null,null,null,{"$f":"+'Datos Generales Edificio'!$C$5","v":"RM - Región Metropolitana de Santiago"}]
[null,null,null,null,null,null,null,null,null,null,null,null,"N","16.2",{"$f":"+O124","v":16},2,{"$f":"+VLOOKUP(O125,'Resumen requerimientos'!$A$5:$B$104,2,FALSE)","v":"ARQ.CAI.4.1"},{"$f":"+VLOOKUP(O125,TablaResumen[],21,0)","v":"Aislamiento acústico de fachada [dB(A)]"},null,null,null,"Simultáneo",{"$f":"+CONCATENATE(IF(VLOOKUP(O125,'Resumen requerimientos'!$A$5:$AB$91,26)=0,1,VLOOKUP(O125,'Resumen requerimientos'!$A$5:$AB$91,26)),\" de \",IF(VLOOKUP(O125,'Resumen requerimientos'!$A$5:$AB$91,27)=0,1,VLOOKUP(O125,'Resumen requerimientos'!$A$5:$AB$91,27)))","v":"1 de 1"},null,null,null,{"$f":"+'Datos Generales Edificio'!$F$28","v":"CI - Central Interior"}]
[null,null,null,null,null,null,null,null,null,null,null,null,"N","16.3",16,3,{"$f":"+VLOOKUP(O126,'Resumen requerimientos'!$A$5:$B$104,2,FALSE)","v":"ARQ.CAI.4.1"},"Nivel","Rango","Prioridad","Ponderación Of. Y Serv.","Ponderación Educ. y Salud.","Rango",null,null,null,{"$f":"+R125","v":"Aislamiento acústico de fachada [dB(A)]"},"NL - Norte Litoral","ND - Norte Desértico","NVT - Norte Valle Transversal","CL - Central Litoral","CI - Central Interior","SL - Sur Litoral","SI - Sur Interior","SE - Sur Extremo","An - Andino"]
[null,null,null,null,null,null,null,null,null,null,null,null,"N","16.4",16,4,{"$f":"+VLOOKUP(O127,'Resumen requerimientos'!$A$5:$B$104,2,FALSE)","v":"ARQ.CAI.4.1"},"Muy bueno",{"$f":"+HLOOKUP($AA$125,$AB$126:$AJ$130,AK127,0)","v":"34,99999-100"},1,{"$f":"+VLOOKUP(O125,TablaResumen[],22,0)*T127","v":0.02},{"$f":"+VLOOKUP(O125,TablaResumen[],23,0)*T127","v":0.03},{"$f":"+IFERROR(VALUE(MID(S127,1,FIND(\"-\",S127)-1)),S127)","v":34.999989999999997},{"$f":"+IFERROR(VALUE(MID(S127,FIND(\"-\",S127)+1,LEN(S127)-FIND(\"-\",S127))),S127)","v":100},null,null,"Muy bueno",{"$f":"CONCATENATE(IF(NED>65,NED-40,24.99999)+10,\"-\",100)","v":"34,99999-100"},"34,99999-100","34,99999-100","34,99999-100","34,99999-100","34,99999-100","34,99999-100","34,99999-100","34,99999-100",2]
[null,null,null,null,null,null,null,null,null,null,null,null,"N","16.5",16,5,{"$f":"+VLOOKUP(O128,'Resumen requerimientos'!$A$5:$B$104,2,FALSE)","v":"ARQ.CAI.4.1"},"Bueno",{"$f":"+HLOOKUP($AA$125,$AB$126:$AJ$130,AK128,0)","v":"29,99999-34,99999"},0.5,{"$f":"+VLOOKUP(O126,TablaResumen[],22,0)*T128","v":0.01},{"$f":"+VLOOKUP(O126,TablaResumen[],23,0)*T128","v":1.4999999999999999E-2},{"$f":"+IFERROR(VALUE(MID(S128,1,FIND(\"-\",S128)-1)),S128)","v":29.99999},{"$f":"+IFERROR(VALUE(MID(S128,FIND(\"-\",S128)+1,LEN(S128)-FIND(\"-\",S128))),S128)","v":34.999989999999997},null,null,"Bueno",{"$f":"CONCATENATE(IF(NED>65,NED-40,24.99999)+5,\"-\",IF(NED>65,NED-40,24.99999)+10)","v":"29,99999-34,99999"},"29,99999-34,99999","29,99999-34,99999","29,99999-34,99999","29,99999-34,99999","29,99999-34,99999","29,99999-34,99999","29,99999-34,99999","29,99999-34,99999",3]
[null,null,null,null,null,null,null,null,null,null,null,null,"N","16.6",16,6,{"$f":"+VLOOKUP(O129,'Resumen requerimientos'!$A$5:$B$104,2,FALSE)","v":"ARQ.CAI.4.1"},"Regular",{"$f":"+HLOOKUP($AA$125,$AB$126:$AJ$130,AK129,0)","v":0},0,{"$f":"+VLOOKUP(O127,TablaResumen[],22,0)*T129","v":0},{"$f":"+VLOOKUP(O127,TablaResumen[],23,0)*T129","v":0},{"$f":"+IFERROR(VALUE(MID(S129,1,FIND(\"-\",S129)-1)),S129)","v":0},{"$f":"+IFERROR(VALUE(MID(S129,FIND(\"-\",S129)+1,LEN(S129)-FIND(\"-\",S129))),S129)","v":0},null,null,"Regular",null,null,null,null,null,null,null,null,null,4]
[null,null,null,null,null,null,null,null,null,null,null,null,"N","16.7",16,7,{"$f":"+VLOOKUP(O130,'Resumen requerimientos'!$A$5:$B$104,2,FALSE)","v":"ARQ.CAI.4.1"},"Minimo",{"$f":"+HLOOKUP($AA$125,$AB$126:$AJ$130,AK130,0)","v":0},0,{"$f":"+VLOOKUP(O128,TablaResumen[],22,0)*T130","v":0},{"$f":"+VLOOKUP(O128,TablaResumen[],23,0)*T130","v":0},{"$f":"+IFERROR(VALUE(MID(S130,1,FIND(\"-\",S130)-1)),S130)","v":0},{"$f":"+IFERROR(VALUE(MID(S130,FIND(\"-\",S130)+1,LEN(S130)-FIND(\"-\",S130))),S130)","v":0},null,null,"Minimo",null,null,null,null,null,null,null,null,null,5]
[null,null,null,null,null,null,null,null,null,null,null,null,"N","16.8",16,8]
[null,null,null,null,null,null,null,null,null,null,null,null,"N","17.1",{"$f":"+IF(R131=\"\",O131+1,O131)","v":17},1,{"$f":"+VLOOKUP(O132,'Resumen requerimientos'!$A$5:$B$104,2,FALSE)","v":"ARQ.CAI.4.1"},{"$f":"+VLOOKUP(Q133,'Resumen requerimientos'!$B$5:$AJ$91,10,0)","v":"Confort Acústico"},null,{"$f":"+VLOOKUP(O133,TablaResumen[],16,0)","v":"Aislamiento acústico"},null,"Opción",{"$f":"+CONCATENATE(VLOOKUP(O133,'Resumen requerimientos'!$A$5:$AB$91,24),\" de \",VLOOKUP(O133,'Resumen requerimientos'!$A$5:$AB$91,25))","v":"1 de 1"},null,null,null,{"$f":"+'Datos Generales Edificio'!$C$5","v":"RM - Región Metropolitana de Santiago"}]
[null,null,null,null,null,null,null,null,null,null,null,null,"N","17.2",{"$f":"+O132","v":17},2,{"$f":"+VLOOKUP(O133,'Resumen requerimientos'!$A$5:$B$104,2,FALSE)","v":"ARQ.CAI.4.1"},{"$f":"+VLOOKUP(O133,TablaResumen[],21,0)","v":"Aislamiento acústico entre recintos [dB(A)]"},null,null,null,"Simultáneo",{"$f":"+CONCATENATE(IF(VLOOKUP(O133,'Resumen requerimientos'!$A$5:$AB$91,26)=0,1,VLOOKUP(O133,'Resumen requerimientos'!$A$5:$AB$91,26)),\" de \",IF(VLOOKUP(O133,'Resumen requerimientos'!$A$5:$AB$91,27)=0,1,VLOOKUP(O133,'Resumen requerimientos'!$A$5:$AB$91,27)))","v":"1 de 1"},null,null,null,{"$f":"+'Datos Generales Edificio'!$F$28","v":"CI - Central Interior"}]
[null,null,null,null,null,null,null,null,null,null,null,null,"N",{"$f":"+CONCATENATE(O134,\".\",P134)","v":"17.3"},17,{"$f":"+IF(O134=O133,P133+1,1)","v":3},{"$f":"+VLOOKUP(O134,'Resumen requerimientos'!$A$5:$B$104,2,FALSE)","v":"ARQ.CAI.4.1"},"Nivel","Rango","Prioridad","Ponderación Of. Y Serv.","Ponderación Educ. y Salud.","Rango",null,null,null,{"$f":"+R133","v":"Aislamiento acústico entre recintos [dB(A)]"},"NL - Norte Litoral","ND - Norte Desértico","NVT - Norte Valle Transversal","CL - Central Litoral","CI - Central Interior","SL - Sur Litoral","SI - Sur Interior","SE - Sur Extremo","An - Andino"]
[null,null,null,null,null,null,null,null,null,null,null,null,"N","17.4",17,4,{"$f":"+VLOOKUP(O135,'Resumen requerimientos'!$A$5:$B$104,2,FALSE)","v":"ARQ.CAI.4.1"},"Muy bueno",{"$f":"+HLOOKUP($AA$133,$AB$134:$AJ$138,AK135,0)","v":"5-1000000"},1,{"$f":"+VLOOKUP(O133,TablaResumen[],22,0)*T135","v":0.01},{"$f":"+VLOOKUP(O133,TablaResumen[],23,0)*T135","v":0.02},{"$f":"+IFERROR(VALUE(MID(S135,1,FIND(\"-\",S135)-1)),S135)","v":5},{"$f":"+IFERROR(VALUE(MID(S135,FIND(\"-\",S135)+1,LEN(S135)-FIND(\"-\",S135))),S135)","v":1000000},null,null,"Muy bueno","5-1000000","5-1000000","5-1000000","5-1000000","5-1000000","5-1000000","5-1000000","5-1000000","5-1000000",2]
[null,null,null,null,null,null,null,null,null,null,null,null,"N","17.5",17,5,{"$f":"+VLOOKUP(O136,'Resumen requerimientos'!$A$5:$B$104,2,FALSE)","v":"ARQ.CAI.4.1"},"Bueno",{"$f":"+HLOOKUP($AA$133,$AB$134:$AJ$138,AK136,0)","v":"-0,000000000000000001-5"},{"$f":"+IF(Uso_Edificio=\"Oficinas\",0.5/1,0.5/2)","v":0.5},{"$f":"+VLOOKUP(O134,TablaResumen[],22,0)*T136","v":5.0000000000000001E-3},{"$f":"+VLOOKUP(O134,TablaResumen[],23,0)*T136","v":0.01},{"$f":"+IFERROR(VALUE(MID(S136,1,FIND(\"-\",S136,2)-1)),S136)","v":-1.0000000000000001E-18},{"$f":"+IFERROR(VALUE(MID(S136,FIND(\"-\",S136,2)+1,LEN(S136)-FIND(\"-\",S136))),S136)","v":5},null,null,"Bueno","-0,000000000000000001-5","-0,000000000000000001-5","-0,000000000000000001-5","-0,000000000000000001-5","-0,000000000000000001-5","-0,000000000000000001-5","-0,000000000000000001-5","-0,000000000000000001-5","-0,000000000000000001-5",3]
[null,null,null,null,null,null,null,null,null,null,null,null,"N","17.6",17,6,{"$f":"+VLOOKUP(O137,'Resumen requerimientos'!$A$5:$B$104,2,FALSE)","v":"ARQ.CAI.4.1"},"Regular",null,null,{"$f":"+VLOOKUP(O135,TablaResumen[],22,0)*T137","v":0},{"$f":"+VLOOKUP(O135,TablaResumen[],23,0)*T137","v":0},{"$f":"+IFERROR(VALUE(MID(S137,1,FIND(\"-\",S137)-1)),S137)","v":0},{"$f":"+IFERROR(VALUE(MID(S137,FIND(\"-\",S137)+1,LEN(S137)-FIND(\"-\",S137))),S137)","v":0},null,null,"Regular",null,null,null,null,null,null,null,null,null,4]
[null,null,null,null,null,null,null,null,null,null,null,null,"N","17.7",17,7,{"$f":"+VLOOKUP(O138,'Resumen requerimientos'!$A$5:$B$104,2,FALSE)","v":"ARQ.CAI.4.1"},"Minimo",null,null,{"$f":"+VLOOKUP(O136,TablaResumen[],22,0)*T138","v":0},{"$f":"+VLOOKUP(O136,TablaResumen[],23,0)*T138","v":0},{"$f":"+IFERROR(VALUE(MID(S138,1,FIND(\"-\",S138)-1)),S138)","v":0},{"$f":"+IFERROR(VALUE(MID(S138,FIND(\"-\",S138)+1,LEN(S138)-FIND(\"-\",S138))),S138)","v":0},null,null,"Minimo",null,null,null,null,null,null,null,null,null,5]
[null,null,null,null,null,null,null,null,null,null,null,null,"T","17.8",17,8]
[null,null,null,null,null,null,null,null,null,null,null,null,"T","18.1",{"$f":"+IF(R139=\"\",O139+1,O139)","v":18},1,{"$f":"+VLOOKUP(O140,'Resumen requerimientos'!$A$5:$B$104,2,FALSE)","v":"ARQ.CAI.4.2"},{"$f":"+VLOOKUP(Q141,'Resumen requerimientos'!$B$5:$AJ$91,10,0)","v":"Confort Acústico"},null,{"$f":"+VLOOKUP(O141,TablaResumen[],16,0)","v":"Acondicionamiento acústico"},null,"Opción",{"$f":"+CONCATENATE(VLOOKUP(O141,'Resumen requerimientos'!$A$5:$AB$91,24),\" de \",VLOOKUP(O141,'Resumen requerimientos'!$A$5:$AB$91,25))","v":"1 de 2"},null,null,null,{"$f":"+'Datos Generales Edificio'!$C$5","v":"RM - Región Metropolitana de Santiago"}]
[null,null,null,null,null,null,null,null,null,null,null,null,"T","18.2",{"$f":"+O140","v":18},2,{"$f":"+VLOOKUP(O141,'Resumen requerimientos'!$A$5:$B$104,2,FALSE)","v":"ARQ.CAI.4.2"},{"$f":"+VLOOKUP(O141,TablaResumen[],21,0)","v":"Tiempo de reverberación [s]"},null,null,null,"Simultáneo",{"$f":"+CONCATENATE(IF(VLOOKUP(O141,'Resumen requerimientos'!$A$5:$AB$91,26)=0,1,VLOOKUP(O141,'Resumen requerimientos'!$A$5:$AB$91,26)),\" de \",IF(VLOOKUP(O141,'Resumen requerimientos'!$A$5:$AB$91,27)=0,1,VLOOKUP(O141,'Resumen requerimientos'!$A$5:$AB$91,27)))","v":"1 de 1"},null,null,null,{"$f":"+'Datos Generales Edificio'!$F$28","v":"CI - Central Interior"}]
[null,null,null,null,null,null,null,null,null,null,null,null,"T","18.3",18,3,{"$f":"+VLOOKUP(O142,'Resumen requerimientos'!$A$5:$B$104,2,FALSE)","v":"ARQ.CAI.4.2"},"Nivel","Rango","Prioridad","Ponderación Of. Y Serv.","Ponderación Educ. y Salud.","Rango",null,null,null,{"$f":"+R141","v":"Tiempo de reverberación [s]"},"NL - Norte Litoral","ND - Norte Desértico","NVT - Norte Valle Transversal","CL - Central Litoral","CI - Central Interior","SL - Sur Litoral","SI - Sur Interior","SE - Sur Extremo","An - Andino"]
[null,null,null,null,null,null,null,null,null,null,null,null,"T","18.4",18,4,{"$f":"+VLOOKUP(O143,'Resumen requerimientos'!$A$5:$B$104,2,FALSE)","v":"ARQ.CAI.4.2"},"Muy bueno",{"$f":"+HLOOKUP($AA$141,$AB$142:$AJ$146,AK143,0)","v":"Cumple con requisitos de la tabla 8"},1,{"$f":"+VLOOKUP(O141,TablaResumen[],22,0)*T143","v":1.4999999999999999E-2},{"$f":"+VLOOKUP(O141,TablaResumen[],23,0)*T143","v":1.4999999999999999E-2},{"$f":"+IFERROR(VALUE(MID(S143,1,FIND(\"-\",S143)-1)),S143)","v":"Cumple con requisitos de la tabla 8"},{"$f":"+IFERROR(VALUE(MID(S143,FIND(\"-\",S143)+1,LEN(S143)-FIND(\"-\",S143))),S143)","v":"Cumple con requisitos de la tabla 8"},null,null,"Muy bueno","Cumple con requisitos de la tabla 8","Cumple con requisitos de la tabla 8","Cumple con requisitos de la tabla 8","Cumple con requisitos de la tabla 8","Cumple con requisitos de la tabla 8","Cumple con requisitos de la tabla 8","Cumple con requisitos de la tabla 8","Cumple con requisitos de la tabla 8","Cumple con requisitos de la tabla 8",2]
[null,null,null,null,null,null,null,null,null,null,null,null,"T","18.5",18,5,{"$f":"+VLOOKUP(O144,'Resumen requerimientos'!$A$5:$B$104,2,FALSE)","v":"ARQ.CAI.4.2"},"Bueno",{"$f":"+HLOOKUP($AA$141,$AB$142:$AJ$146,AK144,0)","v":"Mayor a lo definido en la tabla 8 y menor a 1,5"},{"$f":"0.5/1.5","v":0.33333333333333331},{"$f":"+VLOOKUP(O142,TablaResumen[],22,0)*T144","v":4.9999999999999992E-3},{"$f":"+VLOOKUP(O142,TablaResumen[],23,0)*T144","v":4.9999999999999992E-3},{"$f":"+IFERROR(VALUE(MID(S144,1,FIND(\"-\",S144)-1)),S144)","v":"Mayor a lo definido en la tabla 8 y menor a 1,5"},{"$f":"+IFERROR(VALUE(MID(S144,FIND(\"-\",S144)+1,LEN(S144)-FIND(\"-\",S144))),S144)","v":"Mayor a lo definido en la tabla 8 y menor a 1,5"},null,null,"Bueno","Mayor a lo definido en la tabla 8 y menor a 1,5","Mayor a lo definido en la tabla 8 y menor a 1,5","Mayor a lo definido en la tabla 8 y menor a 1,5","Mayor a lo definido en la tabla 8 y menor a 1,5","Mayor a lo definido en la tabla 8 y menor a 1,5","Mayor a lo definido en la tabla 8 y menor a 1,5","Mayor a lo definido en la tabla 8 y menor a 1,5","Mayor a lo definido en la tabla 8 y menor a 1,5","Mayor a lo definido en la tabla 8 y menor a 1,5",3]
[null,null,null,null,null,null,null,null,null,null,null,null,"T","18.6",18,6,{"$f":"+VLOOKUP(O145,'Resumen requerimientos'!$A$5:$B$104,2,FALSE)","v":"ARQ.CAI.4.2"},"Regular",null,null,{"$f":"+VLOOKUP(O143,TablaResumen[],22,0)*T145","v":0},{"$f":"+VLOOKUP(O143,TablaResumen[],23,0)*T145","v":0},{"$f":"+IFERROR(VALUE(MID(S145,1,FIND(\"-\",S145)-1)),S145)","v":0},{"$f":"+IFERROR(VALUE(MID(S145,FIND(\"-\",S145)+1,LEN(S145)-FIND(\"-\",S145))),S145)","v":0},null,null,"Regular",null,null,null,null,null,null,null,null,null,4]
[null,null,null,null,null,null,null,null,null,null,null,null,"T","18.7",18,7,{"$f":"+VLOOKUP(O146,'Resumen requerimientos'!$A$5:$B$104,2,FALSE)","v":"ARQ.CAI.4.2"},"Minimo",null,null,{"$f":"+VLOOKUP(O144,TablaResumen[],22,0)*T146","v":0},{"$f":"+VLOOKUP(O144,TablaResumen[],23,0)*T146","v":0},{"$f":"+IFERROR(VALUE(MID(S146,1,FIND(\"-\",S146)-1)),S146)","v":0},{"$f":"+IFERROR(VALUE(MID(S146,FIND(\"-\",S146)+1,LEN(S146)-FIND(\"-\",S146))),S146)","v":0},null,null,"Minimo",null,null,null,null,null,null,null,null,null,5]
[null,null,null,null,null,null,null,null,null,null,null,null,"T","18.8",18,8]
[null,null,null,null,null,null,null,null,null,null,null,null,"T","19.1",{"$f":"+IF(R147=\"\",O147+1,O147)","v":19},1,{"$f":"+VLOOKUP(O148,'Resumen requerimientos'!$A$5:$B$104,2,FALSE)","v":"ARQ.CAI.4.2"},{"$f":"+VLOOKUP(Q149,'Resumen requerimientos'!$B$5:$AJ$91,10,0)","v":"Confort Acústico"},null,{"$f":"+VLOOKUP(O149,TablaResumen[],16,0)","v":"Acondicionamiento acústico"},null,"Opción",{"$f":"+CONCATENATE(VLOOKUP(O149,'Resumen requerimientos'!$A$5:$AB$91,24),\" de \",VLOOKUP(O149,'Resumen requerimientos'!$A$5:$AB$91,25))","v":"1 de 2"},null,null,null,{"$f":"+'Datos Generales Edificio'!$C$5","v":"RM - Región Metropolitana de Santiago"}]
[null,null,null,null,null,null,null,null,null,null,null,null,"T","19.2",{"$f":"+O148","v":19},2,{"$f":"+VLOOKUP(O149,'Resumen requerimientos'!$A$5:$B$104,2,FALSE)","v":"ARQ.CAI.4.2"},{"$f":"+VLOOKUP(O149,TablaResumen[],21,0)","v":"Inteligibidad de la palabra"},null,null,null,"Simultáneo",{"$f":"+CONCATENATE(IF(VLOOKUP(O149,'Resumen requerimientos'!$A$5:$AB$91,26)=0,1,VLOOKUP(O149,'Resumen requerimientos'!$A$5:$AB$91,26)),\" de \",IF(VLOOKUP(O149,'Resumen requerimientos'!$A$5:$AB$91,27)=0,1,VLOOKUP(O149,'Resumen requerimientos'!$A$5:$AB$91,27)))","v":"1 de 1"},null,null,null,{"$f":"+'Datos Generales Edificio'!$F$28","v":"CI - Central Interior"}]
[null,null,null,null,null,null,null,null,null,null,null,null,"T","19.3",19,3,{"$f":"+VLOOKUP(O150,'Resumen requerimientos'!$A$5:$B$104,2,FALSE)","v":"ARQ.CAI.4.2"},"Nivel","Rango","Prioridad","Ponderación Of. Y Serv.","Ponderación Educ. y Salud.","Rango",null,null,null,{"$f":"+R149","v":"Inteligibidad de la palabra"},"NL - Norte Litoral","ND - Norte Desértico","NVT - Norte Valle Transversal","CL - Central Litoral","CI - Central Interior","SL - Sur Litoral","SI - Sur Interior","SE - Sur Extremo","An - Andino"]
[null,null,null,null,null,null,null,null,null,null,null,null,"T","19.4",19,4,{"$f":"+VLOOKUP(O151,'Resumen requerimientos'!$A$5:$B$104,2,FALSE)","v":"ARQ.CAI.4.2"},"Muy bueno",{"$f":"+HLOOKUP($AA$149,$AB$150:$AJ$154,AK151,0)","v":"STI mayor a 0,6 en aulas, auditorios, salas de audiencia y cámaras Gesell. STI mayor a 0,5 en oficinas"},1,{"$f":"+VLOOKUP(O149,TablaResumen[],22,0)*T151","v":5.0000000000000001E-3},{"$f":"+VLOOKUP(O149,TablaResumen[],23,0)*T151","v":5.0000000000000001E-3},{"$f":"+IFERROR(VALUE(MID(S151,1,FIND(\"-\",S151)-1)),S151)","v":"STI mayor a 0,6 en aulas, auditorios, salas de audiencia y cámaras Gesell. STI mayor a 0,5 en oficinas"},{"$f":"+IFERROR(VALUE(MID(S151,FIND(\"-\",S151)+1,LEN(S151)-FIND(\"-\",S151))),S151)","v":"STI mayor a 0,6 en aulas, auditorios, salas de audiencia y cámaras Gesell. STI mayor a 0,5 en oficinas"},null,null,"Muy bueno","STI mayor a 0,6 en aulas, auditorios, salas de audiencia y cámaras Gesell. STI mayor a 0,5 en oficinas","STI mayor a 0,6 en aulas, auditorios, salas de audiencia y cámaras Gesell. STI mayor a 0,5 en oficinas","STI mayor a 0,6 en aulas, auditorios, salas de audiencia y cámaras Gesell. STI mayor a 0,5 en oficinas","STI mayor a 0,6 en aulas, auditorios, salas de audiencia y cámaras Gesell. STI mayor a 0,5 en oficinas","STI mayor a 0,6 en aulas, auditorios, salas de audiencia y cámaras Gesell. STI mayor a 0,5 en oficinas","STI mayor a 0,6 en aulas, auditorios, salas de audiencia y cámaras Gesell. STI mayor a 0,5 en oficinas","STI mayor a 0,6 en aulas, auditorios, salas de audiencia y cámaras Gesell. STI mayor a 0,5 en oficinas","STI mayor a 0,6 en aulas, auditorios, salas de audiencia y cámaras Gesell. STI mayor a 0,5 en oficinas","STI mayor a 0,6 en aulas, auditorios, salas de audiencia y cámaras Gesell. STI mayor a 0,5 en oficinas",2]
[null,null,null,null,null,null,null,null,null,null,null,null,"T","19.5",19,5,{"$f":"+VLOOKUP(O152,'Resumen requerimientos'!$A$5:$B$104,2,FALSE)","v":"ARQ.CAI.4.2"},"Bueno",{"$f":"+HLOOKUP($AA$149,$AB$150:$AJ$154,AK152,0)","v":"No cumple con requisitos de STI"},0,{"$f":"+VLOOKUP(O150,TablaResumen[],22,0)*T152","v":0},{"$f":"+VLOOKUP(O150,TablaResumen[],23,0)*T152","v":0},{"$f":"+IFERROR(VALUE(MID(S152,1,FIND(\"-\",S152)-1)),S152)","v":"No cumple con requisitos de STI"},{"$f":"+IFERROR(VALUE(MID(S152,FIND(\"-\",S152)+1,LEN(S152)-FIND(\"-\",S152))),S152)","v":"No cumple con requisitos de STI"},null,null,"Bueno","No cumple con requisitos de STI","No cumple con requisitos de STI","No cumple con requisitos de STI","No cumple con requisitos de STI","No cumple con requisitos de STI","No cumple con requisitos de STI","No cumple con requisitos de STI","No cumple con requisitos de STI","No cumple con requisitos de STI",3]
[null,null,null,null,null,null,null,null,null,null,null,null,"T","19.6",19,6,{"$f":"+VLOOKUP(O153,'Resumen requerimientos'!$A$5:$B$104,2,FALSE)","v":"ARQ.CAI.4.2"},"Regular",null,null,{"$f":"+VLOOKUP(O151,TablaResumen[],22,0)*T153","v":0},{"$f":"+VLOOKUP(O151,TablaResumen[],23,0)*T153","v":0},{"$f":"+IFERROR(VALUE(MID(S153,1,FIND(\"-\",S153)-1)),S153)","v":0},{"$f":"+IFERROR(VALUE(MID(S153,FIND(\"-\",S153)+1,LEN(S153)-FIND(\"-\",S153))),S153)","v":0},null,null,"Regular",null,null,null,null,null,null,null,null,null,4]
[null,null,null,null,null,null,null,null,null,null,null,null,"T","19.7",19,7,{"$f":"+VLOOKUP(O154,'Resumen requerimientos'!$A$5:$B$104,2,FALSE)","v":"ARQ.CAI.4.2"},"Minimo",null,null,{"$f":"+VLOOKUP(O152,TablaResumen[],22,0)*T154","v":0},{"$f":"+VLOOKUP(O152,TablaResumen[],23,0)*T154","v":0},{"$f":"+IFERROR(VALUE(MID(S154,1,FIND(\"-\",S154)-1)),S154)","v":0},{"$f":"+IFERROR(VALUE(MID(S154,FIND(\"-\",S154)+1,LEN(S154)-FIND(\"-\",S154))),S154)","v":0},null,null,"Minimo",null,null,null,null,null,null,null,null,null,5]
[null,null,null,null,null,null,null,null,null,null,null,null,"T","19.8",19,8]
[null,null,null,null,null,null,null,null,null,null,null,null,"N","20.1",{"$f":"+IF(R155=\"\",O155+1,O155)","v":20},1,{"$f":"+VLOOKUP(O156,'Resumen requerimientos'!$A$5:$B$104,2,FALSE)","v":"ARQ.CAI.4.2"},{"$f":"+VLOOKUP(Q157,'Resumen requerimientos'!$B$5:$AJ$91,10,0)","v":"Confort Acústico"},null,{"$f":"+VLOOKUP(O157,TablaResumen[],16,0)","v":"Acondicionamiento acústico"},null,"Opción",{"$f":"+CONCATENATE(VLOOKUP(O157,'Resumen requerimientos'!$A$5:$AB$91,24),\" de \",VLOOKUP(O157,'Resumen requerimientos'!$A$5:$AB$91,25))","v":"2 de 2"},null,null,null,{"$f":"+'Datos Generales Edificio'!$C$5","v":"RM - Región Metropolitana de Santiago"}]
[null,null,null,null,null,null,null,null,null,null,null,null,"N","20.2",{"$f":"+O156","v":20},2,{"$f":"+VLOOKUP(O157,'Resumen requerimientos'!$A$5:$B$104,2,FALSE)","v":"ARQ.CAI.4.2"},{"$f":"+VLOOKUP(O157,TablaResumen[],21,0)","v":"Material absorbente para Aulas y Auditorios"},null,null,null,"Simultáneo",{"$f":"+CONCATENATE(IF(VLOOKUP(O157,'Resumen requerimientos'!$A$5:$AB$91,26)=0,1,VLOOKUP(O157,'Resumen requerimientos'!$A$5:$AB$91,26)),\" de \",IF(VLOOKUP(O157,'Resumen requerimientos'!$A$5:$AB$91,27)=0,1,VLOOKUP(O157,'Resumen requerimientos'!$A$5:$AB$91,27)))","v":"1 de 1"},null,null,null,{"$f":"+'Datos Generales Edificio'!$F$28","v":"CI - Central Interior"}]
[null,null,null,null,null,null,null,null,null,null,null,null,"N","20.3",20,3,{"$f":"+VLOOKUP(O158,'Resumen requerimientos'!$A$5:$B$104,2,FALSE)","v":"ARQ.CAI.4.2"},"Nivel","Rango","Prioridad","Ponderación Of. Y Serv.","Ponderación Educ. y Salud.","Rango",null,null,null,{"$f":"+R157","v":"Material absorbente para Aulas y Auditorios"},"NL - Norte Litoral","ND - Norte Desértico","NVT - Norte Valle Transversal","CL - Central Litoral","CI - Central Interior","SL - Sur Litoral","SI - Sur Interior","SE - Sur Extremo","An - Andino"]
[null,null,null,null,null,null,null,null,null,null,null,null,"N","20.4",20,4,{"$f":"+VLOOKUP(O159,'Resumen requerimientos'!$A$5:$B$104,2,FALSE)","v":"ARQ.CAI.4.2"},"Muy bueno",{"$f":"+HLOOKUP($AA$157,$AB$158:$AJ$162,AK159,0)","v":"0,5-1"},1,{"$f":"+VLOOKUP(O157,TablaResumen[],22,0)*T159","v":5.0000000000000001E-3},{"$f":"+VLOOKUP(O157,TablaResumen[],23,0)*T159","v":5.0000000000000001E-3},{"$f":"+IFERROR(VALUE(MID(S159,1,FIND(\"-\",S159)-1)),S159)","v":0.5},{"$f":"+IFERROR(VALUE(MID(S159,FIND(\"-\",S159)+1,LEN(S159)-FIND(\"-\",S159))),S159)","v":1},null,null,"Muy bueno","0,5-1","0,5-1","0,5-1","0,5-1","0,5-1","0,5-1","0,5-1","0,5-1","0,5-1",2]
[null,null,null,null,null,null,null,null,null,null,null,null,"N","20.5",20,5,{"$f":"+VLOOKUP(O160,'Resumen requerimientos'!$A$5:$B$104,2,FALSE)","v":"ARQ.CAI.4.2"},"Bueno",null,0,{"$f":"+VLOOKUP(O158,TablaResumen[],22,0)*T160","v":0},{"$f":"+VLOOKUP(O158,TablaResumen[],23,0)*T160","v":0},{"$f":"+IFERROR(VALUE(MID(S160,1,FIND(\"-\",S160)-1)),S160)","v":0},{"$f":"+IFERROR(VALUE(MID(S160,FIND(\"-\",S160)+1,LEN(S160)-FIND(\"-\",S160))),S160)","v":0},null,null,"Bueno",null,null,null,null,null,null,null,null,null,3]
[null,null,null,null,null,null,null,null,null,null,null,null,"N","20.6",20,6,{"$f":"+VLOOKUP(O161,'Resumen requerimientos'!$A$5:$B$104,2,FALSE)","v":"ARQ.CAI.4.2"},"Regular",null,0,{"$f":"+VLOOKUP(O159,TablaResumen[],22,0)*T161","v":0},{"$f":"+VLOOKUP(O159,TablaResumen[],23,0)*T161","v":0},{"$f":"+IFERROR(VALUE(MID(S161,1,FIND(\"-\",S161)-1)),S161)","v":0},{"$f":"+IFERROR(VALUE(MID(S161,FIND(\"-\",S161)+1,LEN(S161)-FIND(\"-\",S161))),S161)","v":0},null,null,"Regular",null,null,null,null,null,null,null,null,null,4]
[null,null,null,null,null,null,null,null,null,null,null,null,"N","20.7",20,7,{"$f":"+VLOOKUP(O162,'Resumen requerimientos'!$A$5:$B$104,2,FALSE)","v":"ARQ.CAI.4.2"},"Minimo",null,0,{"$f":"+VLOOKUP(O160,TablaResumen[],22,0)*T162","v":0},{"$f":"+VLOOKUP(O160,TablaResumen[],23,0)*T162","v":0},{"$f":"+IFERROR(VALUE(MID(S162,1,FIND(\"-\",S162)-1)),S162)","v":0},{"$f":"+IFERROR(VALUE(MID(S162,FIND(\"-\",S162)+1,LEN(S162)-FIND(\"-\",S162))),S162)","v":0},null,null,"Minimo",null,null,null,null,null,null,null,null,null,5]
[null,null,null,null,null,null,null,null,null,null,null,null,"N","20.8",20,8]
[null,null,null,null,null,null,null,null,null,null,null,null,"N","21.1",{"$f":"+IF(R163=\"\",O163+1,O163)","v":21},1,{"$f":"+VLOOKUP(O164,'Resumen requerimientos'!$A$5:$B$104,2,FALSE)","v":"4R"},{"$f":"+VLOOKUP(Q165,'Resumen requerimientos'!$B$5:$AJ$91,10,0)","v":"Confort Acústico"},null,{"$f":"+VLOOKUP(O165,TablaResumen[],16,0)","v":"Aislación acústica mínima de fachadas exteriores"},null,"Opción",{"$f":"+CONCATENATE(VLOOKUP(O165,'Resumen requerimientos'!$A$5:$AB$91,24),\" de \",VLOOKUP(O165,'Resumen requerimientos'!$A$5:$AB$91,25))","v":"1 de 1"},null,null,null,{"$f":"+'Datos Generales Edificio'!$C$5","v":"RM - Región Metropolitana de Santiago"}]
[null,null,null,null,null,null,null,null,null,null,null,null,"N","21.2",{"$f":"+O164","v":21},2,{"$f":"+VLOOKUP(O165,'Resumen requerimientos'!$A$5:$B$104,2,FALSE)","v":"4R"},{"$f":"+VLOOKUP(O165,TablaResumen[],21,0)","v":"Aislamiento acústico de fachada [dB(A)]"},null,null,null,"Simultáneo",{"$f":"+CONCATENATE(IF(VLOOKUP(O165,'Resumen requerimientos'!$A$5:$AB$91,26)=0,1,VLOOKUP(O165,'Resumen requerimientos'!$A$5:$AB$91,26)),\" de \",IF(VLOOKUP(O165,'Resumen requerimientos'!$A$5:$AB$91,27)=0,1,VLOOKUP(O165,'Resumen requerimientos'!$A$5:$AB$91,27)))","v":"1 de 1"},null,null,null,{"$f":"+'Datos Generales Edificio'!$F$28","v":"CI - Central Interior"}]
[null,null,null,null,null,null,null,null,null,null,null,null,"N","21.3",21,3,{"$f":"+VLOOKUP(O166,'Resumen requerimientos'!$A$5:$B$104,2,FALSE)","v":"4R"},"Nivel","Rango","Prioridad","Ponderación Of. Y Serv.","Ponderación Educ. y Salud.",null,null,null,null,{"$f":"+R165","v":"Aislamiento acústico de fachada [dB(A)]"},"NL - Norte Litoral","ND - Norte Desértico","NVT - Norte Valle Transversal","CL - Central Litoral","CI - Central Interior","SL - Sur Litoral","SI - Sur Interior","SE - Sur Extremo","An - Andino"]
[null,null,null,null,null,null,null,null,null,null,null,null,"N","21.4",21,4,{"$f":"+VLOOKUP(O167,'Resumen requerimientos'!$A$5:$B$104,2,FALSE)","v":"4R"},null,{"$f":"+HLOOKUP($AA$165,$AB$166:$AJ$170,AK167,0)","v":"24,999999-100"},1,{"$f":"+VLOOKUP(O165,TablaResumen[],22,0)*T167","v":1},{"$f":"+VLOOKUP(O165,TablaResumen[],23,0)*T167","v":1},{"$f":"+IFERROR(VALUE(MID(S167,1,FIND(\"-\",S167)-1)),S167)","v":24.999998999999999},{"$f":"+IFERROR(VALUE(MID(S167,FIND(\"-\",S167)+1,LEN(S167)-FIND(\"-\",S167))),S167)","v":100},null,null,"Muy bueno",{"$f":"CONCATENATE(IF(NED>65,NED-40.000001,24.999999),\"-100\")","v":"24,999999-100"},"24,999999-100","24,999999-100","24,999999-100","24,999999-100","24,999999-100","24,999999-100","24,999999-100","24,999999-100",2]
[null,null,null,null,null,null,null,null,null,null,null,null,"N","21.5",21,5,{"$f":"+VLOOKUP(O168,'Resumen requerimientos'!$A$5:$B$104,2,FALSE)","v":"4R"},null,null,1,{"$f":"+VLOOKUP(O166,TablaResumen[],22,0)*T168","v":1},{"$f":"+VLOOKUP(O166,TablaResumen[],23,0)*T168","v":1},{"$f":"+IFERROR(VALUE(MID(S168,1,FIND(\"-\",S168)-1)),S168)","v":0},{"$f":"+IFERROR(VALUE(MID(S168,FIND(\"-\",S168)+1,LEN(S168)-FIND(\"-\",S168))),S168)","v":0},null,null,"Bueno","24,999999-100","24,999999-100","24,999999-100","24,999999-100","24,999999-100","24,999999-100","24,999999-100","24,999999-100","24,999999-100",3]
[null,null,null,null,null,null,null,null,null,null,null,null,"N","21.6",21,6,{"$f":"+VLOOKUP(O169,'Resumen requerimientos'!$A$5:$B$104,2,FALSE)","v":"4R"},null,null,1,{"$f":"+VLOOKUP(O167,TablaResumen[],22,0)*T169","v":1},{"$f":"+VLOOKUP(O167,TablaResumen[],23,0)*T169","v":1},{"$f":"+IFERROR(VALUE(MID(S169,1,FIND(\"-\",S169)-1)),S169)","v":0},{"$f":"+IFERROR(VALUE(MID(S169,FIND(\"-\",S169)+1,LEN(S169)-FIND(\"-\",S169))),S169)","v":0},null,null,"Regular","24,999999-100","24,999999-100","24,999999-100","24,999999-100","24,999999-100","24,999999-100","24,999999-100","24,999999-100","24,999999-100",4]
[null,null,null,null,null,null,null,null,null,null,null,null,"N","21.7",21,7,{"$f":"+VLOOKUP(O170,'Resumen requerimientos'!$A$5:$B$104,2,FALSE)","v":"4R"},null,null,1,{"$f":"+VLOOKUP(O168,TablaResumen[],22,0)*T170","v":1},{"$f":"+VLOOKUP(O168,TablaResumen[],23,0)*T170","v":1},{"$f":"+IFERROR(VALUE(MID(S170,1,FIND(\"-\",S170)-1)),S170)","v":0},{"$f":"+IFERROR(VALUE(MID(S170,FIND(\"-\",S170)+1,LEN(S170)-FIND(\"-\",S170))),S170)","v":0},null,null,"Minimo","24,999999-100","24,999999-100","24,999999-100","24,999999-100","24,999999-100","24,999999-100","24,999999-100","24,999999-100","24,999999-100",5]
[null,null,null,null,null,null,null,null,null,null,null,null,"N","21.8",{"$f":"+O170","v":21},8]
[null,null,null,null,null,null,null,null,null,null,null,null,"N","22.1",22,1,{"$f":"+VLOOKUP(O172,'Resumen requerimientos'!$A$5:$B$104,2,FALSE)","v":"ARQ.ENERGIA.5"},{"$f":"+VLOOKUP(Q173,'Resumen requerimientos'!$B$5:$AJ$91,10,0)","v":"Demanda de energía"},null,{"$f":"+VLOOKUP(O173,TablaResumen[],16,0)","v":"Demanda de energía"},null,"Opción",{"$f":"+CONCATENATE(VLOOKUP(O173,'Resumen requerimientos'!$A$5:$AB$91,24),\" de \",VLOOKUP(O173,'Resumen requerimientos'!$A$5:$AB$91,25))","v":"2 de 2"},null,null,null,{"$f":"+'Datos Generales Edificio'!$C$5","v":"RM - Región Metropolitana de Santiago"}]
[null,null,null,null,null,null,null,null,null,null,null,null,"N","22.2",{"$f":"+O172","v":22},2,{"$f":"+VLOOKUP(O173,'Resumen requerimientos'!$A$5:$B$104,2,FALSE)","v":"ARQ.ENERGIA.5"},{"$f":"+VLOOKUP(O173,TablaResumen[],21,0)","v":"Mejora de U en cubierta [W/m2K] "},null,null,null,"Simultáneo",{"$f":"+CONCATENATE(IF(VLOOKUP(O173,'Resumen requerimientos'!$A$5:$AB$91,26)=0,1,VLOOKUP(O173,'Resumen requerimientos'!$A$5:$AB$91,26)),\" de \",IF(VLOOKUP(O173,'Resumen requerimientos'!$A$5:$AB$91,27)=0,1,VLOOKUP(O173,'Resumen requerimientos'!$A$5:$AB$91,27)))","v":"1 de 2"},null,null,null,{"$f":"+'Datos Generales Edificio'!$F$28","v":"CI - Central Interior"}]
[null,null,null,null,null,null,null,null,null,null,null,null,"N","22.3",22,3,{"$f":"+VLOOKUP(O174,'Resumen requerimientos'!$A$5:$B$104,2,FALSE)","v":"ARQ.ENERGIA.5"},"Nivel","Rango","Prioridad","Ponderación Of. Y Serv.","Ponderación Educ. y Salud.","Rango",null,null,null,{"$f":"+R173","v":"Mejora de U en cubierta [W/m2K] "},"NL - Norte Litoral","ND - Norte Desértico","NVT - Norte Valle Transversal","CL - Central Litoral","CI - Central Interior","SL - Sur Litoral","SI - Sur Interior","SE - Sur Extremo","An - Andino"]
[null,null,null,null,null,null,null,null,null,null,null,null,"N","22.4",22,4,{"$f":"+VLOOKUP(O175,'Resumen requerimientos'!$A$5:$B$104,2,FALSE)","v":"ARQ.ENERGIA.5"},"Muy bueno",{"$f":"+HLOOKUP($AA$173,$AB$174:$AJ$178,AK175,0)","v":"0-0,2"},1,{"$f":"+VLOOKUP(O173,TablaResumen[],22,0)*T175","v":0.03},{"$f":"+VLOOKUP(O173,TablaResumen[],23,0)*T175","v":0.03},{"$f":"+IFERROR(VALUE(MID(S175,1,FIND(\"-\",S175)-1)),S175)","v":0},{"$f":"+IFERROR(VALUE(MID(S175,FIND(\"-\",S175)+1,LEN(S175)-FIND(\"-\",S175))),S175)","v":0.2},null,null,"Muy bueno","0-0,4","0-0,25","0-0,4","0-0,35","0-0,2","0-0,2","0-0,2","0-0,15","0-0,15",2]
[null,null,null,null,null,null,null,null,null,null,null,null,"N","22.5",22,5,{"$f":"+VLOOKUP(O176,'Resumen requerimientos'!$A$5:$B$104,2,FALSE)","v":"ARQ.ENERGIA.5"},"Bueno",{"$f":"+HLOOKUP($AA$173,$AB$174:$AJ$178,AK176,0)","v":"0,2-0,47"},0.66666666666666663,{"$f":"+VLOOKUP(O174,TablaResumen[],22,0)*T176","v":1.9999999999999997E-2},{"$f":"+VLOOKUP(O174,TablaResumen[],23,0)*T176","v":1.9999999999999997E-2},{"$f":"+IFERROR(VALUE(MID(S176,1,FIND(\"-\",S176)-1)),S176)","v":0.2},{"$f":"+IFERROR(VALUE(MID(S176,FIND(\"-\",S176)+1,LEN(S176)-FIND(\"-\",S176))),S176)","v":0.47},null,null,"Bueno","0,4-0,85","0,25-0,38","0-0,6","0,35-0,6","0,2-0,47","0,2-0,38","0,2-0,33","0,15-0,25","0,15-0,33",3]
[null,null,null,null,null,null,null,null,null,null,null,null,"N","22.6",22,6,{"$f":"+VLOOKUP(O177,'Resumen requerimientos'!$A$5:$B$104,2,FALSE)","v":"ARQ.ENERGIA.5"},"Regular",{"$f":"+HLOOKUP($AA$173,$AB$174:$AJ$178,AK177,0)","v":"0,47-0,8"},0,{"$f":"+VLOOKUP(O175,TablaResumen[],22,0)*T177","v":0},{"$f":"+VLOOKUP(O175,TablaResumen[],23,0)*T177","v":0},{"$f":"+IFERROR(VALUE(MID(S177,1,FIND(\"-\",S177)-1)),S177)","v":0.47},{"$f":"+IFERROR(VALUE(MID(S177,FIND(\"-\",S177)+1,LEN(S177)-FIND(\"-\",S177))),S177)","v":0.8},null,null,"Regular","0,85-1,35","0,38-0,8","0-0,9","0,6-0,9","0,47-0,8","0,38-0,7","0,33-0,6","0,25-0,3","0,33-0,5",4]
[null,null,null,null,null,null,null,null,null,null,null,null,"N","22.7",22,7,{"$f":"+VLOOKUP(O178,'Resumen requerimientos'!$A$5:$B$104,2,FALSE)","v":"ARQ.ENERGIA.5"},"Minimo",{"$f":"+HLOOKUP($AA$173,$AB$174:$AJ$178,AK178,0)","v":"0,8-1000000"},0,{"$f":"+VLOOKUP(O176,TablaResumen[],22,0)*T178","v":0},{"$f":"+VLOOKUP(O176,TablaResumen[],23,0)*T178","v":0},{"$f":"+IFERROR(VALUE(MID(S178,1,FIND(\"-\",S178)-1)),S178)","v":0.8},{"$f":"+IFERROR(VALUE(MID(S178,FIND(\"-\",S178)+1,LEN(S178)-FIND(\"-\",S178))),S178)","v":1000000},null,null,"Minimo","1,35-1000000","0,8-1000000","0,9-1000000","0,9-1000000","0,8-1000000","0,7-1000000","0,6-1000000","0,3-1000000","0,5-1000000",5]
[null,null,null,null,null,null,null,null,null,null,null,null,"N","22.8",22,8]
[null,null,null,null,null,null,null,null,null,null,null,null,"N","23.1",{"$f":"+IF(R179=\"\",O179+1,O179)","v":23},1,{"$f":"+VLOOKUP(O180,'Resumen requerimientos'!$A$5:$B$104,2,FALSE)","v":"ARQ.ENERGIA.5"},{"$f":"+VLOOKUP(Q181,'Resumen requerimientos'!$B$5:$AJ$91,10,0)","v":"Demanda de energía"},null,{"$f":"+VLOOKUP(O181,TablaResumen[],16,0)","v":"Demanda de energía"},null,"Opción",{"$f":"+CONCATENATE(VLOOKUP(O181,'Resumen requerimientos'!$A$5:$AB$91,24),\" de \",VLOOKUP(O181,'Resumen requerimientos'!$A$5:$AB$91,25))","v":"2 de 2"},null,null,null,{"$f":"+'Datos Generales Edificio'!$C$5","v":"RM - Región Metropolitana de Santiago"}]
[null,null,null,null,null,null,null,null,null,null,null,null,"N","23.2",{"$f":"+O180","v":23},2,{"$f":"+VLOOKUP(O181,'Resumen requerimientos'!$A$5:$B$104,2,FALSE)","v":"ARQ.ENERGIA.5"},{"$f":"+VLOOKUP(O181,TablaResumen[],21,0)","v":"Mejora de U [W/m2K] en muros"},null,null,null,"Simultáneo",{"$f":"+CONCATENATE(IF(VLOOKUP(O181,'Resumen requerimientos'!$A$5:$AB$91,26)=0,1,VLOOKUP(O181,'Resumen requerimientos'!$A$5:$AB$91,26)),\" de \",IF(VLOOKUP(O181,'Resumen requerimientos'!$A$5:$AB$91,27)=0,1,VLOOKUP(O181,'Resumen requerimientos'!$A$5:$AB$91,27)))","v":"1 de 8"},null,null,null,{"$f":"+'Datos Generales Edificio'!$F$28","v":"CI - Central Interior"}]
[null,null,null,null,null,null,null,null,null,null,null,null,"N","23.3",23,3,{"$f":"+VLOOKUP(O182,'Resumen requerimientos'!$A$5:$B$104,2,FALSE)","v":"ARQ.ENERGIA.5"},"Nivel","Rango","Prioridad","Ponderación Of. Y Serv.","Ponderación Educ. y Salud.","Rango",null,null,null,{"$f":"+R181","v":"Mejora de U [W/m2K] en muros"},"NL - Norte Litoral","ND - Norte Desértico","NVT - Norte Valle Transversal","CL - Central Litoral","CI - Central Interior","SL - Sur Litoral","SI - Sur Interior","SE - Sur Extremo","An - Andino"]
[null,null,null,null,null,null,null,null,null,null,null,null,"N","23.4",23,4,{"$f":"+VLOOKUP(O183,'Resumen requerimientos'!$A$5:$B$104,2,FALSE)","v":"ARQ.ENERGIA.5"},"Muy bueno",{"$f":"+HLOOKUP($AA$181,$AB$182:$AJ$186,AK183,0)","v":"0-0,8"},1,{"$f":"+VLOOKUP(O181,TablaResumen[],22,0)*T183","v":0.06},{"$f":"+VLOOKUP(O181,TablaResumen[],23,0)*T183","v":0.06},{"$f":"+IFERROR(VALUE(MID(S183,1,FIND(\"-\",S183)-1)),S183)","v":0},{"$f":"+IFERROR(VALUE(MID(S183,FIND(\"-\",S183)+1,LEN(S183)-FIND(\"-\",S183))),S183)","v":0.8},null,null,"Muy bueno","0-2,1","0-0,8","0-0,9","0-0,9","0-0,8","0-0,7","0-0,6","0-0,3","0-0,5",2]
[null,null,null,null,null,null,null,null,null,null,null,null,"N","23.5",23,5,{"$f":"+VLOOKUP(O184,'Resumen requerimientos'!$A$5:$B$104,2,FALSE)","v":"ARQ.ENERGIA.5"},"Bueno",{"$f":"+HLOOKUP($AA$181,$AB$182:$AJ$186,AK184,0)","v":"0,8-2,9"},0,{"$f":"+VLOOKUP(O182,TablaResumen[],22,0)*T184","v":0},{"$f":"+VLOOKUP(O182,TablaResumen[],23,0)*T184","v":0},{"$f":"+IFERROR(VALUE(MID(S184,1,FIND(\"-\",S184)-1)),S184)","v":0.8},{"$f":"+IFERROR(VALUE(MID(S184,FIND(\"-\",S184)+1,LEN(S184)-FIND(\"-\",S184))),S184)","v":2.9},null,null,"Bueno","2,1-2,9","0,8-2,9","0,9-2,9","0,9-2,9","0,8-2,9","0,7-2,9","0,6-2,9","0,3-2,9","0,5-2,9",3]
[null,null,null,null,null,null,null,null,null,null,null,null,"N","23.6",23,6,{"$f":"+VLOOKUP(O185,'Resumen requerimientos'!$A$5:$B$104,2,FALSE)","v":"ARQ.ENERGIA.5"},"Regular",{"$f":"+HLOOKUP($AA$181,$AB$182:$AJ$186,AK185,0)","v":"2,9-1000000"},0,{"$f":"+VLOOKUP(O183,TablaResumen[],22,0)*T185","v":0},{"$f":"+VLOOKUP(O183,TablaResumen[],23,0)*T185","v":0},{"$f":"+IFERROR(VALUE(MID(S185,1,FIND(\"-\",S185)-1)),S185)","v":2.9},{"$f":"+IFERROR(VALUE(MID(S185,FIND(\"-\",S185)+1,LEN(S185)-FIND(\"-\",S185))),S185)","v":1000000},null,null,"Regular","2,9-1000000","2,9-1000000","2,9-1000000","2,9-1000000","2,9-1000000","2,9-1000000","2,9-1000000","2,9-1000000","2,9-1000000",4]
[null,null,null,null,null,null,null,null,null,null,null,null,"N","23.7",23,7,{"$f":"+VLOOKUP(O186,'Resumen requerimientos'!$A$5:$B$104,2,FALSE)","v":"ARQ.ENERGIA.5"},"Minimo",null,null,{"$f":"+VLOOKUP(O184,TablaResumen[],22,0)*T186","v":0},{"$f":"+VLOOKUP(O184,TablaResumen[],23,0)*T186","v":0},{"$f":"+IFERROR(VALUE(MID(S186,1,FIND(\"-\",S186)-1)),S186)","v":0},{"$f":"+IFERROR(VALUE(MID(S186,FIND(\"-\",S186)+1,LEN(S186)-FIND(\"-\",S186))),S186)","v":0},null,null,"Minimo",null,null,null,null,null,null,null,null,null,5]
[null,null,null,null,null,null,null,null,null,null,null,null,"N","23.8",23,8]
[null,null,null,null,null,null,null,null,null,null,null,null,"N","24.1",{"$f":"+IF(R187=\"\",O187+1,O187)","v":24},1,{"$f":"+VLOOKUP(O188,'Resumen requerimientos'!$A$5:$B$104,2,FALSE)","v":"ARQ.ENERGIA.5"},{"$f":"+VLOOKUP(Q189,'Resumen requerimientos'!$B$5:$AJ$91,10,0)","v":"Demanda de energía"},null,{"$f":"+VLOOKUP(O189,TablaResumen[],16,0)","v":"Demanda de energía"},null,"Opción",{"$f":"+CONCATENATE(VLOOKUP(O189,'Resumen requerimientos'!$A$5:$AB$91,24),\" de \",VLOOKUP(O189,'Resumen requerimientos'!$A$5:$AB$91,25))","v":"2 de 2"},null,null,null,{"$f":"+'Datos Generales Edificio'!$C$5","v":"RM - Región Metropolitana de Santiago"}]
[null,null,null,null,null,null,null,null,null,null,null,null,"N","24.2",{"$f":"+O188","v":24},2,{"$f":"+VLOOKUP(O189,'Resumen requerimientos'!$A$5:$B$104,2,FALSE)","v":"ARQ.ENERGIA.5"},{"$f":"+VLOOKUP(O189,TablaResumen[],21,0)","v":"Mejora de U [W/m2K] en ventanas"},null,null,null,"Simultáneo",{"$f":"+CONCATENATE(IF(VLOOKUP(O189,'Resumen requerimientos'!$A$5:$AB$91,26)=0,1,VLOOKUP(O189,'Resumen requerimientos'!$A$5:$AB$91,26)),\" de \",IF(VLOOKUP(O189,'Resumen requerimientos'!$A$5:$AB$91,27)=0,1,VLOOKUP(O189,'Resumen requerimientos'!$A$5:$AB$91,27)))","v":"2 de 8"},null,null,null,{"$f":"+'Datos Generales Edificio'!$F$28","v":"CI - Central Interior"}]
[null,null,null,null,null,null,null,null,null,null,null,null,"N","24.3",24,3,{"$f":"+VLOOKUP(O190,'Resumen requerimientos'!$A$5:$B$104,2,FALSE)","v":"ARQ.ENERGIA.5"},"Nivel","Rango","Prioridad","Ponderación Of. Y Serv.","Ponderación Educ. y Salud.","Rango",null,null,null,{"$f":"+R189","v":"Mejora de U [W/m2K] en ventanas"},"NL - Norte Litoral","ND - Norte Desértico","NVT - Norte Valle Transversal","CL - Central Litoral","CI - Central Interior","SL - Sur Litoral","SI - Sur Interior","SE - Sur Extremo","An - Andino"]
[null,null,null,null,null,null,null,null,null,null,null,null,"N","24.4",24,4,{"$f":"+VLOOKUP(O191,'Resumen requerimientos'!$A$5:$B$104,2,FALSE)","v":"ARQ.ENERGIA.5"},"Muy bueno",{"$f":"+HLOOKUP($AA$189,$AB$190:$AJ$194,AK191,0)","v":"0-1,6"},1,{"$f":"+VLOOKUP(O189,TablaResumen[],22,0)*T191","v":0.06},{"$f":"+VLOOKUP(O189,TablaResumen[],23,0)*T191","v":0.06},{"$f":"+IFERROR(VALUE(MID(S191,1,FIND(\"-\",S191)-1)),S191)","v":0},{"$f":"+IFERROR(VALUE(MID(S191,FIND(\"-\",S191)+1,LEN(S191)-FIND(\"-\",S191))),S191)","v":1.6},null,null,"Muy bueno","0-3,6","0-2,8","0-2,8","0-2,8","0-1,6","0-1,6","0-1,6","0-1,2","0-1,6",2]
[null,null,null,null,null,null,null,null,null,null,null,null,"N","24.5",24,5,{"$f":"+VLOOKUP(O192,'Resumen requerimientos'!$A$5:$B$104,2,FALSE)","v":"ARQ.ENERGIA.5"},"Bueno",{"$f":"+HLOOKUP($AA$189,$AB$190:$AJ$194,AK192,0)","v":"1,6-3"},{"$f":"4/6","v":0.66666666666666663},{"$f":"+VLOOKUP(O190,TablaResumen[],22,0)*T192","v":3.9999999999999994E-2},{"$f":"+VLOOKUP(O190,TablaResumen[],23,0)*T192","v":3.9999999999999994E-2},{"$f":"+IFERROR(VALUE(MID(S192,1,FIND(\"-\",S192)-1)),S192)","v":1.6},{"$f":"+IFERROR(VALUE(MID(S192,FIND(\"-\",S192)+1,LEN(S192)-FIND(\"-\",S192))),S192)","v":3},null,null,"Bueno",null,"2,8-3","2,8-3","2,8-3","1,6-3","1,6-1,9","1,6-1,9","1,2-1,6","1,6-1,9",3]
[null,null,null,null,null,null,null,null,null,null,null,null,"N","24.6",24,6,{"$f":"+VLOOKUP(O193,'Resumen requerimientos'!$A$5:$B$104,2,FALSE)","v":"ARQ.ENERGIA.5"},"Regular",{"$f":"+HLOOKUP($AA$189,$AB$190:$AJ$194,AK193,0)","v":"3-3,6"},0,{"$f":"+VLOOKUP(O191,TablaResumen[],22,0)*T193","v":0},{"$f":"+VLOOKUP(O191,TablaResumen[],23,0)*T193","v":0},{"$f":"+IFERROR(VALUE(MID(S193,1,FIND(\"-\",S193)-1)),S193)","v":3},{"$f":"+IFERROR(VALUE(MID(S193,FIND(\"-\",S193)+1,LEN(S193)-FIND(\"-\",S193))),S193)","v":3.6},null,null,"Regular","3,6-5,7","3-3,6","3-3,6","3-3,6","3-3,6","1,9-3","1,9-3","1,6-3","1,9-3",4]
[null,null,null,null,null,null,null,null,null,null,null,null,"N","24.7",24,7,{"$f":"+VLOOKUP(O194,'Resumen requerimientos'!$A$5:$B$104,2,FALSE)","v":"ARQ.ENERGIA.5"},"Minimo",{"$f":"+HLOOKUP($AA$189,$AB$190:$AJ$194,AK194,0)","v":"3,6-1000000"},null,{"$f":"+VLOOKUP(O192,TablaResumen[],22,0)*T194","v":0},{"$f":"+VLOOKUP(O192,TablaResumen[],23,0)*T194","v":0},{"$f":"+IFERROR(VALUE(MID(S194,1,FIND(\"-\",S194)-1)),S194)","v":3.6},{"$f":"+IFERROR(VALUE(MID(S194,FIND(\"-\",S194)+1,LEN(S194)-FIND(\"-\",S194))),S194)","v":1000000},null,null,"Minimo","5,7-1000000","3,6-1000000","3,6-1000000","3,6-1000000","3,6-1000000","3-1000000","3-1000000","3-1000000","3-1000000",5]
[null,null,null,null,null,null,null,null,null,null,null,null,"N","24.8",24,8]
[null,null,null,null,null,null,null,null,null,null,null,null,"N","25.1",{"$f":"+IF(R195=\"\",O195+1,O195)","v":25},1,{"$f":"+VLOOKUP(O196,'Resumen requerimientos'!$A$5:$B$104,2,FALSE)","v":"ARQ.ENERGIA.5"},{"$f":"+VLOOKUP(Q197,'Resumen requerimientos'!$B$5:$AJ$91,10,0)","v":"Demanda de energía"},null,{"$f":"+VLOOKUP(O197,TablaResumen[],16,0)","v":"Demanda de energía"},null,"Opción",{"$f":"+CONCATENATE(VLOOKUP(O197,'Resumen requerimientos'!$A$5:$AB$91,24),\" de \",VLOOKUP(O197,'Resumen requerimientos'!$A$5:$AB$91,25))","v":"2 de 2"},null,null,null,{"$f":"+'Datos Generales Edificio'!$C$5","v":"RM - Región Metropolitana de Santiago"}]
[null,null,null,null,null,null,null,null,null,null,null,null,"N","25.2",{"$f":"+O196","v":25},2,{"$f":"+VLOOKUP(O197,'Resumen requerimientos'!$A$5:$B$104,2,FALSE)","v":"ARQ.ENERGIA.5"},{"$f":"+VLOOKUP(O197,TablaResumen[],21,0)","v":"Mejora FSM - Norte"},null,null,null,"Simultáneo",{"$f":"+CONCATENATE(IF(VLOOKUP(O197,'Resumen requerimientos'!$A$5:$AB$91,26)=0,1,VLOOKUP(O197,'Resumen requerimientos'!$A$5:$AB$91,26)),\" de \",IF(VLOOKUP(O197,'Resumen requerimientos'!$A$5:$AB$91,27)=0,1,VLOOKUP(O197,'Resumen requerimientos'!$A$5:$AB$91,27)))","v":"3 de 8"},null,null,null,{"$f":"+'Datos Generales Edificio'!$F$28","v":"CI - Central Interior"}]
[null,null,null,null,null,null,null,null,null,null,null,null,"N",{"$f":"+CONCATENATE(O198,\".\",P198)","v":"25.3"},25,{"$f":"+IF(O198=O197,P197+1,1)","v":3},{"$f":"+VLOOKUP(O198,'Resumen requerimientos'!$A$5:$B$104,2,FALSE)","v":"ARQ.ENERGIA.5"},"Nivel","Rango","Prioridad","Ponderación Of. Y Serv.","Ponderación Educ. y Salud.",null,null,null,null,{"$f":"+R197","v":"Mejora FSM - Norte"},"NL - Norte Litoral","ND - Norte Desértico","NVT - Norte Valle Transversal","CL - Central Litoral","CI - Central Interior","SL - Sur Litoral","SI - Sur Interior","SE - Sur Extremo","An - Andino"]
[null,null,null,null,null,null,null,null,null,null,null,null,"N","25.4",25,4,{"$f":"+VLOOKUP(O199,'Resumen requerimientos'!$A$5:$B$104,2,FALSE)","v":"ARQ.ENERGIA.5"},"Muy bueno",{"$f":"+HLOOKUP($AA$197,$AB$198:$AJ$202,AK199,0)","v":"0-0,5"},1,{"$f":"+VLOOKUP(O197,TablaResumen[],22,0)*T199","v":0.06},{"$f":"+VLOOKUP(O197,TablaResumen[],23,0)*T199","v":0.06},{"$f":"+IFERROR(VALUE(MID(S199,1,FIND(\"-\",S199)-1)),S199)","v":0},{"$f":"+IFERROR(VALUE(MID(S199,FIND(\"-\",S199)+1,LEN(S199)-FIND(\"-\",S199))),S199)","v":0.5},null,null,"Muy bueno","0-0,5","0-0,5","0-0,5","0-0,5","0-0,5","0-0,7","0-0,7","0-1","0-1",2]
[null,null,null,null,null,null,null,null,null,null,null,null,"N","25.5",25,5,{"$f":"+VLOOKUP(O200,'Resumen requerimientos'!$A$5:$B$104,2,FALSE)","v":"ARQ.ENERGIA.5"},"Bueno",{"$f":"+HLOOKUP($AA$197,$AB$198:$AJ$202,AK200,0)","v":"0,5-0,6"},{"$f":"4/6","v":0.66666666666666663},{"$f":"+VLOOKUP(O198,TablaResumen[],22,0)*T200","v":3.9999999999999994E-2},{"$f":"+VLOOKUP(O198,TablaResumen[],23,0)*T200","v":3.9999999999999994E-2},{"$f":"+IFERROR(VALUE(MID(S200,1,FIND(\"-\",S200)-1)),S200)","v":0.5},{"$f":"+IFERROR(VALUE(MID(S200,FIND(\"-\",S200)+1,LEN(S200)-FIND(\"-\",S200))),S200)","v":0.6},null,null,"Bueno","0,5-0,6","0,5-0,6","0,5-0,6","0,5-0,6","0,5-0,6","-","-","-","-",3]
[null,null,null,null,null,null,null,null,null,null,null,null,"N","25.6",25,6,{"$f":"+VLOOKUP(O201,'Resumen requerimientos'!$A$5:$B$104,2,FALSE)","v":"ARQ.ENERGIA.5"},"Regular",{"$f":"+HLOOKUP($AA$197,$AB$198:$AJ$202,AK201,0)","v":"0,6-0,75"},0,{"$f":"+VLOOKUP(O199,TablaResumen[],22,0)*T201","v":0},{"$f":"+VLOOKUP(O199,TablaResumen[],23,0)*T201","v":0},{"$f":"+IFERROR(VALUE(MID(S201,1,FIND(\"-\",S201)-1)),S201)","v":0.6},{"$f":"+IFERROR(VALUE(MID(S201,FIND(\"-\",S201)+1,LEN(S201)-FIND(\"-\",S201))),S201)","v":0.75},null,null,"Regular","0,6-0,75","0,6-0,75","0,6-0,75","0,6-0,75","0,6-0,75","-","0,7-0,75","-","-",4]
[null,null,null,null,null,null,null,null,null,null,null,null,"N","25.7",25,7,{"$f":"+VLOOKUP(O202,'Resumen requerimientos'!$A$5:$B$104,2,FALSE)","v":"ARQ.ENERGIA.5"},"Minimo",{"$f":"+HLOOKUP($AA$197,$AB$198:$AJ$202,AK202,0)","v":"0,75-1000000"},null,{"$f":"+VLOOKUP(O200,TablaResumen[],22,0)*T202","v":0},{"$f":"+VLOOKUP(O200,TablaResumen[],23,0)*T202","v":0},{"$f":"+IFERROR(VALUE(MID(S202,1,FIND(\"-\",S202)-1)),S202)","v":0.75},{"$f":"+IFERROR(VALUE(MID(S202,FIND(\"-\",S202)+1,LEN(S202)-FIND(\"-\",S202))),S202)","v":1000000},null,null,"Minimo","0,75-1000000","0,75-1000000","0,75-1000000","0,75-1000000","0,75-1000000","0,7-1000000","0,7-1000000","1-1000000","1-1000000",5]
[null,null,null,null,null,null,null,null,null,null,null,null,"N","25.8",25,8]
[null,null,null,null,null,null,null,null,null,null,null,null,"N","26.1",{"$f":"+IF(R203=\"\",O203+1,O203)","v":26},1,{"$f":"+VLOOKUP(O204,'Resumen requerimientos'!$A$5:$B$104,2,FALSE)","v":"ARQ.ENERGIA.5"},{"$f":"+VLOOKUP(Q205,'Resumen requerimientos'!$B$5:$AJ$91,10,0)","v":"Demanda de energía"},null,{"$f":"+VLOOKUP(O205,TablaResumen[],16,0)","v":"Demanda de energía"},null,"Opción",{"$f":"+CONCATENATE(VLOOKUP(O205,'Resumen requerimientos'!$A$5:$AB$91,24),\" de \",VLOOKUP(O205,'Resumen requerimientos'!$A$5:$AB$91,25))","v":"2 de 2"},null,null,null,{"$f":"+'Datos Generales Edificio'!$C$5","v":"RM - Región Metropolitana de Santiago"}]
[null,null,null,null,null,null,null,null,null,null,null,null,"N","26.2",{"$f":"+O204","v":26},2,{"$f":"+VLOOKUP(O205,'Resumen requerimientos'!$A$5:$B$104,2,FALSE)","v":"ARQ.ENERGIA.5"},{"$f":"+VLOOKUP(O205,TablaResumen[],21,0)","v":"Mejora FSM - Este"},null,null,null,"Simultáneo",{"$f":"+CONCATENATE(IF(VLOOKUP(O205,'Resumen requerimientos'!$A$5:$AB$91,26)=0,1,VLOOKUP(O205,'Resumen requerimientos'!$A$5:$AB$91,26)),\" de \",IF(VLOOKUP(O205,'Resumen requerimientos'!$A$5:$AB$91,27)=0,1,VLOOKUP(O205,'Resumen requerimientos'!$A$5:$AB$91,27)))","v":"6 de 8"},null,null,null,{"$f":"+'Datos Generales Edificio'!$F$28","v":"CI - Central Interior"}]
[null,null,null,null,null,null,null,null,null,null,null,null,"N","26.3",26,3,{"$f":"+VLOOKUP(O206,'Resumen requerimientos'!$A$5:$B$104,2,FALSE)","v":"ARQ.ENERGIA.5"},"Nivel","Rango","Prioridad","Ponderación Of. Y Serv.","Ponderación Educ. y Salud.","Rango",null,null,null,{"$f":"+R205","v":"Mejora FSM - Este"},"NL - Norte Litoral","ND - Norte Desértico","NVT - Norte Valle Transversal","CL - Central Litoral","CI - Central Interior","SL - Sur Litoral","SI - Sur Interior","SE - Sur Extremo","An - Andino"]
[null,null,null,null,null,null,null,null,null,null,null,null,"N","26.4",26,4,{"$f":"+VLOOKUP(O207,'Resumen requerimientos'!$A$5:$B$104,2,FALSE)","v":"ARQ.ENERGIA.5"},"Muy bueno",{"$f":"+HLOOKUP($AA$205,$AB$206:$AJ$210,AK207,0)","v":"0-0,4"},1,{"$f":"+VLOOKUP(O205,TablaResumen[],22,0)*T207","v":0.06},{"$f":"+VLOOKUP(O205,TablaResumen[],23,0)*T207","v":0.06},{"$f":"+IFERROR(VALUE(MID(S207,1,FIND(\"-\",S207)-1)),S207)","v":0},{"$f":"+IFERROR(VALUE(MID(S207,FIND(\"-\",S207)+1,LEN(S207)-FIND(\"-\",S207))),S207)","v":0.4},null,null,"Muy bueno","0-0,4","0-0,4","0-0,4","0-0,4","0-0,4","0-0,6","0-0,6","0-1","0-1",2]
[null,null,null,null,null,null,null,null,null,null,null,null,"N","26.5",26,5,{"$f":"+VLOOKUP(O208,'Resumen requerimientos'!$A$5:$B$104,2,FALSE)","v":"ARQ.ENERGIA.5"},"Bueno",{"$f":"+HLOOKUP($AA$205,$AB$206:$AJ$210,AK208,0)","v":"0,4-0,5"},{"$f":"4/6","v":0.66666666666666663},{"$f":"+VLOOKUP(O206,TablaResumen[],22,0)*T208","v":3.9999999999999994E-2},{"$f":"+VLOOKUP(O206,TablaResumen[],23,0)*T208","v":3.9999999999999994E-2},{"$f":"+IFERROR(VALUE(MID(S208,1,FIND(\"-\",S208)-1)),S208)","v":0.4},{"$f":"+IFERROR(VALUE(MID(S208,FIND(\"-\",S208)+1,LEN(S208)-FIND(\"-\",S208))),S208)","v":0.5},null,null,"Bueno","0,4-0,5","0,4-0,5","0,4-0,5","0,4-0,5","0,4-0,5","-","-","-","-",3]
[null,null,null,null,null,null,null,null,null,null,null,null,"N","26.6",26,6,{"$f":"+VLOOKUP(O209,'Resumen requerimientos'!$A$5:$B$104,2,FALSE)","v":"ARQ.ENERGIA.5"},"Regular",{"$f":"+HLOOKUP($AA$205,$AB$206:$AJ$210,AK209,0)","v":"0,5-0,6"},0,{"$f":"+VLOOKUP(O207,TablaResumen[],22,0)*T209","v":0},{"$f":"+VLOOKUP(O207,TablaResumen[],23,0)*T209","v":0},{"$f":"+IFERROR(VALUE(MID(S209,1,FIND(\"-\",S209)-1)),S209)","v":0.5},{"$f":"+IFERROR(VALUE(MID(S209,FIND(\"-\",S209)+1,LEN(S209)-FIND(\"-\",S209))),S209)","v":0.6},null,null,"Regular","0,5-0,6","0,5-0,6","0,5-0,6","0,5-0,6","0,5-0,6","0,6-1","0,6-1","-",null,4]
[null,null,null,null,null,null,null,null,null,null,null,null,"N","26.7",26,7,{"$f":"+VLOOKUP(O210,'Resumen requerimientos'!$A$5:$B$104,2,FALSE)","v":"ARQ.ENERGIA.5"},"Minimo",{"$f":"+HLOOKUP($AA$205,$AB$206:$AJ$210,AK210,0)","v":"0,6-1000000"},null,{"$f":"+VLOOKUP(O208,TablaResumen[],22,0)*T210","v":0},{"$f":"+VLOOKUP(O208,TablaResumen[],23,0)*T210","v":0},{"$f":"+IFERROR(VALUE(MID(S210,1,FIND(\"-\",S210)-1)),S210)","v":0.6},{"$f":"+IFERROR(VALUE(MID(S210,FIND(\"-\",S210)+1,LEN(S210)-FIND(\"-\",S210))),S210)","v":1000000},null,null,"Minimo","0,6-1000000","0,6-1000000","0,6-1000000","0,6-1000000","0,6-1000000","1-1000000","1-1000000","1-1000000","1-1000000",5]
[null,null,null,null,null,null,null,null,null,null,null,null,"N","26.8",26,8]
[null,null,null,null,null,null,null,null,null,null,null,null,"N","27.1",{"$f":"+IF(R211=\"\",O211+1,O211)","v":27},1,{"$f":"+VLOOKUP(O212,'Resumen requerimientos'!$A$5:$B$104,2,FALSE)","v":"ARQ.ENERGIA.5"},{"$f":"+VLOOKUP(Q213,'Resumen requerimientos'!$B$5:$AJ$91,10,0)","v":"Demanda de energía"},null,{"$f":"+VLOOKUP(O213,TablaResumen[],16,0)","v":"Demanda de energía"},null,"Opción",{"$f":"+CONCATENATE(VLOOKUP(O213,'Resumen requerimientos'!$A$5:$AB$91,24),\" de \",VLOOKUP(O213,'Resumen requerimientos'!$A$5:$AB$91,25))","v":"1 de 2"},null,null,null,{"$f":"+'Datos Generales Edificio'!$C$5","v":"RM - Región Metropolitana de Santiago"}]
[null,null,null,null,null,null,null,null,null,null,null,null,"N","27.2",{"$f":"+O212","v":27},2,{"$f":"+VLOOKUP(O213,'Resumen requerimientos'!$A$5:$B$104,2,FALSE)","v":"ARQ.ENERGIA.5"},{"$f":"+VLOOKUP(O213,TablaResumen[],21,0)","v":"Disminución demanda de energía [%]"},null,null,null,"Simultáneo",{"$f":"+CONCATENATE(IF(VLOOKUP(O213,'Resumen requerimientos'!$A$5:$AB$91,26)=0,1,VLOOKUP(O213,'Resumen requerimientos'!$A$5:$AB$91,26)),\" de \",IF(VLOOKUP(O213,'Resumen requerimientos'!$A$5:$AB$91,27)=0,1,VLOOKUP(O213,'Resumen requerimientos'!$A$5:$AB$91,27)))","v":"1 de 1"},null,null,null,{"$f":"+'Datos Generales Edificio'!$F$28","v":"CI - Central Interior"}]
[null,null,null,null,null,null,null,null,null,null,null,null,"N","27.3",27,3,{"$f":"+VLOOKUP(O214,'Resumen requerimientos'!$A$5:$B$104,2,FALSE)","v":"ARQ.ENERGIA.5"},"Nivel","Rango","Prioridad","Ponderación Of. Y Serv.","Ponderación Educ. y Salud.","Rango",null,null,null,{"$f":"+R213","v":"Disminución demanda de energía [%]"},"NL - Norte Litoral","ND - Norte Desértico","NVT - Norte Valle Transversal","CL - Central Litoral","CI - Central Interior","SL - Sur Litoral","SI - Sur Interior","SE - Sur Extremo","An - Andino"]
[null,null,null,null,null,null,null,null,null,null,null,null,"N","27.4",27,4,{"$f":"+VLOOKUP(O215,'Resumen requerimientos'!$A$5:$B$104,2,FALSE)","v":"ARQ.ENERGIA.5"},"Muy bueno",{"$f":"+HLOOKUP($AA$213,$AB$214:$AJ$218,AK215,0)","v":"19,999%-100%"},1,{"$f":"+VLOOKUP(O213,TablaResumen[],22,0)*T215","v":0.18},{"$f":"+VLOOKUP(O213,TablaResumen[],23,0)*T215","v":0.18},{"$f":"+IFERROR(VALUE(MID(S215,1,FIND(\"-\",S215)-1)),S215)","v":0.19999},{"$f":"+IFERROR(VALUE(MID(S215,FIND(\"-\",S215)+1,LEN(S215)-FIND(\"-\",S215))),S215)","v":1},null,null,"Muy bueno","34,999%-100%","19,999%-100%","34,999%-100%","19,999%-100%","19,999%-100%",{"$f":"+IF(OR(AA212=\"VIII - Región de Biobío\",AA212=\"IX - Región de Araucanía\"),\"19,999%-100%\",\"34,999%-100%\")","v":"34,999%-100%"},"34,999%-100%","44,999%-100%","44,999%-100%",2]
[null,null,null,null,null,null,null,null,null,null,null,null,"N","27.5",27,5,{"$f":"+VLOOKUP(O216,'Resumen requerimientos'!$A$5:$B$104,2,FALSE)","v":"ARQ.ENERGIA.5"},"Bueno",{"$f":"+HLOOKUP($AA$213,$AB$214:$AJ$218,AK216,0)","v":"14,999%-19,999%"},{"$f":"12.5/18","v":0.69444444444444442},{"$f":"+VLOOKUP(O214,TablaResumen[],22,0)*T216","v":0.12499999999999999},{"$f":"+VLOOKUP(O214,TablaResumen[],23,0)*T216","v":0.12499999999999999},{"$f":"+IFERROR(VALUE(MID(S216,1,FIND(\"-\",S216)-1)),S216)","v":0.14999000000000001},{"$f":"+IFERROR(VALUE(MID(S216,FIND(\"-\",S216)+1,LEN(S216)-FIND(\"-\",S216))),S216)","v":0.19999},null,null,"Bueno","29,999%-34,999%","14,999%-19,999%","29,999%-34,999%","14,999%-19,999%","14,999%-19,999%",{"$f":"+IF(OR(AA212=\"VIII - Región de Biobío\",AA212=\"IX - Región de Araucanía\"),\"14,999%-19,999%\",\"29,999%-34,999%\")","v":"29,999%-34,999%"},"29,999%-34,999%","34,999%-44,999%","34,999%-44,999%",3]
[null,null,null,null,null,null,null,null,null,null,null,null,"N","27.6",27,6,{"$f":"+VLOOKUP(O217,'Resumen requerimientos'!$A$5:$B$104,2,FALSE)","v":"ARQ.ENERGIA.5"},"Regular",{"$f":"+HLOOKUP($AA$213,$AB$214:$AJ$218,AK217,0)","v":"9,999%-14,999%"},0.5,{"$f":"+VLOOKUP(O215,TablaResumen[],22,0)*T217","v":0.09},{"$f":"+VLOOKUP(O215,TablaResumen[],23,0)*T217","v":0.09},{"$f":"+IFERROR(VALUE(MID(S217,1,FIND(\"-\",S217)-1)),S217)","v":9.9989999999999996E-2},{"$f":"+IFERROR(VALUE(MID(S217,FIND(\"-\",S217)+1,LEN(S217)-FIND(\"-\",S217))),S217)","v":0.14999000000000001},null,null,"Regular","19,999%-29,999%","9,999%-14,999%","19,999%-29,999%","9,999%-14,999%","9,999%-14,999%",{"$f":"+IF(OR(AA212=\"VIII - Región de Biobío\",AA212=\"IX - Región de Araucanía\"),\"9,999%-14,999%\",\"19,999%-29,999%\")","v":"19,999%-29,999%"},"19,999%-29,999%","24,999%-34,999%","24,999%-34,999%",4]
[null,null,null,null,null,null,null,null,null,null,null,null,"N","27.7",27,7,{"$f":"+VLOOKUP(O218,'Resumen requerimientos'!$A$5:$B$104,2,FALSE)","v":"ARQ.ENERGIA.5"},"Minimo",{"$f":"+HLOOKUP($AA$213,$AB$214:$AJ$218,AK218,0)","v":"4,999%-9,999%"},0.25,{"$f":"+VLOOKUP(O216,TablaResumen[],22,0)*T218","v":4.4999999999999998E-2},{"$f":"+VLOOKUP(O216,TablaResumen[],23,0)*T218","v":4.4999999999999998E-2},{"$f":"+IFERROR(VALUE(MID(S218,1,FIND(\"-\",S218)-1)),S218)","v":4.999E-2},{"$f":"+IFERROR(VALUE(MID(S218,FIND(\"-\",S218)+1,LEN(S218)-FIND(\"-\",S218))),S218)","v":9.9989999999999996E-2},null,null,"Minimo","9,999%-19,999%","4,999%-9,999%","9,999%-19,999%","4,999%-9,999%","4,999%-9,999%",{"$f":"+IF(OR(AA212=\"VIII - Región de Biobío\",AA212=\"IX - Región de Araucanía\"),\"4,999%-9,999%\",\"9,999%-19,999%\")","v":"9,999%-19,999%"},"9,999%-19,999%","14,999%-24,999%","14,999%-24,999%",5]
[null,null,null,null,null,null,null,null,null,null,null,null,"N","27.8",27,8]
[null,null,null,null,null,null,null,null,null,null,null,null,"N","28.1",{"$f":"+IF(R219=\"\",O219+1,O219)","v":28},1,{"$f":"+VLOOKUP(O220,'Resumen requerimientos'!$A$5:$B$104,2,FALSE)","v":"5R"},{"$f":"+VLOOKUP(Q221,'Resumen requerimientos'!$B$5:$AJ$91,10,0)","v":"Demanda de energía"},null,{"$f":"+VLOOKUP(O221,TablaResumen[],16,0)","v":"Transmitancia térmica de la envolvente y Factor Solar Modificado"},null,"Opción",{"$f":"+CONCATENATE(VLOOKUP(O221,'Resumen requerimientos'!$A$5:$AB$91,24),\" de \",VLOOKUP(O221,'Resumen requerimientos'!$A$5:$AB$91,25))","v":"1 de 1"},null,null,null,{"$f":"+'Datos Generales Edificio'!$C$5","v":"RM - Región Metropolitana de Santiago"}]
[null,null,null,null,null,null,null,null,null,null,null,null,"N","28.2",{"$f":"+O220","v":28},2,{"$f":"+VLOOKUP(O221,'Resumen requerimientos'!$A$5:$B$104,2,FALSE)","v":"5R"},{"$f":"+VLOOKUP(O221,TablaResumen[],21,0)","v":"Transmitancia Térmica Cubierta [W/m2K]"},null,null,null,"Simultáneo",{"$f":"+CONCATENATE(IF(VLOOKUP(O221,'Resumen requerimientos'!$A$5:$AB$91,26)=0,1,VLOOKUP(O221,'Resumen requerimientos'!$A$5:$AB$91,26)),\" de \",IF(VLOOKUP(O221,'Resumen requerimientos'!$A$5:$AB$91,27)=0,1,VLOOKUP(O221,'Resumen requerimientos'!$A$5:$AB$91,27)))","v":"1 de 9"},null,null,null,{"$f":"+'Datos Generales Edificio'!$F$28","v":"CI - Central Interior"}]
[null,null,null,null,null,null,null,null,null,null,null,null,"N","28.3",28,3,{"$f":"+VLOOKUP(O222,'Resumen requerimientos'!$A$5:$B$104,2,FALSE)","v":"5R"},"Nivel","Rango","Prioridad","Ponderación Of. Y Serv.","Ponderación Educ. y Salud.","Rango",null,null,null,{"$f":"+R221","v":"Transmitancia Térmica Cubierta [W/m2K]"},"NL - Norte Litoral","ND - Norte Desértico","NVT - Norte Valle Transversal","CL - Central Litoral","CI - Central Interior","SL - Sur Litoral","SI - Sur Interior","SE - Sur Extremo","An - Andino"]
[null,null,null,null,null,null,null,null,null,null,null,null,"N","28.4",28,4,{"$f":"+VLOOKUP(O223,'Resumen requerimientos'!$A$5:$B$104,2,FALSE)","v":"5R"},"Muy bueno",{"$f":"+HLOOKUP($AA$221,$AB$222:$AJ$226,AK223,0)","v":"0-0,8"},1,{"$f":"+VLOOKUP(O221,TablaResumen[],22,0)*T223","v":1},{"$f":"+VLOOKUP(O221,TablaResumen[],23,0)*T223","v":1},{"$f":"+IFERROR(VALUE(MID(S223,1,FIND(\"-\",S223)-1)),S223)","v":0},{"$f":"+IFERROR(VALUE(MID(S223,FIND(\"-\",S223)+1,LEN(S223)-FIND(\"-\",S223))),S223)","v":0.8},null,null,"Muy bueno","0-1,35","0-0,8","0-0,9","0-0,9","0-0,8","0-0,7","0-0,6","0-0,3","0-0,5",2]
[null,null,null,null,null,null,null,null,null,null,null,null,"N","28.5",28,5,{"$f":"+VLOOKUP(O224,'Resumen requerimientos'!$A$5:$B$104,2,FALSE)","v":"5R"},"Bueno",{"$f":"+HLOOKUP($AA$221,$AB$222:$AJ$226,AK224,0)","v":"0-0,8"},1,{"$f":"+VLOOKUP(O222,TablaResumen[],22,0)*T224","v":1},{"$f":"+VLOOKUP(O222,TablaResumen[],23,0)*T224","v":1},{"$f":"+IFERROR(VALUE(MID(S224,1,FIND(\"-\",S224)-1)),S224)","v":0},{"$f":"+IFERROR(VALUE(MID(S224,FIND(\"-\",S224)+1,LEN(S224)-FIND(\"-\",S224))),S224)","v":0.8},null,null,"Bueno","0-1,35","0-0,8","0-0,9","0-0,9","0-0,8","0-0,7","0-0,6","0-0,3","0-0,5",3]
[null,null,null,null,null,null,null,null,null,null,null,null,"N","28.6",28,6,{"$f":"+VLOOKUP(O225,'Resumen requerimientos'!$A$5:$B$104,2,FALSE)","v":"5R"},"Regular",{"$f":"+HLOOKUP($AA$221,$AB$222:$AJ$226,AK225,0)","v":"0-0,8"},1,{"$f":"+VLOOKUP(O223,TablaResumen[],22,0)*T225","v":1},{"$f":"+VLOOKUP(O223,TablaResumen[],23,0)*T225","v":1},{"$f":"+IFERROR(VALUE(MID(S225,1,FIND(\"-\",S225)-1)),S225)","v":0},{"$f":"+IFERROR(VALUE(MID(S225,FIND(\"-\",S225)+1,LEN(S225)-FIND(\"-\",S225))),S225)","v":0.8},null,null,"Regular","0-1,35","0-0,8","0-0,9","0-0,9","0-0,8","0-0,7","0-0,6","0-0,3","0-0,5",4]
[null,null,null,null,null,null,null,null,null,null,null,null,"N","28.7",28,7,{"$f":"+VLOOKUP(O226,'Resumen requerimientos'!$A$5:$B$104,2,FALSE)","v":"5R"},"Minimo",{"$f":"+HLOOKUP($AA$221,$AB$222:$AJ$226,AK226,0)","v":"0-0,8"},1,{"$f":"+VLOOKUP(O224,TablaResumen[],22,0)*T226","v":1},{"$f":"+VLOOKUP(O224,TablaResumen[],23,0)*T226","v":1},{"$f":"+IFERROR(VALUE(MID(S226,1,FIND(\"-\",S226)-1)),S226)","v":0},{"$f":"+IFERROR(VALUE(MID(S226,FIND(\"-\",S226)+1,LEN(S226)-FIND(\"-\",S226))),S226)","v":0.8},null,null,"Minimo","0-1,35","0-0,8","0-0,9","0-0,9","0-0,8","0-0,7","0-0,6","0-0,3","0-0,5",5]
[null,null,null,null,null,null,null,null,null,null,null,null,"N","28.8",28,8]
[null,null,null,null,null,null,null,null,null,null,null,null,"N","29.1",{"$f":"+IF(R227=\"\",O227+1,O227)","v":29},1,{"$f":"+VLOOKUP(O228,'Resumen requerimientos'!$A$5:$B$104,2,FALSE)","v":"5R"},{"$f":"+VLOOKUP(Q229,'Resumen requerimientos'!$B$5:$AJ$91,10,0)","v":"Demanda de energía"},null,{"$f":"+VLOOKUP(O229,TablaResumen[],16,0)","v":"Transmitancia térmica de la envolvente y Factor Solar Modificado"},null,"Opción",{"$f":"+CONCATENATE(VLOOKUP(O229,'Resumen requerimientos'!$A$5:$AB$91,24),\" de \",VLOOKUP(O229,'Resumen requerimientos'!$A$5:$AB$91,25))","v":"1 de 1"},null,null,null,{"$f":"+'Datos Generales Edificio'!$C$5","v":"RM - Región Metropolitana de Santiago"}]
[null,null,null,null,null,null,null,null,null,null,null,null,"N","29.2",{"$f":"+O228","v":29},2,{"$f":"+VLOOKUP(O229,'Resumen requerimientos'!$A$5:$B$104,2,FALSE)","v":"5R"},{"$f":"+VLOOKUP(O229,TablaResumen[],21,0)","v":"Transmitancia Térmica Muro [W/m2K]"},null,null,null,"Simultáneo",{"$f":"+CONCATENATE(IF(VLOOKUP(O229,'Resumen requerimientos'!$A$5:$AB$91,26)=0,1,VLOOKUP(O229,'Resumen requerimientos'!$A$5:$AB$91,26)),\" de \",IF(VLOOKUP(O229,'Resumen requerimientos'!$A$5:$AB$91,27)=0,1,VLOOKUP(O229,'Resumen requerimientos'!$A$5:$AB$91,27)))","v":"3 de 9"},null,null,null,{"$f":"+'Datos Generales Edificio'!$F$28","v":"CI - Central Interior"}]
[null,null,null,null,null,null,null,null,null,null,null,null,"N","29.3",29,3,{"$f":"+VLOOKUP(O230,'Resumen requerimientos'!$A$5:$B$104,2,FALSE)","v":"5R"},"Nivel","Rango","Prioridad","Ponderación Of. Y Serv.","Ponderación Educ. y Salud.","Rango",null,null,null,{"$f":"+R229","v":"Transmitancia Térmica Muro [W/m2K]"},"NL - Norte Litoral","ND - Norte Desértico","NVT - Norte Valle Transversal","CL - Central Litoral","CI - Central Interior","SL - Sur Litoral","SI - Sur Interior","SE - Sur Extremo","An - Andino"]
[null,null,null,null,null,null,null,null,null,null,null,null,"N","29.4",29,4,{"$f":"+VLOOKUP(O231,'Resumen requerimientos'!$A$5:$B$104,2,FALSE)","v":"5R"},"Muy bueno",{"$f":"+HLOOKUP($AA$229,$AB$230:$AJ$234,AK231,0)","v":"0-2,9"},1,{"$f":"+VLOOKUP(O229,TablaResumen[],22,0)*T231","v":1},{"$f":"+VLOOKUP(O229,TablaResumen[],23,0)*T231","v":1},{"$f":"+IFERROR(VALUE(MID(S231,1,FIND(\"-\",S231)-1)),S231)","v":0},{"$f":"+IFERROR(VALUE(MID(S231,FIND(\"-\",S231)+1,LEN(S231)-FIND(\"-\",S231))),S231)","v":2.9},null,null,"Muy bueno","0-2,9","0-2,9","0-2,9","0-2,9","0-2,9","0-2,9","0-2,9","0-2,9","0-2,9",2]
[null,null,null,null,null,null,null,null,null,null,null,null,"N","29.5",29,5,{"$f":"+VLOOKUP(O232,'Resumen requerimientos'!$A$5:$B$104,2,FALSE)","v":"5R"},"Bueno",{"$f":"+HLOOKUP($AA$229,$AB$230:$AJ$234,AK232,0)","v":"0-2,9"},1,{"$f":"+VLOOKUP(O230,TablaResumen[],22,0)*T232","v":1},{"$f":"+VLOOKUP(O230,TablaResumen[],23,0)*T232","v":1},{"$f":"+IFERROR(VALUE(MID(S232,1,FIND(\"-\",S232)-1)),S232)","v":0},{"$f":"+IFERROR(VALUE(MID(S232,FIND(\"-\",S232)+1,LEN(S232)-FIND(\"-\",S232))),S232)","v":2.9},null,null,"Bueno","0-2,9","0-2,9","0-2,9","0-2,9","0-2,9","0-2,9","0-2,9","0-2,9","0-2,9",3]
[null,null,null,null,null,null,null,null,null,null,null,null,"N","29.6",29,6,{"$f":"+VLOOKUP(O233,'Resumen requerimientos'!$A$5:$B$104,2,FALSE)","v":"5R"},"Regular",{"$f":"+HLOOKUP($AA$229,$AB$230:$AJ$234,AK233,0)","v":"0-2,9"},1,{"$f":"+VLOOKUP(O231,TablaResumen[],22,0)*T233","v":1},{"$f":"+VLOOKUP(O231,TablaResumen[],23,0)*T233","v":1},{"$f":"+IFERROR(VALUE(MID(S233,1,FIND(\"-\",S233)-1)),S233)","v":0},{"$f":"+IFERROR(VALUE(MID(S233,FIND(\"-\",S233)+1,LEN(S233)-FIND(\"-\",S233))),S233)","v":2.9},null,null,"Regular","0-2,9","0-2,9","0-2,9","0-2,9","0-2,9","0-2,9","0-2,9","0-2,9","0-2,9",4]
[null,null,null,null,null,null,null,null,null,null,null,null,"N","29.7",29,7,{"$f":"+VLOOKUP(O234,'Resumen requerimientos'!$A$5:$B$104,2,FALSE)","v":"5R"},"Minimo",{"$f":"+HLOOKUP($AA$229,$AB$230:$AJ$234,AK234,0)","v":"0-2,9"},1,{"$f":"+VLOOKUP(O232,TablaResumen[],22,0)*T234","v":1},{"$f":"+VLOOKUP(O232,TablaResumen[],23,0)*T234","v":1},{"$f":"+IFERROR(VALUE(MID(S234,1,FIND(\"-\",S234)-1)),S234)","v":0},{"$f":"+IFERROR(VALUE(MID(S234,FIND(\"-\",S234)+1,LEN(S234)-FIND(\"-\",S234))),S234)","v":2.9},null,null,"Minimo","0-2,9","0-2,9","0-2,9","0-2,9","0-2,9","0-2,9","0-2,9","0-2,9","0-2,9",5]
[null,null,null,null,null,null,null,null,null,null,null,null,"N","29.8",29,8]
[null,null,null,null,null,null,null,null,null,null,null,null,"N","30.1",{"$f":"+IF(R235=\"\",O235+1,O235)","v":30},1,{"$f":"+VLOOKUP(O236,'Resumen requerimientos'!$A$5:$B$104,2,FALSE)","v":"5R"},{"$f":"+VLOOKUP(Q237,'Resumen requerimientos'!$B$5:$AJ$91,10,0)","v":"Demanda de energía"},null,{"$f":"+VLOOKUP(O237,TablaResumen[],16,0)","v":"Transmitancia térmica de la envolvente y Factor Solar Modificado"},null,"Opción",{"$f":"+CONCATENATE(VLOOKUP(O237,'Resumen requerimientos'!$A$5:$AB$91,24),\" de \",VLOOKUP(O237,'Resumen requerimientos'!$A$5:$AB$91,25))","v":"1 de 1"},null,null,null,{"$f":"+'Datos Generales Edificio'!$C$5","v":"RM - Región Metropolitana de Santiago"}]
[null,null,null,null,null,null,null,null,null,null,null,null,"N","30.2",{"$f":"+O236","v":30},2,{"$f":"+VLOOKUP(O237,'Resumen requerimientos'!$A$5:$B$104,2,FALSE)","v":"5R"},{"$f":"+VLOOKUP(O237,TablaResumen[],21,0)","v":"Transmitancia Térmica Ventana [W/m2K]"},null,null,null,"Simultáneo",{"$f":"+CONCATENATE(IF(VLOOKUP(O237,'Resumen requerimientos'!$A$5:$AB$91,26)=0,1,VLOOKUP(O237,'Resumen requerimientos'!$A$5:$AB$91,26)),\" de \",IF(VLOOKUP(O237,'Resumen requerimientos'!$A$5:$AB$91,27)=0,1,VLOOKUP(O237,'Resumen requerimientos'!$A$5:$AB$91,27)))","v":"4 de 9"},null,null,null,{"$f":"+'Datos Generales Edificio'!$F$28","v":"CI - Central Interior"}]
[null,null,null,null,null,null,null,null,null,null,null,null,"N","30.3",30,3,{"$f":"+VLOOKUP(O238,'Resumen requerimientos'!$A$5:$B$104,2,FALSE)","v":"5R"},"Nivel","Rango","Prioridad","Ponderación Of. Y Serv.","Ponderación Educ. y Salud.","Rango",null,null,null,{"$f":"+R237","v":"Transmitancia Térmica Ventana [W/m2K]"},"NL - Norte Litoral","ND - Norte Desértico","NVT - Norte Valle Transversal","CL - Central Litoral","CI - Central Interior","SL - Sur Litoral","SI - Sur Interior","SE - Sur Extremo","An - Andino"]
[null,null,null,null,null,null,null,null,null,null,null,null,"N","30.4",30,4,{"$f":"+VLOOKUP(O239,'Resumen requerimientos'!$A$5:$B$104,2,FALSE)","v":"5R"},"Muy bueno",{"$f":"+HLOOKUP($AA$237,$AB$238:$AJ$242,AK239,0)","v":"0-3,4"},1,{"$f":"+VLOOKUP(O237,TablaResumen[],22,0)*T239","v":1},{"$f":"+VLOOKUP(O237,TablaResumen[],23,0)*T239","v":1},{"$f":"+IFERROR(VALUE(MID(S239,1,FIND(\"-\",S239)-1)),S239)","v":0},{"$f":"+IFERROR(VALUE(MID(S239,FIND(\"-\",S239)+1,LEN(S239)-FIND(\"-\",S239))),S239)","v":3.4},null,null,"Muy bueno","0-5,7","0-3,4","0-3,4","0-3,4","0-3,4","0-2,8","0-2,8","0-2,1","0-2,8",2]
[null,null,null,null,null,null,null,null,null,null,null,null,"N","30.5",30,5,{"$f":"+VLOOKUP(O240,'Resumen requerimientos'!$A$5:$B$104,2,FALSE)","v":"5R"},"Bueno",{"$f":"+HLOOKUP($AA$237,$AB$238:$AJ$242,AK240,0)","v":"0-3,4"},1,{"$f":"+VLOOKUP(O238,TablaResumen[],22,0)*T240","v":1},{"$f":"+VLOOKUP(O238,TablaResumen[],23,0)*T240","v":1},{"$f":"+IFERROR(VALUE(MID(S240,1,FIND(\"-\",S240)-1)),S240)","v":0},{"$f":"+IFERROR(VALUE(MID(S240,FIND(\"-\",S240)+1,LEN(S240)-FIND(\"-\",S240))),S240)","v":3.4},null,null,"Bueno","0-5,7","0-3,4","0-3,4","0-3,4","0-3,4","0-2,8","0-2,8","0-2,1","0-2,8",3]
[null,null,null,null,null,null,null,null,null,null,null,null,"N","30.6",30,6,{"$f":"+VLOOKUP(O241,'Resumen requerimientos'!$A$5:$B$104,2,FALSE)","v":"5R"},"Regular",{"$f":"+HLOOKUP($AA$237,$AB$238:$AJ$242,AK241,0)","v":"0-3,4"},1,{"$f":"+VLOOKUP(O239,TablaResumen[],22,0)*T241","v":1},{"$f":"+VLOOKUP(O239,TablaResumen[],23,0)*T241","v":1},{"$f":"+IFERROR(VALUE(MID(S241,1,FIND(\"-\",S241)-1)),S241)","v":0},{"$f":"+IFERROR(VALUE(MID(S241,FIND(\"-\",S241)+1,LEN(S241)-FIND(\"-\",S241))),S241)","v":3.4},null,null,"Regular","0-5,7","0-3,4","0-3,4","0-3,4","0-3,4","0-2,8","0-2,8","0-2,1","0-2,8",4]
[null,null,null,null,null,null,null,null,null,null,null,null,"N","30.7",30,7,{"$f":"+VLOOKUP(O242,'Resumen requerimientos'!$A$5:$B$104,2,FALSE)","v":"5R"},"Minimo",{"$f":"+HLOOKUP($AA$237,$AB$238:$AJ$242,AK242,0)","v":"0-3,4"},1,{"$f":"+VLOOKUP(O240,TablaResumen[],22,0)*T242","v":1},{"$f":"+VLOOKUP(O240,TablaResumen[],23,0)*T242","v":1},{"$f":"+IFERROR(VALUE(MID(S242,1,FIND(\"-\",S242)-1)),S242)","v":0},{"$f":"+IFERROR(VALUE(MID(S242,FIND(\"-\",S242)+1,LEN(S242)-FIND(\"-\",S242))),S242)","v":3.4},null,null,"Minimo","0-5,7","0-3,4","0-3,4","0-3,4","0-3,4","0-2,8","0-2,8","0-2,1","0-2,8",5]
[null,null,null,null,null,null,null,null,null,null,null,null,"N","30.8",30,8]
[null,null,null,null,null,null,null,null,null,null,null,null,"N","31.1",{"$f":"+IF(R243=\"\",O243+1,O243)","v":31},1,{"$f":"+VLOOKUP(O244,'Resumen requerimientos'!$A$5:$B$104,2,FALSE)","v":"5R"},{"$f":"+VLOOKUP(Q245,'Resumen requerimientos'!$B$5:$AJ$91,10,0)","v":"Demanda de energía"},null,{"$f":"+VLOOKUP(O245,TablaResumen[],16,0)","v":"Transmitancia térmica de la envolvente y Factor Solar Modificado"},null,"Opción",{"$f":"+CONCATENATE(VLOOKUP(O245,'Resumen requerimientos'!$A$5:$AB$91,24),\" de \",VLOOKUP(O245,'Resumen requerimientos'!$A$5:$AB$91,25))","v":"1 de 1"},null,null,null,{"$f":"+'Datos Generales Edificio'!$C$5","v":"RM - Región Metropolitana de Santiago"}]
[null,null,null,null,null,null,null,null,null,null,null,null,"N","31.2",{"$f":"+O244","v":31},2,{"$f":"+VLOOKUP(O245,'Resumen requerimientos'!$A$5:$B$104,2,FALSE)","v":"5R"},{"$f":"+VLOOKUP(O245,TablaResumen[],21,0)","v":"FSM - Norte"},null,null,null,"Simultáneo",{"$f":"+CONCATENATE(IF(VLOOKUP(O245,'Resumen requerimientos'!$A$5:$AB$91,26)=0,1,VLOOKUP(O245,'Resumen requerimientos'!$A$5:$AB$91,26)),\" de \",IF(VLOOKUP(O245,'Resumen requerimientos'!$A$5:$AB$91,27)=0,1,VLOOKUP(O245,'Resumen requerimientos'!$A$5:$AB$91,27)))","v":"5 de 9"},null,null,null,{"$f":"+'Datos Generales Edificio'!$F$28","v":"CI - Central Interior"}]
[null,null,null,null,null,null,null,null,null,null,null,null,"N","31.3",31,3,{"$f":"+VLOOKUP(O246,'Resumen requerimientos'!$A$5:$B$104,2,FALSE)","v":"5R"},"Nivel","Rango","Prioridad","Ponderación Of. Y Serv.","Ponderación Educ. y Salud.","Rango",null,null,null,{"$f":"+R245","v":"FSM - Norte"},"NL - Norte Litoral","ND - Norte Desértico","NVT - Norte Valle Transversal","CL - Central Litoral","CI - Central Interior","SL - Sur Litoral","SI - Sur Interior","SE - Sur Extremo","An - Andino"]
[null,null,null,null,null,null,null,null,null,null,null,null,"N","31.4",31,4,{"$f":"+VLOOKUP(O247,'Resumen requerimientos'!$A$5:$B$104,2,FALSE)","v":"5R"},"Muy bueno",{"$f":"+HLOOKUP($AA$245,$AB$246:$AJ$250,AK247,0)","v":"0-0,75"},1,{"$f":"+VLOOKUP(O245,TablaResumen[],22,0)*T247","v":1},{"$f":"+VLOOKUP(O245,TablaResumen[],23,0)*T247","v":1},{"$f":"+IFERROR(VALUE(MID(S247,1,FIND(\"-\",S247)-1)),S247)","v":0},{"$f":"+IFERROR(VALUE(MID(S247,FIND(\"-\",S247)+1,LEN(S247)-FIND(\"-\",S247))),S247)","v":0.75},null,null,"Muy bueno","0-0,75","0-0,75","0-0,75","0-0,75","0-0,75","No Aplica","0-0,75","No Aplica","No Aplica",2]
[null,null,null,null,null,null,null,null,null,null,null,null,"N","31.5",31,5,{"$f":"+VLOOKUP(O248,'Resumen requerimientos'!$A$5:$B$104,2,FALSE)","v":"5R"},"Bueno",{"$f":"+HLOOKUP($AA$245,$AB$246:$AJ$250,AK248,0)","v":"0-0,75"},1,{"$f":"+VLOOKUP(O246,TablaResumen[],22,0)*T248","v":1},{"$f":"+VLOOKUP(O246,TablaResumen[],23,0)*T248","v":1},{"$f":"+IFERROR(VALUE(MID(S248,1,FIND(\"-\",S248)-1)),S248)","v":0},{"$f":"+IFERROR(VALUE(MID(S248,FIND(\"-\",S248)+1,LEN(S248)-FIND(\"-\",S248))),S248)","v":0.75},null,null,"Bueno","0-0,75","0-0,75","0-0,75","0-0,75","0-0,75","No Aplica","0-0,75","No Aplica","No Aplica",3]
[null,null,null,null,null,null,null,null,null,null,null,null,"N","31.6",31,6,{"$f":"+VLOOKUP(O249,'Resumen requerimientos'!$A$5:$B$104,2,FALSE)","v":"5R"},"Regular",{"$f":"+HLOOKUP($AA$245,$AB$246:$AJ$250,AK249,0)","v":"0-0,75"},1,{"$f":"+VLOOKUP(O247,TablaResumen[],22,0)*T249","v":1},{"$f":"+VLOOKUP(O247,TablaResumen[],23,0)*T249","v":1},{"$f":"+IFERROR(VALUE(MID(S249,1,FIND(\"-\",S249)-1)),S249)","v":0},{"$f":"+IFERROR(VALUE(MID(S249,FIND(\"-\",S249)+1,LEN(S249)-FIND(\"-\",S249))),S249)","v":0.75},null,null,"Regular","0-0,75","0-0,75","0-0,75","0-0,75","0-0,75","No Aplica","0-0,75","No Aplica","No Aplica",4]
[null,null,null,null,null,null,null,null,null,null,null,null,"N","31.7",31,7,{"$f":"+VLOOKUP(O250,'Resumen requerimientos'!$A$5:$B$104,2,FALSE)","v":"5R"},"Minimo",{"$f":"+HLOOKUP($AA$245,$AB$246:$AJ$250,AK250,0)","v":"0-0,75"},1,{"$f":"+VLOOKUP(O248,TablaResumen[],22,0)*T250","v":1},{"$f":"+VLOOKUP(O248,TablaResumen[],23,0)*T250","v":1},{"$f":"+IFERROR(VALUE(MID(S250,1,FIND(\"-\",S250)-1)),S250)","v":0},{"$f":"+IFERROR(VALUE(MID(S250,FIND(\"-\",S250)+1,LEN(S250)-FIND(\"-\",S250))),S250)","v":0.75},null,null,"Minimo","0-0,75","0-0,75","0-0,75","0-0,75","0-0,75","No Aplica","0-0,75","No Aplica","No Aplica",5]
[null,null,null,null,null,null,null,null,null,null,null,null,"N","31.8",31,8]
[null,null,null,null,null,null,null,null,null,null,null,null,"N","32.1",{"$f":"+IF(R251=\"\",O251+1,O251)","v":32},1,{"$f":"+VLOOKUP(O252,'Resumen requerimientos'!$A$5:$B$104,2,FALSE)","v":"5R"},{"$f":"+VLOOKUP(Q253,'Resumen requerimientos'!$B$5:$AJ$91,10,0)","v":"Demanda de energía"},null,{"$f":"+VLOOKUP(O253,TablaResumen[],16,0)","v":"Transmitancia térmica de la envolvente y Factor Solar Modificado"},null,"Opción",{"$f":"+CONCATENATE(VLOOKUP(O253,'Resumen requerimientos'!$A$5:$AB$91,24),\" de \",VLOOKUP(O253,'Resumen requerimientos'!$A$5:$AB$91,25))","v":"1 de 1"},null,null,null,{"$f":"+'Datos Generales Edificio'!$C$5","v":"RM - Región Metropolitana de Santiago"}]
[null,null,null,null,null,null,null,null,null,null,null,null,"N","32.2",{"$f":"+O252","v":32},2,{"$f":"+VLOOKUP(O253,'Resumen requerimientos'!$A$5:$B$104,2,FALSE)","v":"5R"},{"$f":"+VLOOKUP(O253,TablaResumen[],21,0)","v":"FSM - Este"},null,null,null,"Simultáneo",{"$f":"+CONCATENATE(IF(VLOOKUP(O253,'Resumen requerimientos'!$A$5:$AB$91,26)=0,1,VLOOKUP(O253,'Resumen requerimientos'!$A$5:$AB$91,26)),\" de \",IF(VLOOKUP(O253,'Resumen requerimientos'!$A$5:$AB$91,27)=0,1,VLOOKUP(O253,'Resumen requerimientos'!$A$5:$AB$91,27)))","v":"8 de 9"},null,null,null,{"$f":"+'Datos Generales Edificio'!$F$28","v":"CI - Central Interior"}]
[null,null,null,null,null,null,null,null,null,null,null,null,"N","32.3",32,3,{"$f":"+VLOOKUP(O254,'Resumen requerimientos'!$A$5:$B$104,2,FALSE)","v":"5R"},"Nivel","Rango","Prioridad","Ponderación Of. Y Serv.","Ponderación Educ. y Salud.","Rango",null,null,null,{"$f":"+R253","v":"FSM - Este"},"NL - Norte Litoral","ND - Norte Desértico","NVT - Norte Valle Transversal","CL - Central Litoral","CI - Central Interior","SL - Sur Litoral","SI - Sur Interior","SE - Sur Extremo","An - Andino"]
[null,null,null,null,null,null,null,null,null,null,null,null,"N","32.4",32,4,{"$f":"+VLOOKUP(O255,'Resumen requerimientos'!$A$5:$B$104,2,FALSE)","v":"5R"},"Muy bueno",{"$f":"+HLOOKUP($AA$253,$AB$254:$AJ$258,AK255,0)","v":"0-0,6"},1,{"$f":"+VLOOKUP(O253,TablaResumen[],22,0)*T255","v":1},{"$f":"+VLOOKUP(O253,TablaResumen[],23,0)*T255","v":1},{"$f":"+IFERROR(VALUE(MID(S255,1,FIND(\"-\",S255)-1)),S255)","v":0},{"$f":"+IFERROR(VALUE(MID(S255,FIND(\"-\",S255)+1,LEN(S255)-FIND(\"-\",S255))),S255)","v":0.6},null,null,"Muy bueno","0-0,6","0-0,6","0-0,6","0-0,6","0-0,6","No Aplica","0-0,6","No Aplica","No Aplica",2]
[null,null,null,null,null,null,null,null,null,null,null,null,"N","32.5",32,5,{"$f":"+VLOOKUP(O256,'Resumen requerimientos'!$A$5:$B$104,2,FALSE)","v":"5R"},"Bueno",{"$f":"+HLOOKUP($AA$253,$AB$254:$AJ$258,AK256,0)","v":"0-0,6"},1,{"$f":"+VLOOKUP(O254,TablaResumen[],22,0)*T256","v":1},{"$f":"+VLOOKUP(O254,TablaResumen[],23,0)*T256","v":1},{"$f":"+IFERROR(VALUE(MID(S256,1,FIND(\"-\",S256)-1)),S256)","v":0},{"$f":"+IFERROR(VALUE(MID(S256,FIND(\"-\",S256)+1,LEN(S256)-FIND(\"-\",S256))),S256)","v":0.6},null,null,"Bueno","0-0,6","0-0,6","0-0,6","0-0,6","0-0,6","No Aplica","0-0,6","No Aplica","No Aplica",3]
[null,null,null,null,null,null,null,null,null,null,null,null,"N","32.6",32,6,{"$f":"+VLOOKUP(O257,'Resumen requerimientos'!$A$5:$B$104,2,FALSE)","v":"5R"},"Regular",{"$f":"+HLOOKUP($AA$253,$AB$254:$AJ$258,AK257,0)","v":"0-0,6"},1,{"$f":"+VLOOKUP(O255,TablaResumen[],22,0)*T257","v":1},{"$f":"+VLOOKUP(O255,TablaResumen[],23,0)*T257","v":1},{"$f":"+IFERROR(VALUE(MID(S257,1,FIND(\"-\",S257)-1)),S257)","v":0},{"$f":"+IFERROR(VALUE(MID(S257,FIND(\"-\",S257)+1,LEN(S257)-FIND(\"-\",S257))),S257)","v":0.6},null,null,"Regular","0-0,6","0-0,6","0-0,6","0-0,6","0-0,6","No Aplica","0-0,6","No Aplica","No Aplica",4]
[null,null,null,null,null,null,null,null,null,null,null,null,"N","32.7",32,7,{"$f":"+VLOOKUP(O258,'Resumen requerimientos'!$A$5:$B$104,2,FALSE)","v":"5R"},"Minimo",{"$f":"+HLOOKUP($AA$253,$AB$254:$AJ$258,AK258,0)","v":"0-0,6"},1,{"$f":"+VLOOKUP(O256,TablaResumen[],22,0)*T258","v":1},{"$f":"+VLOOKUP(O256,TablaResumen[],23,0)*T258","v":1},{"$f":"+IFERROR(VALUE(MID(S258,1,FIND(\"-\",S258)-1)),S258)","v":0},{"$f":"+IFERROR(VALUE(MID(S258,FIND(\"-\",S258)+1,LEN(S258)-FIND(\"-\",S258))),S258)","v":0.6},null,null,"Minimo","0-0,6","0-0,6","0-0,6","0-0,6","0-0,6","No Aplica","0-0,6","No Aplica","No Aplica",5]
[null,null,null,null,null,null,null,null,null,null,null,null,"N","32.8",32,8]
[null,null,null,null,null,null,null,null,null,null,null,null,"T","33.1",{"$f":"+IF(R259=\"\",O259+1,O259)","v":33},1,{"$f":"+VLOOKUP(O260,'Resumen requerimientos'!$A$5:$B$104,2,FALSE)","v":"ARQ.ENERGIA.6"},{"$f":"+VLOOKUP(Q261,'Resumen requerimientos'!$B$5:$AJ$91,10,0)","v":"Hermeticidad de la envolvente"},null,{"$f":"+VLOOKUP(O261,TablaResumen[],16,0)","v":"Hermeticidad de la envolvente"},null,"Opción",{"$f":"+CONCATENATE(VLOOKUP(O261,'Resumen requerimientos'!$A$5:$AB$91,24),\" de \",VLOOKUP(O261,'Resumen requerimientos'!$A$5:$AB$91,25))","v":"1 de 2"},null,null,null,{"$f":"+'Datos Generales Edificio'!$C$5","v":"RM - Región Metropolitana de Santiago"}]
[null,null,null,null,null,null,null,null,null,null,null,null,"T","33.2",{"$f":"+O260","v":33},2,{"$f":"+VLOOKUP(O261,'Resumen requerimientos'!$A$5:$B$104,2,FALSE)","v":"ARQ.ENERGIA.6"},{"$f":"+VLOOKUP(O261,TablaResumen[],21,0)","v":"Infiltración de aire por la envolvente [RAH]"},null,null,null,"Simultáneo",{"$f":"+CONCATENATE(IF(VLOOKUP(O261,'Resumen requerimientos'!$A$5:$AB$91,26)=0,1,VLOOKUP(O261,'Resumen requerimientos'!$A$5:$AB$91,26)),\" de \",IF(VLOOKUP(O261,'Resumen requerimientos'!$A$5:$AB$91,27)=0,1,VLOOKUP(O261,'Resumen requerimientos'!$A$5:$AB$91,27)))","v":"1 de 1"},null,null,null,{"$f":"+'Datos Generales Edificio'!$F$28","v":"CI - Central Interior"}]
[null,null,null,null,null,null,null,null,null,null,null,null,"T",{"$f":"+CONCATENATE(O262,\".\",P262)","v":"33.3"},33,{"$f":"+IF(O262=O261,P261+1,1)","v":3},{"$f":"+VLOOKUP(O262,'Resumen requerimientos'!$A$5:$B$104,2,FALSE)","v":"ARQ.ENERGIA.6"},"Nivel","Rango","Prioridad","Ponderación Of. Y Serv.","Ponderación Educ. y Salud.","Rango",null,null,null,{"$f":"+R261","v":"Infiltración de aire por la envolvente [RAH]"},"NL - Norte Litoral","ND - Norte Desértico","NVT - Norte Valle Transversal","CL - Central Litoral","CI - Central Interior","SL - Sur Litoral","SI - Sur Interior","SE - Sur Extremo","An - Andino"]
[null,null,null,null,null,null,null,null,null,null,null,null,"T","33.4",33,4,{"$f":"+VLOOKUP(O263,'Resumen requerimientos'!$A$5:$B$104,2,FALSE)","v":"ARQ.ENERGIA.6"},"Muy bueno",{"$f":"+HLOOKUP($AA$261,$AB$262:$AJ$266,AK263,0)","v":"Test de Infiltración por la envolvente n50 (1/h), con RAH  iguales o menores a las indicadas en la Tabla 14"},1,{"$f":"+VLOOKUP(O261,TablaResumen[],22,0)*T263","v":0.03},{"$f":"+VLOOKUP(O261,TablaResumen[],23,0)*T263","v":0.03},{"$f":"+IFERROR(VALUE(MID(S263,1,FIND(\"-\",S263)-1)),S263)","v":"Test de Infiltración por la envolvente n50 (1/h), con RAH  iguales o menores a las indicadas en la Tabla 14"},{"$f":"+IFERROR(VALUE(MID(S263,FIND(\"-\",S263)+1,LEN(S263)-FIND(\"-\",S263))),S263)","v":"Test de Infiltración por la envolvente n50 (1/h), con RAH  iguales o menores a las indicadas en la Tabla 14"},null,null,"Muy bueno","Test de Infiltración por la envolvente n50 (1/h), con RAH  iguales o menores a las indicadas en la Tabla 10","Test de Infiltración por la envolvente n50 (1/h), con RAH  iguales o menores a las indicadas en la Tabla 11","Test de Infiltración por la envolvente n50 (1/h), con RAH  iguales o menores a las indicadas en la Tabla 12","Test de Infiltración por la envolvente n50 (1/h), con RAH  iguales o menores a las indicadas en la Tabla 13","Test de Infiltración por la envolvente n50 (1/h), con RAH  iguales o menores a las indicadas en la Tabla 14","Test de Infiltración por la envolvente n50 (1/h), con RAH  iguales o menores a las indicadas en la Tabla 15","Test de Infiltración por la envolvente n50 (1/h), con RAH  iguales o menores a las indicadas en la Tabla 16","Test de Infiltración por la envolvente n50 (1/h), con RAH  iguales o menores a las indicadas en la Tabla 17","Test de Infiltración por la envolvente n50 (1/h), con RAH  iguales o menores a las indicadas en la Tabla 18",2]
[null,null,null,null,null,null,null,null,null,null,null,null,"T","33.5",33,5,{"$f":"+VLOOKUP(O264,'Resumen requerimientos'!$A$5:$B$104,2,FALSE)","v":"ARQ.ENERGIA.6"},"Bueno",{"$f":"+HLOOKUP($AA$261,$AB$262:$AJ$266,AK264,0)","v":"Test de Infiltración por la envolvente n50 (1/h), con RAH no mayores a 1,5 veces las indicadas en la Tabla 14"},{"$f":"2/3","v":0.66666666666666663},{"$f":"+VLOOKUP(O262,TablaResumen[],22,0)*T264","v":1.9999999999999997E-2},{"$f":"+VLOOKUP(O262,TablaResumen[],23,0)*T264","v":1.9999999999999997E-2},{"$f":"+IFERROR(VALUE(MID(S264,1,FIND(\"-\",S264)-1)),S264)","v":"Test de Infiltración por la envolvente n50 (1/h), con RAH no mayores a 1,5 veces las indicadas en la Tabla 14"},{"$f":"+IFERROR(VALUE(MID(S264,FIND(\"-\",S264)+1,LEN(S264)-FIND(\"-\",S264))),S264)","v":"Test de Infiltración por la envolvente n50 (1/h), con RAH no mayores a 1,5 veces las indicadas en la Tabla 14"},null,null,"Bueno","Test de Infiltración por la envolvente n50 (1/h), con RAH no mayores a 1,5 veces las indicadas en la Tabla 10","Test de Infiltración por la envolvente n50 (1/h), con RAH no mayores a 1,5 veces las indicadas en la Tabla 11","Test de Infiltración por la envolvente n50 (1/h), con RAH no mayores a 1,5 veces las indicadas en la Tabla 12","Test de Infiltración por la envolvente n50 (1/h), con RAH no mayores a 1,5 veces las indicadas en la Tabla 13","Test de Infiltración por la envolvente n50 (1/h), con RAH no mayores a 1,5 veces las indicadas en la Tabla 14","Test de Infiltración por la envolvente n50 (1/h), con RAH no mayores a 1,5 veces las indicadas en la Tabla 15","Test de Infiltración por la envolvente n50 (1/h), con RAH no mayores a 1,5 veces las indicadas en la Tabla 16","Test de Infiltración por la envolvente n50 (1/h), con RAH no mayores a 1,5 veces las indicadas en la Tabla 17","Test de Infiltración por la envolvente n50 (1/h), con RAH no mayores a 1,5 veces las indicadas en la Tabla 18",3]
[null,null,null,null,null,null,null,null,null,null,null,null,"T","33.6",33,6,{"$f":"+VLOOKUP(O265,'Resumen requerimientos'!$A$5:$B$104,2,FALSE)","v":"ARQ.ENERGIA.6"},"Regular",{"$f":"+HLOOKUP($AA$261,$AB$262:$AJ$266,AK265,0)","v":"Test de Infiltración por la envolvente n50 (1/h), con RAH no mayor a 2 veces las indicadas en la Tabla 14"},0.5,{"$f":"+VLOOKUP(O263,TablaResumen[],22,0)*T265","v":1.4999999999999999E-2},{"$f":"+VLOOKUP(O263,TablaResumen[],23,0)*T265","v":1.4999999999999999E-2},{"$f":"+IFERROR(VALUE(MID(S265,1,FIND(\"-\",S265)-1)),S265)","v":"Test de Infiltración por la envolvente n50 (1/h), con RAH no mayor a 2 veces las indicadas en la Tabla 14"},{"$f":"+IFERROR(VALUE(MID(S265,FIND(\"-\",S265)+1,LEN(S265)-FIND(\"-\",S265))),S265)","v":"Test de Infiltración por la envolvente n50 (1/h), con RAH no mayor a 2 veces las indicadas en la Tabla 14"},null,null,"Regular","Test de Infiltración por la envolvente n50 (1/h), con RAH no mayor a 2 veces las indicadas en la Tabla 10","Test de Infiltración por la envolvente n50 (1/h), con RAH no mayor a 2 veces las indicadas en la Tabla 11","Test de Infiltración por la envolvente n50 (1/h), con RAH no mayor a 2 veces las indicadas en la Tabla 12","Test de Infiltración por la envolvente n50 (1/h), con RAH no mayor a 2 veces las indicadas en la Tabla 13","Test de Infiltración por la envolvente n50 (1/h), con RAH no mayor a 2 veces las indicadas en la Tabla 14","Test de Infiltración por la envolvente n50 (1/h), con RAH no mayor a 2 veces las indicadas en la Tabla 15","Test de Infiltración por la envolvente n50 (1/h), con RAH no mayor a 2 veces las indicadas en la Tabla 16","Test de Infiltración por la envolvente n50 (1/h), con RAH no mayor a 2 veces las indicadas en la Tabla 17","Test de Infiltración por la envolvente n50 (1/h), con RAH no mayor a 2 veces las indicadas en la Tabla 18",4]
[null,null,null,null,null,null,null,null,null,null,null,null,"T","33.7",33,7,{"$f":"+VLOOKUP(O266,'Resumen requerimientos'!$A$5:$B$104,2,FALSE)","v":"ARQ.ENERGIA.6"},"Minimo",{"$f":"+HLOOKUP($AA$261,$AB$262:$AJ$266,AK266,0)","v":0},0,{"$f":"+VLOOKUP(O264,TablaResumen[],22,0)*T266","v":0},{"$f":"+VLOOKUP(O264,TablaResumen[],23,0)*T266","v":0},{"$f":"+IFERROR(VALUE(MID(S266,1,FIND(\"-\",S266)-1)),S266)","v":0},{"$f":"+IFERROR(VALUE(MID(S266,FIND(\"-\",S266)+1,LEN(S266)-FIND(\"-\",S266))),S266)","v":0},null,null,"Minimo",null,null,null,null,null,null,null,null,null,5]
[null,null,null,null,null,null,null,null,null,null,null,null,"T","33.8",33,8]
[null,null,null,null,null,null,null,null,null,null,null,null,"T","34.1",{"$f":"+IF(R267=\"\",O267+1,O267)","v":34},1,{"$f":"+VLOOKUP(O268,'Resumen requerimientos'!$A$5:$B$104,2,FALSE)","v":"ARQ.ENERGIA.6"},{"$f":"+VLOOKUP(Q269,'Resumen requerimientos'!$B$5:$AJ$91,10,0)","v":"Hermeticidad de la envolvente"},null,{"$f":"+VLOOKUP(O269,TablaResumen[],16,0)","v":"Hermeticidad de la envolvente"},null,"Opción",{"$f":"+CONCATENATE(VLOOKUP(O269,'Resumen requerimientos'!$A$5:$AB$91,24),\" de \",VLOOKUP(O269,'Resumen requerimientos'!$A$5:$AB$91,25))","v":"2 de 2"},null,null,null,{"$f":"+'Datos Generales Edificio'!$C$5","v":"RM - Región Metropolitana de Santiago"}]
[null,null,null,null,null,null,null,null,null,null,null,null,"T","34.2",{"$f":"+O268","v":34},2,{"$f":"+VLOOKUP(O269,'Resumen requerimientos'!$A$5:$B$104,2,FALSE)","v":"ARQ.ENERGIA.6"},{"$f":"+VLOOKUP(O269,TablaResumen[],21,0)","v":"Permeabilidad al aire de carpintería de ventanas"},null,null,null,"Simultáneo",{"$f":"+CONCATENATE(IF(VLOOKUP(O269,'Resumen requerimientos'!$A$5:$AB$91,26)=0,1,VLOOKUP(O269,'Resumen requerimientos'!$A$5:$AB$91,26)),\" de \",IF(VLOOKUP(O269,'Resumen requerimientos'!$A$5:$AB$91,27)=0,1,VLOOKUP(O269,'Resumen requerimientos'!$A$5:$AB$91,27)))","v":"1 de 1"},null,null,null,{"$f":"+'Datos Generales Edificio'!$F$28","v":"CI - Central Interior"}]
[null,null,null,null,null,null,null,null,null,null,null,null,"T","34.3",34,3,{"$f":"+VLOOKUP(O270,'Resumen requerimientos'!$A$5:$B$104,2,FALSE)","v":"ARQ.ENERGIA.6"},"Nivel","Rango","Prioridad","Ponderación Of. Y Serv.","Ponderación Educ. y Salud.","Rango",null,null,null,{"$f":"+R269","v":"Permeabilidad al aire de carpintería de ventanas"},"NL - Norte Litoral","ND - Norte Desértico","NVT - Norte Valle Transversal","CL - Central Litoral","CI - Central Interior","SL - Sur Litoral","SI - Sur Interior","SE - Sur Extremo","An - Andino"]
[null,null,null,null,null,null,null,null,null,null,null,null,"T","34.4",34,4,{"$f":"+VLOOKUP(O271,'Resumen requerimientos'!$A$5:$B$104,2,FALSE)","v":"ARQ.ENERGIA.6"},"Muy bueno",{"$f":"+HLOOKUP($AA$269,$AB$270:$AJ$274,AK271,0)","v":"Uso de carpintería de ventana con ensayo de permeabilidad al aire, con clase inferior a la indicada para la zona de presión de viento medio del edificio indicada en la Tabla 10"},{"$f":"2/3","v":0.66666666666666663},{"$f":"+VLOOKUP(O269,TablaResumen[],22,0)*T271","v":1.9999999999999997E-2},{"$f":"+VLOOKUP(O269,TablaResumen[],23,0)*T271","v":1.9999999999999997E-2},{"$f":"+IFERROR(VALUE(MID(S271,1,FIND(\"-\",S271)-1)),S271)","v":"Uso de carpintería de ventana con ensayo de permeabilidad al aire, con clase inferior a la indicada para la zona de presión de viento medio del edificio indicada en la Tabla 10"},{"$f":"+IFERROR(VALUE(MID(S271,FIND(\"-\",S271)+1,LEN(S271)-FIND(\"-\",S271))),S271)","v":"Uso de carpintería de ventana con ensayo de permeabilidad al aire, con clase inferior a la indicada para la zona de presión de viento medio del edificio indicada en la Tabla 10"},null,null,"Muy bueno","Uso de carpintería de ventana con ensayo de permeabilidad al aire, con clase inferior a la indicada para la zona de presión de viento medio del edificio indicada en la Tabla 10","Uso de carpintería de ventana con ensayo de permeabilidad al aire, con clase inferior a la indicada para la zona de presión de viento medio del edificio indicada en la Tabla 10","Uso de carpintería de ventana con ensayo de permeabilidad al aire, con clase inferior a la indicada para la zona de presión de viento medio del edificio indicada en la Tabla 10","Uso de carpintería de ventana con ensayo de permeabilidad al aire, con clase inferior a la indicada para la zona de presión de viento medio del edificio indicada en la Tabla 10","Uso de carpintería de ventana con ensayo de permeabilidad al aire, con clase inferior a la indicada para la zona de presión de viento medio del edificio indicada en la Tabla 10","Uso de carpintería de ventana con ensayo de permeabilidad al aire, con clase inferior a la indicada para la zona de presión de viento medio del edificio indicada en la Tabla 10","Uso de carpintería de ventana con ensayo de permeabilidad al aire, con clase inferior a la indicada para la zona de presión de viento medio del edificio indicada en la Tabla 10","Uso de carpintería de ventana con ensayo de permeabilidad al aire, con clase inferior a la indicada para la zona de presión de viento medio del edificio indicada en la Tabla 10","Uso de carpintería de ventana con ensayo de permeabilidad al aire, con clase inferior a la indicada para la zona de presión de viento medio del edificio indicada en la Tabla 10",2]
[null,null,null,null,null,null,null,null,null,null,null,null,"T","34.5",34,5,{"$f":"+VLOOKUP(O272,'Resumen requerimientos'!$A$5:$B$104,2,FALSE)","v":"ARQ.ENERGIA.6"},"Bueno",{"$f":"+HLOOKUP($AA$269,$AB$270:$AJ$274,AK272,0)","v":"Uso de carpintería de ventana con ensayo de permeabilidad, con clase igual a la indicada para la zona de presión de viento medio del edificio indicada en la Tabla 10"},0.5,{"$f":"+VLOOKUP(O270,TablaResumen[],22,0)*T272","v":1.4999999999999999E-2},{"$f":"+VLOOKUP(O270,TablaResumen[],23,0)*T272","v":1.4999999999999999E-2},{"$f":"+IFERROR(VALUE(MID(S272,1,FIND(\"-\",S272)-1)),S272)","v":"Uso de carpintería de ventana con ensayo de permeabilidad, con clase igual a la indicada para la zona de presión de viento medio del edificio indicada en la Tabla 10"},{"$f":"+IFERROR(VALUE(MID(S272,FIND(\"-\",S272)+1,LEN(S272)-FIND(\"-\",S272))),S272)","v":"Uso de carpintería de ventana con ensayo de permeabilidad, con clase igual a la indicada para la zona de presión de viento medio del edificio indicada en la Tabla 10"},null,null,"Bueno","Uso de carpintería de ventana con ensayo de permeabilidad, con clase igual a la indicada para la zona de presión de viento medio del edificio indicada en la Tabla 10","Uso de carpintería de ventana con ensayo de permeabilidad, con clase igual a la indicada para la zona de presión de viento medio del edificio indicada en la Tabla 10","Uso de carpintería de ventana con ensayo de permeabilidad, con clase igual a la indicada para la zona de presión de viento medio del edificio indicada en la Tabla 10","Uso de carpintería de ventana con ensayo de permeabilidad, con clase igual a la indicada para la zona de presión de viento medio del edificio indicada en la Tabla 10","Uso de carpintería de ventana con ensayo de permeabilidad, con clase igual a la indicada para la zona de presión de viento medio del edificio indicada en la Tabla 10","Uso de carpintería de ventana con ensayo de permeabilidad, con clase igual a la indicada para la zona de presión de viento medio del edificio indicada en la Tabla 10","Uso de carpintería de ventana con ensayo de permeabilidad, con clase igual a la indicada para la zona de presión de viento medio del edificio indicada en la Tabla 10","Uso de carpintería de ventana con ensayo de permeabilidad, con clase igual a la indicada para la zona de presión de viento medio del edificio indicada en la Tabla 10","Uso de carpintería de ventana con ensayo de permeabilidad, con clase igual a la indicada para la zona de presión de viento medio del edificio indicada en la Tabla 10",3]
[null,null,null,null,null,null,null,null,null,null,null,null,"T","34.6",34,6,{"$f":"+VLOOKUP(O273,'Resumen requerimientos'!$A$5:$B$104,2,FALSE)","v":"ARQ.ENERGIA.6"},"Regular",{"$f":"+HLOOKUP($AA$269,$AB$270:$AJ$274,AK273,0)","v":"Uso de carpintería de ventana con tipo de abertura de permeabilidad igual o menor a la indicada en la Tabla 12 para la zona de presión de viento medio del edificio indicada en la Tabla 10"},{"$f":"1/3","v":0.33333333333333331},{"$f":"+VLOOKUP(O271,TablaResumen[],22,0)*T273","v":9.9999999999999985E-3},{"$f":"+VLOOKUP(O271,TablaResumen[],23,0)*T273","v":9.9999999999999985E-3},{"$f":"+IFERROR(VALUE(MID(S273,1,FIND(\"-\",S273)-1)),S273)","v":"Uso de carpintería de ventana con tipo de abertura de permeabilidad igual o menor a la indicada en la Tabla 12 para la zona de presión de viento medio del edificio indicada en la Tabla 10"},{"$f":"+IFERROR(VALUE(MID(S273,FIND(\"-\",S273)+1,LEN(S273)-FIND(\"-\",S273))),S273)","v":"Uso de carpintería de ventana con tipo de abertura de permeabilidad igual o menor a la indicada en la Tabla 12 para la zona de presión de viento medio del edificio indicada en la Tabla 10"},null,null,"Regular","Uso de carpintería de ventana con tipo de abertura de permeabilidad igual o menor a la indicada en la Tabla 12 para la zona de presión de viento medio del edificio indicada en la Tabla 10","Uso de carpintería de ventana con tipo de abertura de permeabilidad igual o menor a la indicada en la Tabla 12 para la zona de presión de viento medio del edificio indicada en la Tabla 10","Uso de carpintería de ventana con tipo de abertura de permeabilidad igual o menor a la indicada en la Tabla 12 para la zona de presión de viento medio del edificio indicada en la Tabla 10","Uso de carpintería de ventana con tipo de abertura de permeabilidad igual o menor a la indicada en la Tabla 12 para la zona de presión de viento medio del edificio indicada en la Tabla 10","Uso de carpintería de ventana con tipo de abertura de permeabilidad igual o menor a la indicada en la Tabla 12 para la zona de presión de viento medio del edificio indicada en la Tabla 10","Uso de carpintería de ventana con tipo de abertura de permeabilidad igual o menor a la indicada en la Tabla 12 para la zona de presión de viento medio del edificio indicada en la Tabla 10","Uso de carpintería de ventana con tipo de abertura de permeabilidad igual o menor a la indicada en la Tabla 12 para la zona de presión de viento medio del edificio indicada en la Tabla 10","Uso de carpintería de ventana con tipo de abertura de permeabilidad igual o menor a la indicada en la Tabla 12 para la zona de presión de viento medio del edificio indicada en la Tabla 10","Uso de carpintería de ventana con tipo de abertura de permeabilidad igual o menor a la indicada en la Tabla 12 para la zona de presión de viento medio del edificio indicada en la Tabla 10",4]
[null,null,null,null,null,null,null,null,null,null,null,null,"T","34.7",34,7,{"$f":"+VLOOKUP(O274,'Resumen requerimientos'!$A$5:$B$104,2,FALSE)","v":"ARQ.ENERGIA.6"},"Minimo",{"$f":"+HLOOKUP($AA$269,$AB$270:$AJ$274,AK274,0)","v":0},0,{"$f":"+VLOOKUP(O272,TablaResumen[],22,0)*T274","v":0},{"$f":"+VLOOKUP(O272,TablaResumen[],23,0)*T274","v":0},{"$f":"+IFERROR(VALUE(MID(S274,1,FIND(\"-\",S274)-1)),S274)","v":0},{"$f":"+IFERROR(VALUE(MID(S274,FIND(\"-\",S274)+1,LEN(S274)-FIND(\"-\",S274))),S274)","v":0},null,null,"Minimo",null,null,null,null,null,null,null,null,null,5]
[null,null,null,null,null,null,null,null,null,null,null,null,"T","34.8",34,8]
[null,null,null,null,null,null,null,null,null,null,null,null,"N","35.1",{"$f":"+IF(R275=\"\",O275+1,O275)","v":35},1,{"$f":"+VLOOKUP(O276,'Resumen requerimientos'!$A$5:$B$104,2,FALSE)","v":"ARQ.ENERGIA.6"},{"$f":"+VLOOKUP(Q277,'Resumen requerimientos'!$B$5:$AJ$91,10,0)","v":"Hermeticidad de la envolvente"},null,{"$f":"+VLOOKUP(O277,TablaResumen[],16,0)","v":"Hermeticidad de la envolvente"},null,"Opción",{"$f":"+CONCATENATE(VLOOKUP(O277,'Resumen requerimientos'!$A$5:$AB$91,24),\" de \",VLOOKUP(O277,'Resumen requerimientos'!$A$5:$AB$91,25))","v":" de "},null,null,null,{"$f":"+'Datos Generales Edificio'!$C$5","v":"RM - Región Metropolitana de Santiago"}]
[null,null,null,null,null,null,null,null,null,null,null,null,"N","35.2",{"$f":"+O276","v":35},2,{"$f":"+VLOOKUP(O277,'Resumen requerimientos'!$A$5:$B$104,2,FALSE)","v":"ARQ.ENERGIA.6"},{"$f":"+VLOOKUP(O277,TablaResumen[],21,0)","v":"Tipo de abertura de la ventana"},null,null,null,"Simultáneo",{"$f":"+CONCATENATE(IF(VLOOKUP(O277,'Resumen requerimientos'!$A$5:$AB$91,26)=0,1,VLOOKUP(O277,'Resumen requerimientos'!$A$5:$AB$91,26)),\" de \",IF(VLOOKUP(O277,'Resumen requerimientos'!$A$5:$AB$91,27)=0,1,VLOOKUP(O277,'Resumen requerimientos'!$A$5:$AB$91,27)))","v":"1 de 1"},null,null,null,{"$f":"+'Datos Generales Edificio'!$F$28","v":"CI - Central Interior"}]
[null,null,null,null,null,null,null,null,null,null,null,null,"N","35.3",35,3,{"$f":"+VLOOKUP(O278,'Resumen requerimientos'!$A$5:$B$104,2,FALSE)","v":"ARQ.ENERGIA.6"},"Nivel","Rango","Prioridad","Ponderación Of. Y Serv.","Ponderación Educ. y Salud.","Rango",null,null,null,{"$f":"+R277","v":"Tipo de abertura de la ventana"},"NL - Norte Litoral","ND - Norte Desértico","NVT - Norte Valle Transversal","CL - Central Litoral","CI - Central Interior","SL - Sur Litoral","SI - Sur Interior","SE - Sur Extremo","An - Andino"]
[null,null,null,null,null,null,null,null,null,null,null,null,"N","35.4",35,4,{"$f":"+VLOOKUP(O279,'Resumen requerimientos'!$A$5:$B$104,2,FALSE)","v":"ARQ.ENERGIA.6"},"Muy bueno",{"$f":"+HLOOKUP($AA$277,$AB$278:$AJ$282,AK279,0)","v":"SC"},1,{"$f":"+VLOOKUP(O277,TablaResumen[],22,0)*T279","v":0.01},{"$f":"+VLOOKUP(O277,TablaResumen[],23,0)*T279","v":0.01},{"$f":"+IFERROR(VALUE(MID(S279,1,FIND(\"-\",S279)-1)),S279)","v":"SC"},{"$f":"+IFERROR(VALUE(MID(S279,FIND(\"-\",S279)+1,LEN(S279)-FIND(\"-\",S279))),S279)","v":"SC"},null,null,"Muy bueno",{"$f":"+IF(SUMIFS(Tablas2!$DE$4:$DE$123,Tablas2!$DA$4:$DA$123,ZonaViento,Tablas2!$DB$4:$DB$123,Tablas2!$DG$11,Tablas2!$DC$4:$DC$123,Npisos)=0,\"SC\",CONCATENATE(SUMIFS(Tablas2!$DE$4:$DE$123,Tablas2!$DA$4:$DA$123,ZonaViento,Tablas2!$DB$4:$DB$123,Tablas2!$DG$11,Tablas2!$DC$4:$DC$123,Npisos),\"a\"))","v":"SC"},{"$f":"+IF(SUMIFS(Tablas2!$DE$4:$DE$123,Tablas2!$DA$4:$DA$123,ZonaViento,Tablas2!$DB$4:$DB$123,Tablas2!$DG$11,Tablas2!$DC$4:$DC$123,Npisos)=0,\"SC\",CONCATENATE(SUMIFS(Tablas2!$DE$4:$DE$123,Tablas2!$DA$4:$DA$123,ZonaViento,Tablas2!$DB$4:$DB$123,Tablas2!$DG$11,Tablas2!$DC$4:$DC$123,Npisos),\"a\"))","v":"SC"},{"$f":"+IF(SUMIFS(Tablas2!$DE$4:$DE$123,Tablas2!$DA$4:$DA$123,ZonaViento,Tablas2!$DB$4:$DB$123,Tablas2!$DG$11,Tablas2!$DC$4:$DC$123,Npisos)=0,\"SC\",CONCATENATE(SUMIFS(Tablas2!$DE$4:$DE$123,Tablas2!$DA$4:$DA$123,ZonaViento,Tablas2!$DB$4:$DB$123,Tablas2!$DG$11,Tablas2!$DC$4:$DC$123,Npisos),\"a\"))","v":"SC"},{"$f":"+IF(SUMIFS(Tablas2!$DE$4:$DE$123,Tablas2!$DA$4:$DA$123,ZonaViento,Tablas2!$DB$4:$DB$123,Tablas2!$DG$11,Tablas2!$DC$4:$DC$123,Npisos)=0,\"SC\",CONCATENATE(SUMIFS(Tablas2!$DE$4:$DE$123,Tablas2!$DA$4:$DA$123,ZonaViento,Tablas2!$DB$4:$DB$123,Tablas2!$DG$11,Tablas2!$DC$4:$DC$123,Npisos),\"a\"))","v":"SC"},{"$f":"+IF(SUMIFS(Tablas2!$DE$4:$DE$123,Tablas2!$DA$4:$DA$123,ZonaViento,Tablas2!$DB$4:$DB$123,Tablas2!$DG$11,Tablas2!$DC$4:$DC$123,Npisos)=0,\"SC\",CONCATENATE(SUMIFS(Tablas2!$DE$4:$DE$123,Tablas2!$DA$4:$DA$123,ZonaViento,Tablas2!$DB$4:$DB$123,Tablas2!$DG$11,Tablas2!$DC$4:$DC$123,Npisos),\"a\"))","v":"SC"},{"$f":"+IF(SUMIFS(Tablas2!$DE$4:$DE$123,Tablas2!$DA$4:$DA$123,ZonaViento,Tablas2!$DB$4:$DB$123,Tablas2!$DG$11,Tablas2!$DC$4:$DC$123,Npisos)=0,\"SC\",CONCATENATE(SUMIFS(Tablas2!$DE$4:$DE$123,Tablas2!$DA$4:$DA$123,ZonaViento,Tablas2!$DB$4:$DB$123,Tablas2!$DG$11,Tablas2!$DC$4:$DC$123,Npisos),\"a\"))","v":"SC"},{"$f":"+IF(SUMIFS(Tablas2!$DE$4:$DE$123,Tablas2!$DA$4:$DA$123,ZonaViento,Tablas2!$DB$4:$DB$123,Tablas2!$DG$11,Tablas2!$DC$4:$DC$123,Npisos)=0,\"SC\",CONCATENATE(SUMIFS(Tablas2!$DE$4:$DE$123,Tablas2!$DA$4:$DA$123,ZonaViento,Tablas2!$DB$4:$DB$123,Tablas2!$DG$11,Tablas2!$DC$4:$DC$123,Npisos),\"a\"))","v":"SC"},{"$f":"+IF(SUMIFS(Tablas2!$DE$4:$DE$123,Tablas2!$DA$4:$DA$123,ZonaViento,Tablas2!$DB$4:$DB$123,Tablas2!$DG$11,Tablas2!$DC$4:$DC$123,Npisos)=0,\"SC\",CONCATENATE(SUMIFS(Tablas2!$DE$4:$DE$123,Tablas2!$DA$4:$DA$123,ZonaViento,Tablas2!$DB$4:$DB$123,Tablas2!$DG$11,Tablas2!$DC$4:$DC$123,Npisos),\"a\"))","v":"SC"},{"$f":"+IF(SUMIFS(Tablas2!$DE$4:$DE$123,Tablas2!$DA$4:$DA$123,ZonaViento,Tablas2!$DB$4:$DB$123,Tablas2!$DG$11,Tablas2!$DC$4:$DC$123,Npisos)=0,\"SC\",CONCATENATE(SUMIFS(Tablas2!$DE$4:$DE$123,Tablas2!$DA$4:$DA$123,ZonaViento,Tablas2!$DB$4:$DB$123,Tablas2!$DG$11,Tablas2!$DC$4:$DC$123,Npisos),\"a\"))","v":"SC"},2]
[null,null,null,null,null,null,null,null,null,null,null,null,"N","35.5",35,5,{"$f":"+VLOOKUP(O280,'Resumen requerimientos'!$A$5:$B$104,2,FALSE)","v":"ARQ.ENERGIA.6"},"Bueno",{"$f":"+HLOOKUP($AA$277,$AB$278:$AJ$282,AK280,0)","v":0},0,{"$f":"+VLOOKUP(O278,TablaResumen[],22,0)*T280","v":0},{"$f":"+VLOOKUP(O278,TablaResumen[],23,0)*T280","v":0},{"$f":"+IFERROR(VALUE(MID(S280,1,FIND(\"-\",S280)-1)),S280)","v":0},{"$f":"+IFERROR(VALUE(MID(S280,FIND(\"-\",S280)+1,LEN(S280)-FIND(\"-\",S280))),S280)","v":0},null,null,"Bueno",null,null,null,null,null,null,null,null,null,3]
[null,null,null,null,null,null,null,null,null,null,null,null,"N","35.6",35,6,{"$f":"+VLOOKUP(O281,'Resumen requerimientos'!$A$5:$B$104,2,FALSE)","v":"ARQ.ENERGIA.6"},"Regular",{"$f":"+HLOOKUP($AA$277,$AB$278:$AJ$282,AK281,0)","v":0},0,{"$f":"+VLOOKUP(O279,TablaResumen[],22,0)*T281","v":0},{"$f":"+VLOOKUP(O279,TablaResumen[],23,0)*T281","v":0},{"$f":"+IFERROR(VALUE(MID(S281,1,FIND(\"-\",S281)-1)),S281)","v":0},{"$f":"+IFERROR(VALUE(MID(S281,FIND(\"-\",S281)+1,LEN(S281)-FIND(\"-\",S281))),S281)","v":0},null,null,"Regular",null,null,null,null,null,null,null,null,null,4]
[null,null,null,null,null,null,null,null,null,null,null,null,"N","35.7",35,7,{"$f":"+VLOOKUP(O282,'Resumen requerimientos'!$A$5:$B$104,2,FALSE)","v":"ARQ.ENERGIA.6"},"Minimo",{"$f":"+HLOOKUP($AA$277,$AB$278:$AJ$282,AK282,0)","v":0},0,{"$f":"+VLOOKUP(O280,TablaResumen[],22,0)*T282","v":0},{"$f":"+VLOOKUP(O280,TablaResumen[],23,0)*T282","v":0},{"$f":"+IFERROR(VALUE(MID(S282,1,FIND(\"-\",S282)-1)),S282)","v":0},{"$f":"+IFERROR(VALUE(MID(S282,FIND(\"-\",S282)+1,LEN(S282)-FIND(\"-\",S282))),S282)","v":0},null,null,"Minimo",null,null,null,null,null,null,null,null,null,5]
[null,null,null,null,null,null,null,null,null,null,null,null,"N","35.8",35,8]
[null,null,null,null,null,null,null,null,null,null,null,null,"T","36.1",{"$f":"+IF(R283=\"\",O283+1,O283)","v":36},1,{"$f":"+VLOOKUP(O284,'Resumen requerimientos'!$A$5:$B$104,2,FALSE)","v":"6R"},{"$f":"+VLOOKUP(Q285,'Resumen requerimientos'!$B$5:$AJ$91,10,0)","v":"Hermeticidad de la envolvente mínima"},null,{"$f":"+VLOOKUP(O285,TablaResumen[],16,0)","v":"Sellos exteriores para carpintería y paso de instalaciones"},null,"Opción",{"$f":"+CONCATENATE(VLOOKUP(O285,'Resumen requerimientos'!$A$5:$AB$91,24),\" de \",VLOOKUP(O285,'Resumen requerimientos'!$A$5:$AB$91,25))","v":"1 de 1"},null,null,null,{"$f":"+'Datos Generales Edificio'!$C$5","v":"RM - Región Metropolitana de Santiago"}]
[null,null,null,null,null,null,null,null,null,null,null,null,"T","36.2",{"$f":"+O284","v":36},2,{"$f":"+VLOOKUP(O285,'Resumen requerimientos'!$A$5:$B$104,2,FALSE)","v":"6R"},{"$f":"+VLOOKUP(O285,TablaResumen[],21,0)","v":"Especificación de sellos"},null,null,null,"Simultáneo",{"$f":"+CONCATENATE(IF(VLOOKUP(O285,'Resumen requerimientos'!$A$5:$AB$91,26)=0,1,VLOOKUP(O285,'Resumen requerimientos'!$A$5:$AB$91,26)),\" de \",IF(VLOOKUP(O285,'Resumen requerimientos'!$A$5:$AB$91,27)=0,1,VLOOKUP(O285,'Resumen requerimientos'!$A$5:$AB$91,27)))","v":"1 de 1"},null,null,null,{"$f":"+'Datos Generales Edificio'!$F$28","v":"CI - Central Interior"}]
[null,null,null,null,null,null,null,null,null,null,null,null,"T","36.3",36,3,{"$f":"+VLOOKUP(O286,'Resumen requerimientos'!$A$5:$B$104,2,FALSE)","v":"6R"},"Nivel","Rango","Prioridad","Ponderación Of. Y Serv.","Ponderación Educ. y Salud.","Rango",null,null,null,{"$f":"+R285","v":"Especificación de sellos"},"NL - Norte Litoral","ND - Norte Desértico","NVT - Norte Valle Transversal","CL - Central Litoral","CI - Central Interior","SL - Sur Litoral","SI - Sur Interior","SE - Sur Extremo","An - Andino"]
[null,null,null,null,null,null,null,null,null,null,null,null,"T","36.4",36,4,{"$f":"+VLOOKUP(O287,'Resumen requerimientos'!$A$5:$B$104,2,FALSE)","v":"6R"},"Muy bueno",{"$f":"+HLOOKUP($AA$285,$AB$286:$AJ$290,AK287,0)","v":"Cumple con requisitos de sello"},1,{"$f":"+VLOOKUP(O285,TablaResumen[],22,0)*T287","v":1},{"$f":"+VLOOKUP(O285,TablaResumen[],23,0)*T287","v":1},{"$f":"+IFERROR(VALUE(MID(S287,1,FIND(\"-\",S287)-1)),S287)","v":"Cumple con requisitos de sello"},{"$f":"+IFERROR(VALUE(MID(S287,FIND(\"-\",S287)+1,LEN(S287)-FIND(\"-\",S287))),S287)","v":"Cumple con requisitos de sello"},null,null,"Muy bueno","Cumple con requisitos de sello","Cumple con requisitos de sello","Cumple con requisitos de sello","Cumple con requisitos de sello","Cumple con requisitos de sello","Cumple con requisitos de sello","Cumple con requisitos de sello","Cumple con requisitos de sello","Cumple con requisitos de sello",2]
[null,null,null,null,null,null,null,null,null,null,null,null,"T","36.5",36,5,{"$f":"+VLOOKUP(O288,'Resumen requerimientos'!$A$5:$B$104,2,FALSE)","v":"6R"},"Bueno",{"$f":"+HLOOKUP($AA$285,$AB$286:$AJ$290,AK288,0)","v":"NO cumple con requisitos de sello"},-1,{"$f":"+VLOOKUP(O286,TablaResumen[],22,0)*T288","v":-1},{"$f":"+VLOOKUP(O286,TablaResumen[],23,0)*T288","v":-1},{"$f":"+IFERROR(VALUE(MID(S288,1,FIND(\"-\",S288)-1)),S288)","v":"NO cumple con requisitos de sello"},{"$f":"+IFERROR(VALUE(MID(S288,FIND(\"-\",S288)+1,LEN(S288)-FIND(\"-\",S288))),S288)","v":"NO cumple con requisitos de sello"},null,null,"Bueno","NO cumple con requisitos de sello","NO cumple con requisitos de sello","NO cumple con requisitos de sello","NO cumple con requisitos de sello","NO cumple con requisitos de sello","NO cumple con requisitos de sello","NO cumple con requisitos de sello","NO cumple con requisitos de sello","NO cumple con requisitos de sello",3]
[null,null,null,null,null,null,null,null,null,null,null,null,"T","36.6",36,6,{"$f":"+VLOOKUP(O289,'Resumen requerimientos'!$A$5:$B$104,2,FALSE)","v":"6R"},"Regular",{"$f":"+HLOOKUP($AA$285,$AB$286:$AJ$290,AK289,0)","v":0},null,{"$f":"+VLOOKUP(O287,TablaResumen[],22,0)*T289","v":0},{"$f":"+VLOOKUP(O287,TablaResumen[],23,0)*T289","v":0},{"$f":"+IFERROR(VALUE(MID(S289,1,FIND(\"-\",S289)-1)),S289)","v":0},{"$f":"+IFERROR(VALUE(MID(S289,FIND(\"-\",S289)+1,LEN(S289)-FIND(\"-\",S289))),S289)","v":0},null,null,"Regular",null,null,null,null,null,null,null,null,null,4]
[null,null,null,null,null,null,null,null,null,null,null,null,"T","36.7",36,7,{"$f":"+VLOOKUP(O290,'Resumen requerimientos'!$A$5:$B$104,2,FALSE)","v":"6R"},"Minimo",{"$f":"+HLOOKUP($AA$285,$AB$286:$AJ$290,AK290,0)","v":0},null,{"$f":"+VLOOKUP(O288,TablaResumen[],22,0)*T290","v":0},{"$f":"+VLOOKUP(O288,TablaResumen[],23,0)*T290","v":0},{"$f":"+IFERROR(VALUE(MID(S290,1,FIND(\"-\",S290)-1)),S290)","v":0},{"$f":"+IFERROR(VALUE(MID(S290,FIND(\"-\",S290)+1,LEN(S290)-FIND(\"-\",S290))),S290)","v":0},null,null,"Minimo",null,null,null,null,null,null,null,null,null,5]
[null,null,null,null,null,null,null,null,null,null,null,null,"T","36.8",36,8]
[null,null,null,null,null,null,null,null,null,null,null,null,"N","37.1",{"$f":"+IF(R291=\"\",O291+1,O291)","v":37},1,{"$f":"+VLOOKUP(O292,'Resumen requerimientos'!$A$5:$B$104,2,FALSE)","v":"ARQ.ENERGIA.7"},{"$f":"+VLOOKUP(Q293,'Resumen requerimientos'!$B$5:$AJ$91,10,0)","v":"Energía incorporada en los materiales estructurales del edificio"},null,{"$f":"+VLOOKUP(O293,TablaResumen[],16,0)","v":"Energía incorporada en los materiales estructurales del edificio"},null,"Opción",{"$f":"+CONCATENATE(VLOOKUP(O293,'Resumen requerimientos'!$A$5:$AB$91,24),\" de \",VLOOKUP(O293,'Resumen requerimientos'!$A$5:$AB$91,25))","v":"1 de 3"},null,null,null,{"$f":"+'Datos Generales Edificio'!$C$5","v":"RM - Región Metropolitana de Santiago"}]
[null,null,null,null,null,null,null,null,null,null,null,null,"N","37.2",{"$f":"+O292","v":37},2,{"$f":"+VLOOKUP(O293,'Resumen requerimientos'!$A$5:$B$104,2,FALSE)","v":"ARQ.ENERGIA.7"},{"$f":"+VLOOKUP(O293,TablaResumen[],21,0)","v":"Energía incorporada en base a UNE-EN-ISO 14.024"},null,null,null,"Simultáneo",{"$f":"+CONCATENATE(IF(VLOOKUP(O293,'Resumen requerimientos'!$A$5:$AB$91,26)=0,1,VLOOKUP(O293,'Resumen requerimientos'!$A$5:$AB$91,26)),\" de \",IF(VLOOKUP(O293,'Resumen requerimientos'!$A$5:$AB$91,27)=0,1,VLOOKUP(O293,'Resumen requerimientos'!$A$5:$AB$91,27)))","v":"1 de 1"},null,null,null,{"$f":"+'Datos Generales Edificio'!$F$28","v":"CI - Central Interior"}]
[null,null,null,null,null,null,null,null,null,null,null,null,"N","37.3",37,3,{"$f":"+VLOOKUP(O294,'Resumen requerimientos'!$A$5:$B$104,2,FALSE)","v":"ARQ.ENERGIA.7"},"Nivel","Rango","Prioridad","Ponderación Of. Y Serv.","Ponderación Educ. y Salud.","Rango",null,null,null,{"$f":"+R293","v":"Energía incorporada en base a UNE-EN-ISO 14.024"},"NL - Norte Litoral","ND - Norte Desértico","NVT - Norte Valle Transversal","CL - Central Litoral","CI - Central Interior","SL - Sur Litoral","SI - Sur Interior","SE - Sur Extremo","An - Andino"]
[null,null,null,null,null,null,null,null,null,null,null,null,"N","37.4",37,4,{"$f":"+VLOOKUP(O295,'Resumen requerimientos'!$A$5:$B$104,2,FALSE)","v":"ARQ.ENERGIA.7"},"Muy bueno",{"$f":"+HLOOKUP($AA$293,$AB$294:$AJ$298,AK295,0)","v":""},1,{"$f":"+VLOOKUP(O293,TablaResumen[],22,0)*T295","v":0.04},{"$f":"+VLOOKUP(O293,TablaResumen[],23,0)*T295","v":0.04},{"$f":"+IFERROR(VALUE(MID(S295,1,FIND(\"-\",S295)-1)),S295)","v":""},{"$f":"+IFERROR(VALUE(MID(S295,FIND(\"-\",S295)+1,LEN(S295)-FIND(\"-\",S295))),S295)","v":""},null,null,"Muy bueno",{"$f":"+IF(OR(cantidad_materiales=3,cantidad_materiales=\"4 o más\"),\"3,99-4\",\"\")","v":""},"","","","","","","","",2]
[null,null,null,null,null,null,null,null,null,null,null,null,"N","37.5",37,5,{"$f":"+VLOOKUP(O296,'Resumen requerimientos'!$A$5:$B$104,2,FALSE)","v":"ARQ.ENERGIA.7"},"Bueno",{"$f":"+HLOOKUP($AA$293,$AB$294:$AJ$298,AK296,0)","v":"1,99-2"},0.5,{"$f":"+VLOOKUP(O294,TablaResumen[],22,0)*T296","v":0.02},{"$f":"+VLOOKUP(O294,TablaResumen[],23,0)*T296","v":0.02},{"$f":"+IFERROR(VALUE(MID(S296,1,FIND(\"-\",S296)-1)),S296)","v":1.99},{"$f":"+IFERROR(VALUE(MID(S296,FIND(\"-\",S296)+1,LEN(S296)-FIND(\"-\",S296))),S296)","v":2},null,null,"Bueno",{"$f":"+IF(OR(cantidad_materiales=3,cantidad_materiales=\"4 o más\"),\"2,99-3\",\"1,99-2\")","v":"1,99-2"},"1,99-2","1,99-2","1,99-2","1,99-2","1,99-2","1,99-2","1,99-2","1,99-2",3]
[null,null,null,null,null,null,null,null,null,null,null,null,"N","37.6",37,6,{"$f":"+VLOOKUP(O297,'Resumen requerimientos'!$A$5:$B$104,2,FALSE)","v":"ARQ.ENERGIA.7"},"Regular",{"$f":"+HLOOKUP($AA$293,$AB$294:$AJ$298,AK297,0)","v":""},0.25,{"$f":"+VLOOKUP(O295,TablaResumen[],22,0)*T297","v":0.01},{"$f":"+VLOOKUP(O295,TablaResumen[],23,0)*T297","v":0.01},{"$f":"+IFERROR(VALUE(MID(S297,1,FIND(\"-\",S297)-1)),S297)","v":""},{"$f":"+IFERROR(VALUE(MID(S297,FIND(\"-\",S297)+1,LEN(S297)-FIND(\"-\",S297))),S297)","v":""},null,null,"Regular",{"$f":"+IF(OR(cantidad_materiales=3,cantidad_materiales=\"4 o más\"),\"1,99-2\",\"\")","v":""},"","","","","","","","",4]
[null,null,null,null,null,null,null,null,null,null,null,null,"N","37.7",37,7,{"$f":"+VLOOKUP(O298,'Resumen requerimientos'!$A$5:$B$104,2,FALSE)","v":"ARQ.ENERGIA.7"},"Minimo",{"$f":"+HLOOKUP($AA$293,$AB$294:$AJ$298,AK298,0)","v":0},0,{"$f":"+VLOOKUP(O296,TablaResumen[],22,0)*T298","v":0},{"$f":"+VLOOKUP(O296,TablaResumen[],23,0)*T298","v":0},{"$f":"+IFERROR(VALUE(MID(S298,1,FIND(\"-\",S298)-1)),S298)","v":0},{"$f":"+IFERROR(VALUE(MID(S298,FIND(\"-\",S298)+1,LEN(S298)-FIND(\"-\",S298))),S298)","v":0},null,null,"Minimo",null,null,null,null,null,null,null,null,null,5]
[null,null,null,null,null,null,null,null,null,null,null,null,"N","37.8",37,8]
[null,null,null,null,null,null,null,null,null,null,null,null,"N","38.1",{"$f":"+IF(R299=\"\",O299+1,O299)","v":38},1,{"$f":"+VLOOKUP(O300,'Resumen requerimientos'!$A$5:$B$104,2,FALSE)","v":"ARQ.ENERGIA.7"},{"$f":"+VLOOKUP(Q301,'Resumen requerimientos'!$B$5:$AJ$91,10,0)","v":"Energía incorporada en los materiales estructurales del edificio"},null,{"$f":"+VLOOKUP(O301,TablaResumen[],16,0)","v":"Energía incorporada en los materiales estructurales del edificio"},null,"Opción",{"$f":"+CONCATENATE(VLOOKUP(O301,'Resumen requerimientos'!$A$5:$AB$91,24),\" de \",VLOOKUP(O301,'Resumen requerimientos'!$A$5:$AB$91,25))","v":"2 de 3"},null,null,null,{"$f":"+'Datos Generales Edificio'!$C$5","v":"RM - Región Metropolitana de Santiago"}]
[null,null,null,null,null,null,null,null,null,null,null,null,"N","38.2",{"$f":"+O300","v":38},2,{"$f":"+VLOOKUP(O301,'Resumen requerimientos'!$A$5:$B$104,2,FALSE)","v":"ARQ.ENERGIA.7"},{"$f":"+VLOOKUP(O301,TablaResumen[],21,0)","v":"Energía incorporada en base a UNE-EN-ISO 14.025"},null,null,null,"Simultáneo",{"$f":"+CONCATENATE(IF(VLOOKUP(O301,'Resumen requerimientos'!$A$5:$AB$91,26)=0,1,VLOOKUP(O301,'Resumen requerimientos'!$A$5:$AB$91,26)),\" de \",IF(VLOOKUP(O301,'Resumen requerimientos'!$A$5:$AB$91,27)=0,1,VLOOKUP(O301,'Resumen requerimientos'!$A$5:$AB$91,27)))","v":"1 de 1"},null,null,null,{"$f":"+'Datos Generales Edificio'!$F$28","v":"CI - Central Interior"}]
[null,null,null,null,null,null,null,null,null,null,null,null,"N","38.3",38,3,{"$f":"+VLOOKUP(O302,'Resumen requerimientos'!$A$5:$B$104,2,FALSE)","v":"ARQ.ENERGIA.7"},"Nivel","Rango","Prioridad","Ponderación Of. Y Serv.","Ponderación Educ. y Salud.","Rango",null,null,null,{"$f":"+R301","v":"Energía incorporada en base a UNE-EN-ISO 14.025"},"NL - Norte Litoral","ND - Norte Desértico","NVT - Norte Valle Transversal","CL - Central Litoral","CI - Central Interior","SL - Sur Litoral","SI - Sur Interior","SE - Sur Extremo","An - Andino"]
[null,null,null,null,null,null,null,null,null,null,null,null,"N","38.4",38,4,{"$f":"+VLOOKUP(O303,'Resumen requerimientos'!$A$5:$B$104,2,FALSE)","v":"ARQ.ENERGIA.7"},"Muy bueno",{"$f":"+HLOOKUP($AA$301,$AB$302:$AJ$306,AK303,0)","v":"1,99-2"},1,{"$f":"+VLOOKUP(O301,TablaResumen[],22,0)*T303","v":0.04},{"$f":"+VLOOKUP(O301,TablaResumen[],23,0)*T303","v":0.04},{"$f":"+IFERROR(VALUE(MID(S303,1,FIND(\"-\",S303)-1)),S303)","v":1.99},{"$f":"+IFERROR(VALUE(MID(S303,FIND(\"-\",S303)+1,LEN(S303)-FIND(\"-\",S303))),S303)","v":2},null,null,"Muy bueno",{"$f":"+IF(OR(cantidad_materiales=3,cantidad_materiales=\"4 o más\"),\"2,99-4\",\"1,99-2\")","v":"1,99-2"},"1,99-2","1,99-2","1,99-2","1,99-2","1,99-2","1,99-2","1,99-2","1,99-2",2]
[null,null,null,null,null,null,null,null,null,null,null,null,"N","38.5",38,5,{"$f":"+VLOOKUP(O304,'Resumen requerimientos'!$A$5:$B$104,2,FALSE)","v":"ARQ.ENERGIA.7"},"Bueno",{"$f":"+HLOOKUP($AA$301,$AB$302:$AJ$306,AK304,0)","v":"0,99-1"},0.5,{"$f":"+VLOOKUP(O302,TablaResumen[],22,0)*T304","v":0.02},{"$f":"+VLOOKUP(O302,TablaResumen[],23,0)*T304","v":0.02},{"$f":"+IFERROR(VALUE(MID(S304,1,FIND(\"-\",S304)-1)),S304)","v":0.99},{"$f":"+IFERROR(VALUE(MID(S304,FIND(\"-\",S304)+1,LEN(S304)-FIND(\"-\",S304))),S304)","v":1},null,null,"Bueno",{"$f":"+IF(OR(cantidad_materiales=3,cantidad_materiales=\"4 o más\"),\"1,99-2\",\"0,99-1\")","v":"0,99-1"},"0,99-1","0,99-1","0,99-1","0,99-1","0,99-1","0,99-1","0,99-1","0,99-1",3]
[null,null,null,null,null,null,null,null,null,null,null,null,"N","38.6",38,6,{"$f":"+VLOOKUP(O305,'Resumen requerimientos'!$A$5:$B$104,2,FALSE)","v":"ARQ.ENERGIA.7"},"Regular",{"$f":"+HLOOKUP($AA$301,$AB$302:$AJ$306,AK305,0)","v":""},0.25,{"$f":"+VLOOKUP(O303,TablaResumen[],22,0)*T305","v":0.01},{"$f":"+VLOOKUP(O303,TablaResumen[],23,0)*T305","v":0.01},{"$f":"+IFERROR(VALUE(MID(S305,1,FIND(\"-\",S305)-1)),S305)","v":""},{"$f":"+IFERROR(VALUE(MID(S305,FIND(\"-\",S305)+1,LEN(S305)-FIND(\"-\",S305))),S305)","v":""},null,null,"Regular",{"$f":"+IF(OR(cantidad_materiales=3,cantidad_materiales=\"4 o más\"),\"0,99-1\",\"\")","v":""},"","","","","","","","",4]
[null,null,null,null,null,null,null,null,null,null,null,null,"N","38.7",38,7,{"$f":"+VLOOKUP(O306,'Resumen requerimientos'!$A$5:$B$104,2,FALSE)","v":"ARQ.ENERGIA.7"},"Minimo",{"$f":"+HLOOKUP($AA$301,$AB$302:$AJ$306,AK306,0)","v":0},0,{"$f":"+VLOOKUP(O304,TablaResumen[],22,0)*T306","v":0},{"$f":"+VLOOKUP(O304,TablaResumen[],23,0)*T306","v":0},{"$f":"+IFERROR(VALUE(MID(S306,1,FIND(\"-\",S306)-1)),S306)","v":0},{"$f":"+IFERROR(VALUE(MID(S306,FIND(\"-\",S306)+1,LEN(S306)-FIND(\"-\",S306))),S306)","v":0},null,null,"Minimo",null,null,null,null,null,null,null,null,null,5]
[null,null,null,null,null,null,null,null,null,null,null,null,"N","38.8",38,8]
[null,null,null,null,null,null,null,null,null,null,null,null,"N","39.1",{"$f":"+IF(R307=\"\",O307+1,O307)","v":39},1,{"$f":"+VLOOKUP(O308,'Resumen requerimientos'!$A$5:$B$104,2,FALSE)","v":"ARQ.ENERGIA.7"},{"$f":"+VLOOKUP(Q309,'Resumen requerimientos'!$B$5:$AJ$91,10,0)","v":"Energía incorporada en los materiales estructurales del edificio"},null,{"$f":"+VLOOKUP(O309,TablaResumen[],16,0)","v":"Energía incorporada en los materiales estructurales del edificio"},null,"Opción",{"$f":"+CONCATENATE(VLOOKUP(O309,'Resumen requerimientos'!$A$5:$AB$91,24),\" de \",VLOOKUP(O309,'Resumen requerimientos'!$A$5:$AB$91,25))","v":"3 de 3"},null,null,null,{"$f":"+'Datos Generales Edificio'!$C$5","v":"RM - Región Metropolitana de Santiago"}]
[null,null,null,null,null,null,null,null,null,null,null,null,"N","39.2",{"$f":"+O308","v":39},2,{"$f":"+VLOOKUP(O309,'Resumen requerimientos'!$A$5:$B$104,2,FALSE)","v":"ARQ.ENERGIA.7"},{"$f":"+VLOOKUP(O309,TablaResumen[],21,0)","v":"% de superficie de elementos estructurales mantenidos de edificios existentes"},null,null,null,"Simultáneo",{"$f":"+CONCATENATE(IF(VLOOKUP(O309,'Resumen requerimientos'!$A$5:$AB$91,26)=0,1,VLOOKUP(O309,'Resumen requerimientos'!$A$5:$AB$91,26)),\" de \",IF(VLOOKUP(O309,'Resumen requerimientos'!$A$5:$AB$91,27)=0,1,VLOOKUP(O309,'Resumen requerimientos'!$A$5:$AB$91,27)))","v":"1 de 1"},null,null,null,{"$f":"+'Datos Generales Edificio'!$F$28","v":"CI - Central Interior"}]
[null,null,null,null,null,null,null,null,null,null,null,null,"N","39.3",39,3,{"$f":"+VLOOKUP(O310,'Resumen requerimientos'!$A$5:$B$104,2,FALSE)","v":"ARQ.ENERGIA.7"},"Nivel","Rango","Prioridad","Ponderación Of. Y Serv.","Ponderación Educ. y Salud.","Rango",null,null,null,{"$f":"+R309","v":"% de superficie de elementos estructurales mantenidos de edificios existentes"},"NL - Norte Litoral","ND - Norte Desértico","NVT - Norte Valle Transversal","CL - Central Litoral","CI - Central Interior","SL - Sur Litoral","SI - Sur Interior","SE - Sur Extremo","An - Andino"]
[null,null,null,null,null,null,null,null,null,null,null,null,"N","39.4",39,4,{"$f":"+VLOOKUP(O311,'Resumen requerimientos'!$A$5:$B$104,2,FALSE)","v":"ARQ.ENERGIA.7"},"Muy bueno",{"$f":"+HLOOKUP($AA$309,$AB$310:$AJ$314,AK311,0)","v":"99,999%-100%"},1,{"$f":"+VLOOKUP(O309,TablaResumen[],22,0)*T311","v":0.04},{"$f":"+VLOOKUP(O309,TablaResumen[],23,0)*T311","v":0.04},{"$f":"+IFERROR(VALUE(MID(S311,1,FIND(\"-\",S311)-1)),S311)","v":0.99999000000000005},{"$f":"+IFERROR(VALUE(MID(S311,FIND(\"-\",S311)+1,LEN(S311)-FIND(\"-\",S311))),S311)","v":1},null,null,"Muy bueno","99,999%-100%","99,999%-100%","99,999%-100%","99,999%-100%","99,999%-100%","99,999%-100%","99,999%-100%","99,999%-100%","99,999%-100%",2]
[null,null,null,null,null,null,null,null,null,null,null,null,"N","39.5",39,5,{"$f":"+VLOOKUP(O312,'Resumen requerimientos'!$A$5:$B$104,2,FALSE)","v":"ARQ.ENERGIA.7"},"Bueno",{"$f":"+HLOOKUP($AA$309,$AB$310:$AJ$314,AK312,0)","v":"49,999%-99,999%"},0.5,{"$f":"+VLOOKUP(O310,TablaResumen[],22,0)*T312","v":0.02},{"$f":"+VLOOKUP(O310,TablaResumen[],23,0)*T312","v":0.02},{"$f":"+IFERROR(VALUE(MID(S312,1,FIND(\"-\",S312)-1)),S312)","v":0.49998999999999999},{"$f":"+IFERROR(VALUE(MID(S312,FIND(\"-\",S312)+1,LEN(S312)-FIND(\"-\",S312))),S312)","v":0.99999000000000005},null,null,"Bueno","49,999%-99,999%","49,999%-99,999%","49,999%-99,999%","49,999%-99,999%","49,999%-99,999%","49,999%-99,999%","49,999%-99,999%","49,999%-99,999%","49,999%-99,999%",3]
[null,null,null,null,null,null,null,null,null,null,null,null,"N","39.6",39,6,{"$f":"+VLOOKUP(O313,'Resumen requerimientos'!$A$5:$B$104,2,FALSE)","v":"ARQ.ENERGIA.7"},"Regular",{"$f":"+HLOOKUP($AA$309,$AB$310:$AJ$314,AK313,0)","v":"24,999%-49,999%"},0.25,{"$f":"+VLOOKUP(O311,TablaResumen[],22,0)*T313","v":0.01},{"$f":"+VLOOKUP(O311,TablaResumen[],23,0)*T313","v":0.01},{"$f":"+IFERROR(VALUE(MID(S313,1,FIND(\"-\",S313)-1)),S313)","v":0.24998999999999999},{"$f":"+IFERROR(VALUE(MID(S313,FIND(\"-\",S313)+1,LEN(S313)-FIND(\"-\",S313))),S313)","v":0.49998999999999999},null,null,"Regular","24,999%-49,999%","24,999%-49,999%","24,999%-49,999%","24,999%-49,999%","24,999%-49,999%","24,999%-49,999%","24,999%-49,999%","24,999%-49,999%","24,999%-49,999%",4]
[null,null,null,null,null,null,null,null,null,null,null,null,"N","39.7",39,7,{"$f":"+VLOOKUP(O314,'Resumen requerimientos'!$A$5:$B$104,2,FALSE)","v":"ARQ.ENERGIA.7"},"Minimo",{"$f":"+HLOOKUP($AA$309,$AB$310:$AJ$314,AK314,0)","v":0},0,{"$f":"+VLOOKUP(O312,TablaResumen[],22,0)*T314","v":0},{"$f":"+VLOOKUP(O312,TablaResumen[],23,0)*T314","v":0},{"$f":"+IFERROR(VALUE(MID(S314,1,FIND(\"-\",S314)-1)),S314)","v":0},{"$f":"+IFERROR(VALUE(MID(S314,FIND(\"-\",S314)+1,LEN(S314)-FIND(\"-\",S314))),S314)","v":0},null,null,"Minimo",null,null,null,null,null,null,null,null,null,5]
[null,null,null,null,null,null,null,null,null,null,null,null,"N","39.8",39,8]
[null,null,null,null,null,null,null,null,null,null,null,null,"N","40.1",{"$f":"+IF(R315=\"\",O315+1,O315)","v":40},1,{"$f":"+VLOOKUP(O316,'Resumen requerimientos'!$A$5:$B$104,2,FALSE)","v":"ARQ.AGUA.8"},{"$f":"+VLOOKUP(Q317,'Resumen requerimientos'!$B$5:$AJ$91,10,0)","v":"Paisajismo"},null,{"$f":"+VLOOKUP(O317,TablaResumen[],16,0)","v":"Disminución de la demanda de agua"},null,"Opción",{"$f":"+CONCATENATE(VLOOKUP(O317,'Resumen requerimientos'!$A$5:$AB$91,24),\" de \",VLOOKUP(O317,'Resumen requerimientos'!$A$5:$AB$91,25))","v":"1 de 1"},null,null,null,{"$f":"+'Datos Generales Edificio'!$C$5","v":"RM - Región Metropolitana de Santiago"}]
[null,null,null,null,null,null,null,null,null,null,null,null,"N","40.2",{"$f":"+O316","v":40},2,{"$f":"+VLOOKUP(O317,'Resumen requerimientos'!$A$5:$B$104,2,FALSE)","v":"ARQ.AGUA.8"},{"$f":"+VLOOKUP(O317,TablaResumen[],21,0)","v":"Porcentaje de disminución de la evapotranspiración"},null,null,null,"Simultáneo",{"$f":"+CONCATENATE(IF(VLOOKUP(O317,'Resumen requerimientos'!$A$5:$AB$91,26)=0,1,VLOOKUP(O317,'Resumen requerimientos'!$A$5:$AB$91,26)),\" de \",IF(VLOOKUP(O317,'Resumen requerimientos'!$A$5:$AB$91,27)=0,1,VLOOKUP(O317,'Resumen requerimientos'!$A$5:$AB$91,27)))","v":"1 de 1"},null,null,null,{"$f":"+'Datos Generales Edificio'!$F$28","v":"CI - Central Interior"}]
[null,null,null,null,null,null,null,null,null,null,null,null,"N","40.3",40,3,{"$f":"+VLOOKUP(O318,'Resumen requerimientos'!$A$5:$B$104,2,FALSE)","v":"ARQ.AGUA.8"},"Nivel","Rango","Prioridad","Ponderación Of. Y Serv.","Ponderación Educ. y Salud.","Rango",null,null,null,{"$f":"+R317","v":"Porcentaje de disminución de la evapotranspiración"},"NL - Norte Litoral","ND - Norte Desértico","NVT - Norte Valle Transversal","CL - Central Litoral","CI - Central Interior","SL - Sur Litoral","SI - Sur Interior","SE - Sur Extremo","An - Andino",null,null,"NL - Norte Litoral","ND - Norte Desértico","NVT - Norte Valle Transversal","CL - Central Litoral","CI - Central Interior","SL - Sur Litoral","SI - Sur Interior","SE - Sur Extremo","An - Andino"]
[null,null,null,null,null,null,null,null,null,null,null,null,"N","40.4",40,4,{"$f":"+VLOOKUP(O319,'Resumen requerimientos'!$A$5:$B$104,2,FALSE)","v":"ARQ.AGUA.8"},"Muy bueno",{"$f":"+HLOOKUP($AA$317,$AB$318:$AJ$322,AK319,0)","v":"69,999%-100%"},{"$f":"+HLOOKUP($AA$317,$AM$318:$AU$322,$AK319,FALSE)","v":1},{"$f":"+VLOOKUP(O317,TablaResumen[],22,0)*T319","v":0.02},{"$f":"+VLOOKUP(O317,TablaResumen[],23,0)*T319","v":0.02},{"$f":"+IFERROR(VALUE(MID(S319,1,FIND(\"-\",S319)-1)),S319)","v":0.69999},{"$f":"+IFERROR(VALUE(MID(S319,FIND(\"-\",S319)+1,LEN(S319)-FIND(\"-\",S319))),S319)","v":1},null,null,"Muy bueno","69,999%-100%","69,999%-100%","69,999%-100%","69,999%-100%","69,999%-100%","69,999%-100%","69,999%-100%","69,999%-100%","69,999%-100%",2,null,1,1,1,1,1,1,1,1,1]
[null,null,null,null,null,null,null,null,null,null,null,null,"N","40.5",40,5,{"$f":"+VLOOKUP(O320,'Resumen requerimientos'!$A$5:$B$104,2,FALSE)","v":"ARQ.AGUA.8"},"Bueno",{"$f":"+HLOOKUP($AA$317,$AB$318:$AJ$322,AK320,0)","v":"49,999%-69,999%"},{"$f":"+HLOOKUP($AA$317,$AM$318:$AU$322,$AK320,FALSE)","v":0.5},{"$f":"+VLOOKUP(O318,TablaResumen[],22,0)*T320","v":0.01},{"$f":"+VLOOKUP(O318,TablaResumen[],23,0)*T320","v":0.01},{"$f":"+IFERROR(VALUE(MID(S320,1,FIND(\"-\",S320)-1)),S320)","v":0.49998999999999999},{"$f":"+IFERROR(VALUE(MID(S320,FIND(\"-\",S320)+1,LEN(S320)-FIND(\"-\",S320))),S320)","v":0.69999},null,null,"Bueno","49,999%-69,999%","49,999%-69,999%","49,999%-69,999%","49,999%-69,999%","49,999%-69,999%","49,999%-69,999%","49,999%-69,999%","49,999%-69,999%","49,999%-69,999%",3,null,0.5,0.5,0.5,0.5,0.5,0.5,0.5,0.5,0.5]
[null,null,null,null,null,null,null,null,null,null,null,null,"N","40.6",40,6,{"$f":"+VLOOKUP(O321,'Resumen requerimientos'!$A$5:$B$104,2,FALSE)","v":"ARQ.AGUA.8"},"Regular",{"$f":"+HLOOKUP($AA$317,$AB$318:$AJ$322,AK321,0)","v":"19,999%-49,999%"},{"$f":"+HLOOKUP($AA$317,$AM$318:$AU$322,$AK321,FALSE)","v":0.25},{"$f":"+VLOOKUP(O319,TablaResumen[],22,0)*T321","v":5.0000000000000001E-3},{"$f":"+VLOOKUP(O319,TablaResumen[],23,0)*T321","v":5.0000000000000001E-3},{"$f":"+IFERROR(VALUE(MID(S321,1,FIND(\"-\",S321)-1)),S321)","v":0.19999},{"$f":"+IFERROR(VALUE(MID(S321,FIND(\"-\",S321)+1,LEN(S321)-FIND(\"-\",S321))),S321)","v":0.49998999999999999},null,null,"Regular","19,999%-49,999%","19,999%-49,999%","19,999%-49,999%","19,999%-49,999%","19,999%-49,999%","19,999%-49,999%","19,999%-49,999%","19,999%-49,999%","19,999%-49,999%",4,null,0.25,0.25,0.25,0.25,0.25,0,0,0,0]
[null,null,null,null,null,null,null,null,null,null,null,null,"N","40.7",40,7,{"$f":"+VLOOKUP(O322,'Resumen requerimientos'!$A$5:$B$104,2,FALSE)","v":"ARQ.AGUA.8"},"Minimo",{"$f":"+HLOOKUP($AA$317,$AB$318:$AJ$322,AK322,0)","v":0},{"$f":"+HLOOKUP($AA$317,$AM$318:$AU$322,$AK322,FALSE)","v":0},{"$f":"+VLOOKUP(O320,TablaResumen[],22,0)*T322","v":0},{"$f":"+VLOOKUP(O320,TablaResumen[],23,0)*T322","v":0},{"$f":"+IFERROR(VALUE(MID(S322,1,FIND(\"-\",S322)-1)),S322)","v":0},{"$f":"+IFERROR(VALUE(MID(S322,FIND(\"-\",S322)+1,LEN(S322)-FIND(\"-\",S322))),S322)","v":0},null,null,"Minimo",null,null,null,null,null,null,null,null,null,5]
[null,null,null,null,null,null,null,null,null,null,null,null,"N","40.8",40,8]
[null,null,null,null,null,null,null,null,null,null,null,null,{"$f":"+IF(Nivel_Precipitaciones=\"mayor o igual a 500 mm\",\"T\",\"N\")","v":"N"},"41.1",{"$f":"+IF(R323=\"\",O323+1,O323)","v":41},1,{"$f":"+VLOOKUP(O324,'Resumen requerimientos'!$A$5:$B$104,2,FALSE)","v":"8R"},{"$f":"+VLOOKUP(Q325,'Resumen requerimientos'!$B$5:$AJ$91,10,0)","v":"Paisajismo"},null,{"$f":"+VLOOKUP(O325,TablaResumen[],16,0)","v":"Reducir 20% evapotransiración de proyecto de paisajismo"},null,"Opción",{"$f":"+CONCATENATE(VLOOKUP(O325,'Resumen requerimientos'!$A$5:$AB$91,24),\" de \",VLOOKUP(O325,'Resumen requerimientos'!$A$5:$AB$91,25))","v":"1 de 1"},null,null,null,{"$f":"+'Datos Generales Edificio'!$C$5","v":"RM - Región Metropolitana de Santiago"}]
[null,null,null,null,null,null,null,null,null,null,null,null,"N","41.2",{"$f":"+O324","v":41},2,{"$f":"+VLOOKUP(O325,'Resumen requerimientos'!$A$5:$B$104,2,FALSE)","v":"8R"},{"$f":"+VLOOKUP(O325,TablaResumen[],21,0)","v":"Disminución de la evapotranspiración [%]"},null,null,null,"Simultáneo",{"$f":"+CONCATENATE(IF(VLOOKUP(O325,'Resumen requerimientos'!$A$5:$AB$91,26)=0,1,VLOOKUP(O325,'Resumen requerimientos'!$A$5:$AB$91,26)),\" de \",IF(VLOOKUP(O325,'Resumen requerimientos'!$A$5:$AB$91,27)=0,1,VLOOKUP(O325,'Resumen requerimientos'!$A$5:$AB$91,27)))","v":"1 de 1"},null,null,null,{"$f":"+'Datos Generales Edificio'!$F$28","v":"CI - Central Interior"}]
[null,null,null,null,null,null,null,null,null,null,null,null,"N",{"$f":"+CONCATENATE(O326,\".\",P326)","v":"41.3"},41,{"$f":"+IF(O326=O325,P325+1,1)","v":3},{"$f":"+VLOOKUP(O326,'Resumen requerimientos'!$A$5:$B$104,2,FALSE)","v":"8R"},"Nivel","Rango","Prioridad","Ponderación Of. Y Serv.","Ponderación Educ. y Salud.","Rango",null,null,null,{"$f":"+R325","v":"Disminución de la evapotranspiración [%]"},"NL - Norte Litoral","ND - Norte Desértico","NVT - Norte Valle Transversal","CL - Central Litoral","CI - Central Interior","SL - Sur Litoral","SI - Sur Interior","SE - Sur Extremo","An - Andino"]
[null,null,null,null,null,null,null,null,null,null,null,null,"N","41.4",41,4,{"$f":"+VLOOKUP(O327,'Resumen requerimientos'!$A$5:$B$104,2,FALSE)","v":"8R"},"Muy bueno",{"$f":"+HLOOKUP($AA$325,$AB$326:$AJ$330,AK327,0)","v":"19,99999%-100%"},1,{"$f":"+VLOOKUP(O325,TablaResumen[],22,0)*T327","v":1},{"$f":"+VLOOKUP(O325,TablaResumen[],23,0)*T327","v":1},{"$f":"+IFERROR(VALUE(MID(S327,1,FIND(\"-\",S327)-1)),S327)","v":0.19999990000000001},{"$f":"+IFERROR(VALUE(MID(S327,FIND(\"-\",S327)+1,LEN(S327)-FIND(\"-\",S327))),S327)","v":1},null,null,"Muy bueno",{"$f":"+IF('Datos Generales Edificio'!$F$54=\"menor a 500 mm\",\"19,99999%-100%\",\"No Aplica\")","v":"19,99999%-100%"},{"$f":"+IF('Datos Generales Edificio'!$F$54=\"menor a 500 mm\",\"19,99999%-100%\",\"No Aplica\")","v":"19,99999%-100%"},{"$f":"+IF('Datos Generales Edificio'!$F$54=\"menor a 500 mm\",\"19,99999%-100%\",\"No Aplica\")","v":"19,99999%-100%"},{"$f":"+IF('Datos Generales Edificio'!$F$54=\"menor a 500 mm\",\"19,99999%-100%\",\"No Aplica\")","v":"19,99999%-100%"},{"$f":"+IF('Datos Generales Edificio'!$F$54=\"menor a 500 mm\",\"19,99999%-100%\",\"No Aplica\")","v":"19,99999%-100%"},{"$f":"+IF('Datos Generales Edificio'!$F$54=\"menor a 500 mm\",\"19,99999%-100%\",\"No Aplica\")","v":"19,99999%-100%"},{"$f":"+IF('Datos Generales Edificio'!$F$54=\"menor a 500 mm\",\"19,99999%-100%\",\"No Aplica\")","v":"19,99999%-100%"},{"$f":"+IF('Datos Generales Edificio'!$F$54=\"menor a 500 mm\",\"19,99999%-100%\",\"No Aplica\")","v":"19,99999%-100%"},{"$f":"+IF('Datos Generales Edificio'!$F$54=\"menor a 500 mm\",\"19,99999%-100%\",\"No Aplica\")","v":"19,99999%-100%"},2]
[null,null,null,null,null,null,null,null,null,null,null,null,"N","41.5",41,5,{"$f":"+VLOOKUP(O328,'Resumen requerimientos'!$A$5:$B$104,2,FALSE)","v":"8R"},"Bueno",{"$f":"+HLOOKUP($AA$325,$AB$326:$AJ$330,AK328,0)","v":"0%-19,99999%"},-1,{"$f":"+VLOOKUP(O326,TablaResumen[],22,0)*T328","v":-1},{"$f":"+VLOOKUP(O326,TablaResumen[],23,0)*T328","v":-1},{"$f":"+IFERROR(VALUE(MID(S328,1,FIND(\"-\",S328)-1)),S328)","v":0},{"$f":"+IFERROR(VALUE(MID(S328,FIND(\"-\",S328)+1,LEN(S328)-FIND(\"-\",S328))),S328)","v":0.19999990000000001},null,null,"Bueno",{"$f":"+IF('Datos Generales Edificio'!$F$54=\"menor a 500 mm\",\"0%-19,99999%\",\"\")","v":"0%-19,99999%"},{"$f":"+IF('Datos Generales Edificio'!$F$54=\"menor a 500 mm\",\"0%-19,99999%\",\"\")","v":"0%-19,99999%"},{"$f":"+IF('Datos Generales Edificio'!$F$54=\"menor a 500 mm\",\"0%-19,99999%\",\"\")","v":"0%-19,99999%"},{"$f":"+IF('Datos Generales Edificio'!$F$54=\"menor a 500 mm\",\"0%-19,99999%\",\"\")","v":"0%-19,99999%"},{"$f":"+IF('Datos Generales Edificio'!$F$54=\"menor a 500 mm\",\"0%-19,99999%\",\"\")","v":"0%-19,99999%"},{"$f":"+IF('Datos Generales Edificio'!$F$54=\"menor a 500 mm\",\"0%-19,99999%\",\"\")","v":"0%-19,99999%"},{"$f":"+IF('Datos Generales Edificio'!$F$54=\"menor a 500 mm\",\"0%-19,99999%\",\"\")","v":"0%-19,99999%"},{"$f":"+IF('Datos Generales Edificio'!$F$54=\"menor a 500 mm\",\"0%-19,99999%\",\"\")","v":"0%-19,99999%"},{"$f":"+IF('Datos Generales Edificio'!$F$54=\"menor a 500 mm\",\"0%-19,99999%\",\"\")","v":"0%-19,99999%"},3]
[null,null,null,null,null,null,null,null,null,null,null,null,"N","41.6",41,6,{"$f":"+VLOOKUP(O329,'Resumen requerimientos'!$A$5:$B$104,2,FALSE)","v":"8R"},"Regular",{"$f":"+HLOOKUP($AA$325,$AB$326:$AJ$330,AK329,0)","v":0},1,{"$f":"+VLOOKUP(O327,TablaResumen[],22,0)*T329","v":1},{"$f":"+VLOOKUP(O327,TablaResumen[],23,0)*T329","v":1},{"$f":"+IFERROR(VALUE(MID(S329,1,FIND(\"-\",S329)-1)),S329)","v":0},{"$f":"+IFERROR(VALUE(MID(S329,FIND(\"-\",S329)+1,LEN(S329)-FIND(\"-\",S329))),S329)","v":0},null,null,"Regular",null,null,null,null,null,null,null,null,null,4]
[null,null,null,null,null,null,null,null,null,null,null,null,"N","41.7",41,7,{"$f":"+VLOOKUP(O330,'Resumen requerimientos'!$A$5:$B$104,2,FALSE)","v":"8R"},"Minimo",{"$f":"+HLOOKUP($AA$325,$AB$326:$AJ$330,AK330,0)","v":0},1,{"$f":"+VLOOKUP(O328,TablaResumen[],22,0)*T330","v":1},{"$f":"+VLOOKUP(O328,TablaResumen[],23,0)*T330","v":1},{"$f":"+IFERROR(VALUE(MID(S330,1,FIND(\"-\",S330)-1)),S330)","v":0},{"$f":"+IFERROR(VALUE(MID(S330,FIND(\"-\",S330)+1,LEN(S330)-FIND(\"-\",S330))),S330)","v":0},null,null,"Minimo",null,null,null,null,null,null,null,null,null,5]
[null,null,null,null,null,null,null,null,null,null,null,null,"N","41.8",41,8]
[null,null,null,null,null,null,null,null,null,null,null,null,"N","42.1",{"$f":"+IF(R331=\"\",O331+1,O331)","v":42},1,{"$f":"+VLOOKUP(O332,'Resumen requerimientos'!$A$5:$B$104,2,FALSE)","v":"ARQ.AGUA.9"},{"$f":"+VLOOKUP(Q333,'Resumen requerimientos'!$B$5:$AJ$91,10,0)","v":"Agua incorporada en los materiales estructurales del edificio"},null,{"$f":"+VLOOKUP(O333,TablaResumen[],16,0)","v":"Agua incorporada en los materiales estructurales del edificio [%]"},null,"Opción",{"$f":"+CONCATENATE(VLOOKUP(O333,'Resumen requerimientos'!$A$5:$AB$91,24),\" de \",VLOOKUP(O333,'Resumen requerimientos'!$A$5:$AB$91,25))","v":"1 de 3"},null,null,null,{"$f":"+'Datos Generales Edificio'!$C$5","v":"RM - Región Metropolitana de Santiago"}]
[null,null,null,null,null,null,null,null,null,null,null,null,"N","42.2",{"$f":"+O332","v":42},2,{"$f":"+VLOOKUP(O333,'Resumen requerimientos'!$A$5:$B$104,2,FALSE)","v":"ARQ.AGUA.9"},{"$f":"+VLOOKUP(O333,TablaResumen[],21,0)","v":"Cantidad de categorías de materiales en que se declara la información de agua incorporada según UNE-14024"},null,null,null,"Simultáneo",{"$f":"+CONCATENATE(IF(VLOOKUP(O333,'Resumen requerimientos'!$A$5:$AB$91,26)=0,1,VLOOKUP(O333,'Resumen requerimientos'!$A$5:$AB$91,26)),\" de \",IF(VLOOKUP(O333,'Resumen requerimientos'!$A$5:$AB$91,27)=0,1,VLOOKUP(O333,'Resumen requerimientos'!$A$5:$AB$91,27)))","v":"1 de 1"},null,null,null,{"$f":"+'Datos Generales Edificio'!$F$28","v":"CI - Central Interior"}]
[null,null,null,null,null,null,null,null,null,null,null,null,"N","42.3",42,3,{"$f":"+VLOOKUP(O334,'Resumen requerimientos'!$A$5:$B$104,2,FALSE)","v":"ARQ.AGUA.9"},"Nivel","Rango","Prioridad","Ponderación Of. Y Serv.","Ponderación Educ. y Salud.","Rango",null,null,null,{"$f":"+R333","v":"Cantidad de categorías de materiales en que se declara la información de agua incorporada según UNE-14024"},"NL - Norte Litoral","ND - Norte Desértico","NVT - Norte Valle Transversal","CL - Central Litoral","CI - Central Interior","SL - Sur Litoral","SI - Sur Interior","SE - Sur Extremo","An - Andino"]
[null,null,null,null,null,null,null,null,null,null,null,null,"N","42.4",42,4,{"$f":"+VLOOKUP(O335,'Resumen requerimientos'!$A$5:$B$104,2,FALSE)","v":"ARQ.AGUA.9"},"Muy bueno",{"$f":"+HLOOKUP($AA$333,$AB$334:$AJ$338,AK335,0)","v":""},1,{"$f":"+VLOOKUP(O333,TablaResumen[],22,0)*T335","v":0.01},{"$f":"+VLOOKUP(O333,TablaResumen[],23,0)*T335","v":0.01},{"$f":"+IFERROR(VALUE(MID(S335,1,FIND(\"-\",S335)-1)),S335)","v":""},{"$f":"+IFERROR(VALUE(MID(S335,FIND(\"-\",S335)+1,LEN(S335)-FIND(\"-\",S335))),S335)","v":""},null,null,"Muy bueno",{"$f":"+IF(OR(cantidad_materiales=3,cantidad_materiales=\"4 o más\"),\"3,99-4\",\"\")","v":""},"","","","","","","","",2]
[null,null,null,null,null,null,null,null,null,null,null,null,"N","42.5",42,5,{"$f":"+VLOOKUP(O336,'Resumen requerimientos'!$A$5:$B$104,2,FALSE)","v":"ARQ.AGUA.9"},"Bueno",{"$f":"+HLOOKUP($AA$333,$AB$334:$AJ$338,AK336,0)","v":"1,99-2"},0.5,{"$f":"+VLOOKUP(O334,TablaResumen[],22,0)*T336","v":5.0000000000000001E-3},{"$f":"+VLOOKUP(O334,TablaResumen[],23,0)*T336","v":5.0000000000000001E-3},{"$f":"+IFERROR(VALUE(MID(S336,1,FIND(\"-\",S336)-1)),S336)","v":1.99},{"$f":"+IFERROR(VALUE(MID(S336,FIND(\"-\",S336)+1,LEN(S336)-FIND(\"-\",S336))),S336)","v":2},null,null,"Bueno",{"$f":"+IF(OR(cantidad_materiales=3,cantidad_materiales=\"4 o más\"),\"2,99-3\",\"1,99-2\")","v":"1,99-2"},"1,99-2","1,99-2","1,99-2","1,99-2","1,99-2","1,99-2","1,99-2","1,99-2",3]
[null,null,null,null,null,null,null,null,null,null,null,null,"N","42.6",42,6,{"$f":"+VLOOKUP(O337,'Resumen requerimientos'!$A$5:$B$104,2,FALSE)","v":"ARQ.AGUA.9"},"Regular",{"$f":"+HLOOKUP($AA$333,$AB$334:$AJ$338,AK337,0)","v":0},null,{"$f":"+VLOOKUP(O335,TablaResumen[],22,0)*T337","v":0},{"$f":"+VLOOKUP(O335,TablaResumen[],23,0)*T337","v":0},{"$f":"+IFERROR(VALUE(MID(S337,1,FIND(\"-\",S337)-1)),S337)","v":0},{"$f":"+IFERROR(VALUE(MID(S337,FIND(\"-\",S337)+1,LEN(S337)-FIND(\"-\",S337))),S337)","v":0},null,null,"Regular",null,null,null,null,null,null,null,null,null,4]
[null,null,null,null,null,null,null,null,null,null,null,null,"N","42.7",42,7,{"$f":"+VLOOKUP(O338,'Resumen requerimientos'!$A$5:$B$104,2,FALSE)","v":"ARQ.AGUA.9"},"Minimo",{"$f":"+HLOOKUP($AA$333,$AB$334:$AJ$338,AK338,0)","v":0},0,{"$f":"+VLOOKUP(O336,TablaResumen[],22,0)*T338","v":0},{"$f":"+VLOOKUP(O336,TablaResumen[],23,0)*T338","v":0},{"$f":"+IFERROR(VALUE(MID(S338,1,FIND(\"-\",S338)-1)),S338)","v":0},{"$f":"+IFERROR(VALUE(MID(S338,FIND(\"-\",S338)+1,LEN(S338)-FIND(\"-\",S338))),S338)","v":0},null,null,"Minimo",null,null,null,null,null,null,null,null,null,5]
[null,null,null,null,null,null,null,null,null,null,null,null,"N","42.8",42,8]
[null,null,null,null,null,null,null,null,null,null,null,null,"T","43.1",{"$f":"+IF(R339=\"\",O339+1,O339)","v":43},1,{"$f":"+VLOOKUP(O340,'Resumen requerimientos'!$A$5:$B$104,2,FALSE)","v":"ARQ.RESIDUOS.10"},{"$f":"+VLOOKUP(Q341,'Resumen requerimientos'!$B$5:$AJ$91,10,0)","v":"Equipamiento para el Manejo de Residuos durante la operación del edificio"},null,{"$f":"+VLOOKUP(O341,TablaResumen[],16,0)","v":"Equipamiento para el Manejo de Residuos durante la operación del edificio"},null,"Opción",{"$f":"+CONCATENATE(VLOOKUP(O341,'Resumen requerimientos'!$A$5:$AB$91,24),\" de \",VLOOKUP(O341,'Resumen requerimientos'!$A$5:$AB$91,25))","v":"1 de 1"},null,null,null,{"$f":"+'Datos Generales Edificio'!$C$5","v":"RM - Región Metropolitana de Santiago"}]
[null,null,null,null,null,null,null,null,null,null,null,null,"T","43.2",{"$f":"+O340","v":43},2,{"$f":"+VLOOKUP(O341,'Resumen requerimientos'!$A$5:$B$104,2,FALSE)","v":"ARQ.RESIDUOS.10"},{"$f":"+VLOOKUP(O341,TablaResumen[],21,0)","v":"Equipamiento para el manejo de residuos durante la operación del edificio"},null,null,null,"Simultáneo",{"$f":"+CONCATENATE(IF(VLOOKUP(O341,'Resumen requerimientos'!$A$5:$AB$91,26)=0,1,VLOOKUP(O341,'Resumen requerimientos'!$A$5:$AB$91,26)),\" de \",IF(VLOOKUP(O341,'Resumen requerimientos'!$A$5:$AB$91,27)=0,1,VLOOKUP(O341,'Resumen requerimientos'!$A$5:$AB$91,27)))","v":"1 de 1"},null,null,null,{"$f":"+'Datos Generales Edificio'!$F$28","v":"CI - Central Interior"}]
[null,null,null,null,null,null,null,null,null,null,null,null,"T","43.3",43,3,{"$f":"+VLOOKUP(O342,'Resumen requerimientos'!$A$5:$B$104,2,FALSE)","v":"ARQ.RESIDUOS.10"},"Nivel","Rango","Prioridad","Ponderación Of. Y Serv.","Ponderación Educ. y Salud.","Rango",null,null,null,{"$f":"+R341","v":"Equipamiento para el manejo de residuos durante la operación del edificio"},"NL - Norte Litoral","ND - Norte Desértico","NVT - Norte Valle Transversal","CL - Central Litoral","CI - Central Interior","SL - Sur Litoral","SI - Sur Interior","SE - Sur Extremo","An - Andino"]
[null,null,null,null,null,null,null,null,null,null,null,null,"T","43.4",43,4,{"$f":"+VLOOKUP(O343,'Resumen requerimientos'!$A$5:$B$104,2,FALSE)","v":"ARQ.RESIDUOS.10"},"Muy bueno",{"$f":"+HLOOKUP($AA$341,$AB$342:$AJ$346,AK343,0)","v":"Cumple requisitos equipamiento"},1,{"$f":"+VLOOKUP(O341,TablaResumen[],22,0)*T343","v":0.01},{"$f":"+VLOOKUP(O341,TablaResumen[],23,0)*T343","v":1.4999999999999999E-2},{"$f":"+IFERROR(VALUE(MID(S343,1,FIND(\"-\",S343)-1)),S343)","v":"Cumple requisitos equipamiento"},{"$f":"+IFERROR(VALUE(MID(S343,FIND(\"-\",S343)+1,LEN(S343)-FIND(\"-\",S343))),S343)","v":"Cumple requisitos equipamiento"},null,null,"Muy bueno","Cumple requisitos equipamiento","Cumple requisitos equipamiento","Cumple requisitos equipamiento","Cumple requisitos equipamiento","Cumple requisitos equipamiento","Cumple requisitos equipamiento","Cumple requisitos equipamiento","Cumple requisitos equipamiento","Cumple requisitos equipamiento",2]
[null,null,null,null,null,null,null,null,null,null,null,null,"T","43.5",43,5,{"$f":"+VLOOKUP(O344,'Resumen requerimientos'!$A$5:$B$104,2,FALSE)","v":"ARQ.RESIDUOS.10"},"Bueno",{"$f":"+HLOOKUP($AA$341,$AB$342:$AJ$346,AK344,0)","v":"NO cumple requisitos equipamiento"},0,{"$f":"+VLOOKUP(O342,TablaResumen[],22,0)*T344","v":0},{"$f":"+VLOOKUP(O342,TablaResumen[],23,0)*T344","v":0},{"$f":"+IFERROR(VALUE(MID(S344,1,FIND(\"-\",S344)-1)),S344)","v":"NO cumple requisitos equipamiento"},{"$f":"+IFERROR(VALUE(MID(S344,FIND(\"-\",S344)+1,LEN(S344)-FIND(\"-\",S344))),S344)","v":"NO cumple requisitos equipamiento"},null,null,"Bueno","NO cumple requisitos equipamiento","NO cumple requisitos equipamiento","NO cumple requisitos equipamiento","NO cumple requisitos equipamiento","NO cumple requisitos equipamiento","NO cumple requisitos equipamiento","NO cumple requisitos equipamiento","NO cumple requisitos equipamiento","NO cumple requisitos equipamiento",3]
[null,null,null,null,null,null,null,null,null,null,null,null,"T","43.6",43,6,{"$f":"+VLOOKUP(O345,'Resumen requerimientos'!$A$5:$B$104,2,FALSE)","v":"ARQ.RESIDUOS.10"},"Regular",{"$f":"+HLOOKUP($AA$341,$AB$342:$AJ$346,AK345,0)","v":0},0,{"$f":"+VLOOKUP(O343,TablaResumen[],22,0)*T345","v":0},{"$f":"+VLOOKUP(O343,TablaResumen[],23,0)*T345","v":0},{"$f":"+IFERROR(VALUE(MID(S345,1,FIND(\"-\",S345)-1)),S345)","v":0},{"$f":"+IFERROR(VALUE(MID(S345,FIND(\"-\",S345)+1,LEN(S345)-FIND(\"-\",S345))),S345)","v":0},null,null,"Regular",null,null,null,null,null,null,null,null,null,4]
[null,null,null,null,null,null,null,null,null,null,null,null,"T","43.7",43,7,{"$f":"+VLOOKUP(O346,'Resumen requerimientos'!$A$5:$B$104,2,FALSE)","v":"ARQ.RESIDUOS.10"},"Minimo",{"$f":"+HLOOKUP($AA$341,$AB$342:$AJ$346,AK346,0)","v":0},0,{"$f":"+VLOOKUP(O344,TablaResumen[],22,0)*T346","v":0},{"$f":"+VLOOKUP(O344,TablaResumen[],23,0)*T346","v":0},{"$f":"+IFERROR(VALUE(MID(S346,1,FIND(\"-\",S346)-1)),S346)","v":0},{"$f":"+IFERROR(VALUE(MID(S346,FIND(\"-\",S346)+1,LEN(S346)-FIND(\"-\",S346))),S346)","v":0},null,null,"Minimo",null,null,null,null,null,null,null,null,null,5]
[null,null,null,null,null,null,null,null,null,null,null,null,"T","43.8",43,8]
[null,null,null,null,null,null,null,null,null,null,null,null,"N","44.1",{"$f":"+IF(R347=\"\",O347+1,O347)","v":44},1,{"$f":"+VLOOKUP(O348,'Resumen requerimientos'!$A$5:$B$104,2,FALSE)","v":"INST.CAI.11.1"},{"$f":"+VLOOKUP(Q349,'Resumen requerimientos'!$B$5:$AJ$91,10,0)","v":"Ventilación mecánica"},null,{"$f":"+VLOOKUP(O349,TablaResumen[],16,0)","v":"Caudal"},null,"Opción",{"$f":"+CONCATENATE(VLOOKUP(O349,'Resumen requerimientos'!$A$5:$AB$91,24),\" de \",VLOOKUP(O349,'Resumen requerimientos'!$A$5:$AB$91,25))","v":"1 de 1"},null,null,null,{"$f":"+'Datos Generales Edificio'!$C$5","v":"RM - Región Metropolitana de Santiago"}]
[null,null,null,null,null,null,null,null,null,null,null,null,"N","44.2",{"$f":"+O348","v":44},2,{"$f":"+VLOOKUP(O349,'Resumen requerimientos'!$A$5:$B$104,2,FALSE)","v":"INST.CAI.11.1"},{"$f":"+VLOOKUP(O349,TablaResumen[],21,0)","v":"Aumento del caudal de ventilación [litros/seg]"},null,null,null,"Simultáneo",{"$f":"+CONCATENATE(IF(VLOOKUP(O349,'Resumen requerimientos'!$A$5:$AB$91,26)=0,1,VLOOKUP(O349,'Resumen requerimientos'!$A$5:$AB$91,26)),\" de \",IF(VLOOKUP(O349,'Resumen requerimientos'!$A$5:$AB$91,27)=0,1,VLOOKUP(O349,'Resumen requerimientos'!$A$5:$AB$91,27)))","v":"1 de 1"},null,null,null,{"$f":"+'Datos Generales Edificio'!$F$28","v":"CI - Central Interior"}]
[null,null,null,null,null,null,null,null,null,null,null,null,"N","44.3",44,3,{"$f":"+VLOOKUP(O350,'Resumen requerimientos'!$A$5:$B$104,2,FALSE)","v":"INST.CAI.11.1"},"Nivel","Rango","Prioridad","Ponderación Of. Y Serv.","Ponderación Educ. y Salud.","Rango",null,null,null,{"$f":"+R349","v":"Aumento del caudal de ventilación [litros/seg]"},"NL - Norte Litoral","ND - Norte Desértico","NVT - Norte Valle Transversal","CL - Central Litoral","CI - Central Interior","SL - Sur Litoral","SI - Sur Interior","SE - Sur Extremo","An - Andino",null,null,"NL - Norte Litoral","ND - Norte Desértico","NVT - Norte Valle Transversal","CL - Central Litoral","CI - Central Interior","SL - Sur Litoral","SI - Sur Interior","SE - Sur Extremo","An - Andino"]
[null,null,null,null,null,null,null,null,null,null,null,null,"N","44.4",44,4,{"$f":"+VLOOKUP(O351,'Resumen requerimientos'!$A$5:$B$104,2,FALSE)","v":"INST.CAI.11.1"},"Muy bueno",{"$f":"+HLOOKUP($AA$349,$AB$350:$AJ$354,AK351,0)","v":""},{"$f":"+HLOOKUP($AA$349,$AM$350:$AU$354,AK351,FALSE)","v":0.5},{"$f":"+VLOOKUP(O349,TablaResumen[],22,0)*T351","v":0.03},{"$f":"+VLOOKUP(O349,TablaResumen[],23,0)*T351","v":0.03},{"$f":"+IFERROR(VALUE(MID(S351,1,FIND(\"-\",S351)-1)),S351)","v":""},{"$f":"+IFERROR(VALUE(MID(S351,FIND(\"-\",S351)+1,LEN(S351)-FIND(\"-\",S351))),S351)","v":""},null,null,"Muy bueno",{"$f":"+IF(OR(AND(Vent_Mec=\"No\",Vent_Nat=\"Si\"),AND(Vent_Mec=\"No\",Vent_Nat=\"No\")),\"\",\"24,999%-1000%\")","v":""},"","","","","","","","",2,null,{"$f":"+IF(AND(OR('Datos Generales Edificio'!$F$40=\"Si\",'Datos Generales Edificio'!$F$40=\"No hay recintos contaminantes en el edificio\"),'Evaluacion INST.CAI Voluntarios'!$Q$8>=25%),0.5,IF(OR('Datos Generales Edificio'!$F$40=\"Si\",'Evaluacion INST.CAI Voluntarios'!$Q$8>=25%),0.25,0))","v":0.5},{"$f":"+IF(AND(OR('Datos Generales Edificio'!$F$40=\"Si\",'Datos Generales Edificio'!$F$40=\"No hay recintos contaminantes en el edificio\"),'Evaluacion INST.CAI Voluntarios'!$Q$8>=25%),0.5,IF(OR('Datos Generales Edificio'!$F$40=\"Si\",'Evaluacion INST.CAI Voluntarios'!$Q$8>=25%),0.25,0))","v":0.5},{"$f":"+IF(AND(OR('Datos Generales Edificio'!$F$40=\"Si\",'Datos Generales Edificio'!$F$40=\"No hay recintos contaminantes en el edificio\"),'Evaluacion INST.CAI Voluntarios'!$Q$8>=25%),0.5,IF(OR('Datos Generales Edificio'!$F$40=\"Si\",'Evaluacion INST.CAI Voluntarios'!$Q$8>=25%),0.25,0))","v":0.5},{"$f":"+IF(AND(OR('Datos Generales Edificio'!$F$40=\"Si\",'Datos Generales Edificio'!$F$40=\"No hay recintos contaminantes en el edificio\"),'Evaluacion INST.CAI Voluntarios'!$Q$8>=25%),0.5,IF(OR('Datos Generales Edificio'!$F$40=\"Si\",'Evaluacion INST.CAI Voluntarios'!$Q$8>=25%),0.25,0))","v":0.5},{"$f":"+IF(AND(OR('Datos Generales Edificio'!$F$40=\"Si\",'Datos Generales Edificio'!$F$40=\"No hay recintos contaminantes en el edificio\"),'Evaluacion INST.CAI Voluntarios'!$Q$8>=25%),0.5,IF(OR('Datos Generales Edificio'!$F$40=\"Si\",'Evaluacion INST.CAI Voluntarios'!$Q$8>=25%),0.25,0))","v":0.5},{"$f":"+IF(AND(OR('Datos Generales Edificio'!$F$40=\"Si\",'Datos Generales Edificio'!$F$40=\"No hay recintos contaminantes en el edificio\"),'Evaluacion INST.CAI Voluntarios'!$Q$8>=25%),1,IF(OR('Datos Generales Edificio'!$F$40=\"Si\",'Evaluacion INST.CAI Voluntarios'!$Q$8>=25%),0.5,0))","v":1},{"$f":"+IF(AND(OR('Datos Generales Edificio'!$F$40=\"Si\",'Datos Generales Edificio'!$F$40=\"No hay recintos contaminantes en el edificio\"),'Evaluacion INST.CAI Voluntarios'!$Q$8>=25%),1,IF(OR('Datos Generales Edificio'!$F$40=\"Si\",'Evaluacion INST.CAI Voluntarios'!$Q$8>=25%),0.5,0))","v":1},{"$f":"+IF(AND(OR('Datos Generales Edificio'!$F$40=\"Si\",'Datos Generales Edificio'!$F$40=\"No hay recintos contaminantes en el edificio\"),'Evaluacion INST.CAI Voluntarios'!$Q$8>=25%),1,IF(OR('Datos Generales Edificio'!$F$40=\"Si\",'Evaluacion INST.CAI Voluntarios'!$Q$8>=25%),0.5,0))","v":1},{"$f":"+IF(AND(OR('Datos Generales Edificio'!$F$40=\"Si\",'Datos Generales Edificio'!$F$40=\"No hay recintos contaminantes en el edificio\"),'Evaluacion INST.CAI Voluntarios'!$Q$8>=25%),1,IF(OR('Datos Generales Edificio'!$F$40=\"Si\",'Evaluacion INST.CAI Voluntarios'!$Q$8>=25%),0.5,0))","v":1}]
[null,null,null,null,null,null,null,null,null,null,null,null,"N","44.5",44,5,{"$f":"+VLOOKUP(O352,'Resumen requerimientos'!$A$5:$B$104,2,FALSE)","v":"INST.CAI.11.1"},"Bueno",{"$f":"+HLOOKUP($AA$349,$AB$350:$AJ$354,AK352,0)","v":""},{"$f":"+HLOOKUP($AA$349,$AM$350:$AU$354,AK352,FALSE)","v":0},{"$f":"+VLOOKUP(O350,TablaResumen[],22,0)*T352","v":0},{"$f":"+VLOOKUP(O350,TablaResumen[],23,0)*T352","v":0},{"$f":"+IFERROR(VALUE(MID(S352,1,FIND(\"-\",S352)-1)),S352)","v":""},{"$f":"+IFERROR(VALUE(MID(S352,FIND(\"-\",S352)+1,LEN(S352)-FIND(\"-\",S352))),S352)","v":""},null,null,"Bueno",{"$f":"+IF(OR(AND(Vent_Mec=\"No\",Vent_Nat=\"Si\"),AND(Vent_Mec=\"No\",Vent_Nat=\"No\")),\"\",\"0%-24,999%\")","v":""},"","","","","","","","",3,null,0,0,0,0,0,0,0,0,0]
[null,null,null,null,null,null,null,null,null,null,null,null,"N","44.6",44,6,{"$f":"+VLOOKUP(O353,'Resumen requerimientos'!$A$5:$B$104,2,FALSE)","v":"INST.CAI.11.1"},"Regular",{"$f":"+HLOOKUP($AA$349,$AB$350:$AJ$354,AK353,0)","v":"No Aplica"},{"$f":"+HLOOKUP($AA$349,$AM$350:$AU$354,AK353,FALSE)","v":0},{"$f":"+VLOOKUP(O351,TablaResumen[],22,0)*T353","v":0},{"$f":"+VLOOKUP(O351,TablaResumen[],23,0)*T353","v":0},{"$f":"+IFERROR(VALUE(MID(S353,1,FIND(\"-\",S353)-1)),S353)","v":"No Aplica"},{"$f":"+IFERROR(VALUE(MID(S353,FIND(\"-\",S353)+1,LEN(S353)-FIND(\"-\",S353))),S353)","v":"No Aplica"},null,null,"Regular",{"$f":"+IF(OR(AND(Vent_Mec=\"No\",Vent_Nat=\"Si\"),AND(Vent_Mec=\"No\",Vent_Nat=\"No\")),\"No Aplica\",\"\")","v":"No Aplica"},"No Aplica","No Aplica","No Aplica","No Aplica","No Aplica","No Aplica","No Aplica","No Aplica",4]
[null,null,null,null,null,null,null,null,null,null,null,null,"N","44.7",44,7,{"$f":"+VLOOKUP(O354,'Resumen requerimientos'!$A$5:$B$104,2,FALSE)","v":"INST.CAI.11.1"},"Minimo",{"$f":"+HLOOKUP($AA$349,$AB$350:$AJ$354,AK354,0)","v":0},{"$f":"+HLOOKUP($AA$349,$AM$350:$AU$354,AK354,FALSE)","v":0},{"$f":"+VLOOKUP(O352,TablaResumen[],22,0)*T354","v":0},{"$f":"+VLOOKUP(O352,TablaResumen[],23,0)*T354","v":0},{"$f":"+IFERROR(VALUE(MID(S354,1,FIND(\"-\",S354)-1)),S354)","v":0},{"$f":"+IFERROR(VALUE(MID(S354,FIND(\"-\",S354)+1,LEN(S354)-FIND(\"-\",S354))),S354)","v":0},null,null,"Minimo",null,null,null,null,null,null,null,null,null,5]
[null,null,null,null,null,null,null,null,null,null,null,null,"N","44.8",44,8]
[null,null,null,null,null,null,null,null,null,null,null,null,"T","45.1",{"$f":"+IF(R355=\"\",O355+1,O355)","v":45},1,{"$f":"+VLOOKUP(O356,'Resumen requerimientos'!$A$5:$B$104,2,FALSE)","v":"INST.CAI.11.2"},{"$f":"+VLOOKUP(Q357,'Resumen requerimientos'!$B$5:$AJ$91,10,0)","v":"Ventilación mecánica"},null,{"$f":"+VLOOKUP(O357,TablaResumen[],16,0)","v":"Filtraje"},null,"Opción",{"$f":"+CONCATENATE(VLOOKUP(O357,'Resumen requerimientos'!$A$5:$AB$91,24),\" de \",VLOOKUP(O357,'Resumen requerimientos'!$A$5:$AB$91,25))","v":"1 de 1"},null,null,null,{"$f":"+'Datos Generales Edificio'!$C$5","v":"RM - Región Metropolitana de Santiago"}]
[null,null,null,null,null,null,null,null,null,null,null,null,"T","45.2",{"$f":"+O356","v":45},2,{"$f":"+VLOOKUP(O357,'Resumen requerimientos'!$A$5:$B$104,2,FALSE)","v":"INST.CAI.11.2"},{"$f":"+VLOOKUP(O357,TablaResumen[],21,0)","v":"Eficiencia promedio filtraje [% ]"},null,null,null,"Simultáneo",{"$f":"+CONCATENATE(IF(VLOOKUP(O357,'Resumen requerimientos'!$A$5:$AB$91,26)=0,1,VLOOKUP(O357,'Resumen requerimientos'!$A$5:$AB$91,26)),\" de \",IF(VLOOKUP(O357,'Resumen requerimientos'!$A$5:$AB$91,27)=0,1,VLOOKUP(O357,'Resumen requerimientos'!$A$5:$AB$91,27)))","v":"1 de 1"},null,null,null,{"$f":"+'Datos Generales Edificio'!$F$28","v":"CI - Central Interior"}]
[null,null,null,null,null,null,null,null,null,null,null,null,"T","45.3",45,3,{"$f":"+VLOOKUP(O358,'Resumen requerimientos'!$A$5:$B$104,2,FALSE)","v":"INST.CAI.11.2"},"Nivel","Rango","Prioridad","Ponderación Of. Y Serv.","Ponderación Educ. y Salud.","Rango",null,null,null,{"$f":"+R357","v":"Eficiencia promedio filtraje [% ]"},"NL - Norte Litoral","ND - Norte Desértico","NVT - Norte Valle Transversal","CL - Central Litoral","CI - Central Interior","SL - Sur Litoral","SI - Sur Interior","SE - Sur Extremo","An - Andino",null,null,"NL - Norte Litoral","ND - Norte Desértico","NVT - Norte Valle Transversal","CL - Central Litoral","CI - Central Interior","SL - Sur Litoral","SI - Sur Interior","SE - Sur Extremo","An - Andino"]
[null,null,null,null,null,null,null,null,null,null,null,null,"T","45.4",45,4,{"$f":"+VLOOKUP(O359,'Resumen requerimientos'!$A$5:$B$104,2,FALSE)","v":"INST.CAI.11.2"},"Muy bueno",{"$f":"+HLOOKUP($AA$357,$AB$358:$AJ$362,AK359,0)","v":""},{"$f":"+HLOOKUP($AA$357,$AM$358:$AU$362,AK359,FALSE)","v":0.5},{"$f":"+VLOOKUP(O357,TablaResumen[],22,0)*T359","v":0.01},{"$f":"+VLOOKUP(O357,TablaResumen[],23,0)*T359","v":0.01},{"$f":"+IFERROR(VALUE(MID(S359,1,FIND(\"-\",S359)-1)),S359)","v":""},{"$f":"+IFERROR(VALUE(MID(S359,FIND(\"-\",S359)+1,LEN(S359)-FIND(\"-\",S359))),S359)","v":""},null,null,"Muy bueno",{"$f":"+IF(OR(AND(Vent_Mec=\"No\",Vent_Nat=\"Si\"),AND(Vent_Mec=\"No\",Vent_Nat=\"No\")),\"\",\"Eficiencia promedio de filtraje de 50% o MERV 9 con arrestancia mínima de 98%, o más.\")","v":""},"","","","","","","","",2,null,0.5,0.5,0.5,0.5,0.5,1,1,1,1]
[null,null,null,null,null,null,null,null,null,null,null,null,"T","45.5",45,5,{"$f":"+VLOOKUP(O360,'Resumen requerimientos'!$A$5:$B$104,2,FALSE)","v":"INST.CAI.11.2"},"Bueno",{"$f":"+HLOOKUP($AA$357,$AB$358:$AJ$362,AK360,0)","v":""},{"$f":"+HLOOKUP($AA$357,$AM$358:$AU$362,AK360,FALSE)","v":0.5},{"$f":"+VLOOKUP(O358,TablaResumen[],22,0)*T360","v":0.01},{"$f":"+VLOOKUP(O358,TablaResumen[],23,0)*T360","v":0.01},{"$f":"+IFERROR(VALUE(MID(S360,1,FIND(\"-\",S360)-1)),S360)","v":""},{"$f":"+IFERROR(VALUE(MID(S360,FIND(\"-\",S360)+1,LEN(S360)-FIND(\"-\",S360))),S360)","v":""},null,null,"Bueno",{"$f":"+IF(OR(AND(Vent_Mec=\"No\",Vent_Nat=\"Si\"),AND(Vent_Mec=\"No\",Vent_Nat=\"No\")),\"\",\"Eficiencia promedio de filtraje de 40% o MERV 8 con arrestancia mínima de 95%.\")","v":""},"","","","","","","","",3,null,0.5,0.5,0.5,0.5,0.5,{"$f":"1.5/2","v":0.75},{"$f":"1.5/2","v":0.75},{"$f":"1.5/2","v":0.75},{"$f":"1.5/2","v":0.75}]
[null,null,null,null,null,null,null,null,null,null,null,null,"T","45.6",45,6,{"$f":"+VLOOKUP(O361,'Resumen requerimientos'!$A$5:$B$104,2,FALSE)","v":"INST.CAI.11.2"},"Regular",{"$f":"+HLOOKUP($AA$357,$AB$358:$AJ$362,AK361,0)","v":""},{"$f":"+HLOOKUP($AA$357,$AM$358:$AU$362,AK361,FALSE)","v":0.25},{"$f":"+VLOOKUP(O359,TablaResumen[],22,0)*T361","v":5.0000000000000001E-3},{"$f":"+VLOOKUP(O359,TablaResumen[],23,0)*T361","v":5.0000000000000001E-3},{"$f":"+IFERROR(VALUE(MID(S361,1,FIND(\"-\",S361)-1)),S361)","v":""},{"$f":"+IFERROR(VALUE(MID(S361,FIND(\"-\",S361)+1,LEN(S361)-FIND(\"-\",S361))),S361)","v":""},null,null,"Regular",{"$f":"+IF(OR(AND(Vent_Mec=\"No\",Vent_Nat=\"Si\"),AND(Vent_Mec=\"No\",Vent_Nat=\"No\")),\"\",\"Eficiencia promedio de filtraje de 30% o MERV 7, con arrestancia mínima de 90%.\")","v":""},"","","","","","","","",4,null,{"$f":"0.5/2","v":0.25},{"$f":"0.5/2","v":0.25},{"$f":"0.5/2","v":0.25},{"$f":"0.5/2","v":0.25},{"$f":"0.5/2","v":0.25},{"$f":"1/2","v":0.5},{"$f":"1/2","v":0.5},{"$f":"1/2","v":0.5},{"$f":"1/2","v":0.5}]
[null,null,null,null,null,null,null,null,null,null,null,null,"T","45.7",45,7,{"$f":"+VLOOKUP(O362,'Resumen requerimientos'!$A$5:$B$104,2,FALSE)","v":"INST.CAI.11.2"},"Minimo",{"$f":"+HLOOKUP($AA$357,$AB$358:$AJ$362,AK362,0)","v":"No Aplica"},{"$f":"+HLOOKUP($AA$357,$AM$358:$AU$362,AK362,FALSE)","v":0},{"$f":"+VLOOKUP(O360,TablaResumen[],22,0)*T362","v":0},{"$f":"+VLOOKUP(O360,TablaResumen[],23,0)*T362","v":0},{"$f":"+IFERROR(VALUE(MID(S362,1,FIND(\"-\",S362)-1)),S362)","v":"No Aplica"},{"$f":"+IFERROR(VALUE(MID(S362,FIND(\"-\",S362)+1,LEN(S362)-FIND(\"-\",S362))),S362)","v":"No Aplica"},null,null,"Minimo",{"$f":"+IF(OR(AND(Vent_Mec=\"No\",Vent_Nat=\"Si\"),AND(Vent_Mec=\"No\",Vent_Nat=\"No\")),\"No Aplica\",\"\")","v":"No Aplica"},"No Aplica","No Aplica","No Aplica","No Aplica","No Aplica","No Aplica","No Aplica","No Aplica",5]
[null,null,null,null,null,null,null,null,null,null,null,null,"T","45.8",45,8]
[null,null,null,null,null,null,null,null,null,null,null,null,"N","46.1",{"$f":"+IF(R363=\"\",O363+1,O363)","v":46},1,{"$f":"+VLOOKUP(O364,'Resumen requerimientos'!$A$5:$B$104,2,FALSE)","v":"INST.CAI.11.3"},{"$f":"+VLOOKUP(Q365,'Resumen requerimientos'!$B$5:$AJ$91,10,0)","v":"Monitoreo Calidad del aire"},null,{"$f":"+VLOOKUP(O365,TablaResumen[],16,0)","v":"Monitoreo Calidad del aire"},null,"Opción",{"$f":"+CONCATENATE(VLOOKUP(O365,'Resumen requerimientos'!$A$5:$AB$91,24),\" de \",VLOOKUP(O365,'Resumen requerimientos'!$A$5:$AB$91,25))","v":"1 de 1"},null,null,null,{"$f":"+'Datos Generales Edificio'!$C$5","v":"RM - Región Metropolitana de Santiago"}]
[null,null,null,null,null,null,null,null,null,null,null,null,"N","46.2",{"$f":"+O364","v":46},2,{"$f":"+VLOOKUP(O365,'Resumen requerimientos'!$A$5:$B$104,2,FALSE)","v":"INST.CAI.11.3"},{"$f":"+VLOOKUP(O365,TablaResumen[],21,0)","v":"Sistema de monitoreo de concentración de CO2"},null,null,null,"Simultáneo",{"$f":"+CONCATENATE(IF(VLOOKUP(O365,'Resumen requerimientos'!$A$5:$AB$91,26)=0,1,VLOOKUP(O365,'Resumen requerimientos'!$A$5:$AB$91,26)),\" de \",IF(VLOOKUP(O365,'Resumen requerimientos'!$A$5:$AB$91,27)=0,1,VLOOKUP(O365,'Resumen requerimientos'!$A$5:$AB$91,27)))","v":"1 de 1"},null,null,null,{"$f":"+'Datos Generales Edificio'!$F$28","v":"CI - Central Interior"}]
[null,null,null,null,null,null,null,null,null,null,null,null,"N","46.3",46,3,{"$f":"+VLOOKUP(O366,'Resumen requerimientos'!$A$5:$B$104,2,FALSE)","v":"INST.CAI.11.3"},"Nivel","Rango","Prioridad","Ponderación Of. Y Serv.","Ponderación Educ. y Salud.","Rango",null,null,null,{"$f":"+R365","v":"Sistema de monitoreo de concentración de CO2"},"NL - Norte Litoral","ND - Norte Desértico","NVT - Norte Valle Transversal","CL - Central Litoral","CI - Central Interior","SL - Sur Litoral","SI - Sur Interior","SE - Sur Extremo","An - Andino"]
[null,null,null,null,null,null,null,null,null,null,null,null,"N","46.4",46,4,{"$f":"+VLOOKUP(O367,'Resumen requerimientos'!$A$5:$B$104,2,FALSE)","v":"INST.CAI.11.3"},"Muy bueno",{"$f":"+HLOOKUP($AA$365,$AB$366:$AJ$370,AK367,0)","v":"Cumple con requisitos de monitoreo"},1,{"$f":"+VLOOKUP(O365,TablaResumen[],22,0)*T367","v":0.01},{"$f":"+VLOOKUP(O365,TablaResumen[],23,0)*T367","v":0.01},{"$f":"+IFERROR(VALUE(MID(S367,1,FIND(\"-\",S367)-1)),S367)","v":"Cumple con requisitos de monitoreo"},{"$f":"+IFERROR(VALUE(MID(S367,FIND(\"-\",S367)+1,LEN(S367)-FIND(\"-\",S367))),S367)","v":"Cumple con requisitos de monitoreo"},null,null,"Muy bueno","Cumple con requisitos de monitoreo","Cumple con requisitos de monitoreo","Cumple con requisitos de monitoreo","Cumple con requisitos de monitoreo","Cumple con requisitos de monitoreo","Cumple con requisitos de monitoreo","Cumple con requisitos de monitoreo","Cumple con requisitos de monitoreo","Cumple con requisitos de monitoreo",2]
[null,null,null,null,null,null,null,null,null,null,null,null,"N","46.5",46,5,{"$f":"+VLOOKUP(O368,'Resumen requerimientos'!$A$5:$B$104,2,FALSE)","v":"INST.CAI.11.3"},"Bueno",{"$f":"+HLOOKUP($AA$365,$AB$366:$AJ$370,AK368,0)","v":"NO cumple con requisitos de monitoreo"},0,{"$f":"+VLOOKUP(O366,TablaResumen[],22,0)*T368","v":0},{"$f":"+VLOOKUP(O366,TablaResumen[],23,0)*T368","v":0},{"$f":"+IFERROR(VALUE(MID(S368,1,FIND(\"-\",S368)-1)),S368)","v":"NO cumple con requisitos de monitoreo"},{"$f":"+IFERROR(VALUE(MID(S368,FIND(\"-\",S368)+1,LEN(S368)-FIND(\"-\",S368))),S368)","v":"NO cumple con requisitos de monitoreo"},null,null,"Bueno","NO cumple con requisitos de monitoreo","NO cumple con requisitos de monitoreo","NO cumple con requisitos de monitoreo","NO cumple con requisitos de monitoreo","NO cumple con requisitos de monitoreo","NO cumple con requisitos de monitoreo","NO cumple con requisitos de monitoreo","NO cumple con requisitos de monitoreo","NO cumple con requisitos de monitoreo",3]
[null,null,null,null,null,null,null,null,null,null,null,null,"N","46.6",46,6,{"$f":"+VLOOKUP(O369,'Resumen requerimientos'!$A$5:$B$104,2,FALSE)","v":"INST.CAI.11.3"},"Regular",{"$f":"+HLOOKUP($AA$365,$AB$366:$AJ$370,AK369,0)","v":0},0,{"$f":"+VLOOKUP(O367,TablaResumen[],22,0)*T369","v":0},{"$f":"+VLOOKUP(O367,TablaResumen[],23,0)*T369","v":0},{"$f":"+IFERROR(VALUE(MID(S369,1,FIND(\"-\",S369)-1)),S369)","v":0},{"$f":"+IFERROR(VALUE(MID(S369,FIND(\"-\",S369)+1,LEN(S369)-FIND(\"-\",S369))),S369)","v":0},null,null,"Regular",null,null,null,null,null,null,null,null,null,4]
[null,null,null,null,null,null,null,null,null,null,null,null,"N","46.7",46,7,{"$f":"+VLOOKUP(O370,'Resumen requerimientos'!$A$5:$B$104,2,FALSE)","v":"INST.CAI.11.3"},"Minimo",{"$f":"+HLOOKUP($AA$365,$AB$366:$AJ$370,AK370,0)","v":0},0,{"$f":"+VLOOKUP(O368,TablaResumen[],22,0)*T370","v":0},{"$f":"+VLOOKUP(O368,TablaResumen[],23,0)*T370","v":0},{"$f":"+IFERROR(VALUE(MID(S370,1,FIND(\"-\",S370)-1)),S370)","v":0},{"$f":"+IFERROR(VALUE(MID(S370,FIND(\"-\",S370)+1,LEN(S370)-FIND(\"-\",S370))),S370)","v":0},null,null,"Minimo",null,null,null,null,null,null,null,null,null,5]
[null,null,null,null,null,null,null,null,null,null,null,null,"N","46.8",46,8]
[null,null,null,null,null,null,null,null,null,null,null,null,"T","47.1",{"$f":"+IF(R371=\"\",O371+1,O371)","v":47},1,{"$f":"+VLOOKUP(O372,'Resumen requerimientos'!$A$5:$B$104,2,FALSE)","v":"11R3"},{"$f":"+VLOOKUP(Q373,'Resumen requerimientos'!$B$5:$AJ$91,10,0)","v":"Ventilación mecánica"},null,{"$f":"+VLOOKUP(O373,TablaResumen[],16,0)","v":"No utlizar sistemas de calefacción de combustión en base a llama abierta"},null,"Opción",{"$f":"+CONCATENATE(VLOOKUP(O373,'Resumen requerimientos'!$A$5:$AB$91,24),\" de \",VLOOKUP(O373,'Resumen requerimientos'!$A$5:$AB$91,25))","v":"1 de 1"},null,null,null,{"$f":"+'Datos Generales Edificio'!$C$5","v":"RM - Región Metropolitana de Santiago"}]
[null,null,null,null,null,null,null,null,null,null,null,null,"T","47.2",{"$f":"+O372","v":47},2,{"$f":"+VLOOKUP(O373,'Resumen requerimientos'!$A$5:$B$104,2,FALSE)","v":"11R3"},{"$f":"+VLOOKUP(O373,TablaResumen[],21,0)","v":"Sistemas de calefacción utilizados"},null,null,null,"Simultáneo",{"$f":"+CONCATENATE(IF(VLOOKUP(O373,'Resumen requerimientos'!$A$5:$AB$91,26)=0,1,VLOOKUP(O373,'Resumen requerimientos'!$A$5:$AB$91,26)),\" de \",IF(VLOOKUP(O373,'Resumen requerimientos'!$A$5:$AB$91,27)=0,1,VLOOKUP(O373,'Resumen requerimientos'!$A$5:$AB$91,27)))","v":"1 de 1"},null,null,null,{"$f":"+'Datos Generales Edificio'!$F$28","v":"CI - Central Interior"}]
[null,null,null,null,null,null,null,null,null,null,null,null,"T","47.3",47,3,{"$f":"+VLOOKUP(O374,'Resumen requerimientos'!$A$5:$B$104,2,FALSE)","v":"11R3"},"Nivel","Rango","Prioridad","Ponderación Of. Y Serv.","Ponderación Educ. y Salud.","Rango",null,null,null,{"$f":"+R373","v":"Sistemas de calefacción utilizados"},"NL - Norte Litoral","ND - Norte Desértico","NVT - Norte Valle Transversal","CL - Central Litoral","CI - Central Interior","SL - Sur Litoral","SI - Sur Interior","SE - Sur Extremo","An - Andino"]
[null,null,null,null,null,null,null,null,null,null,null,null,"T","47.4",47,4,{"$f":"+VLOOKUP(O375,'Resumen requerimientos'!$A$5:$B$104,2,FALSE)","v":"11R3"},"Muy bueno",{"$f":"+HLOOKUP($AA$373,$AB$374:$AJ$378,AK375,0)","v":"NO presenta combustión llama abierta en calefacción"},1,{"$f":"+VLOOKUP(O373,TablaResumen[],22,0)*T375","v":1},{"$f":"+VLOOKUP(O373,TablaResumen[],23,0)*T375","v":1},{"$f":"+IFERROR(VALUE(MID(S375,1,FIND(\"-\",S375)-1)),S375)","v":"NO presenta combustión llama abierta en calefacción"},{"$f":"+IFERROR(VALUE(MID(S375,FIND(\"-\",S375)+1,LEN(S375)-FIND(\"-\",S375))),S375)","v":"NO presenta combustión llama abierta en calefacción"},null,null,"Muy bueno","NO presenta combustión llama abierta en calefacción","NO presenta combustión llama abierta en calefacción","NO presenta combustión llama abierta en calefacción","NO presenta combustión llama abierta en calefacción","NO presenta combustión llama abierta en calefacción","NO presenta combustión llama abierta en calefacción","NO presenta combustión llama abierta en calefacción","NO presenta combustión llama abierta en calefacción","NO presenta combustión llama abierta en calefacción",2]
[null,null,null,null,null,null,null,null,null,null,null,null,"T","47.5",47,5,{"$f":"+VLOOKUP(O376,'Resumen requerimientos'!$A$5:$B$104,2,FALSE)","v":"11R3"},"Bueno",{"$f":"+HLOOKUP($AA$373,$AB$374:$AJ$378,AK376,0)","v":"Presenta combustión llama abierta en calefacción"},-1,{"$f":"+VLOOKUP(O374,TablaResumen[],22,0)*T376","v":-1},{"$f":"+VLOOKUP(O374,TablaResumen[],23,0)*T376","v":-1},{"$f":"+IFERROR(VALUE(MID(S376,1,FIND(\"-\",S376)-1)),S376)","v":"Presenta combustión llama abierta en calefacción"},{"$f":"+IFERROR(VALUE(MID(S376,FIND(\"-\",S376)+1,LEN(S376)-FIND(\"-\",S376))),S376)","v":"Presenta combustión llama abierta en calefacción"},null,null,"Bueno","Presenta combustión llama abierta en calefacción","Presenta combustión llama abierta en calefacción","Presenta combustión llama abierta en calefacción","Presenta combustión llama abierta en calefacción","Presenta combustión llama abierta en calefacción","Presenta combustión llama abierta en calefacción","Presenta combustión llama abierta en calefacción","Presenta combustión llama abierta en calefacción","Presenta combustión llama abierta en calefacción",3]
[null,null,null,null,null,null,null,null,null,null,null,null,"T","47.6",47,6,{"$f":"+VLOOKUP(O377,'Resumen requerimientos'!$A$5:$B$104,2,FALSE)","v":"11R3"},"Regular",{"$f":"+HLOOKUP($AA$373,$AB$374:$AJ$378,AK377,0)","v":0},null,{"$f":"+VLOOKUP(O375,TablaResumen[],22,0)*T377","v":0},{"$f":"+VLOOKUP(O375,TablaResumen[],23,0)*T377","v":0},{"$f":"+IFERROR(VALUE(MID(S377,1,FIND(\"-\",S377)-1)),S377)","v":0},{"$f":"+IFERROR(VALUE(MID(S377,FIND(\"-\",S377)+1,LEN(S377)-FIND(\"-\",S377))),S377)","v":0},null,null,"Regular",null,null,null,null,null,null,null,null,null,4]
[null,null,null,null,null,null,null,null,null,null,null,null,"T","47.7",47,7,{"$f":"+VLOOKUP(O378,'Resumen requerimientos'!$A$5:$B$104,2,FALSE)","v":"11R3"},"Minimo",{"$f":"+HLOOKUP($AA$373,$AB$374:$AJ$378,AK378,0)","v":0},null,{"$f":"+VLOOKUP(O376,TablaResumen[],22,0)*T378","v":0},{"$f":"+VLOOKUP(O376,TablaResumen[],23,0)*T378","v":0},{"$f":"+IFERROR(VALUE(MID(S378,1,FIND(\"-\",S378)-1)),S378)","v":0},{"$f":"+IFERROR(VALUE(MID(S378,FIND(\"-\",S378)+1,LEN(S378)-FIND(\"-\",S378))),S378)","v":0},null,null,"Minimo",null,null,null,null,null,null,null,null,null,5]
[null,null,null,null,null,null,null,null,null,null,null,null,"T","47.8",47,8]
[null,null,null,null,null,null,null,null,null,null,null,null,"T","48.1",{"$f":"+IF(R379=\"\",O379+1,O379)","v":48},1,{"$f":"+VLOOKUP(O380,'Resumen requerimientos'!$A$5:$B$104,2,FALSE)","v":"11R2"},{"$f":"+VLOOKUP(Q381,'Resumen requerimientos'!$B$5:$AJ$91,10,0)","v":"Ventilación mecánica"},null,{"$f":"+VLOOKUP(O381,TablaResumen[],16,0)","v":"Eficiencia promedio de filtraje"},null,"Opción",{"$f":"+CONCATENATE(VLOOKUP(O381,'Resumen requerimientos'!$A$5:$AB$91,24),\" de \",VLOOKUP(O381,'Resumen requerimientos'!$A$5:$AB$91,25))","v":"1 de 1"},null,null,null,{"$f":"+'Datos Generales Edificio'!$C$5","v":"RM - Región Metropolitana de Santiago"}]
[null,null,null,null,null,null,null,null,null,null,null,null,"T","48.2",{"$f":"+O380","v":48},2,{"$f":"+VLOOKUP(O381,'Resumen requerimientos'!$A$5:$B$104,2,FALSE)","v":"11R2"},{"$f":"+VLOOKUP(O381,TablaResumen[],21,0)","v":"Requisito Eficiencia promedio filtraje [% o MERV]"},null,null,null,"Simultáneo",{"$f":"+CONCATENATE(IF(VLOOKUP(O381,'Resumen requerimientos'!$A$5:$AB$91,26)=0,1,VLOOKUP(O381,'Resumen requerimientos'!$A$5:$AB$91,26)),\" de \",IF(VLOOKUP(O381,'Resumen requerimientos'!$A$5:$AB$91,27)=0,1,VLOOKUP(O381,'Resumen requerimientos'!$A$5:$AB$91,27)))","v":"1 de 1"},null,null,null,{"$f":"+'Datos Generales Edificio'!$F$28","v":"CI - Central Interior"}]
[null,null,null,null,null,null,null,null,null,null,null,null,"T","48.3",48,3,{"$f":"+VLOOKUP(O382,'Resumen requerimientos'!$A$5:$B$104,2,FALSE)","v":"11R2"},"Nivel","Rango","Prioridad","Ponderación Of. Y Serv.","Ponderación Educ. y Salud.","Rango",null,null,null,{"$f":"+R381","v":"Requisito Eficiencia promedio filtraje [% o MERV]"},"NL - Norte Litoral","ND - Norte Desértico","NVT - Norte Valle Transversal","CL - Central Litoral","CI - Central Interior","SL - Sur Litoral","SI - Sur Interior","SE - Sur Extremo","An - Andino"]
[null,null,null,null,null,null,null,null,null,null,null,null,"T","48.4",48,4,{"$f":"+VLOOKUP(O383,'Resumen requerimientos'!$A$5:$B$104,2,FALSE)","v":"11R2"},"Muy bueno",{"$f":"+HLOOKUP($AA$381,$AB$382:$AJ$386,AK383,0)","v":"No Aplica"},1,{"$f":"+VLOOKUP(O381,TablaResumen[],22,0)*T383","v":1},{"$f":"+VLOOKUP(O381,TablaResumen[],23,0)*T383","v":1},{"$f":"+IFERROR(VALUE(MID(S383,1,FIND(\"-\",S383)-1)),S383)","v":"No Aplica"},{"$f":"+IFERROR(VALUE(MID(S383,FIND(\"-\",S383)+1,LEN(S383)-FIND(\"-\",S383))),S383)","v":"No Aplica"},null,null,"Muy bueno",{"$f":"+IF(OR(AND(Vent_Mec=\"No\",Vent_Nat=\"Si\"),AND(Vent_Mec=\"No\",Vent_Nat=\"No\")),\"No Aplica\",\"Cumple con eficiencia promedio de filtraje de 20% o MERV 6 y arrestancia mínima de 90%\")","v":"No Aplica"},"No Aplica","No Aplica","No Aplica","No Aplica","No Aplica","No Aplica","No Aplica","No Aplica",2]
[null,null,null,null,null,null,null,null,null,null,null,null,"T","48.5",48,5,{"$f":"+VLOOKUP(O384,'Resumen requerimientos'!$A$5:$B$104,2,FALSE)","v":"11R2"},"Bueno",{"$f":"+HLOOKUP($AA$381,$AB$382:$AJ$386,AK384,0)","v":""},-1,{"$f":"+VLOOKUP(O382,TablaResumen[],22,0)*T384","v":-1},{"$f":"+VLOOKUP(O382,TablaResumen[],23,0)*T384","v":-1},{"$f":"+IFERROR(VALUE(MID(S384,1,FIND(\"-\",S384)-1)),S384)","v":""},{"$f":"+IFERROR(VALUE(MID(S384,FIND(\"-\",S384)+1,LEN(S384)-FIND(\"-\",S384))),S384)","v":""},null,null,"Bueno",{"$f":"+IF(OR(AND(Vent_Mec=\"No\",Vent_Nat=\"Si\"),AND(Vent_Mec=\"No\",Vent_Nat=\"No\")),\"\",\"NO Cumple con eficiencia promedio de filtraje de 20% o MERV 6 y arrestancia mínima de 90%\")","v":""},"","","","","","","","",3]
[null,null,null,null,null,null,null,null,null,null,null,null,"T","48.6",48,6,{"$f":"+VLOOKUP(O385,'Resumen requerimientos'!$A$5:$B$104,2,FALSE)","v":"11R2"},"Regular",{"$f":"+HLOOKUP($AA$381,$AB$382:$AJ$386,AK385,0)","v":0},null,{"$f":"+VLOOKUP(O383,TablaResumen[],22,0)*T385","v":0},{"$f":"+VLOOKUP(O383,TablaResumen[],23,0)*T385","v":0},{"$f":"+IFERROR(VALUE(MID(S385,1,FIND(\"-\",S385)-1)),S385)","v":0},{"$f":"+IFERROR(VALUE(MID(S385,FIND(\"-\",S385)+1,LEN(S385)-FIND(\"-\",S385))),S385)","v":0},null,null,"Regular",null,null,null,null,null,null,null,null,null,4]
[null,null,null,null,null,null,null,null,null,null,null,null,"T","48.7",48,7,{"$f":"+VLOOKUP(O386,'Resumen requerimientos'!$A$5:$B$104,2,FALSE)","v":"11R2"},"Minimo",{"$f":"+HLOOKUP($AA$381,$AB$382:$AJ$386,AK386,0)","v":0},null,{"$f":"+VLOOKUP(O384,TablaResumen[],22,0)*T386","v":0},{"$f":"+VLOOKUP(O384,TablaResumen[],23,0)*T386","v":0},{"$f":"+IFERROR(VALUE(MID(S386,1,FIND(\"-\",S386)-1)),S386)","v":0},{"$f":"+IFERROR(VALUE(MID(S386,FIND(\"-\",S386)+1,LEN(S386)-FIND(\"-\",S386))),S386)","v":0},null,null,"Minimo",null,null,null,null,null,null,null,null,null,5]
[null,null,null,null,null,null,null,null,null,null,null,null,"T","48.8",48,8]
[null,null,null,null,null,null,null,null,null,null,null,null,"N","49.1",{"$f":"+IF(R387=\"\",O387+1,O387)","v":49},1,{"$f":"+VLOOKUP(O388,'Resumen requerimientos'!$A$5:$B$104,2,FALSE)","v":"11R2"},{"$f":"+VLOOKUP(Q389,'Resumen requerimientos'!$B$5:$AJ$91,10,0)","v":"Ventilación mecánica"},null,{"$f":"+VLOOKUP(O389,TablaResumen[],16,0)","v":"Eficiencia promedio de filtraje"},null,"Opción",{"$f":"+CONCATENATE(VLOOKUP(O389,'Resumen requerimientos'!$A$5:$AB$91,24),\" de \",VLOOKUP(O389,'Resumen requerimientos'!$A$5:$AB$91,25))","v":"2 de 2"},null,null,null,{"$f":"+'Datos Generales Edificio'!$C$5","v":"RM - Región Metropolitana de Santiago"}]
[null,null,null,null,null,null,null,null,null,null,null,null,"N","49.2",{"$f":"+O388","v":49},2,{"$f":"+VLOOKUP(O389,'Resumen requerimientos'!$A$5:$B$104,2,FALSE)","v":"11R2"},{"$f":"+VLOOKUP(O389,TablaResumen[],21,0)","v":"Requisito Eficiencia promedio filtraje [MERV]"},null,null,null,"Simultáneo",{"$f":"+CONCATENATE(IF(VLOOKUP(O389,'Resumen requerimientos'!$A$5:$AB$91,26)=0,1,VLOOKUP(O389,'Resumen requerimientos'!$A$5:$AB$91,26)),\" de \",IF(VLOOKUP(O389,'Resumen requerimientos'!$A$5:$AB$91,27)=0,1,VLOOKUP(O389,'Resumen requerimientos'!$A$5:$AB$91,27)))","v":"1 de 1"},null,null,null,{"$f":"+'Datos Generales Edificio'!$F$28","v":"CI - Central Interior"}]
[null,null,null,null,null,null,null,null,null,null,null,null,"N",{"$f":"+CONCATENATE(O390,\".\",P390)","v":"49.3"},49,{"$f":"+IF(O390=O389,P389+1,1)","v":3},{"$f":"+VLOOKUP(O390,'Resumen requerimientos'!$A$5:$B$104,2,FALSE)","v":"11R2"},"Nivel","Rango","Prioridad","Ponderación Of. Y Serv.","Ponderación Educ. y Salud.","Rango",null,null,null,{"$f":"+R389","v":"Requisito Eficiencia promedio filtraje [MERV]"},"NL - Norte Litoral","ND - Norte Desértico","NVT - Norte Valle Transversal","CL - Central Litoral","CI - Central Interior","SL - Sur Litoral","SI - Sur Interior","SE - Sur Extremo","An - Andino"]
[null,null,null,null,null,null,null,null,null,null,null,null,"N","49.4",49,4,{"$f":"+VLOOKUP(O391,'Resumen requerimientos'!$A$5:$B$104,2,FALSE)","v":"11R2"},"Muy bueno",{"$f":"+HLOOKUP($AA$389,$AB$390:$AJ$394,AK391,0)","v":"90%-100%"},1,{"$f":"+VLOOKUP(O389,TablaResumen[],22,0)*T391","v":1},{"$f":"+VLOOKUP(O389,TablaResumen[],23,0)*T391","v":1},{"$f":"+IFERROR(VALUE(MID(S391,1,FIND(\"-\",S391)-1)),S391)","v":0.9},{"$f":"+IFERROR(VALUE(MID(S391,FIND(\"-\",S391)+1,LEN(S391)-FIND(\"-\",S391))),S391)","v":1},null,null,"Muy bueno","90%-100%","90%-100%","90%-100%","90%-100%","90%-100%","90%-100%","90%-100%","90%-100%","90%-100%",2]
[null,null,null,null,null,null,null,null,null,null,null,null,"N","49.5",49,5,{"$f":"+VLOOKUP(O392,'Resumen requerimientos'!$A$5:$B$104,2,FALSE)","v":"11R2"},"Bueno",{"$f":"+HLOOKUP($AA$389,$AB$390:$AJ$394,AK392,0)","v":"90%-100%"},1,{"$f":"+VLOOKUP(O390,TablaResumen[],22,0)*T392","v":1},{"$f":"+VLOOKUP(O390,TablaResumen[],23,0)*T392","v":1},{"$f":"+IFERROR(VALUE(MID(S392,1,FIND(\"-\",S392)-1)),S392)","v":0.9},{"$f":"+IFERROR(VALUE(MID(S392,FIND(\"-\",S392)+1,LEN(S392)-FIND(\"-\",S392))),S392)","v":1},null,null,"Bueno","90%-100%","90%-100%","90%-100%","90%-100%","90%-100%","90%-100%","90%-100%","90%-100%","90%-100%",3]
[null,null,null,null,null,null,null,null,null,null,null,null,"N","49.6",49,6,{"$f":"+VLOOKUP(O393,'Resumen requerimientos'!$A$5:$B$104,2,FALSE)","v":"11R2"},"Regular",{"$f":"+HLOOKUP($AA$389,$AB$390:$AJ$394,AK393,0)","v":"90%-100%"},1,{"$f":"+VLOOKUP(O391,TablaResumen[],22,0)*T393","v":1},{"$f":"+VLOOKUP(O391,TablaResumen[],23,0)*T393","v":1},{"$f":"+IFERROR(VALUE(MID(S393,1,FIND(\"-\",S393)-1)),S393)","v":0.9},{"$f":"+IFERROR(VALUE(MID(S393,FIND(\"-\",S393)+1,LEN(S393)-FIND(\"-\",S393))),S393)","v":1},null,null,"Regular","90%-100%","90%-100%","90%-100%","90%-100%","90%-100%","90%-100%","90%-100%","90%-100%","90%-100%",4]
[null,null,null,null,null,null,null,null,null,null,null,null,"N","49.7",49,7,{"$f":"+VLOOKUP(O394,'Resumen requerimientos'!$A$5:$B$104,2,FALSE)","v":"11R2"},"Minimo",{"$f":"+HLOOKUP($AA$389,$AB$390:$AJ$394,AK394,0)","v":"90%-100%"},1,{"$f":"+VLOOKUP(O392,TablaResumen[],22,0)*T394","v":1},{"$f":"+VLOOKUP(O392,TablaResumen[],23,0)*T394","v":1},{"$f":"+IFERROR(VALUE(MID(S394,1,FIND(\"-\",S394)-1)),S394)","v":0.9},{"$f":"+IFERROR(VALUE(MID(S394,FIND(\"-\",S394)+1,LEN(S394)-FIND(\"-\",S394))),S394)","v":1},null,null,"Minimo","90%-100%","90%-100%","90%-100%","90%-100%","90%-100%","90%-100%","90%-100%","90%-100%","90%-100%",5]
[null,null,null,null,null,null,null,null,null,null,null,null,"N","49.8",49,8]
[null,null,null,null,null,null,null,null,null,null,null,null,"N","50.1",{"$f":"+IF(R395=\"\",O395+1,O395)","v":50},1,{"$f":"+VLOOKUP(O396,'Resumen requerimientos'!$A$5:$B$104,2,FALSE)","v":"11R1"},{"$f":"+VLOOKUP(Q397,'Resumen requerimientos'!$B$5:$AJ$91,10,0)","v":"Ventilación mecánica"},null,{"$f":"+VLOOKUP(O397,TablaResumen[],16,0)","v":"Cumplir con las tasas mínimas de ventilación indicadas"},null,"Opción",{"$f":"+CONCATENATE(VLOOKUP(O397,'Resumen requerimientos'!$A$5:$AB$91,24),\" de \",VLOOKUP(O397,'Resumen requerimientos'!$A$5:$AB$91,25))","v":"1 de 1"},null,null,null,{"$f":"+'Datos Generales Edificio'!$C$5","v":"RM - Región Metropolitana de Santiago"}]
[null,null,null,null,null,null,null,null,null,null,null,null,"N","50.2",{"$f":"+O396","v":50},2,{"$f":"+VLOOKUP(O397,'Resumen requerimientos'!$A$5:$B$104,2,FALSE)","v":"11R1"},{"$f":"+VLOOKUP(O397,TablaResumen[],21,0)","v":"Caudal de diseño del sistema de ventilación mecánica"},null,null,null,"Simultáneo",{"$f":"+CONCATENATE(IF(VLOOKUP(O397,'Resumen requerimientos'!$A$5:$AB$91,26)=0,1,VLOOKUP(O397,'Resumen requerimientos'!$A$5:$AB$91,26)),\" de \",IF(VLOOKUP(O397,'Resumen requerimientos'!$A$5:$AB$91,27)=0,1,VLOOKUP(O397,'Resumen requerimientos'!$A$5:$AB$91,27)))","v":"1 de 1"},null,null,null,{"$f":"+'Datos Generales Edificio'!$F$28","v":"CI - Central Interior"}]
[null,null,null,null,null,null,null,null,null,null,null,null,"N","50.3",50,3,{"$f":"+VLOOKUP(O398,'Resumen requerimientos'!$A$5:$B$104,2,FALSE)","v":"11R1"},"Nivel","Rango","Prioridad","Ponderación Of. Y Serv.","Ponderación Educ. y Salud.","Rango",null,null,null,{"$f":"+R397","v":"Caudal de diseño del sistema de ventilación mecánica"},"NL - Norte Litoral","ND - Norte Desértico","NVT - Norte Valle Transversal","CL - Central Litoral","CI - Central Interior","SL - Sur Litoral","SI - Sur Interior","SE - Sur Extremo","An - Andino"]
[null,null,null,null,null,null,null,null,null,null,null,null,"N","50.4",50,4,{"$f":"+VLOOKUP(O399,'Resumen requerimientos'!$A$5:$B$104,2,FALSE)","v":"11R1"},"Muy bueno",{"$f":"+HLOOKUP($AA$397,$AB$398:$AJ$402,AK399,0)","v":"No Aplica"},1,{"$f":"+VLOOKUP(O397,TablaResumen[],22,0)*T399","v":1},{"$f":"+VLOOKUP(O397,TablaResumen[],23,0)*T399","v":1},{"$f":"+IFERROR(VALUE(MID(S399,1,FIND(\"-\",S399)-1)),S399)","v":"No Aplica"},{"$f":"+IFERROR(VALUE(MID(S399,FIND(\"-\",S399)+1,LEN(S399)-FIND(\"-\",S399))),S399)","v":"No Aplica"},null,null,"Muy bueno",{"$f":"+IF(OR(AND(Vent_Mec=\"No\",Vent_Nat=\"Si\"),AND(Vent_Mec=\"No\",Vent_Nat=\"No\")),\"No Aplica\",\"Cumple con requisitos de ventilación mecánica\")","v":"No Aplica"},"No Aplica","No Aplica","No Aplica","No Aplica","No Aplica","No Aplica","No Aplica","No Aplica",2]
[null,null,null,null,null,null,null,null,null,null,null,null,"N","50.5",50,5,{"$f":"+VLOOKUP(O400,'Resumen requerimientos'!$A$5:$B$104,2,FALSE)","v":"11R1"},"Bueno",{"$f":"+HLOOKUP($AA$397,$AB$398:$AJ$402,AK400,0)","v":""},-1,{"$f":"+VLOOKUP(O398,TablaResumen[],22,0)*T400","v":-1},{"$f":"+VLOOKUP(O398,TablaResumen[],23,0)*T400","v":-1},{"$f":"+IFERROR(VALUE(MID(S400,1,FIND(\"-\",S400)-1)),S400)","v":""},{"$f":"+IFERROR(VALUE(MID(S400,FIND(\"-\",S400)+1,LEN(S400)-FIND(\"-\",S400))),S400)","v":""},null,null,"Bueno",{"$f":"+IF(OR(AND(Vent_Mec=\"No\",Vent_Nat=\"Si\"),AND(Vent_Mec=\"No\",Vent_Nat=\"No\")),\"\",\"NO cumple con requisitos de ventilación mecánica\")","v":""},"","","","","","","","",3]
[null,null,null,null,null,null,null,null,null,null,null,null,"N","50.6",50,6,{"$f":"+VLOOKUP(O401,'Resumen requerimientos'!$A$5:$B$104,2,FALSE)","v":"11R1"},"Regular",{"$f":"+HLOOKUP($AA$397,$AB$398:$AJ$402,AK401,0)","v":0},null,{"$f":"+VLOOKUP(O399,TablaResumen[],22,0)*T401","v":0},{"$f":"+VLOOKUP(O399,TablaResumen[],23,0)*T401","v":0},{"$f":"+IFERROR(VALUE(MID(S401,1,FIND(\"-\",S401)-1)),S401)","v":0},{"$f":"+IFERROR(VALUE(MID(S401,FIND(\"-\",S401)+1,LEN(S401)-FIND(\"-\",S401))),S401)","v":0},null,null,"Regular",null,null,null,null,null,null,null,null,null,4]
[null,null,null,null,null,null,null,null,null,null,null,null,"N","50.7",50,7,{"$f":"+VLOOKUP(O402,'Resumen requerimientos'!$A$5:$B$104,2,FALSE)","v":"11R1"},"Minimo",{"$f":"+HLOOKUP($AA$397,$AB$398:$AJ$402,AK402,0)","v":0},null,{"$f":"+VLOOKUP(O400,TablaResumen[],22,0)*T402","v":0},{"$f":"+VLOOKUP(O400,TablaResumen[],23,0)*T402","v":0},{"$f":"+IFERROR(VALUE(MID(S402,1,FIND(\"-\",S402)-1)),S402)","v":0},{"$f":"+IFERROR(VALUE(MID(S402,FIND(\"-\",S402)+1,LEN(S402)-FIND(\"-\",S402))),S402)","v":0},null,null,"Minimo",null,null,null,null,null,null,null,null,null,5]
[null,null,null,null,null,null,null,null,null,null,null,null,"N","50.8",50,8]
[null,null,null,null,null,null,null,null,null,null,null,null,"T","51.1",{"$f":"+IF(R403=\"\",O403+1,O403)","v":51},1,{"$f":"+VLOOKUP(O404,'Resumen requerimientos'!$A$5:$B$104,2,FALSE)","v":"INST.CAI.12.1"},{"$f":"+VLOOKUP(Q405,'Resumen requerimientos'!$B$5:$AJ$91,10,0)","v":"Control del ruido y vibraciones provenientes de equipos"},null,{"$f":"+VLOOKUP(O405,TablaResumen[],16,0)","v":"Control del ruido y vibraciones provenientes de equipos"},null,"Opción",{"$f":"+CONCATENATE(VLOOKUP(O405,'Resumen requerimientos'!$A$5:$AB$91,24),\" de \",VLOOKUP(O405,'Resumen requerimientos'!$A$5:$AB$91,25))","v":"1 de 2"},null,null,null,{"$f":"+'Datos Generales Edificio'!$C$5","v":"RM - Región Metropolitana de Santiago"}]
[null,null,null,null,null,null,null,null,null,null,null,null,"T","51.2",{"$f":"+O404","v":51},2,{"$f":"+VLOOKUP(O405,'Resumen requerimientos'!$A$5:$B$104,2,FALSE)","v":"INST.CAI.12.1"},{"$f":"+VLOOKUP(O405,TablaResumen[],21,0)","v":"Valores máximos del nivel sonoro"},null,null,null,"Simultáneo",{"$f":"+CONCATENATE(IF(VLOOKUP(O405,'Resumen requerimientos'!$A$5:$AB$91,26)=0,1,VLOOKUP(O405,'Resumen requerimientos'!$A$5:$AB$91,26)),\" de \",IF(VLOOKUP(O405,'Resumen requerimientos'!$A$5:$AB$91,27)=0,1,VLOOKUP(O405,'Resumen requerimientos'!$A$5:$AB$91,27)))","v":"1 de 1"},null,null,null,{"$f":"+'Datos Generales Edificio'!$F$28","v":"CI - Central Interior"}]
[null,null,null,null,null,null,null,null,null,null,null,null,"T","51.3",51,3,{"$f":"+VLOOKUP(O406,'Resumen requerimientos'!$A$5:$B$104,2,FALSE)","v":"INST.CAI.12.1"},"Nivel","Rango","Prioridad","Ponderación Of. Y Serv.","Ponderación Educ. y Salud.","Rango",null,null,null,{"$f":"+R405","v":"Valores máximos del nivel sonoro"},"NL - Norte Litoral","ND - Norte Desértico","NVT - Norte Valle Transversal","CL - Central Litoral","CI - Central Interior","SL - Sur Litoral","SI - Sur Interior","SE - Sur Extremo","An - Andino",null,null,"NL - Norte Litoral","ND - Norte Desértico","NVT - Norte Valle Transversal","CL - Central Litoral","CI - Central Interior","SL - Sur Litoral","SI - Sur Interior","SE - Sur Extremo","An - Andino"]
[null,null,null,null,null,null,null,null,null,null,null,null,"T","51.4",51,4,{"$f":"+VLOOKUP(O407,'Resumen requerimientos'!$A$5:$B$104,2,FALSE)","v":"INST.CAI.12.1"},"Muy bueno",{"$f":"+HLOOKUP($AA$405,$AB$406:$AJ$410,AK407,0)","v":"0-39,999"},1,{"$f":"+VLOOKUP(O405,TablaResumen[],22,0)*T407","v":0.01},{"$f":"+VLOOKUP(O405,TablaResumen[],23,0)*T407","v":5.0000000000000001E-3},{"$f":"+IFERROR(VALUE(MID(S407,1,FIND(\"-\",S407)-1)),S407)","v":0},{"$f":"+IFERROR(VALUE(MID(S407,FIND(\"-\",S407)+1,LEN(S407)-FIND(\"-\",S407))),S407)","v":39.999000000000002},null,null,"Muy bueno",{"$f":"+CONCATENATE(\"0-\",VMaxNivelSonoro)","v":"0-39,999"},"0-39,999","0-39,999","0-39,999","0-39,999","0-39,999","0-39,999","0-39,999","0-39,999",2]
[null,null,null,null,null,null,null,null,null,null,null,null,"T","51.5",51,5,{"$f":"+VLOOKUP(O408,'Resumen requerimientos'!$A$5:$B$104,2,FALSE)","v":"INST.CAI.12.1"},"Bueno",{"$f":"+HLOOKUP($AA$405,$AB$406:$AJ$410,AK408,0)","v":0},0,{"$f":"+VLOOKUP(O406,TablaResumen[],22,0)*T408","v":0},{"$f":"+VLOOKUP(O406,TablaResumen[],23,0)*T408","v":0},{"$f":"+IFERROR(VALUE(MID(S408,1,FIND(\"-\",S408)-1)),S408)","v":0},{"$f":"+IFERROR(VALUE(MID(S408,FIND(\"-\",S408)+1,LEN(S408)-FIND(\"-\",S408))),S408)","v":0},null,null,"Bueno",null,null,null,null,null,null,null,null,null,3]
[null,null,null,null,null,null,null,null,null,null,null,null,"T","51.6",51,6,{"$f":"+VLOOKUP(O409,'Resumen requerimientos'!$A$5:$B$104,2,FALSE)","v":"INST.CAI.12.1"},"Regular",0,0,{"$f":"+VLOOKUP(O407,TablaResumen[],22,0)*T409","v":0},{"$f":"+VLOOKUP(O407,TablaResumen[],23,0)*T409","v":0},{"$f":"+IFERROR(VALUE(MID(S409,1,FIND(\"-\",S409)-1)),S409)","v":0},{"$f":"+IFERROR(VALUE(MID(S409,FIND(\"-\",S409)+1,LEN(S409)-FIND(\"-\",S409))),S409)","v":0},null,null,"Regular",null,null,null,null,null,null,null,null,null,4]
[null,null,null,null,null,null,null,null,null,null,null,null,"T","51.7",51,7,{"$f":"+VLOOKUP(O410,'Resumen requerimientos'!$A$5:$B$104,2,FALSE)","v":"INST.CAI.12.1"},"Minimo",{"$f":"+HLOOKUP($AA$405,$AB$406:$AJ$410,AK410,0)","v":0},0,{"$f":"+VLOOKUP(O408,TablaResumen[],22,0)*T410","v":0},{"$f":"+VLOOKUP(O408,TablaResumen[],23,0)*T410","v":0},{"$f":"+IFERROR(VALUE(MID(S410,1,FIND(\"-\",S410)-1)),S410)","v":0},{"$f":"+IFERROR(VALUE(MID(S410,FIND(\"-\",S410)+1,LEN(S410)-FIND(\"-\",S410))),S410)","v":0},null,null,"Minimo",null,null,null,null,null,null,null,null,null,5]
[null,null,null,null,null,null,null,null,null,null,null,null,"T","51.8",51,8]
[null,null,null,null,null,null,null,null,null,null,null,null,"N","52.1",{"$f":"+IF(R411=\"\",O411+1,O411)","v":52},1,{"$f":"+VLOOKUP(O412,'Resumen requerimientos'!$A$5:$B$104,2,FALSE)","v":"INST.CAI.12.1"},{"$f":"+VLOOKUP(Q413,'Resumen requerimientos'!$B$5:$AJ$91,10,0)","v":"Control del ruido y vibraciones provenientes de equipos"},null,{"$f":"+VLOOKUP(O413,TablaResumen[],16,0)","v":"Control del ruido y vibraciones provenientes de equipos"},null,"Opción",{"$f":"+CONCATENATE(VLOOKUP(O413,'Resumen requerimientos'!$A$5:$AB$91,24),\" de \",VLOOKUP(O413,'Resumen requerimientos'!$A$5:$AB$91,25))","v":"2 de 2"},null,null,null,{"$f":"+'Datos Generales Edificio'!$C$5","v":"RM - Región Metropolitana de Santiago"}]
[null,null,null,null,null,null,null,null,null,null,null,null,"N","52.2",{"$f":"+O412","v":52},2,{"$f":"+VLOOKUP(O413,'Resumen requerimientos'!$A$5:$B$104,2,FALSE)","v":"INST.CAI.12.1"},{"$f":"+VLOOKUP(O413,TablaResumen[],21,0)","v":"Elección de equipos y diseño"},null,null,null,"Simultáneo",{"$f":"+CONCATENATE(IF(VLOOKUP(O413,'Resumen requerimientos'!$A$5:$AB$91,26)=0,1,VLOOKUP(O413,'Resumen requerimientos'!$A$5:$AB$91,26)),\" de \",IF(VLOOKUP(O413,'Resumen requerimientos'!$A$5:$AB$91,27)=0,1,VLOOKUP(O413,'Resumen requerimientos'!$A$5:$AB$91,27)))","v":"1 de 1"},null,null,null,{"$f":"+'Datos Generales Edificio'!$F$28","v":"CI - Central Interior"}]
[null,null,null,null,null,null,null,null,null,null,null,null,"N","52.3",52,3,{"$f":"+VLOOKUP(O414,'Resumen requerimientos'!$A$5:$B$104,2,FALSE)","v":"INST.CAI.12.1"},"Nivel","Rango","Prioridad","Ponderación Of. Y Serv.","Ponderación Educ. y Salud.","Rango",null,null,null,{"$f":"+R413","v":"Elección de equipos y diseño"},"NL - Norte Litoral","ND - Norte Desértico","NVT - Norte Valle Transversal","CL - Central Litoral","CI - Central Interior","SL - Sur Litoral","SI - Sur Interior","SE - Sur Extremo","An - Andino",null,null,"NL - Norte Litoral","ND - Norte Desértico","NVT - Norte Valle Transversal","CL - Central Litoral","CI - Central Interior","SL - Sur Litoral","SI - Sur Interior","SE - Sur Extremo","An - Andino"]
[null,null,null,null,null,null,null,null,null,null,null,null,"N","52.4",52,4,{"$f":"+VLOOKUP(O415,'Resumen requerimientos'!$A$5:$B$104,2,FALSE)","v":"INST.CAI.12.1"},"Muy bueno",{"$f":"+HLOOKUP($AA$413,$AB$414:$AJ$418,AK415,0)","v":"Cumple criterio elección equipos"},1,{"$f":"+VLOOKUP(O413,TablaResumen[],22,0)*T415","v":5.0000000000000001E-3},{"$f":"+VLOOKUP(O413,TablaResumen[],23,0)*T415","v":5.0000000000000001E-3},{"$f":"+IFERROR(VALUE(MID(S415,1,FIND(\"-\",S415)-1)),S415)","v":"Cumple criterio elección equipos"},{"$f":"+IFERROR(VALUE(MID(S415,FIND(\"-\",S415)+1,LEN(S415)-FIND(\"-\",S415))),S415)","v":"Cumple criterio elección equipos"},null,null,"Muy bueno","Cumple criterio elección equipos","Cumple criterio elección equipos","Cumple criterio elección equipos","Cumple criterio elección equipos","Cumple criterio elección equipos","Cumple criterio elección equipos","Cumple criterio elección equipos","Cumple criterio elección equipos","Cumple criterio elección equipos",2,null,1,1,1,1,1,0.5,0.5,0.5,0.5]
[null,null,null,null,null,null,null,null,null,null,null,null,"N","52.5",52,5,{"$f":"+VLOOKUP(O416,'Resumen requerimientos'!$A$5:$B$104,2,FALSE)","v":"INST.CAI.12.1"},"Bueno",{"$f":"+HLOOKUP($AA$413,$AB$414:$AJ$418,AK416,0)","v":"NO cumple criterio elección equipos"},0,{"$f":"+VLOOKUP(O414,TablaResumen[],22,0)*T416","v":0},{"$f":"+VLOOKUP(O414,TablaResumen[],23,0)*T416","v":0},{"$f":"+IFERROR(VALUE(MID(S416,1,FIND(\"-\",S416)-1)),S416)","v":"NO cumple criterio elección equipos"},{"$f":"+IFERROR(VALUE(MID(S416,FIND(\"-\",S416)+1,LEN(S416)-FIND(\"-\",S416))),S416)","v":"NO cumple criterio elección equipos"},null,null,"Bueno","NO cumple criterio elección equipos","NO cumple criterio elección equipos","NO cumple criterio elección equipos","NO cumple criterio elección equipos","NO cumple criterio elección equipos","NO cumple criterio elección equipos","NO cumple criterio elección equipos","NO cumple criterio elección equipos","NO cumple criterio elección equipos",3,null,0,0,0,0,0,0,0,0,0]
[null,null,null,null,null,null,null,null,null,null,null,null,"N","52.6",52,6,{"$f":"+VLOOKUP(O417,'Resumen requerimientos'!$A$5:$B$104,2,FALSE)","v":"INST.CAI.12.1"},"Regular",{"$f":"+HLOOKUP($AA$413,$AB$414:$AJ$418,AK417,0)","v":0},{"$f":"+HLOOKUP($AA$413,$AM$414:$AU$418,AK417,FALSE)","v":0},{"$f":"+VLOOKUP(O415,TablaResumen[],22,0)*T417","v":0},{"$f":"+VLOOKUP(O415,TablaResumen[],23,0)*T417","v":0},{"$f":"+IFERROR(VALUE(MID(S417,1,FIND(\"-\",S417)-1)),S417)","v":0},{"$f":"+IFERROR(VALUE(MID(S417,FIND(\"-\",S417)+1,LEN(S417)-FIND(\"-\",S417))),S417)","v":0},null,null,"Regular",null,null,null,null,null,null,null,null,null,4]
[null,null,null,null,null,null,null,null,null,null,null,null,"N","52.7",52,7,{"$f":"+VLOOKUP(O418,'Resumen requerimientos'!$A$5:$B$104,2,FALSE)","v":"INST.CAI.12.1"},"Minimo",{"$f":"+HLOOKUP($AA$413,$AB$414:$AJ$418,AK418,0)","v":0},{"$f":"+HLOOKUP($AA$413,$AM$414:$AU$418,AK418,FALSE)","v":0},{"$f":"+VLOOKUP(O416,TablaResumen[],22,0)*T418","v":0},{"$f":"+VLOOKUP(O416,TablaResumen[],23,0)*T418","v":0},{"$f":"+IFERROR(VALUE(MID(S418,1,FIND(\"-\",S418)-1)),S418)","v":0},{"$f":"+IFERROR(VALUE(MID(S418,FIND(\"-\",S418)+1,LEN(S418)-FIND(\"-\",S418))),S418)","v":0},null,null,"Minimo",null,null,null,null,null,null,null,null,null,5]
[null,null,null,null,null,null,null,null,null,null,null,null,"N","52.8",52,8]
[null,null,null,null,null,null,null,null,null,null,null,null,"T","53.1",{"$f":"+IF(R419=\"\",O419+1,O419)","v":53},1,{"$f":"+VLOOKUP(O420,'Resumen requerimientos'!$A$5:$B$104,2,FALSE)","v":"INST.CAI.13"},{"$f":"+VLOOKUP(Q421,'Resumen requerimientos'!$B$5:$AJ$91,10,0)","v":"Confort visual activo"},null,{"$f":"+VLOOKUP(O421,TablaResumen[],16,0)","v":"Confort visual activo"},null,"Opción",{"$f":"+CONCATENATE(VLOOKUP(O421,'Resumen requerimientos'!$A$5:$AB$91,24),\" de \",VLOOKUP(O421,'Resumen requerimientos'!$A$5:$AB$91,25))","v":"1 de 1"},null,null,null,{"$f":"+'Datos Generales Edificio'!$C$5","v":"RM - Región Metropolitana de Santiago"}]
[null,null,null,null,null,null,null,null,null,null,null,null,"T","53.2",{"$f":"+O420","v":53},2,{"$f":"+VLOOKUP(O421,'Resumen requerimientos'!$A$5:$B$104,2,FALSE)","v":"INST.CAI.13"},{"$f":"+VLOOKUP(O421,TablaResumen[],21,0)","v":"Iluminancia mínima"},null,null,null,"Simultáneo",{"$f":"+CONCATENATE(IF(VLOOKUP(O421,'Resumen requerimientos'!$A$5:$AB$91,26)=0,1,VLOOKUP(O421,'Resumen requerimientos'!$A$5:$AB$91,26)),\" de \",IF(VLOOKUP(O421,'Resumen requerimientos'!$A$5:$AB$91,27)=0,1,VLOOKUP(O421,'Resumen requerimientos'!$A$5:$AB$91,27)))","v":"1 de 4"},null,null,null,{"$f":"+'Datos Generales Edificio'!$F$28","v":"CI - Central Interior"}]
[null,null,null,null,null,null,null,null,null,null,null,null,"T","53.3",53,3,{"$f":"+VLOOKUP(O422,'Resumen requerimientos'!$A$5:$B$104,2,FALSE)","v":"INST.CAI.13"},"Nivel","Rango","Prioridad","Ponderación Of. Y Serv.","Ponderación Educ. y Salud.","Rango",null,null,null,{"$f":"+R421","v":"Iluminancia mínima"},"NL - Norte Litoral","ND - Norte Desértico","NVT - Norte Valle Transversal","CL - Central Litoral","CI - Central Interior","SL - Sur Litoral","SI - Sur Interior","SE - Sur Extremo","An - Andino",null,null,"NL - Norte Litoral","ND - Norte Desértico","NVT - Norte Valle Transversal","CL - Central Litoral","CI - Central Interior","SL - Sur Litoral","SI - Sur Interior","SE - Sur Extremo","An - Andino"]
[null,null,null,null,null,null,null,null,null,null,null,null,"T","53.4",53,4,{"$f":"+VLOOKUP(O423,'Resumen requerimientos'!$A$5:$B$104,2,FALSE)","v":"INST.CAI.13"},"Muy bueno",{"$f":"+HLOOKUP($AA$421,$AB$422:$AJ$426,AK423,0)","v":"Cumple mínimo de lux para todos los recintos"},{"$f":"+HLOOKUP($AA$421,$AM$422:$AU$426,AK423,FALSE)","v":0.5},{"$f":"+VLOOKUP(O421,TablaResumen[],22,0)*T423","v":0.01},{"$f":"+VLOOKUP(O421,TablaResumen[],23,0)*T423","v":0.01},{"$f":"+IFERROR(VALUE(MID(S423,1,FIND(\"-\",S423)-1)),S423)","v":"Cumple mínimo de lux para todos los recintos"},{"$f":"+IFERROR(VALUE(MID(S423,FIND(\"-\",S423)+1,LEN(S423)-FIND(\"-\",S423))),S423)","v":"Cumple mínimo de lux para todos los recintos"},null,null,"Muy bueno","Cumple mínimo de lux para todos los recintos","Cumple mínimo de lux para todos los recintos","Cumple mínimo de lux para todos los recintos","Cumple mínimo de lux para todos los recintos","Cumple mínimo de lux para todos los recintos","Cumple mínimo de lux para todos los recintos","Cumple mínimo de lux para todos los recintos","Cumple mínimo de lux para todos los recintos","Cumple mínimo de lux para todos los recintos",2,null,0.5,0.5,0.5,0.5,0.5,1,1,1,1]
[null,null,null,null,null,null,null,null,null,null,null,null,"T","53.5",53,5,{"$f":"+VLOOKUP(O424,'Resumen requerimientos'!$A$5:$B$104,2,FALSE)","v":"INST.CAI.13"},"Bueno",{"$f":"+HLOOKUP($AA$421,$AB$422:$AJ$426,AK424,0)","v":"NO cumple mínimo de lux para todos los recintos"},{"$f":"+HLOOKUP($AA$421,$AM$422:$AU$426,AK424,FALSE)","v":0},{"$f":"+VLOOKUP(O422,TablaResumen[],22,0)*T424","v":0},{"$f":"+VLOOKUP(O422,TablaResumen[],23,0)*T424","v":0},{"$f":"+IFERROR(VALUE(MID(S424,1,FIND(\"-\",S424)-1)),S424)","v":"NO cumple mínimo de lux para todos los recintos"},{"$f":"+IFERROR(VALUE(MID(S424,FIND(\"-\",S424)+1,LEN(S424)-FIND(\"-\",S424))),S424)","v":"NO cumple mínimo de lux para todos los recintos"},null,null,"Bueno","NO cumple mínimo de lux para todos los recintos","NO cumple mínimo de lux para todos los recintos","NO cumple mínimo de lux para todos los recintos","NO cumple mínimo de lux para todos los recintos","NO cumple mínimo de lux para todos los recintos","NO cumple mínimo de lux para todos los recintos","NO cumple mínimo de lux para todos los recintos","NO cumple mínimo de lux para todos los recintos","NO cumple mínimo de lux para todos los recintos",3]
[null,null,null,null,null,null,null,null,null,null,null,null,"T","53.6",53,6,{"$f":"+VLOOKUP(O425,'Resumen requerimientos'!$A$5:$B$104,2,FALSE)","v":"INST.CAI.13"},"Regular",{"$f":"+HLOOKUP($AA$421,$AB$422:$AJ$426,AK425,0)","v":0},{"$f":"+HLOOKUP($AA$421,$AM$422:$AU$426,AK425,FALSE)","v":0},{"$f":"+VLOOKUP(O423,TablaResumen[],22,0)*T425","v":0},{"$f":"+VLOOKUP(O423,TablaResumen[],23,0)*T425","v":0},{"$f":"+IFERROR(VALUE(MID(S425,1,FIND(\"-\",S425)-1)),S425)","v":0},{"$f":"+IFERROR(VALUE(MID(S425,FIND(\"-\",S425)+1,LEN(S425)-FIND(\"-\",S425))),S425)","v":0},null,null,"Regular",null,null,null,null,null,null,null,null,null,4]
[null,null,null,null,null,null,null,null,null,null,null,null,"T","53.7",53,7,{"$f":"+VLOOKUP(O426,'Resumen requerimientos'!$A$5:$B$104,2,FALSE)","v":"INST.CAI.13"},"Minimo",{"$f":"+HLOOKUP($AA$421,$AB$422:$AJ$426,AK426,0)","v":0},{"$f":"+HLOOKUP($AA$421,$AM$422:$AU$426,AK426,FALSE)","v":0},{"$f":"+VLOOKUP(O424,TablaResumen[],22,0)*T426","v":0},{"$f":"+VLOOKUP(O424,TablaResumen[],23,0)*T426","v":0},{"$f":"+IFERROR(VALUE(MID(S426,1,FIND(\"-\",S426)-1)),S426)","v":0},{"$f":"+IFERROR(VALUE(MID(S426,FIND(\"-\",S426)+1,LEN(S426)-FIND(\"-\",S426))),S426)","v":0},null,null,"Minimo",null,null,null,null,null,null,null,null,null,5]
[null,null,null,null,null,null,null,null,null,null,null,null,"T","53.8",53,8]
[null,null,null,null,null,null,null,null,null,null,null,null,"T","54.1",{"$f":"+IF(R427=\"\",O427+1,O427)","v":54},1,{"$f":"+VLOOKUP(O428,'Resumen requerimientos'!$A$5:$B$104,2,FALSE)","v":"INST.CAI.13"},{"$f":"+VLOOKUP(Q429,'Resumen requerimientos'!$B$5:$AJ$91,10,0)","v":"Confort visual activo"},null,{"$f":"+VLOOKUP(O429,TablaResumen[],16,0)","v":"Confort visual activo"},null,"Opción",{"$f":"+CONCATENATE(VLOOKUP(O429,'Resumen requerimientos'!$A$5:$AB$91,24),\" de \",VLOOKUP(O429,'Resumen requerimientos'!$A$5:$AB$91,25))","v":"1 de 1"},null,null,null,{"$f":"+'Datos Generales Edificio'!$C$5","v":"RM - Región Metropolitana de Santiago"}]
[null,null,null,null,null,null,null,null,null,null,null,null,"T","54.2",{"$f":"+O428","v":54},2,{"$f":"+VLOOKUP(O429,'Resumen requerimientos'!$A$5:$B$104,2,FALSE)","v":"INST.CAI.13"},{"$f":"+VLOOKUP(O429,TablaResumen[],21,0)","v":"Uniformidad media"},null,null,null,"Simultáneo",{"$f":"+CONCATENATE(IF(VLOOKUP(O429,'Resumen requerimientos'!$A$5:$AB$91,26)=0,1,VLOOKUP(O429,'Resumen requerimientos'!$A$5:$AB$91,26)),\" de \",IF(VLOOKUP(O429,'Resumen requerimientos'!$A$5:$AB$91,27)=0,1,VLOOKUP(O429,'Resumen requerimientos'!$A$5:$AB$91,27)))","v":"2 de 4"},null,null,null,{"$f":"+'Datos Generales Edificio'!$F$28","v":"CI - Central Interior"}]
[null,null,null,null,null,null,null,null,null,null,null,null,"T","54.3",54,3,{"$f":"+VLOOKUP(O430,'Resumen requerimientos'!$A$5:$B$104,2,FALSE)","v":"INST.CAI.13"},"Nivel","Rango","Prioridad","Ponderación Of. Y Serv.","Ponderación Educ. y Salud.","Rango",null,null,null,{"$f":"+R429","v":"Uniformidad media"},"NL - Norte Litoral","ND - Norte Desértico","NVT - Norte Valle Transversal","CL - Central Litoral","CI - Central Interior","SL - Sur Litoral","SI - Sur Interior","SE - Sur Extremo","An - Andino",null,null,"NL - Norte Litoral","ND - Norte Desértico","NVT - Norte Valle Transversal","CL - Central Litoral","CI - Central Interior","SL - Sur Litoral","SI - Sur Interior","SE - Sur Extremo","An - Andino"]
[null,null,null,null,null,null,null,null,null,null,null,null,"T","54.4",54,4,{"$f":"+VLOOKUP(O431,'Resumen requerimientos'!$A$5:$B$104,2,FALSE)","v":"INST.CAI.13"},"Muy bueno",{"$f":"+HLOOKUP($AA$429,$AB$430:$AJ$434,AK431,0)","v":"0,49999-1"},{"$f":"+HLOOKUP($AA$429,$AM$430:$AU$434,AK431,FALSE)","v":0.5},{"$f":"+VLOOKUP(O429,TablaResumen[],22,0)*T431","v":0.01},{"$f":"+VLOOKUP(O429,TablaResumen[],23,0)*T431","v":0.01},{"$f":"+IFERROR(VALUE(MID(S431,1,FIND(\"-\",S431)-1)),S431)","v":0.49998999999999999},{"$f":"+IFERROR(VALUE(MID(S431,FIND(\"-\",S431)+1,LEN(S431)-FIND(\"-\",S431))),S431)","v":1},null,null,"Muy bueno","0,49999-1","0,49999-1","0,49999-1","0,49999-1","0,49999-1","0,49999-1","0,49999-1","0,49999-1","0,49999-1",2,null,0.5,0.5,0.5,0.5,0.5,1,1,1,1]
[null,null,null,null,null,null,null,null,null,null,null,null,"T","54.5",54,5,{"$f":"+VLOOKUP(O432,'Resumen requerimientos'!$A$5:$B$104,2,FALSE)","v":"INST.CAI.13"},"Bueno",{"$f":"+HLOOKUP($AA$429,$AB$430:$AJ$434,AK432,0)","v":0},{"$f":"+HLOOKUP($AA$429,$AM$430:$AU$434,AK432,FALSE)","v":0},{"$f":"+VLOOKUP(O430,TablaResumen[],22,0)*T432","v":0},{"$f":"+VLOOKUP(O430,TablaResumen[],23,0)*T432","v":0},{"$f":"+IFERROR(VALUE(MID(S432,1,FIND(\"-\",S432)-1)),S432)","v":0},{"$f":"+IFERROR(VALUE(MID(S432,FIND(\"-\",S432)+1,LEN(S432)-FIND(\"-\",S432))),S432)","v":0},null,null,"Bueno",null,null,null,null,null,null,null,null,null,3]
[null,null,null,null,null,null,null,null,null,null,null,null,"T","54.6",54,6,{"$f":"+VLOOKUP(O433,'Resumen requerimientos'!$A$5:$B$104,2,FALSE)","v":"INST.CAI.13"},"Regular",{"$f":"+HLOOKUP($AA$429,$AB$430:$AJ$434,AK433,0)","v":0},{"$f":"+HLOOKUP($AA$429,$AM$430:$AU$434,AK433,FALSE)","v":0},{"$f":"+VLOOKUP(O431,TablaResumen[],22,0)*T433","v":0},{"$f":"+VLOOKUP(O431,TablaResumen[],23,0)*T433","v":0},{"$f":"+IFERROR(VALUE(MID(S433,1,FIND(\"-\",S433)-1)),S433)","v":0},{"$f":"+IFERROR(VALUE(MID(S433,FIND(\"-\",S433)+1,LEN(S433)-FIND(\"-\",S433))),S433)","v":0},null,null,"Regular",null,null,null,null,null,null,null,null,null,4]
[null,null,null,null,null,null,null,null,null,null,null,null,"T","54.7",54,7,{"$f":"+VLOOKUP(O434,'Resumen requerimientos'!$A$5:$B$104,2,FALSE)","v":"INST.CAI.13"},"Minimo",{"$f":"+HLOOKUP($AA$429,$AB$430:$AJ$434,AK434,0)","v":0},{"$f":"+HLOOKUP($AA$429,$AM$430:$AU$434,AK434,FALSE)","v":0},{"$f":"+VLOOKUP(O432,TablaResumen[],22,0)*T434","v":0},{"$f":"+VLOOKUP(O432,TablaResumen[],23,0)*T434","v":0},{"$f":"+IFERROR(VALUE(MID(S434,1,FIND(\"-\",S434)-1)),S434)","v":0},{"$f":"+IFERROR(VALUE(MID(S434,FIND(\"-\",S434)+1,LEN(S434)-FIND(\"-\",S434))),S434)","v":0},null,null,"Minimo",null,null,null,null,null,null,null,null,null,5]
[null,null,null,null,null,null,null,null,null,null,null,null,"T","54.8",54,8]
[null,null,null,null,null,null,null,null,null,null,null,null,"N","55.1",{"$f":"+IF(R435=\"\",O435+1,O435)","v":55},1,{"$f":"+VLOOKUP(O436,'Resumen requerimientos'!$A$5:$B$104,2,FALSE)","v":"INST.CAI.13"},{"$f":"+VLOOKUP(Q437,'Resumen requerimientos'!$B$5:$AJ$91,10,0)","v":"Confort visual activo"},null,{"$f":"+VLOOKUP(O437,TablaResumen[],16,0)","v":"Confort visual activo"},null,"Opción",{"$f":"+CONCATENATE(VLOOKUP(O437,'Resumen requerimientos'!$A$5:$AB$91,24),\" de \",VLOOKUP(O437,'Resumen requerimientos'!$A$5:$AB$91,25))","v":"1 de 1"},null,null,null,{"$f":"+'Datos Generales Edificio'!$C$5","v":"RM - Región Metropolitana de Santiago"}]
[null,null,null,null,null,null,null,null,null,null,null,null,"N","55.2",{"$f":"+O436","v":55},2,{"$f":"+VLOOKUP(O437,'Resumen requerimientos'!$A$5:$B$104,2,FALSE)","v":"INST.CAI.13"},{"$f":"+VLOOKUP(O437,TablaResumen[],21,0)","v":"Rendimiento Cromático"},null,null,null,"Simultáneo",{"$f":"+CONCATENATE(IF(VLOOKUP(O437,'Resumen requerimientos'!$A$5:$AB$91,26)=0,1,VLOOKUP(O437,'Resumen requerimientos'!$A$5:$AB$91,26)),\" de \",IF(VLOOKUP(O437,'Resumen requerimientos'!$A$5:$AB$91,27)=0,1,VLOOKUP(O437,'Resumen requerimientos'!$A$5:$AB$91,27)))","v":"3 de 4"},null,null,null,{"$f":"+'Datos Generales Edificio'!$F$28","v":"CI - Central Interior"}]
[null,null,null,null,null,null,null,null,null,null,null,null,"N","55.3",55,3,{"$f":"+VLOOKUP(O438,'Resumen requerimientos'!$A$5:$B$104,2,FALSE)","v":"INST.CAI.13"},"Nivel","Rango","Prioridad","Ponderación Of. Y Serv.","Ponderación Educ. y Salud.","Rango",null,null,null,{"$f":"+R437","v":"Rendimiento Cromático"},"NL - Norte Litoral","ND - Norte Desértico","NVT - Norte Valle Transversal","CL - Central Litoral","CI - Central Interior","SL - Sur Litoral","SI - Sur Interior","SE - Sur Extremo","An - Andino",null,null,"NL - Norte Litoral","ND - Norte Desértico","NVT - Norte Valle Transversal","CL - Central Litoral","CI - Central Interior","SL - Sur Litoral","SI - Sur Interior","SE - Sur Extremo","An - Andino"]
[null,null,null,null,null,null,null,null,null,null,null,null,"N","55.4",55,4,{"$f":"+VLOOKUP(O439,'Resumen requerimientos'!$A$5:$B$104,2,FALSE)","v":"INST.CAI.13"},"Muy bueno",{"$f":"+HLOOKUP($AA$437,$AB$438:$AJ$442,AK439,0)","v":"80-100"},{"$f":"+HLOOKUP($AA$437,$AM$438:$AU$442,AK439,FALSE)","v":0.5},{"$f":"+VLOOKUP(O437,TablaResumen[],22,0)*T439","v":0.01},{"$f":"+VLOOKUP(O437,TablaResumen[],23,0)*T439","v":0.01},{"$f":"+IFERROR(VALUE(MID(S439,1,FIND(\"-\",S439)-1)),S439)","v":80},{"$f":"+IFERROR(VALUE(MID(S439,FIND(\"-\",S439)+1,LEN(S439)-FIND(\"-\",S439))),S439)","v":100},null,null,"Muy bueno","79,9999-100","80-100","80-100","80-100","80-100","80-100","80-100","80-100","80-100",2,null,0.5,0.5,0.5,0.5,0.5,1,1,1,1]
[null,null,null,null,null,null,null,null,null,null,null,null,"N","55.5",55,5,{"$f":"+VLOOKUP(O440,'Resumen requerimientos'!$A$5:$B$104,2,FALSE)","v":"INST.CAI.13"},"Bueno",{"$f":"+HLOOKUP($AA$437,$AB$438:$AJ$442,AK440,0)","v":0},{"$f":"+HLOOKUP($AA$437,$AM$438:$AU$442,AK440,FALSE)","v":0},{"$f":"+VLOOKUP(O438,TablaResumen[],22,0)*T440","v":0},{"$f":"+VLOOKUP(O438,TablaResumen[],23,0)*T440","v":0},{"$f":"+IFERROR(VALUE(MID(S440,1,FIND(\"-\",S440)-1)),S440)","v":0},{"$f":"+IFERROR(VALUE(MID(S440,FIND(\"-\",S440)+1,LEN(S440)-FIND(\"-\",S440))),S440)","v":0},null,null,"Bueno",null,null,null,null,null,null,null,null,null,3]
[null,null,null,null,null,null,null,null,null,null,null,null,"N","55.6",55,6,{"$f":"+VLOOKUP(O441,'Resumen requerimientos'!$A$5:$B$104,2,FALSE)","v":"INST.CAI.13"},"Regular",{"$f":"+HLOOKUP($AA$437,$AB$438:$AJ$442,AK441,0)","v":0},{"$f":"+HLOOKUP($AA$437,$AM$438:$AU$442,AK441,FALSE)","v":0},{"$f":"+VLOOKUP(O439,TablaResumen[],22,0)*T441","v":0},{"$f":"+VLOOKUP(O439,TablaResumen[],23,0)*T441","v":0},{"$f":"+IFERROR(VALUE(MID(S441,1,FIND(\"-\",S441)-1)),S441)","v":0},{"$f":"+IFERROR(VALUE(MID(S441,FIND(\"-\",S441)+1,LEN(S441)-FIND(\"-\",S441))),S441)","v":0},null,null,"Regular",null,null,null,null,null,null,null,null,null,4]
[null,null,null,null,null,null,null,null,null,null,null,null,"N","55.7",55,7,{"$f":"+VLOOKUP(O442,'Resumen requerimientos'!$A$5:$B$104,2,FALSE)","v":"INST.CAI.13"},"Minimo",{"$f":"+HLOOKUP($AA$437,$AB$438:$AJ$442,AK442,0)","v":0},{"$f":"+HLOOKUP($AA$437,$AM$438:$AU$442,AK442,FALSE)","v":0},{"$f":"+VLOOKUP(O440,TablaResumen[],22,0)*T442","v":0},{"$f":"+VLOOKUP(O440,TablaResumen[],23,0)*T442","v":0},{"$f":"+IFERROR(VALUE(MID(S442,1,FIND(\"-\",S442)-1)),S442)","v":0},{"$f":"+IFERROR(VALUE(MID(S442,FIND(\"-\",S442)+1,LEN(S442)-FIND(\"-\",S442))),S442)","v":0},null,null,"Minimo",null,null,null,null,null,null,null,null,null,5]
[null,null,null,null,null,null,null,null,null,null,null,null,"N","55.8",55,8]
[null,null,null,null,null,null,null,null,null,null,null,null,"N","56.1",{"$f":"+IF(R443=\"\",O443+1,O443)","v":56},1,{"$f":"+VLOOKUP(O444,'Resumen requerimientos'!$A$5:$B$104,2,FALSE)","v":"INST.CAI.13"},{"$f":"+VLOOKUP(Q445,'Resumen requerimientos'!$B$5:$AJ$91,10,0)","v":"Confort visual activo"},null,{"$f":"+VLOOKUP(O445,TablaResumen[],16,0)","v":"Confort visual activo"},null,"Opción",{"$f":"+CONCATENATE(VLOOKUP(O445,'Resumen requerimientos'!$A$5:$AB$91,24),\" de \",VLOOKUP(O445,'Resumen requerimientos'!$A$5:$AB$91,25))","v":"1 de 1"},null,null,null,{"$f":"+'Datos Generales Edificio'!$C$5","v":"RM - Región Metropolitana de Santiago"}]
[null,null,null,null,null,null,null,null,null,null,null,null,"N","56.2",{"$f":"+O444","v":56},2,{"$f":"+VLOOKUP(O445,'Resumen requerimientos'!$A$5:$B$104,2,FALSE)","v":"INST.CAI.13"},{"$f":"+VLOOKUP(O445,TablaResumen[],21,0)","v":"Deslumbramiento"},null,null,null,"Simultáneo",{"$f":"+CONCATENATE(IF(VLOOKUP(O445,'Resumen requerimientos'!$A$5:$AB$91,26)=0,1,VLOOKUP(O445,'Resumen requerimientos'!$A$5:$AB$91,26)),\" de \",IF(VLOOKUP(O445,'Resumen requerimientos'!$A$5:$AB$91,27)=0,1,VLOOKUP(O445,'Resumen requerimientos'!$A$5:$AB$91,27)))","v":"4 de 4"},null,null,null,{"$f":"+'Datos Generales Edificio'!$F$28","v":"CI - Central Interior"}]
[null,null,null,null,null,null,null,null,null,null,null,null,"N","56.3",56,3,{"$f":"+VLOOKUP(O446,'Resumen requerimientos'!$A$5:$B$104,2,FALSE)","v":"INST.CAI.13"},"Nivel","Rango","Prioridad","Ponderación Of. Y Serv.","Ponderación Educ. y Salud.","Rango",null,null,null,{"$f":"+R445","v":"Deslumbramiento"},"NL - Norte Litoral","ND - Norte Desértico","NVT - Norte Valle Transversal","CL - Central Litoral","CI - Central Interior","SL - Sur Litoral","SI - Sur Interior","SE - Sur Extremo","An - Andino",null,null,"NL - Norte Litoral","ND - Norte Desértico","NVT - Norte Valle Transversal","CL - Central Litoral","CI - Central Interior","SL - Sur Litoral","SI - Sur Interior","SE - Sur Extremo","An - Andino"]
[null,null,null,null,null,null,null,null,null,null,null,null,"N","56.4",56,4,{"$f":"+VLOOKUP(O447,'Resumen requerimientos'!$A$5:$B$104,2,FALSE)","v":"INST.CAI.13"},"Muy bueno",{"$f":"+HLOOKUP($AA$445,$AB$446:$AJ$450,AK447,0)","v":"0-22"},{"$f":"+HLOOKUP($AA$445,$AM$446:$AU$450,AK447,FALSE)","v":0.5},{"$f":"+VLOOKUP(O445,TablaResumen[],22,0)*T447","v":0.01},{"$f":"+VLOOKUP(O445,TablaResumen[],23,0)*T447","v":0.01},{"$f":"+IFERROR(VALUE(MID(S447,1,FIND(\"-\",S447)-1)),S447)","v":0},{"$f":"+IFERROR(VALUE(MID(S447,FIND(\"-\",S447)+1,LEN(S447)-FIND(\"-\",S447))),S447)","v":22},null,null,"Muy bueno","0-22","0-22","0-22","0-22","0-22","0-22","0-22","0-22","0-22",2,null,0.5,0.5,0.5,0.5,0.5,1,1,1,1]
[null,null,null,null,null,null,null,null,null,null,null,null,"N","56.5",56,5,{"$f":"+VLOOKUP(O448,'Resumen requerimientos'!$A$5:$B$104,2,FALSE)","v":"INST.CAI.13"},"Bueno",{"$f":"+HLOOKUP($AA$445,$AB$446:$AJ$450,AK448,0)","v":0},{"$f":"+HLOOKUP($AA$445,$AM$446:$AU$450,AK448,FALSE)","v":0},{"$f":"+VLOOKUP(O446,TablaResumen[],22,0)*T448","v":0},{"$f":"+VLOOKUP(O446,TablaResumen[],23,0)*T448","v":0},{"$f":"+IFERROR(VALUE(MID(S448,1,FIND(\"-\",S448)-1)),S448)","v":0},{"$f":"+IFERROR(VALUE(MID(S448,FIND(\"-\",S448)+1,LEN(S448)-FIND(\"-\",S448))),S448)","v":0},null,null,"Bueno",null,null,null,null,null,null,null,null,null,3]
[null,null,null,null,null,null,null,null,null,null,null,null,"N","56.6",56,6,{"$f":"+VLOOKUP(O449,'Resumen requerimientos'!$A$5:$B$104,2,FALSE)","v":"INST.CAI.13"},"Regular",{"$f":"+HLOOKUP($AA$445,$AB$446:$AJ$450,AK449,0)","v":0},{"$f":"+HLOOKUP($AA$445,$AM$446:$AU$450,AK449,FALSE)","v":0},{"$f":"+VLOOKUP(O447,TablaResumen[],22,0)*T449","v":0},{"$f":"+VLOOKUP(O447,TablaResumen[],23,0)*T449","v":0},{"$f":"+IFERROR(VALUE(MID(S449,1,FIND(\"-\",S449)-1)),S449)","v":0},{"$f":"+IFERROR(VALUE(MID(S449,FIND(\"-\",S449)+1,LEN(S449)-FIND(\"-\",S449))),S449)","v":0},null,null,"Regular",null,null,null,null,null,null,null,null,null,4]
[null,null,null,null,null,null,null,null,null,null,null,null,"N","56.7",56,7,{"$f":"+VLOOKUP(O450,'Resumen requerimientos'!$A$5:$B$104,2,FALSE)","v":"INST.CAI.13"},"Minimo",{"$f":"+HLOOKUP($AA$445,$AB$446:$AJ$450,AK450,0)","v":0},{"$f":"+HLOOKUP($AA$445,$AM$446:$AU$450,AK450,FALSE)","v":0},{"$f":"+VLOOKUP(O448,TablaResumen[],22,0)*T450","v":0},{"$f":"+VLOOKUP(O448,TablaResumen[],23,0)*T450","v":0},{"$f":"+IFERROR(VALUE(MID(S450,1,FIND(\"-\",S450)-1)),S450)","v":0},{"$f":"+IFERROR(VALUE(MID(S450,FIND(\"-\",S450)+1,LEN(S450)-FIND(\"-\",S450))),S450)","v":0},null,null,"Minimo",null,null,null,null,null,null,null,null,null,5]
[null,null,null,null,null,null,null,null,null,null,null,null,"N","56.8",56,8]
[null,null,null,null,null,null,null,null,null,null,null,null,"T","57.1",{"$f":"+IF(R451=\"\",O451+1,O451)","v":57},1,{"$f":"+VLOOKUP(O452,'Resumen requerimientos'!$A$5:$B$104,2,FALSE)","v":"13R"},{"$f":"+VLOOKUP(Q453,'Resumen requerimientos'!$B$5:$AJ$91,10,0)","v":"Confort visual activo"},null,{"$f":"+VLOOKUP(O453,TablaResumen[],16,0)","v":"Nivel mínimo de Iluminancia, rendimiento cromático y deslumbramiento"},null,"Opción",{"$f":"+CONCATENATE(VLOOKUP(O453,'Resumen requerimientos'!$A$5:$AB$91,24),\" de \",VLOOKUP(O453,'Resumen requerimientos'!$A$5:$AB$91,25))","v":"1 de 1"},null,null,null,{"$f":"+'Datos Generales Edificio'!$C$5","v":"RM - Región Metropolitana de Santiago"}]
[null,null,null,null,null,null,null,null,null,null,null,null,"T","57.2",{"$f":"+O452","v":57},2,{"$f":"+VLOOKUP(O453,'Resumen requerimientos'!$A$5:$B$104,2,FALSE)","v":"13R"},{"$f":"+VLOOKUP(O453,TablaResumen[],21,0)","v":"Iluminancia mínima [lux]"},null,null,null,"Simultáneo",{"$f":"+CONCATENATE(IF(VLOOKUP(O453,'Resumen requerimientos'!$A$5:$AB$91,26)=0,1,VLOOKUP(O453,'Resumen requerimientos'!$A$5:$AB$91,26)),\" de \",IF(VLOOKUP(O453,'Resumen requerimientos'!$A$5:$AB$91,27)=0,1,VLOOKUP(O453,'Resumen requerimientos'!$A$5:$AB$91,27)))","v":"1 de 3"},null,null,null,{"$f":"+'Datos Generales Edificio'!$F$28","v":"CI - Central Interior"}]
[null,null,null,null,null,null,null,null,null,null,null,null,"T",{"$f":"+CONCATENATE(O454,\".\",P454)","v":"57.3"},57,{"$f":"+IF(O454=O453,P453+1,1)","v":3},{"$f":"+VLOOKUP(O454,'Resumen requerimientos'!$A$5:$B$104,2,FALSE)","v":"13R"},"Nivel","Rango","Prioridad","Ponderación Of. Y Serv.","Ponderación Educ. y Salud.","Rango",null,null,null,{"$f":"+R453","v":"Iluminancia mínima [lux]"},"NL - Norte Litoral","ND - Norte Desértico","NVT - Norte Valle Transversal","CL - Central Litoral","CI - Central Interior","SL - Sur Litoral","SI - Sur Interior","SE - Sur Extremo","An - Andino",null,null,"NL - Norte Litoral","ND - Norte Desértico","NVT - Norte Valle Transversal","CL - Central Litoral","CI - Central Interior","SL - Sur Litoral","SI - Sur Interior","SE - Sur Extremo","An - Andino"]
[null,null,null,null,null,null,null,null,null,null,null,null,"T","57.4",57,4,{"$f":"+VLOOKUP(O455,'Resumen requerimientos'!$A$5:$B$104,2,FALSE)","v":"13R"},"Muy bueno",{"$f":"+HLOOKUP($AA$453,$AB$454:$AJ$458,AK455,0)","v":"Cumple mínimo de lux para todos los recintos"},{"$f":"+HLOOKUP($AA$453,$AM$454:$AU$458,AK455,FALSE)","v":0.5},{"$f":"+VLOOKUP(O453,TablaResumen[],22,0)*T455","v":0.5},{"$f":"+VLOOKUP(O453,TablaResumen[],23,0)*T455","v":0.5},{"$f":"+IFERROR(VALUE(MID(S455,1,FIND(\"-\",S455)-1)),S455)","v":"Cumple mínimo de lux para todos los recintos"},{"$f":"+IFERROR(VALUE(MID(S455,FIND(\"-\",S455)+1,LEN(S455)-FIND(\"-\",S455))),S455)","v":"Cumple mínimo de lux para todos los recintos"},null,null,"Muy bueno","Cumple mínimo de lux para todos los recintos","Cumple mínimo de lux para todos los recintos","Cumple mínimo de lux para todos los recintos","Cumple mínimo de lux para todos los recintos","Cumple mínimo de lux para todos los recintos","Cumple mínimo de lux para todos los recintos","Cumple mínimo de lux para todos los recintos","Cumple mínimo de lux para todos los recintos","Cumple mínimo de lux para todos los recintos",2,null,0.5,0.5,0.5,0.5,0.5,1,1,1,1]
[null,null,null,null,null,null,null,null,null,null,null,null,"T","57.5",57,5,{"$f":"+VLOOKUP(O456,'Resumen requerimientos'!$A$5:$B$104,2,FALSE)","v":"13R"},"Bueno",{"$f":"+HLOOKUP($AA$453,$AB$454:$AJ$458,AK456,0)","v":"NO cumple mínimo de lux para todos los recintos"},-1,{"$f":"+VLOOKUP(O454,TablaResumen[],22,0)*T456","v":-1},{"$f":"+VLOOKUP(O454,TablaResumen[],23,0)*T456","v":-1},{"$f":"+IFERROR(VALUE(MID(S456,1,FIND(\"-\",S456)-1)),S456)","v":"NO cumple mínimo de lux para todos los recintos"},{"$f":"+IFERROR(VALUE(MID(S456,FIND(\"-\",S456)+1,LEN(S456)-FIND(\"-\",S456))),S456)","v":"NO cumple mínimo de lux para todos los recintos"},null,null,"Bueno","NO cumple mínimo de lux para todos los recintos","NO cumple mínimo de lux para todos los recintos","NO cumple mínimo de lux para todos los recintos","NO cumple mínimo de lux para todos los recintos","NO cumple mínimo de lux para todos los recintos","NO cumple mínimo de lux para todos los recintos","NO cumple mínimo de lux para todos los recintos","NO cumple mínimo de lux para todos los recintos","NO cumple mínimo de lux para todos los recintos",3]
[null,null,null,null,null,null,null,null,null,null,null,null,"T","57.6",57,6,{"$f":"+VLOOKUP(O457,'Resumen requerimientos'!$A$5:$B$104,2,FALSE)","v":"13R"},"Regular",{"$f":"+HLOOKUP($AA$453,$AB$454:$AJ$458,AK457,0)","v":0},{"$f":"+HLOOKUP($AA$453,$AM$454:$AU$458,AK457,FALSE)","v":0},{"$f":"+VLOOKUP(O455,TablaResumen[],22,0)*T457","v":0},{"$f":"+VLOOKUP(O455,TablaResumen[],23,0)*T457","v":0},{"$f":"+IFERROR(VALUE(MID(S457,1,FIND(\"-\",S457)-1)),S457)","v":0},{"$f":"+IFERROR(VALUE(MID(S457,FIND(\"-\",S457)+1,LEN(S457)-FIND(\"-\",S457))),S457)","v":0},null,null,"Regular",null,null,null,null,null,null,null,null,null,4]
[null,null,null,null,null,null,null,null,null,null,null,null,"T","57.7",57,7,{"$f":"+VLOOKUP(O458,'Resumen requerimientos'!$A$5:$B$104,2,FALSE)","v":"13R"},"Minimo",{"$f":"+HLOOKUP($AA$453,$AB$454:$AJ$458,AK458,0)","v":0},{"$f":"+HLOOKUP($AA$453,$AM$454:$AU$458,AK458,FALSE)","v":0},{"$f":"+VLOOKUP(O456,TablaResumen[],22,0)*T458","v":0},{"$f":"+VLOOKUP(O456,TablaResumen[],23,0)*T458","v":0},{"$f":"+IFERROR(VALUE(MID(S458,1,FIND(\"-\",S458)-1)),S458)","v":0},{"$f":"+IFERROR(VALUE(MID(S458,FIND(\"-\",S458)+1,LEN(S458)-FIND(\"-\",S458))),S458)","v":0},null,null,"Minimo",null,null,null,null,null,null,null,null,null,5]
[null,null,null,null,null,null,null,null,null,null,null,null,"T","57.8",57,8]
[null,null,null,null,null,null,null,null,null,null,null,null,"T","58.1",{"$f":"+IF(R459=\"\",O459+1,O459)","v":58},1,{"$f":"+VLOOKUP(O460,'Resumen requerimientos'!$A$5:$B$104,2,FALSE)","v":"13R"},{"$f":"+VLOOKUP(Q461,'Resumen requerimientos'!$B$5:$AJ$91,10,0)","v":"Confort visual activo"},null,{"$f":"+VLOOKUP(O461,TablaResumen[],16,0)","v":"Nivel mínimo de Iluminancia, rendimiento cromático y deslumbramiento"},null,"Opción",{"$f":"+CONCATENATE(VLOOKUP(O461,'Resumen requerimientos'!$A$5:$AB$91,24),\" de \",VLOOKUP(O461,'Resumen requerimientos'!$A$5:$AB$91,25))","v":"1 de 1"},null,null,null,{"$f":"+'Datos Generales Edificio'!$C$5","v":"RM - Región Metropolitana de Santiago"}]
[null,null,null,null,null,null,null,null,null,null,null,null,"T","58.2",{"$f":"+O460","v":58},2,{"$f":"+VLOOKUP(O461,'Resumen requerimientos'!$A$5:$B$104,2,FALSE)","v":"13R"},{"$f":"+VLOOKUP(O461,TablaResumen[],21,0)","v":"Índice de rendimiento cromático [IRC]"},null,null,null,"Simultáneo",{"$f":"+CONCATENATE(IF(VLOOKUP(O461,'Resumen requerimientos'!$A$5:$AB$91,26)=0,1,VLOOKUP(O461,'Resumen requerimientos'!$A$5:$AB$91,26)),\" de \",IF(VLOOKUP(O461,'Resumen requerimientos'!$A$5:$AB$91,27)=0,1,VLOOKUP(O461,'Resumen requerimientos'!$A$5:$AB$91,27)))","v":"2 de 3"},null,null,null,{"$f":"+'Datos Generales Edificio'!$F$28","v":"CI - Central Interior"}]
[null,null,null,null,null,null,null,null,null,null,null,null,"T","58.3",58,3,{"$f":"+VLOOKUP(O462,'Resumen requerimientos'!$A$5:$B$104,2,FALSE)","v":"13R"},"Nivel","Rango","Prioridad","Ponderación Of. Y Serv.","Ponderación Educ. y Salud.","Rango",null,null,null,{"$f":"+R461","v":"Índice de rendimiento cromático [IRC]"},"NL - Norte Litoral","ND - Norte Desértico","NVT - Norte Valle Transversal","CL - Central Litoral","CI - Central Interior","SL - Sur Litoral","SI - Sur Interior","SE - Sur Extremo","An - Andino"]
[null,null,null,null,null,null,null,null,null,null,null,null,"T","58.4",58,4,{"$f":"+VLOOKUP(O463,'Resumen requerimientos'!$A$5:$B$104,2,FALSE)","v":"13R"},"Muy bueno",{"$f":"+HLOOKUP($AA$461,$AB$462:$AJ$466,AK463,0)","v":"79,99999-100"},1,{"$f":"+VLOOKUP(O461,TablaResumen[],22,0)*T463","v":1},{"$f":"+VLOOKUP(O461,TablaResumen[],23,0)*T463","v":1},{"$f":"+IFERROR(VALUE(MID(S463,1,FIND(\"-\",S463)-1)),S463)","v":79.999989999999997},{"$f":"+IFERROR(VALUE(MID(S463,FIND(\"-\",S463)+1,LEN(S463)-FIND(\"-\",S463))),S463)","v":100},null,null,"Muy bueno","79,99999-100","79,99999-100","79,99999-100","79,99999-100","79,99999-100","79,99999-100","79,99999-100","79,99999-100","79,99999-100",2]
[null,null,null,null,null,null,null,null,null,null,null,null,"T","58.5",58,5,{"$f":"+VLOOKUP(O464,'Resumen requerimientos'!$A$5:$B$104,2,FALSE)","v":"13R"},"Bueno",{"$f":"+HLOOKUP($AA$461,$AB$462:$AJ$466,AK464,0)","v":"79,99999-100"},1,{"$f":"+VLOOKUP(O462,TablaResumen[],22,0)*T464","v":1},{"$f":"+VLOOKUP(O462,TablaResumen[],23,0)*T464","v":1},{"$f":"+IFERROR(VALUE(MID(S464,1,FIND(\"-\",S464)-1)),S464)","v":79.999989999999997},{"$f":"+IFERROR(VALUE(MID(S464,FIND(\"-\",S464)+1,LEN(S464)-FIND(\"-\",S464))),S464)","v":100},null,null,"Bueno","79,99999-100","79,99999-100","79,99999-100","79,99999-100","79,99999-100","79,99999-100","79,99999-100","79,99999-100","79,99999-100",3]
[null,null,null,null,null,null,null,null,null,null,null,null,"T","58.6",58,6,{"$f":"+VLOOKUP(O465,'Resumen requerimientos'!$A$5:$B$104,2,FALSE)","v":"13R"},"Regular",{"$f":"+HLOOKUP($AA$461,$AB$462:$AJ$466,AK465,0)","v":"79,99999-100"},1,{"$f":"+VLOOKUP(O463,TablaResumen[],22,0)*T465","v":1},{"$f":"+VLOOKUP(O463,TablaResumen[],23,0)*T465","v":1},{"$f":"+IFERROR(VALUE(MID(S465,1,FIND(\"-\",S465)-1)),S465)","v":79.999989999999997},{"$f":"+IFERROR(VALUE(MID(S465,FIND(\"-\",S465)+1,LEN(S465)-FIND(\"-\",S465))),S465)","v":100},null,null,"Regular","79,99999-100","79,99999-100","79,99999-100","79,99999-100","79,99999-100","79,99999-100","79,99999-100","79,99999-100","79,99999-100",4]
[null,null,null,null,null,null,null,null,null,null,null,null,"T","58.7",58,7,{"$f":"+VLOOKUP(O466,'Resumen requerimientos'!$A$5:$B$104,2,FALSE)","v":"13R"},"Minimo",{"$f":"+HLOOKUP($AA$461,$AB$462:$AJ$466,AK466,0)","v":"79,99999-100"},1,{"$f":"+VLOOKUP(O464,TablaResumen[],22,0)*T466","v":1},{"$f":"+VLOOKUP(O464,TablaResumen[],23,0)*T466","v":1},{"$f":"+IFERROR(VALUE(MID(S466,1,FIND(\"-\",S466)-1)),S466)","v":79.999989999999997},{"$f":"+IFERROR(VALUE(MID(S466,FIND(\"-\",S466)+1,LEN(S466)-FIND(\"-\",S466))),S466)","v":100},null,null,"Minimo","79,99999-100","79,99999-100","79,99999-100","79,99999-100","79,99999-100","79,99999-100","79,99999-100","79,99999-100","79,99999-100",5]
[null,null,null,null,null,null,null,null,null,null,null,null,"T","58.8",58,8]
[null,null,null,null,null,null,null,null,null,null,null,null,"N","59.1",{"$f":"+IF(R467=\"\",O467+1,O467)","v":59},1,{"$f":"+VLOOKUP(O468,'Resumen requerimientos'!$A$5:$B$104,2,FALSE)","v":"13R"},{"$f":"+VLOOKUP(Q469,'Resumen requerimientos'!$B$5:$AJ$91,10,0)","v":"Confort visual activo"},null,{"$f":"+VLOOKUP(O469,TablaResumen[],16,0)","v":"Nivel mínimo de Iluminancia, rendimiento cromático y deslumbramiento"},null,"Opción",{"$f":"+CONCATENATE(VLOOKUP(O469,'Resumen requerimientos'!$A$5:$AB$91,24),\" de \",VLOOKUP(O469,'Resumen requerimientos'!$A$5:$AB$91,25))","v":"1 de 1"},null,null,null,{"$f":"+'Datos Generales Edificio'!$C$5","v":"RM - Región Metropolitana de Santiago"}]
[null,null,null,null,null,null,null,null,null,null,null,null,"N","59.2",{"$f":"+O468","v":59},2,{"$f":"+VLOOKUP(O469,'Resumen requerimientos'!$A$5:$B$104,2,FALSE)","v":"13R"},{"$f":"+VLOOKUP(O469,TablaResumen[],21,0)","v":"Índice de deslumbramiento unificado [UGR]"},null,null,null,"Simultáneo",{"$f":"+CONCATENATE(IF(VLOOKUP(O469,'Resumen requerimientos'!$A$5:$AB$91,26)=0,1,VLOOKUP(O469,'Resumen requerimientos'!$A$5:$AB$91,26)),\" de \",IF(VLOOKUP(O469,'Resumen requerimientos'!$A$5:$AB$91,27)=0,1,VLOOKUP(O469,'Resumen requerimientos'!$A$5:$AB$91,27)))","v":"3 de 3"},null,null,null,{"$f":"+'Datos Generales Edificio'!$F$28","v":"CI - Central Interior"}]
[null,null,null,null,null,null,null,null,null,null,null,null,"N","59.3",59,3,{"$f":"+VLOOKUP(O470,'Resumen requerimientos'!$A$5:$B$104,2,FALSE)","v":"13R"},"Nivel","Rango","Prioridad","Ponderación Of. Y Serv.","Ponderación Educ. y Salud.","Rango",null,null,null,{"$f":"+R468","v":"Confort visual activo"},"NL - Norte Litoral","ND - Norte Desértico","NVT - Norte Valle Transversal","CL - Central Litoral","CI - Central Interior","SL - Sur Litoral","SI - Sur Interior","SE - Sur Extremo","An - Andino"]
[null,null,null,null,null,null,null,null,null,null,null,null,"N","59.4",59,4,{"$f":"+VLOOKUP(O471,'Resumen requerimientos'!$A$5:$B$104,2,FALSE)","v":"13R"},"Muy bueno",{"$f":"+HLOOKUP($AA$469,$AB$470:$AJ$474,AK471,0)","v":"0-22"},1,{"$f":"+VLOOKUP(O469,TablaResumen[],22,0)*T471","v":1},{"$f":"+VLOOKUP(O469,TablaResumen[],23,0)*T471","v":1},{"$f":"+IFERROR(VALUE(MID(S471,1,FIND(\"-\",S471)-1)),S471)","v":0},{"$f":"+IFERROR(VALUE(MID(S471,FIND(\"-\",S471)+1,LEN(S471)-FIND(\"-\",S471))),S471)","v":22},null,null,"Muy bueno","0-22","0-22","0-22","0-22","0-22","0-22","0-22","0-22","0-22",2]
[null,null,null,null,null,null,null,null,null,null,null,null,"N","59.5",59,5,{"$f":"+VLOOKUP(O472,'Resumen requerimientos'!$A$5:$B$104,2,FALSE)","v":"13R"},"Bueno",{"$f":"+HLOOKUP($AA$469,$AB$470:$AJ$474,AK472,0)","v":"0-22"},1,{"$f":"+VLOOKUP(O470,TablaResumen[],22,0)*T472","v":1},{"$f":"+VLOOKUP(O470,TablaResumen[],23,0)*T472","v":1},{"$f":"+IFERROR(VALUE(MID(S472,1,FIND(\"-\",S472)-1)),S472)","v":0},{"$f":"+IFERROR(VALUE(MID(S472,FIND(\"-\",S472)+1,LEN(S472)-FIND(\"-\",S472))),S472)","v":22},null,null,"Bueno","0-22","0-22","0-22","0-22","0-22","0-22","0-22","0-22","0-22",3]
[null,null,null,null,null,null,null,null,null,null,null,null,"N","59.6",59,6,{"$f":"+VLOOKUP(O473,'Resumen requerimientos'!$A$5:$B$104,2,FALSE)","v":"13R"},"Regular",{"$f":"+HLOOKUP($AA$469,$AB$470:$AJ$474,AK473,0)","v":"0-22"},1,{"$f":"+VLOOKUP(O471,TablaResumen[],22,0)*T473","v":1},{"$f":"+VLOOKUP(O471,TablaResumen[],23,0)*T473","v":1},{"$f":"+IFERROR(VALUE(MID(S473,1,FIND(\"-\",S473)-1)),S473)","v":0},{"$f":"+IFERROR(VALUE(MID(S473,FIND(\"-\",S473)+1,LEN(S473)-FIND(\"-\",S473))),S473)","v":22},null,null,"Regular","0-22","0-22","0-22","0-22","0-22","0-22","0-22","0-22","0-22",4]
[null,null,null,null,null,null,null,null,null,null,null,null,"N","59.7",59,7,{"$f":"+VLOOKUP(O474,'Resumen requerimientos'!$A$5:$B$104,2,FALSE)","v":"13R"},"Minimo",{"$f":"+HLOOKUP($AA$469,$AB$470:$AJ$474,AK474,0)","v":"0-22"},1,{"$f":"+VLOOKUP(O472,TablaResumen[],22,0)*T474","v":1},{"$f":"+VLOOKUP(O472,TablaResumen[],23,0)*T474","v":1},{"$f":"+IFERROR(VALUE(MID(S474,1,FIND(\"-\",S474)-1)),S474)","v":0},{"$f":"+IFERROR(VALUE(MID(S474,FIND(\"-\",S474)+1,LEN(S474)-FIND(\"-\",S474))),S474)","v":22},null,null,"Minimo","0-22","0-22","0-22","0-22","0-22","0-22","0-22","0-22","0-22",5]
[null,null,null,null,null,null,null,null,null,null,null,null,"N","59.8",59,8]
[null,null,null,null,null,null,null,null,null,null,null,null,"N","60.1",{"$f":"+IF(R475=\"\",O475+1,O475)","v":60},1,{"$f":"+VLOOKUP(O476,'Resumen requerimientos'!$A$5:$B$104,2,FALSE)","v":"INST.CAI.14"},{"$f":"+VLOOKUP(Q477,'Resumen requerimientos'!$B$5:$AJ$91,10,0)","v":"Confort térmico activo"},null,{"$f":"+VLOOKUP(O477,TablaResumen[],16,0)","v":"Diseño y control del sistema"},null,"Opción",{"$f":"+CONCATENATE(VLOOKUP(O477,'Resumen requerimientos'!$A$5:$AB$91,24),\" de \",VLOOKUP(O477,'Resumen requerimientos'!$A$5:$AB$91,25))","v":"1 de 1"},null,null,null,{"$f":"+'Datos Generales Edificio'!$C$5","v":"RM - Región Metropolitana de Santiago"}]
[null,null,null,null,null,null,null,null,null,null,null,null,"N","60.2",{"$f":"+O476","v":60},2,{"$f":"+VLOOKUP(O477,'Resumen requerimientos'!$A$5:$B$104,2,FALSE)","v":"INST.CAI.14"},{"$f":"+VLOOKUP(O477,TablaResumen[],21,0)","v":"Cantidad y distribución de los controles del sistema de climatización"},null,null,null,"Simultáneo",{"$f":"+CONCATENATE(IF(VLOOKUP(O477,'Resumen requerimientos'!$A$5:$AB$91,26)=0,1,VLOOKUP(O477,'Resumen requerimientos'!$A$5:$AB$91,26)),\" de \",IF(VLOOKUP(O477,'Resumen requerimientos'!$A$5:$AB$91,27)=0,1,VLOOKUP(O477,'Resumen requerimientos'!$A$5:$AB$91,27)))","v":"1 de 1"},null,null,null,{"$f":"+'Datos Generales Edificio'!$F$28","v":"CI - Central Interior"}]
[null,null,null,null,null,null,null,null,null,null,null,null,"N","60.3",60,3,{"$f":"+VLOOKUP(O478,'Resumen requerimientos'!$A$5:$B$104,2,FALSE)","v":"INST.CAI.14"},"Nivel","Rango","Prioridad","Ponderación Of. Y Serv.","Ponderación Educ. y Salud.","Rango",null,null,null,{"$f":"+R477","v":"Cantidad y distribución de los controles del sistema de climatización"},"NL - Norte Litoral","ND - Norte Desértico","NVT - Norte Valle Transversal","CL - Central Litoral","CI - Central Interior","SL - Sur Litoral","SI - Sur Interior","SE - Sur Extremo","An - Andino"]
[null,null,null,null,null,null,null,null,null,null,null,null,"N","60.4",60,4,{"$f":"+VLOOKUP(O479,'Resumen requerimientos'!$A$5:$B$104,2,FALSE)","v":"INST.CAI.14"},"Muy bueno",{"$f":"+HLOOKUP($AA$477,$AB$478:$AJ$482,AK479,0)","v":"Un control por recinto"},1,{"$f":"+VLOOKUP(O477,TablaResumen[],22,0)*T479","v":0.02},{"$f":"+VLOOKUP(O477,TablaResumen[],23,0)*T479","v":0.02},{"$f":"+IFERROR(VALUE(MID(S479,1,FIND(\"-\",S479)-1)),S479)","v":"Un control por recinto"},{"$f":"+IFERROR(VALUE(MID(S479,FIND(\"-\",S479)+1,LEN(S479)-FIND(\"-\",S479))),S479)","v":"Un control por recinto"},null,null,"Muy bueno","Un control por recinto","Un control por recinto","Un control por recinto","Un control por recinto","Un control por recinto","Un control por recinto","Un control por recinto","Un control por recinto","Un control por recinto",2]
[null,null,null,null,null,null,null,null,null,null,null,null,"N","60.5",60,5,{"$f":"+VLOOKUP(O480,'Resumen requerimientos'!$A$5:$B$104,2,FALSE)","v":"INST.CAI.14"},"Bueno",{"$f":"+HLOOKUP($AA$477,$AB$478:$AJ$482,AK480,0)","v":"Un control por bloque térmico"},1,0.01,0.01,{"$f":"+IFERROR(VALUE(MID(S480,1,FIND(\"-\",S480)-1)),S480)","v":"Un control por bloque térmico"},{"$f":"+IFERROR(VALUE(MID(S480,FIND(\"-\",S480)+1,LEN(S480)-FIND(\"-\",S480))),S480)","v":"Un control por bloque térmico"},null,null,"Bueno","Un control por bloque térmico","Un control por bloque térmico","Un control por bloque térmico","Un control por bloque térmico","Un control por bloque térmico","Un control por bloque térmico","Un control por bloque térmico","Un control por bloque térmico","Un control por bloque térmico",3]
[null,null,null,null,null,null,null,null,null,null,null,null,"N","60.6",60,6,{"$f":"+VLOOKUP(O481,'Resumen requerimientos'!$A$5:$B$104,2,FALSE)","v":"INST.CAI.14"},"Regular",{"$f":"+HLOOKUP($AA$477,$AB$478:$AJ$482,AK481,0)","v":0},1,0,0,{"$f":"+IFERROR(VALUE(MID(S481,1,FIND(\"-\",S481)-1)),S481)","v":0},{"$f":"+IFERROR(VALUE(MID(S481,FIND(\"-\",S481)+1,LEN(S481)-FIND(\"-\",S481))),S481)","v":0},null,null,"Regular",null,null,null,null,null,null,null,null,null,4]
[null,null,null,null,null,null,null,null,null,null,null,null,"N","60.7",60,7,{"$f":"+VLOOKUP(O482,'Resumen requerimientos'!$A$5:$B$104,2,FALSE)","v":"INST.CAI.14"},"Minimo",{"$f":"+HLOOKUP($AA$477,$AB$478:$AJ$482,AK482,0)","v":0},1,0,0,{"$f":"+IFERROR(VALUE(MID(S482,1,FIND(\"-\",S482)-1)),S482)","v":0},{"$f":"+IFERROR(VALUE(MID(S482,FIND(\"-\",S482)+1,LEN(S482)-FIND(\"-\",S482))),S482)","v":0},null,null,"Minimo",null,null,null,null,null,null,null,null,null,5]
[null,null,null,null,null,null,null,null,null,null,null,null,"N","60.8",60,8]
[null,null,null,null,null,null,null,null,null,null,null,null,"T","61.1",{"$f":"+IF(R483=\"\",O483+1,O483)","v":61},1,{"$f":"+VLOOKUP(O484,'Resumen requerimientos'!$A$5:$B$104,2,FALSE)","v":"14R"},{"$f":"+VLOOKUP(Q485,'Resumen requerimientos'!$B$5:$AJ$91,10,0)","v":"Confort térmico activo"},null,{"$f":"+VLOOKUP(O485,TablaResumen[],16,0)","v":"Definir condiciones de diseño del proyecto de climatización"},null,"Opción",{"$f":"+CONCATENATE(VLOOKUP(O485,'Resumen requerimientos'!$A$5:$AB$91,24),\" de \",VLOOKUP(O485,'Resumen requerimientos'!$A$5:$AB$91,25))","v":"1 de 1"},null,null,null,{"$f":"+'Datos Generales Edificio'!$C$5","v":"RM - Región Metropolitana de Santiago"}]
[null,null,null,null,null,null,null,null,null,null,null,null,"T","61.2",{"$f":"+O484","v":61},2,{"$f":"+VLOOKUP(O485,'Resumen requerimientos'!$A$5:$B$104,2,FALSE)","v":"14R"},{"$f":"+VLOOKUP(O485,TablaResumen[],21,0)","v":"Declaración de condiciones de diseño del proyeto de climatización"},null,null,null,"Simultáneo",{"$f":"+CONCATENATE(IF(VLOOKUP(O485,'Resumen requerimientos'!$A$5:$AB$91,26)=0,1,VLOOKUP(O485,'Resumen requerimientos'!$A$5:$AB$91,26)),\" de \",IF(VLOOKUP(O485,'Resumen requerimientos'!$A$5:$AB$91,27)=0,1,VLOOKUP(O485,'Resumen requerimientos'!$A$5:$AB$91,27)))","v":"1 de 1"},null,null,null,{"$f":"+'Datos Generales Edificio'!$F$28","v":"CI - Central Interior"}]
[null,null,null,null,null,null,null,null,null,null,null,null,"T","61.3",61,3,{"$f":"+VLOOKUP(O486,'Resumen requerimientos'!$A$5:$B$104,2,FALSE)","v":"14R"},"Nivel","Rango","Prioridad","Ponderación Of. Y Serv.","Ponderación Educ. y Salud.","Rango",null,null,null,{"$f":"+R485","v":"Declaración de condiciones de diseño del proyeto de climatización"},"NL - Norte Litoral","ND - Norte Desértico","NVT - Norte Valle Transversal","CL - Central Litoral","CI - Central Interior","SL - Sur Litoral","SI - Sur Interior","SE - Sur Extremo","An - Andino"]
[null,null,null,null,null,null,null,null,null,null,null,null,"T","61.4",61,4,{"$f":"+VLOOKUP(O487,'Resumen requerimientos'!$A$5:$B$104,2,FALSE)","v":"14R"},"Muy bueno",{"$f":"+HLOOKUP($AA$485,$AB$486:$AJ$490,AK487,0)","v":"Se declaran condiciones de diseño del proyecto de climatización"},1,{"$f":"+VLOOKUP(O485,TablaResumen[],22,0)*T487","v":1},{"$f":"+VLOOKUP(O485,TablaResumen[],23,0)*T487","v":1},{"$f":"+IFERROR(VALUE(MID(S487,1,FIND(\"-\",S487)-1)),S487)","v":"Se declaran condiciones de diseño del proyecto de climatización"},{"$f":"+IFERROR(VALUE(MID(S487,FIND(\"-\",S487)+1,LEN(S487)-FIND(\"-\",S487))),S487)","v":"Se declaran condiciones de diseño del proyecto de climatización"},null,null,"Muy bueno","Se declaran condiciones de diseño del proyecto de climatización","Se declaran condiciones de diseño del proyecto de climatización","Se declaran condiciones de diseño del proyecto de climatización","Se declaran condiciones de diseño del proyecto de climatización","Se declaran condiciones de diseño del proyecto de climatización","Se declaran condiciones de diseño del proyecto de climatización","Se declaran condiciones de diseño del proyecto de climatización","Se declaran condiciones de diseño del proyecto de climatización","Se declaran condiciones de diseño del proyecto de climatización",2]
[null,null,null,null,null,null,null,null,null,null,null,null,"T","61.5",61,5,{"$f":"+VLOOKUP(O488,'Resumen requerimientos'!$A$5:$B$104,2,FALSE)","v":"14R"},"Bueno",{"$f":"+HLOOKUP($AA$485,$AB$486:$AJ$490,AK488,0)","v":"NO se declaran condiciones de diseño del proyecto de climatización"},-1,{"$f":"+VLOOKUP(O486,TablaResumen[],22,0)*T488","v":-1},{"$f":"+VLOOKUP(O486,TablaResumen[],23,0)*T488","v":-1},{"$f":"+IFERROR(VALUE(MID(S488,1,FIND(\"-\",S488)-1)),S488)","v":"NO se declaran condiciones de diseño del proyecto de climatización"},{"$f":"+IFERROR(VALUE(MID(S488,FIND(\"-\",S488)+1,LEN(S488)-FIND(\"-\",S488))),S488)","v":"NO se declaran condiciones de diseño del proyecto de climatización"},null,null,"Bueno","NO se declaran condiciones de diseño del proyecto de climatización","NO se declaran condiciones de diseño del proyecto de climatización","NO se declaran condiciones de diseño del proyecto de climatización","NO se declaran condiciones de diseño del proyecto de climatización","NO se declaran condiciones de diseño del proyecto de climatización","NO se declaran condiciones de diseño del proyecto de climatización","NO se declaran condiciones de diseño del proyecto de climatización","NO se declaran condiciones de diseño del proyecto de climatización","NO se declaran condiciones de diseño del proyecto de climatización",3]
[null,null,null,null,null,null,null,null,null,null,null,null,"T","61.6",61,6,{"$f":"+VLOOKUP(O489,'Resumen requerimientos'!$A$5:$B$104,2,FALSE)","v":"14R"},"Regular",{"$f":"+HLOOKUP($AA$485,$AB$486:$AJ$490,AK489,0)","v":0},0,{"$f":"+VLOOKUP(O487,TablaResumen[],22,0)*T489","v":0},{"$f":"+VLOOKUP(O487,TablaResumen[],23,0)*T489","v":0},{"$f":"+IFERROR(VALUE(MID(S489,1,FIND(\"-\",S489)-1)),S489)","v":0},{"$f":"+IFERROR(VALUE(MID(S489,FIND(\"-\",S489)+1,LEN(S489)-FIND(\"-\",S489))),S489)","v":0},null,null,"Regular",null,null,null,null,null,null,null,null,null,4]
[null,null,null,null,null,null,null,null,null,null,null,null,"T","61.7",61,7,{"$f":"+VLOOKUP(O490,'Resumen requerimientos'!$A$5:$B$104,2,FALSE)","v":"14R"},"Minimo",{"$f":"+HLOOKUP($AA$485,$AB$486:$AJ$490,AK490,0)","v":0},0,{"$f":"+VLOOKUP(O488,TablaResumen[],22,0)*T490","v":0},{"$f":"+VLOOKUP(O488,TablaResumen[],23,0)*T490","v":0},{"$f":"+IFERROR(VALUE(MID(S490,1,FIND(\"-\",S490)-1)),S490)","v":0},{"$f":"+IFERROR(VALUE(MID(S490,FIND(\"-\",S490)+1,LEN(S490)-FIND(\"-\",S490))),S490)","v":0},null,null,"Minimo",null,null,null,null,null,null,null,null,null,5]
[null,null,null,null,null,null,null,null,null,null,null,null,"T","61.8",61,8]
[null,null,null,null,null,null,null,null,null,null,null,null,"N","62.1",{"$f":"+IF(R491=\"\",O491+1,O491)","v":62},1,{"$f":"+VLOOKUP(O492,'Resumen requerimientos'!$A$5:$B$104,2,FALSE)","v":"INST.ENERGIA.15.1"},{"$f":"+VLOOKUP(Q493,'Resumen requerimientos'!$B$5:$AJ$91,10,0)","v":"Iluminación artificial"},null,{"$f":"+VLOOKUP(O493,TablaResumen[],16,0)","v":"Potencia Instalada"},null,"Opción",{"$f":"+CONCATENATE(VLOOKUP(O493,'Resumen requerimientos'!$A$5:$AB$91,24),\" de \",VLOOKUP(O493,'Resumen requerimientos'!$A$5:$AB$91,25))","v":"1 de 2"},null,null,null,{"$f":"+'Datos Generales Edificio'!$C$5","v":"RM - Región Metropolitana de Santiago"}]
[null,null,null,null,null,null,null,null,null,null,null,null,"N","62.2",{"$f":"+O492","v":62},2,{"$f":"+VLOOKUP(O493,'Resumen requerimientos'!$A$5:$B$104,2,FALSE)","v":"INST.ENERGIA.15.1"},{"$f":"+VLOOKUP(O493,TablaResumen[],21,0)","v":"Reducción de potencia instalada de iluminación artificial [%]"},null,null,null,"Simultáneo",{"$f":"+CONCATENATE(IF(VLOOKUP(O493,'Resumen requerimientos'!$A$5:$AB$91,26)=0,1,VLOOKUP(O493,'Resumen requerimientos'!$A$5:$AB$91,26)),\" de \",IF(VLOOKUP(O493,'Resumen requerimientos'!$A$5:$AB$91,27)=0,1,VLOOKUP(O493,'Resumen requerimientos'!$A$5:$AB$91,27)))","v":"1 de 1"},null,null,null,{"$f":"+'Datos Generales Edificio'!$F$28","v":"CI - Central Interior"}]
[null,null,null,null,null,null,null,null,null,null,null,null,"N","62.3",62,3,{"$f":"+VLOOKUP(O494,'Resumen requerimientos'!$A$5:$B$104,2,FALSE)","v":"INST.ENERGIA.15.1"},"Nivel","Rango","Prioridad","Ponderación Of. Y Serv.","Ponderación Educ. y Salud.","Rango",null,null,null,{"$f":"+R493","v":"Reducción de potencia instalada de iluminación artificial [%]"},"NL - Norte Litoral","ND - Norte Desértico","NVT - Norte Valle Transversal","CL - Central Litoral","CI - Central Interior","SL - Sur Litoral","SI - Sur Interior","SE - Sur Extremo","An - Andino"]
[null,null,null,null,null,null,null,null,null,null,null,null,"N","62.4",62,4,{"$f":"+VLOOKUP(O495,'Resumen requerimientos'!$A$5:$B$104,2,FALSE)","v":"INST.ENERGIA.15.1"},"Muy bueno",{"$f":"+HLOOKUP($AA$493,$AB$494:$AJ$498,AK495,0)","v":"30%-100%"},1,{"$f":"+VLOOKUP(O493,TablaResumen[],22,0)*T495","v":0.03},{"$f":"+VLOOKUP(O493,TablaResumen[],23,0)*T495","v":0.03},{"$f":"+IFERROR(VALUE(MID(S495,1,FIND(\"-\",S495)-1)),S495)","v":0.3},{"$f":"+IFERROR(VALUE(MID(S495,FIND(\"-\",S495)+1,LEN(S495)-FIND(\"-\",S495))),S495)","v":1},null,null,"Muy bueno","30%-100%","30%-100%","30%-100%","30%-100%","30%-100%","30%-100%","30%-100%","30%-100%","30%-100%",2]
[null,null,null,null,null,null,null,null,null,null,null,null,"N","62.5",62,5,{"$f":"+VLOOKUP(O496,'Resumen requerimientos'!$A$5:$B$104,2,FALSE)","v":"INST.ENERGIA.15.1"},"Bueno",{"$f":"+HLOOKUP($AA$493,$AB$494:$AJ$498,AK496,0)","v":"20%-30%"},{"$f":"2/3","v":0.66666666666666663},{"$f":"+VLOOKUP(O494,TablaResumen[],22,0)*T496","v":1.9999999999999997E-2},{"$f":"+VLOOKUP(O494,TablaResumen[],23,0)*T496","v":1.9999999999999997E-2},{"$f":"+IFERROR(VALUE(MID(S496,1,FIND(\"-\",S496)-1)),S496)","v":0.2},{"$f":"+IFERROR(VALUE(MID(S496,FIND(\"-\",S496)+1,LEN(S496)-FIND(\"-\",S496))),S496)","v":0.3},null,null,"Bueno","20%-30%","20%-30%","20%-30%","20%-30%","20%-30%","20%-30%","20%-30%","20%-30%","20%-30%",3]
[null,null,null,null,null,null,null,null,null,null,null,null,"N","62.6",62,6,{"$f":"+VLOOKUP(O497,'Resumen requerimientos'!$A$5:$B$104,2,FALSE)","v":"INST.ENERGIA.15.1"},"Regular",{"$f":"+HLOOKUP($AA$493,$AB$494:$AJ$498,AK497,0)","v":"10%-20%"},{"$f":"1/3","v":0.33333333333333331},{"$f":"+VLOOKUP(O495,TablaResumen[],22,0)*T497","v":9.9999999999999985E-3},{"$f":"+VLOOKUP(O495,TablaResumen[],23,0)*T497","v":9.9999999999999985E-3},{"$f":"+IFERROR(VALUE(MID(S497,1,FIND(\"-\",S497)-1)),S497)","v":0.1},{"$f":"+IFERROR(VALUE(MID(S497,FIND(\"-\",S497)+1,LEN(S497)-FIND(\"-\",S497))),S497)","v":0.2},null,null,"Regular","10%-20%","10%-20%","10%-20%","10%-20%","10%-20%","10%-20%","10%-20%","10%-20%","10%-20%",4]
[null,null,null,null,null,null,null,null,null,null,null,null,"N","62.7",62,7,{"$f":"+VLOOKUP(O498,'Resumen requerimientos'!$A$5:$B$104,2,FALSE)","v":"INST.ENERGIA.15.1"},"Minimo",{"$f":"+HLOOKUP($AA$493,$AB$494:$AJ$498,AK498,0)","v":0},0,{"$f":"+VLOOKUP(O496,TablaResumen[],22,0)*T498","v":0},{"$f":"+VLOOKUP(O496,TablaResumen[],23,0)*T498","v":0},{"$f":"+IFERROR(VALUE(MID(S498,1,FIND(\"-\",S498)-1)),S498)","v":0},{"$f":"+IFERROR(VALUE(MID(S498,FIND(\"-\",S498)+1,LEN(S498)-FIND(\"-\",S498))),S498)","v":0},null,null,"Minimo",null,null,null,null,null,null,null,null,null,5]
[null,null,null,null,null,null,null,null,null,null,null,null,"N","62.8",62,8]
[null,null,null,null,null,null,null,null,null,null,null,null,"N","63.1",{"$f":"+IF(R499=\"\",O499+1,O499)","v":63},1,{"$f":"+VLOOKUP(O500,'Resumen requerimientos'!$A$5:$B$104,2,FALSE)","v":"INST.ENERGIA.15.1"},{"$f":"+VLOOKUP(Q501,'Resumen requerimientos'!$B$5:$AJ$91,10,0)","v":"Iluminación artificial"},null,{"$f":"+VLOOKUP(O501,TablaResumen[],16,0)","v":"Potencia Instalada"},null,"Opción",{"$f":"+CONCATENATE(VLOOKUP(O501,'Resumen requerimientos'!$A$5:$AB$91,24),\" de \",VLOOKUP(O501,'Resumen requerimientos'!$A$5:$AB$91,25))","v":"2 de 2"},null,null,null,{"$f":"+'Datos Generales Edificio'!$C$5","v":"RM - Región Metropolitana de Santiago"}]
[null,null,null,null,null,null,null,null,null,null,null,null,"N","63.2",{"$f":"+O500","v":63},2,{"$f":"+VLOOKUP(O501,'Resumen requerimientos'!$A$5:$B$104,2,FALSE)","v":"INST.ENERGIA.15.1"},{"$f":"+VLOOKUP(O501,TablaResumen[],21,0)","v":"Disminución de consumo de energía en iluminación"},null,null,null,"Simultáneo",{"$f":"+CONCATENATE(IF(VLOOKUP(O501,'Resumen requerimientos'!$A$5:$AB$91,26)=0,1,VLOOKUP(O501,'Resumen requerimientos'!$A$5:$AB$91,26)),\" de \",IF(VLOOKUP(O501,'Resumen requerimientos'!$A$5:$AB$91,27)=0,1,VLOOKUP(O501,'Resumen requerimientos'!$A$5:$AB$91,27)))","v":"1 de 1"},null,null,null,{"$f":"+'Datos Generales Edificio'!$F$28","v":"CI - Central Interior"}]
[null,null,null,null,null,null,null,null,null,null,null,null,"N","63.3",63,3,{"$f":"+VLOOKUP(O502,'Resumen requerimientos'!$A$5:$B$104,2,FALSE)","v":"INST.ENERGIA.15.1"},"Nivel","Rango","Prioridad","Ponderación Of. Y Serv.","Ponderación Educ. y Salud.","Rango",null,null,null,{"$f":"+R501","v":"Disminución de consumo de energía en iluminación"},"NL - Norte Litoral","ND - Norte Desértico","NVT - Norte Valle Transversal","CL - Central Litoral","CI - Central Interior","SL - Sur Litoral","SI - Sur Interior","SE - Sur Extremo","An - Andino"]
[null,null,null,null,null,null,null,null,null,null,null,null,"N","63.4",63,4,{"$f":"+VLOOKUP(O503,'Resumen requerimientos'!$A$5:$B$104,2,FALSE)","v":"INST.ENERGIA.15.1"},"Muy bueno",{"$f":"+HLOOKUP($AA$501,$AB$502:$AJ$506,AK503,0)","v":"Cumple disminución en consumo de energía"},1,{"$f":"+VLOOKUP(O501,TablaResumen[],22,0)*T503","v":0.03},{"$f":"+VLOOKUP(O501,TablaResumen[],23,0)*T503","v":0.03},{"$f":"+IFERROR(VALUE(MID(S503,1,FIND(\"-\",S503)-1)),S503)","v":"Cumple disminución en consumo de energía"},{"$f":"+IFERROR(VALUE(MID(S503,FIND(\"-\",S503)+1,LEN(S503)-FIND(\"-\",S503))),S503)","v":"Cumple disminución en consumo de energía"},null,null,"Muy bueno","Cumple disminución en consumo de energía","Cumple disminución en consumo de energía","Cumple disminución en consumo de energía","Cumple disminución en consumo de energía","Cumple disminución en consumo de energía","Cumple disminución en consumo de energía","Cumple disminución en consumo de energía","Cumple disminución en consumo de energía","Cumple disminución en consumo de energía",2]
[null,null,null,null,null,null,null,null,null,null,null,null,"N","63.5",63,5,{"$f":"+VLOOKUP(O504,'Resumen requerimientos'!$A$5:$B$104,2,FALSE)","v":"INST.ENERGIA.15.1"},"Bueno",{"$f":"+HLOOKUP($AA$501,$AB$502:$AJ$506,AK504,0)","v":"NO cumple disminución en consumo de energía"},{"$f":"2/3","v":0.66666666666666663},{"$f":"+VLOOKUP(O502,TablaResumen[],22,0)*T504","v":1.9999999999999997E-2},{"$f":"+VLOOKUP(O502,TablaResumen[],23,0)*T504","v":1.9999999999999997E-2},{"$f":"+IFERROR(VALUE(MID(S504,1,FIND(\"-\",S504)-1)),S504)","v":"NO cumple disminución en consumo de energía"},{"$f":"+IFERROR(VALUE(MID(S504,FIND(\"-\",S504)+1,LEN(S504)-FIND(\"-\",S504))),S504)","v":"NO cumple disminución en consumo de energía"},null,null,"Bueno","NO cumple disminución en consumo de energía","NO cumple disminución en consumo de energía","NO cumple disminución en consumo de energía","NO cumple disminución en consumo de energía","NO cumple disminución en consumo de energía","NO cumple disminución en consumo de energía","NO cumple disminución en consumo de energía","NO cumple disminución en consumo de energía","NO cumple disminución en consumo de energía",3]
[null,null,null,null,null,null,null,null,null,null,null,null,"N","63.6",63,6,{"$f":"+VLOOKUP(O505,'Resumen requerimientos'!$A$5:$B$104,2,FALSE)","v":"INST.ENERGIA.15.1"},"Regular",{"$f":"+HLOOKUP($AA$501,$AB$502:$AJ$506,AK505,0)","v":0},{"$f":"1/3","v":0.33333333333333331},{"$f":"+VLOOKUP(O503,TablaResumen[],22,0)*T505","v":9.9999999999999985E-3},{"$f":"+VLOOKUP(O503,TablaResumen[],23,0)*T505","v":9.9999999999999985E-3},{"$f":"+IFERROR(VALUE(MID(S505,1,FIND(\"-\",S505)-1)),S505)","v":0},{"$f":"+IFERROR(VALUE(MID(S505,FIND(\"-\",S505)+1,LEN(S505)-FIND(\"-\",S505))),S505)","v":0},null,null,"Regular",null,null,null,null,null,null,null,null,null,4]
[null,null,null,null,null,null,null,null,null,null,null,null,"N","63.7",63,7,{"$f":"+VLOOKUP(O506,'Resumen requerimientos'!$A$5:$B$104,2,FALSE)","v":"INST.ENERGIA.15.1"},"Minimo",{"$f":"+HLOOKUP($AA$501,$AB$502:$AJ$506,AK506,0)","v":0},0,{"$f":"+VLOOKUP(O504,TablaResumen[],22,0)*T506","v":0},{"$f":"+VLOOKUP(O504,TablaResumen[],23,0)*T506","v":0},{"$f":"+IFERROR(VALUE(MID(S506,1,FIND(\"-\",S506)-1)),S506)","v":0},{"$f":"+IFERROR(VALUE(MID(S506,FIND(\"-\",S506)+1,LEN(S506)-FIND(\"-\",S506))),S506)","v":0},null,null,"Minimo",null,null,null,null,null,null,null,null,null,5]
[null,null,null,null,null,null,null,null,null,null,null,null,"N","63.8",63,8]
[null,null,null,null,null,null,null,null,null,null,null,null,"T","64.1",{"$f":"+IF(R507=\"\",O507+1,O507)","v":64},1,{"$f":"+VLOOKUP(O508,'Resumen requerimientos'!$A$5:$B$104,2,FALSE)","v":"INST.ENERGIA.15.2"},{"$f":"+VLOOKUP(Q509,'Resumen requerimientos'!$B$5:$AJ$91,10,0)","v":"Iluminación artificial"},null,{"$f":"+VLOOKUP(O509,TablaResumen[],16,0)","v":"Sistemas de control"},null,"Opción",{"$f":"+CONCATENATE(VLOOKUP(O509,'Resumen requerimientos'!$A$5:$AB$91,24),\" de \",VLOOKUP(O509,'Resumen requerimientos'!$A$5:$AB$91,25))","v":"1 de 2"},null,null,null,{"$f":"+'Datos Generales Edificio'!$C$5","v":"RM - Región Metropolitana de Santiago"}]
[null,null,null,null,null,null,null,null,null,null,null,null,"T","64.2",{"$f":"+O508","v":64},2,{"$f":"+VLOOKUP(O509,'Resumen requerimientos'!$A$5:$B$104,2,FALSE)","v":"INST.ENERGIA.15.2"},{"$f":"+VLOOKUP(O509,TablaResumen[],21,0)","v":"Incorporación de sistemas de control"},null,null,null,"Simultáneo",{"$f":"+CONCATENATE(IF(VLOOKUP(O509,'Resumen requerimientos'!$A$5:$AB$91,26)=0,1,VLOOKUP(O509,'Resumen requerimientos'!$A$5:$AB$91,26)),\" de \",IF(VLOOKUP(O509,'Resumen requerimientos'!$A$5:$AB$91,27)=0,1,VLOOKUP(O509,'Resumen requerimientos'!$A$5:$AB$91,27)))","v":"1 de 1"},null,null,null,{"$f":"+'Datos Generales Edificio'!$F$28","v":"CI - Central Interior"}]
[null,null,null,null,null,null,null,null,null,null,null,null,"T","64.3",64,3,{"$f":"+VLOOKUP(O510,'Resumen requerimientos'!$A$5:$B$104,2,FALSE)","v":"INST.ENERGIA.15.2"},"Nivel","Rango","Prioridad","Ponderación Of. Y Serv.","Ponderación Educ. y Salud.","Rango",null,null,null,{"$f":"+R509","v":"Incorporación de sistemas de control"},"NL - Norte Litoral","ND - Norte Desértico","NVT - Norte Valle Transversal","CL - Central Litoral","CI - Central Interior","SL - Sur Litoral","SI - Sur Interior","SE - Sur Extremo","An - Andino"]
[null,null,null,null,null,null,null,null,null,null,null,null,"T","64.4",64,4,{"$f":"+VLOOKUP(O511,'Resumen requerimientos'!$A$5:$B$104,2,FALSE)","v":"INST.ENERGIA.15.2"},"Muy bueno",{"$f":"+HLOOKUP($AA$509,$AB$510:$AJ$514,AK511,0)","v":"AA / AB"},1,{"$f":"+VLOOKUP(O509,TablaResumen[],22,0)*T511","v":0.02},{"$f":"+VLOOKUP(O509,TablaResumen[],23,0)*T511","v":0.02},{"$f":"+IFERROR(VALUE(MID(S511,1,FIND(\"-\",S511)-1)),S511)","v":"AA / AB"},{"$f":"+IFERROR(VALUE(MID(S511,FIND(\"-\",S511)+1,LEN(S511)-FIND(\"-\",S511))),S511)","v":"AA / AB"},null,null,"Muy bueno","AA / AB","AA / AB","AA / AB","AA / AB","AA / AB","AA / AB","AA / AB","AA / AB","AA / AB",2]
[null,null,null,null,null,null,null,null,null,null,null,null,"T","64.5",64,5,{"$f":"+VLOOKUP(O512,'Resumen requerimientos'!$A$5:$B$104,2,FALSE)","v":"INST.ENERGIA.15.2"},"Bueno",{"$f":"+HLOOKUP($AA$509,$AB$510:$AJ$514,AK512,0)","v":"AC / BB / BC"},{"$f":"1/2","v":0.5},{"$f":"+VLOOKUP(O510,TablaResumen[],22,0)*T512","v":0.01},{"$f":"+VLOOKUP(O510,TablaResumen[],23,0)*T512","v":0.01},{"$f":"+IFERROR(VALUE(MID(S512,1,FIND(\"-\",S512)-1)),S512)","v":"AC / BB / BC"},{"$f":"+IFERROR(VALUE(MID(S512,FIND(\"-\",S512)+1,LEN(S512)-FIND(\"-\",S512))),S512)","v":"AC / BB / BC"},null,null,"Bueno","AC / BB / BC","AC / BB / BC","AC / BB / BC","AC / BB / BC","AC / BB / BC","AC / BB / BC","AC / BB / BC","AC / BB / BC","AC / BB / BC",3]
[null,null,null,null,null,null,null,null,null,null,null,null,"T","64.6",64,6,{"$f":"+VLOOKUP(O513,'Resumen requerimientos'!$A$5:$B$104,2,FALSE)","v":"INST.ENERGIA.15.2"},"Regular",{"$f":"+HLOOKUP($AA$509,$AB$510:$AJ$514,AK513,0)","v":"CC"},{"$f":"0.5/2","v":0.25},{"$f":"+VLOOKUP(O511,TablaResumen[],22,0)*T513","v":5.0000000000000001E-3},{"$f":"+VLOOKUP(O511,TablaResumen[],23,0)*T513","v":5.0000000000000001E-3},{"$f":"+IFERROR(VALUE(MID(S513,1,FIND(\"-\",S513)-1)),S513)","v":"CC"},{"$f":"+IFERROR(VALUE(MID(S513,FIND(\"-\",S513)+1,LEN(S513)-FIND(\"-\",S513))),S513)","v":"CC"},null,null,"Regular","CC","CC","CC","CC","CC","CC","CC","CC","CC",4]
[null,null,null,null,null,null,null,null,null,null,null,null,"T","64.7",64,7,{"$f":"+VLOOKUP(O514,'Resumen requerimientos'!$A$5:$B$104,2,FALSE)","v":"INST.ENERGIA.15.2"},"Minimo",{"$f":"+HLOOKUP($AA$509,$AB$510:$AJ$514,AK514,0)","v":0},0,{"$f":"+VLOOKUP(O512,TablaResumen[],22,0)*T514","v":0},{"$f":"+VLOOKUP(O512,TablaResumen[],23,0)*T514","v":0},{"$f":"+IFERROR(VALUE(MID(S514,1,FIND(\"-\",S514)-1)),S514)","v":0},{"$f":"+IFERROR(VALUE(MID(S514,FIND(\"-\",S514)+1,LEN(S514)-FIND(\"-\",S514))),S514)","v":0},null,null,"Minimo",null,null,null,null,null,null,null,null,null,5]
[null,null,null,null,null,null,null,null,null,null,null,null,"T","64.8",64,8]
[null,null,null,null,null,null,null,null,null,null,null,null,"N","65.1",{"$f":"+IF(R515=\"\",O515+1,O515)","v":65},1,{"$f":"+VLOOKUP(O516,'Resumen requerimientos'!$A$5:$B$104,2,FALSE)","v":"INST.ENERGIA.15.2"},{"$f":"+VLOOKUP(Q517,'Resumen requerimientos'!$B$5:$AJ$91,10,0)","v":"Iluminación artificial"},null,{"$f":"+VLOOKUP(O517,TablaResumen[],16,0)","v":"Sistemas de control"},null,"Opción",{"$f":"+CONCATENATE(VLOOKUP(O517,'Resumen requerimientos'!$A$5:$AB$91,24),\" de \",VLOOKUP(O517,'Resumen requerimientos'!$A$5:$AB$91,25))","v":"2 de 2"},null,null,null,{"$f":"+'Datos Generales Edificio'!$C$5","v":"RM - Región Metropolitana de Santiago"}]
[null,null,null,null,null,null,null,null,null,null,null,null,"N","65.2",{"$f":"+O516","v":65},2,{"$f":"+VLOOKUP(O517,'Resumen requerimientos'!$A$5:$B$104,2,FALSE)","v":"INST.ENERGIA.15.2"},{"$f":"+VLOOKUP(O517,TablaResumen[],21,0)","v":"Disminución de consumo de energía en iluminación"},null,null,null,"Simultáneo",{"$f":"+CONCATENATE(IF(VLOOKUP(O517,'Resumen requerimientos'!$A$5:$AB$91,26)=0,1,VLOOKUP(O517,'Resumen requerimientos'!$A$5:$AB$91,26)),\" de \",IF(VLOOKUP(O517,'Resumen requerimientos'!$A$5:$AB$91,27)=0,1,VLOOKUP(O517,'Resumen requerimientos'!$A$5:$AB$91,27)))","v":"1 de 1"},null,null,null,{"$f":"+'Datos Generales Edificio'!$F$28","v":"CI - Central Interior"}]
[null,null,null,null,null,null,null,null,null,null,null,null,"N",{"$f":"+CONCATENATE(O518,\".\",P518)","v":"65.3"},65,{"$f":"+IF(O518=O517,P517+1,1)","v":3},{"$f":"+VLOOKUP(O518,'Resumen requerimientos'!$A$5:$B$104,2,FALSE)","v":"INST.ENERGIA.15.2"},"Nivel","Rango","Prioridad","Ponderación Of. Y Serv.","Ponderación Educ. y Salud.","Rango",null,null,null,{"$f":"+R517","v":"Disminución de consumo de energía en iluminación"},"NL - Norte Litoral","ND - Norte Desértico","NVT - Norte Valle Transversal","CL - Central Litoral","CI - Central Interior","SL - Sur Litoral","SI - Sur Interior","SE - Sur Extremo","An - Andino"]
[null,null,null,null,null,null,null,null,null,null,null,null,"N","65.4",65,4,{"$f":"+VLOOKUP(O519,'Resumen requerimientos'!$A$5:$B$104,2,FALSE)","v":"INST.ENERGIA.15.2"},"Muy bueno",{"$f":"+HLOOKUP($AA$517,$AB$518:$AJ$522,AK519,0)","v":"Cumple disminución en consumo de energía"},1,{"$f":"+VLOOKUP(O517,TablaResumen[],22,0)*T519","v":0.02},{"$f":"+VLOOKUP(O517,TablaResumen[],23,0)*T519","v":0.02},{"$f":"+IFERROR(VALUE(MID(S519,1,FIND(\"-\",S519)-1)),S519)","v":"Cumple disminución en consumo de energía"},{"$f":"+IFERROR(VALUE(MID(S519,FIND(\"-\",S519)+1,LEN(S519)-FIND(\"-\",S519))),S519)","v":"Cumple disminución en consumo de energía"},null,null,"Muy bueno","Cumple disminución en consumo de energía","Cumple disminución en consumo de energía","Cumple disminución en consumo de energía","Cumple disminución en consumo de energía","Cumple disminución en consumo de energía","Cumple disminución en consumo de energía","Cumple disminución en consumo de energía","Cumple disminución en consumo de energía","Cumple disminución en consumo de energía",2]
[null,null,null,null,null,null,null,null,null,null,null,null,"N","65.5",65,5,{"$f":"+VLOOKUP(O520,'Resumen requerimientos'!$A$5:$B$104,2,FALSE)","v":"INST.ENERGIA.15.2"},"Bueno",{"$f":"+HLOOKUP($AA$517,$AB$518:$AJ$522,AK520,0)","v":"NO cumple disminución en consumo de energía"},{"$f":"1/2","v":0.5},{"$f":"+VLOOKUP(O518,TablaResumen[],22,0)*T520","v":0.01},{"$f":"+VLOOKUP(O518,TablaResumen[],23,0)*T520","v":0.01},{"$f":"+IFERROR(VALUE(MID(S520,1,FIND(\"-\",S520)-1)),S520)","v":"NO cumple disminución en consumo de energía"},{"$f":"+IFERROR(VALUE(MID(S520,FIND(\"-\",S520)+1,LEN(S520)-FIND(\"-\",S520))),S520)","v":"NO cumple disminución en consumo de energía"},null,null,"Bueno","NO cumple disminución en consumo de energía","NO cumple disminución en consumo de energía","NO cumple disminución en consumo de energía","NO cumple disminución en consumo de energía","NO cumple disminución en consumo de energía","NO cumple disminución en consumo de energía","NO cumple disminución en consumo de energía","NO cumple disminución en consumo de energía","NO cumple disminución en consumo de energía",3]
[null,null,null,null,null,null,null,null,null,null,null,null,"N","65.6",65,6,{"$f":"+VLOOKUP(O521,'Resumen requerimientos'!$A$5:$B$104,2,FALSE)","v":"INST.ENERGIA.15.2"},"Regular",{"$f":"+HLOOKUP($AA$517,$AB$518:$AJ$522,AK521,0)","v":0},{"$f":"0.5/2","v":0.25},{"$f":"+VLOOKUP(O519,TablaResumen[],22,0)*T521","v":5.0000000000000001E-3},{"$f":"+VLOOKUP(O519,TablaResumen[],23,0)*T521","v":5.0000000000000001E-3},{"$f":"+IFERROR(VALUE(MID(S521,1,FIND(\"-\",S521)-1)),S521)","v":0},{"$f":"+IFERROR(VALUE(MID(S521,FIND(\"-\",S521)+1,LEN(S521)-FIND(\"-\",S521))),S521)","v":0},null,null,"Regular",null,null,null,null,null,null,null,null,null,4]
[null,null,null,null,null,null,null,null,null,null,null,null,"N","65.7",65,7,{"$f":"+VLOOKUP(O522,'Resumen requerimientos'!$A$5:$B$104,2,FALSE)","v":"INST.ENERGIA.15.2"},"Minimo",{"$f":"+HLOOKUP($AA$517,$AB$518:$AJ$522,AK522,0)","v":0},0,{"$f":"+VLOOKUP(O520,TablaResumen[],22,0)*T522","v":0},{"$f":"+VLOOKUP(O520,TablaResumen[],23,0)*T522","v":0},{"$f":"+IFERROR(VALUE(MID(S522,1,FIND(\"-\",S522)-1)),S522)","v":0},{"$f":"+IFERROR(VALUE(MID(S522,FIND(\"-\",S522)+1,LEN(S522)-FIND(\"-\",S522))),S522)","v":0},null,null,"Minimo",null,null,null,null,null,null,null,null,null,5]
[null,null,null,null,null,null,null,null,null,null,null,null,"N","65.8",65,8]
[null,null,null,null,null,null,null,null,null,null,null,null,"T","66.1",{"$f":"+IF(R523=\"\",O523+1,O523)","v":66},1,{"$f":"+VLOOKUP(O524,'Resumen requerimientos'!$A$5:$B$104,2,FALSE)","v":"INST.ENERGIA.16.1"},{"$f":"+VLOOKUP(Q525,'Resumen requerimientos'!$B$5:$AJ$91,10,0)","v":"Climatización y ACS"},null,{"$f":"+VLOOKUP(O525,TablaResumen[],16,0)","v":"Relación de la potencia requerida e instalada"},null,"Opción",{"$f":"+CONCATENATE(VLOOKUP(O525,'Resumen requerimientos'!$A$5:$AB$91,24),\" de \",VLOOKUP(O525,'Resumen requerimientos'!$A$5:$AB$91,25))","v":"1 de 2"},null,null,null,{"$f":"+'Datos Generales Edificio'!$C$5","v":"RM - Región Metropolitana de Santiago"}]
[null,null,null,null,null,null,null,null,null,null,null,null,"T","66.2",{"$f":"+O524","v":66},2,{"$f":"+VLOOKUP(O525,'Resumen requerimientos'!$A$5:$B$104,2,FALSE)","v":"INST.ENERGIA.16.1"},{"$f":"+VLOOKUP(O525,TablaResumen[],21,0)","v":"Cobertura de Potencia requerida en climatización y ACS"},null,null,null,"Simultáneo",{"$f":"+CONCATENATE(IF(VLOOKUP(O525,'Resumen requerimientos'!$A$5:$AB$91,26)=0,1,VLOOKUP(O525,'Resumen requerimientos'!$A$5:$AB$91,26)),\" de \",IF(VLOOKUP(O525,'Resumen requerimientos'!$A$5:$AB$91,27)=0,1,VLOOKUP(O525,'Resumen requerimientos'!$A$5:$AB$91,27)))","v":"1 de 1"},null,null,null,{"$f":"+'Datos Generales Edificio'!$F$28","v":"CI - Central Interior"}]
[null,null,null,null,null,null,null,null,null,null,null,null,"T","66.3",66,3,{"$f":"+VLOOKUP(O526,'Resumen requerimientos'!$A$5:$B$104,2,FALSE)","v":"INST.ENERGIA.16.1"},"Nivel","Rango","Prioridad","Ponderación Of. Y Serv.","Ponderación Educ. y Salud.","Rango",null,null,null,{"$f":"+R525","v":"Cobertura de Potencia requerida en climatización y ACS"},"NL - Norte Litoral","ND - Norte Desértico","NVT - Norte Valle Transversal","CL - Central Litoral","CI - Central Interior","SL - Sur Litoral","SI - Sur Interior","SE - Sur Extremo","An - Andino"]
[null,null,null,null,null,null,null,null,null,null,null,null,"T","66.4",66,4,{"$f":"+VLOOKUP(O527,'Resumen requerimientos'!$A$5:$B$104,2,FALSE)","v":"INST.ENERGIA.16.1"},"Muy bueno",{"$f":"+HLOOKUP($AA$525,$AB$526:$AJ$530,AK527,0)","v":"Cubre la potencia requerida"},1,{"$f":"+VLOOKUP(O525,TablaResumen[],22,0)*T527","v":1.4999999999999999E-2},{"$f":"+VLOOKUP(O525,TablaResumen[],23,0)*T527","v":1.4999999999999999E-2},{"$f":"+IFERROR(VALUE(MID(S527,1,FIND(\"-\",S527)-1)),S527)","v":"Cubre la potencia requerida"},{"$f":"+IFERROR(VALUE(MID(S527,FIND(\"-\",S527)+1,LEN(S527)-FIND(\"-\",S527))),S527)","v":"Cubre la potencia requerida"},null,null,"Muy bueno","Cubre la potencia requerida","Cubre la potencia requerida","Cubre la potencia requerida","Cubre la potencia requerida","Cubre la potencia requerida","Cubre la potencia requerida","Cubre la potencia requerida","Cubre la potencia requerida","Cubre la potencia requerida",2]
[null,null,null,null,null,null,null,null,null,null,null,null,"T","66.5",66,5,{"$f":"+VLOOKUP(O528,'Resumen requerimientos'!$A$5:$B$104,2,FALSE)","v":"INST.ENERGIA.16.1"},"Bueno",{"$f":"+HLOOKUP($AA$525,$AB$526:$AJ$530,AK528,0)","v":"NO Cubre la potencia requerdia"},0,{"$f":"+VLOOKUP(O526,TablaResumen[],22,0)*T528","v":0},{"$f":"+VLOOKUP(O526,TablaResumen[],23,0)*T528","v":0},{"$f":"+IFERROR(VALUE(MID(S528,1,FIND(\"-\",S528)-1)),S528)","v":"NO Cubre la potencia requerdia"},{"$f":"+IFERROR(VALUE(MID(S528,FIND(\"-\",S528)+1,LEN(S528)-FIND(\"-\",S528))),S528)","v":"NO Cubre la potencia requerdia"},null,null,"Bueno","NO Cubre la potencia requerdia","NO Cubre la potencia requerdia","NO Cubre la potencia requerdia","NO Cubre la potencia requerdia","NO Cubre la potencia requerdia","NO Cubre la potencia requerdia","NO Cubre la potencia requerdia","NO Cubre la potencia requerdia","NO Cubre la potencia requerdia",3]
[null,null,null,null,null,null,null,null,null,null,null,null,"T","66.6",66,6,{"$f":"+VLOOKUP(O529,'Resumen requerimientos'!$A$5:$B$104,2,FALSE)","v":"INST.ENERGIA.16.1"},"Regular",{"$f":"+HLOOKUP($AA$525,$AB$526:$AJ$530,AK529,0)","v":0},0,{"$f":"+VLOOKUP(O527,TablaResumen[],22,0)*T529","v":0},{"$f":"+VLOOKUP(O527,TablaResumen[],23,0)*T529","v":0},{"$f":"+IFERROR(VALUE(MID(S529,1,FIND(\"-\",S529)-1)),S529)","v":0},{"$f":"+IFERROR(VALUE(MID(S529,FIND(\"-\",S529)+1,LEN(S529)-FIND(\"-\",S529))),S529)","v":0},null,null,"Regular",null,null,null,null,null,null,null,null,null,4]
[null,null,null,null,null,null,null,null,null,null,null,null,"T","66.7",66,7,{"$f":"+VLOOKUP(O530,'Resumen requerimientos'!$A$5:$B$104,2,FALSE)","v":"INST.ENERGIA.16.1"},"Minimo",{"$f":"+HLOOKUP($AA$525,$AB$526:$AJ$530,AK530,0)","v":0},0,{"$f":"+VLOOKUP(O528,TablaResumen[],22,0)*T530","v":0},{"$f":"+VLOOKUP(O528,TablaResumen[],23,0)*T530","v":0},{"$f":"+IFERROR(VALUE(MID(S530,1,FIND(\"-\",S530)-1)),S530)","v":0},{"$f":"+IFERROR(VALUE(MID(S530,FIND(\"-\",S530)+1,LEN(S530)-FIND(\"-\",S530))),S530)","v":0},null,null,"Minimo",null,null,null,null,null,null,null,null,null,5]
[null,null,null,null,null,null,null,null,null,null,null,null,"T","66.8",66,8]
[null,null,null,null,null,null,null,null,null,null,null,null,"T","67.1",{"$f":"+IF(R531=\"\",O531+1,O531)","v":67},1,{"$f":"+VLOOKUP(O532,'Resumen requerimientos'!$A$5:$B$104,2,FALSE)","v":"INST.ENERGIA.16.1"},{"$f":"+VLOOKUP(Q533,'Resumen requerimientos'!$B$5:$AJ$91,10,0)","v":"Climatización y ACS"},null,{"$f":"+VLOOKUP(O533,TablaResumen[],16,0)","v":"Relación de la potencia requerida e instalada"},null,"Opción",{"$f":"+CONCATENATE(VLOOKUP(O533,'Resumen requerimientos'!$A$5:$AB$91,24),\" de \",VLOOKUP(O533,'Resumen requerimientos'!$A$5:$AB$91,25))","v":"2 de 2"},null,null,null,{"$f":"+'Datos Generales Edificio'!$C$5","v":"RM - Región Metropolitana de Santiago"}]
[null,null,null,null,null,null,null,null,null,null,null,null,"T","67.2",{"$f":"+O532","v":67},2,{"$f":"+VLOOKUP(O533,'Resumen requerimientos'!$A$5:$B$104,2,FALSE)","v":"INST.ENERGIA.16.1"},{"$f":"+VLOOKUP(O533,TablaResumen[],21,0)","v":"Sobredimensionamiento de Potencia requerida en calefacción"},null,null,null,"Simultáneo",{"$f":"+CONCATENATE(IF(VLOOKUP(O533,'Resumen requerimientos'!$A$5:$AB$91,26)=0,1,VLOOKUP(O533,'Resumen requerimientos'!$A$5:$AB$91,26)),\" de \",IF(VLOOKUP(O533,'Resumen requerimientos'!$A$5:$AB$91,27)=0,1,VLOOKUP(O533,'Resumen requerimientos'!$A$5:$AB$91,27)))","v":"1 de 2"},null,null,null,{"$f":"+'Datos Generales Edificio'!$F$28","v":"CI - Central Interior"}]
[null,null,null,null,null,null,null,null,null,null,null,null,"T","67.3",67,3,{"$f":"+VLOOKUP(O534,'Resumen requerimientos'!$A$5:$B$104,2,FALSE)","v":"INST.ENERGIA.16.1"},"Nivel","Rango","Prioridad","Ponderación Of. Y Serv.","Ponderación Educ. y Salud.","Rango",null,null,null,{"$f":"+R533","v":"Sobredimensionamiento de Potencia requerida en calefacción"},"NL - Norte Litoral","ND - Norte Desértico","NVT - Norte Valle Transversal","CL - Central Litoral","CI - Central Interior","SL - Sur Litoral","SI - Sur Interior","SE - Sur Extremo","An - Andino"]
[null,null,null,null,null,null,null,null,null,null,null,null,"T","67.4",67,4,{"$f":"+VLOOKUP(O535,'Resumen requerimientos'!$A$5:$B$104,2,FALSE)","v":"INST.ENERGIA.16.1"},"Muy bueno",{"$f":"+HLOOKUP($AA$533,$AB$534:$AJ$538,AK535,0)","v":"0%-25%"},1,{"$f":"+VLOOKUP(O533,TablaResumen[],22,0)*T535","v":5.0000000000000001E-3},{"$f":"+VLOOKUP(O533,TablaResumen[],23,0)*T535","v":5.0000000000000001E-3},{"$f":"+IFERROR(VALUE(MID(S535,1,FIND(\"-\",S535)-1)),S535)","v":0},{"$f":"+IFERROR(VALUE(MID(S535,FIND(\"-\",S535)+1,LEN(S535)-FIND(\"-\",S535))),S535)","v":0.25},null,null,"Muy bueno","0%-25%","0%-25%","0%-25%","0%-25%","0%-25%","0%-25%","0%-25%","0%-25%","0%-25%",2]
[null,null,null,null,null,null,null,null,null,null,null,null,"T","67.5",67,5,{"$f":"+VLOOKUP(O536,'Resumen requerimientos'!$A$5:$B$104,2,FALSE)","v":"INST.ENERGIA.16.1"},"Bueno",{"$f":"+HLOOKUP($AA$533,$AB$534:$AJ$538,AK536,0)","v":"25%-1000%"},0,{"$f":"+VLOOKUP(O534,TablaResumen[],22,0)*T536","v":0},{"$f":"+VLOOKUP(O534,TablaResumen[],23,0)*T536","v":0},{"$f":"+IFERROR(VALUE(MID(S536,1,FIND(\"-\",S536)-1)),S536)","v":0.25},{"$f":"+IFERROR(VALUE(MID(S536,FIND(\"-\",S536)+1,LEN(S536)-FIND(\"-\",S536))),S536)","v":10},null,null,"Bueno","25%-1000%","25%-1000%","25%-1000%","25%-1000%","25%-1000%","25%-1000%","25%-1000%","25%-1000%","25%-1000%",3]
[null,null,null,null,null,null,null,null,null,null,null,null,"T","67.6",67,6,{"$f":"+VLOOKUP(O537,'Resumen requerimientos'!$A$5:$B$104,2,FALSE)","v":"INST.ENERGIA.16.1"},"Regular",{"$f":"+HLOOKUP($AA$533,$AB$534:$AJ$538,AK537,0)","v":0},0,{"$f":"+VLOOKUP(O535,TablaResumen[],22,0)*T537","v":0},{"$f":"+VLOOKUP(O535,TablaResumen[],23,0)*T537","v":0},{"$f":"+IFERROR(VALUE(MID(S537,1,FIND(\"-\",S537)-1)),S537)","v":0},{"$f":"+IFERROR(VALUE(MID(S537,FIND(\"-\",S537)+1,LEN(S537)-FIND(\"-\",S537))),S537)","v":0},null,null,"Regular",null,null,null,null,null,null,null,null,null,4]
[null,null,null,null,null,null,null,null,null,null,null,null,"T","67.7",67,7,{"$f":"+VLOOKUP(O538,'Resumen requerimientos'!$A$5:$B$104,2,FALSE)","v":"INST.ENERGIA.16.1"},"Minimo",{"$f":"+HLOOKUP($AA$533,$AB$534:$AJ$538,AK538,0)","v":0},0,{"$f":"+VLOOKUP(O536,TablaResumen[],22,0)*T538","v":0},{"$f":"+VLOOKUP(O536,TablaResumen[],23,0)*T538","v":0},{"$f":"+IFERROR(VALUE(MID(S538,1,FIND(\"-\",S538)-1)),S538)","v":0},{"$f":"+IFERROR(VALUE(MID(S538,FIND(\"-\",S538)+1,LEN(S538)-FIND(\"-\",S538))),S538)","v":0},null,null,"Minimo",null,null,null,null,null,null,null,null,null,5]
[null,null,null,null,null,null,null,null,null,null,null,null,"T","67.8",67,8]
[null,null,null,null,null,null,null,null,null,null,null,null,"N","68.1",{"$f":"+IF(R539=\"\",O539+1,O539)","v":68},1,{"$f":"+VLOOKUP(O540,'Resumen requerimientos'!$A$5:$B$104,2,FALSE)","v":"INST.ENERGIA.16.1"},{"$f":"+VLOOKUP(Q541,'Resumen requerimientos'!$B$5:$AJ$91,10,0)","v":"Climatización y ACS"},null,{"$f":"+VLOOKUP(O541,TablaResumen[],16,0)","v":"Relación de la potencia requerida e instalada"},null,"Opción",{"$f":"+CONCATENATE(VLOOKUP(O541,'Resumen requerimientos'!$A$5:$AB$91,24),\" de \",VLOOKUP(O541,'Resumen requerimientos'!$A$5:$AB$91,25))","v":"2 de 2"},null,null,null,{"$f":"+'Datos Generales Edificio'!$C$5","v":"RM - Región Metropolitana de Santiago"}]
[null,null,null,null,null,null,null,null,null,null,null,null,"N","68.2",{"$f":"+O540","v":68},2,{"$f":"+VLOOKUP(O541,'Resumen requerimientos'!$A$5:$B$104,2,FALSE)","v":"INST.ENERGIA.16.1"},{"$f":"+VLOOKUP(O541,TablaResumen[],21,0)","v":"Sobredimensionamiento de Potencia requerida en refrigeración"},null,null,null,"Simultáneo",{"$f":"+CONCATENATE(IF(VLOOKUP(O541,'Resumen requerimientos'!$A$5:$AB$91,26)=0,1,VLOOKUP(O541,'Resumen requerimientos'!$A$5:$AB$91,26)),\" de \",IF(VLOOKUP(O541,'Resumen requerimientos'!$A$5:$AB$91,27)=0,1,VLOOKUP(O541,'Resumen requerimientos'!$A$5:$AB$91,27)))","v":"2 de 2"},null,null,null,{"$f":"+'Datos Generales Edificio'!$F$28","v":"CI - Central Interior"}]
[null,null,null,null,null,null,null,null,null,null,null,null,"N","68.3",68,3,{"$f":"+VLOOKUP(O542,'Resumen requerimientos'!$A$5:$B$104,2,FALSE)","v":"INST.ENERGIA.16.1"},"Nivel","Rango","Prioridad","Ponderación Of. Y Serv.","Ponderación Educ. y Salud.","Rango",null,null,null,{"$f":"+R541","v":"Sobredimensionamiento de Potencia requerida en refrigeración"},"NL - Norte Litoral","ND - Norte Desértico","NVT - Norte Valle Transversal","CL - Central Litoral","CI - Central Interior","SL - Sur Litoral","SI - Sur Interior","SE - Sur Extremo","An - Andino"]
[null,null,null,null,null,null,null,null,null,null,null,null,"N","68.4",68,4,{"$f":"+VLOOKUP(O543,'Resumen requerimientos'!$A$5:$B$104,2,FALSE)","v":"INST.ENERGIA.16.1"},"Muy bueno",{"$f":"+HLOOKUP($AA$541,$AB$542:$AJ$546,AK543,0)","v":"0%-15%"},1,{"$f":"+VLOOKUP(O541,TablaResumen[],22,0)*T543","v":5.0000000000000001E-3},{"$f":"+VLOOKUP(O541,TablaResumen[],23,0)*T543","v":5.0000000000000001E-3},{"$f":"+IFERROR(VALUE(MID(S543,1,FIND(\"-\",S543)-1)),S543)","v":0},{"$f":"+IFERROR(VALUE(MID(S543,FIND(\"-\",S543)+1,LEN(S543)-FIND(\"-\",S543))),S543)","v":0.15},null,null,"Muy bueno","0%-15%","0%-15%","0%-15%","0%-15%","0%-15%","0%-15%","0%-15%","0%-15%","0%-15%",2]
[null,null,null,null,null,null,null,null,null,null,null,null,"N","68.5",68,5,{"$f":"+VLOOKUP(O544,'Resumen requerimientos'!$A$5:$B$104,2,FALSE)","v":"INST.ENERGIA.16.1"},"Bueno",{"$f":"+HLOOKUP($AA$541,$AB$542:$AJ$546,AK544,0)","v":"15%-1000%"},0,{"$f":"+VLOOKUP(O542,TablaResumen[],22,0)*T544","v":0},{"$f":"+VLOOKUP(O542,TablaResumen[],23,0)*T544","v":0},{"$f":"+IFERROR(VALUE(MID(S544,1,FIND(\"-\",S544)-1)),S544)","v":0.15},{"$f":"+IFERROR(VALUE(MID(S544,FIND(\"-\",S544)+1,LEN(S544)-FIND(\"-\",S544))),S544)","v":10},null,null,"Bueno","15%-1000%","15%-1000%","15%-1000%","15%-1000%","15%-1000%","15%-1000%","15%-1000%","15%-1000%","15%-1000%",3]
[null,null,null,null,null,null,null,null,null,null,null,null,"N","68.6",68,6,{"$f":"+VLOOKUP(O545,'Resumen requerimientos'!$A$5:$B$104,2,FALSE)","v":"INST.ENERGIA.16.1"},"Regular",{"$f":"+HLOOKUP($AA$541,$AB$542:$AJ$546,AK545,0)","v":0},0,{"$f":"+VLOOKUP(O543,TablaResumen[],22,0)*T545","v":0},{"$f":"+VLOOKUP(O543,TablaResumen[],23,0)*T545","v":0},{"$f":"+IFERROR(VALUE(MID(S545,1,FIND(\"-\",S545)-1)),S545)","v":0},{"$f":"+IFERROR(VALUE(MID(S545,FIND(\"-\",S545)+1,LEN(S545)-FIND(\"-\",S545))),S545)","v":0},null,null,"Regular",null,null,null,null,null,null,null,null,null,4]
[null,null,null,null,null,null,null,null,null,null,null,null,"N","68.7",68,7,{"$f":"+VLOOKUP(O546,'Resumen requerimientos'!$A$5:$B$104,2,FALSE)","v":"INST.ENERGIA.16.1"},"Minimo",{"$f":"+HLOOKUP($AA$541,$AB$542:$AJ$546,AK546,0)","v":0},0,{"$f":"+VLOOKUP(O544,TablaResumen[],22,0)*T546","v":0},{"$f":"+VLOOKUP(O544,TablaResumen[],23,0)*T546","v":0},{"$f":"+IFERROR(VALUE(MID(S546,1,FIND(\"-\",S546)-1)),S546)","v":0},{"$f":"+IFERROR(VALUE(MID(S546,FIND(\"-\",S546)+1,LEN(S546)-FIND(\"-\",S546))),S546)","v":0},null,null,"Minimo",null,null,null,null,null,null,null,null,null,5]
[null,null,null,null,null,null,null,null,null,null,null,null,"N","68.8",68,8]
[null,null,null,null,null,null,null,null,null,null,null,null,"N","69.1",{"$f":"+IF(R547=\"\",O547+1,O547)","v":69},1,{"$f":"+VLOOKUP(O548,'Resumen requerimientos'!$A$5:$B$104,2,FALSE)","v":"INST.ENERGIA.16.2"},{"$f":"+VLOOKUP(Q549,'Resumen requerimientos'!$B$5:$AJ$91,10,0)","v":"Climatización y ACS"},null,{"$f":"+VLOOKUP(O549,TablaResumen[],16,0)","v":"Rendimiento Nominal"},null,"Opción",{"$f":"+CONCATENATE(VLOOKUP(O549,'Resumen requerimientos'!$A$5:$AB$91,24),\" de \",VLOOKUP(O549,'Resumen requerimientos'!$A$5:$AB$91,25))","v":"2 de 3"},null,null,null,{"$f":"+'Datos Generales Edificio'!$C$5","v":"RM - Región Metropolitana de Santiago"}]
[null,null,null,null,null,null,null,null,null,null,null,null,"N","69.2",{"$f":"+O548","v":69},2,{"$f":"+VLOOKUP(O549,'Resumen requerimientos'!$A$5:$B$104,2,FALSE)","v":"INST.ENERGIA.16.2"},{"$f":"+VLOOKUP(O549,TablaResumen[],21,0)","v":"Rendimiento nominal del sistema de calefacción por combustión"},null,null,null,"Simultáneo",{"$f":"+CONCATENATE(IF(VLOOKUP(O549,'Resumen requerimientos'!$A$5:$AB$91,26)=0,1,VLOOKUP(O549,'Resumen requerimientos'!$A$5:$AB$91,26)),\" de \",IF(VLOOKUP(O549,'Resumen requerimientos'!$A$5:$AB$91,27)=0,1,VLOOKUP(O549,'Resumen requerimientos'!$A$5:$AB$91,27)))","v":"1 de 1"},null,null,null,{"$f":"+'Datos Generales Edificio'!$F$28","v":"CI - Central Interior"}]
[null,null,null,null,null,null,null,null,null,null,null,null,"N","69.3",69,3,{"$f":"+VLOOKUP(O550,'Resumen requerimientos'!$A$5:$B$104,2,FALSE)","v":"INST.ENERGIA.16.2"},"Nivel","Rango","Prioridad","Ponderación Of. Y Serv.","Ponderación Educ. y Salud.","Rango",null,null,null,{"$f":"+R549","v":"Rendimiento nominal del sistema de calefacción por combustión"},"NL - Norte Litoral","ND - Norte Desértico","NVT - Norte Valle Transversal","CL - Central Litoral","CI - Central Interior","SL - Sur Litoral","SI - Sur Interior","SE - Sur Extremo","An - Andino",null,null,"NL - Norte Litoral","ND - Norte Desértico","NVT - Norte Valle Transversal","CL - Central Litoral","CI - Central Interior","SL - Sur Litoral","SI - Sur Interior","SE - Sur Extremo","An - Andino"]
[null,null,null,null,null,null,null,null,null,null,null,null,"N","69.4",69,4,{"$f":"+VLOOKUP(O551,'Resumen requerimientos'!$A$5:$B$104,2,FALSE)","v":"INST.ENERGIA.16.2"},"Muy bueno",{"$f":"+HLOOKUP($AA$549,$AB$550:$AJ$554,AK551,0)","v":"0,91-1"},{"$f":"+HLOOKUP($AA$549,$AM$550:$AU$554,AK551,FALSE)","v":1},{"$f":"+VLOOKUP(O549,TablaResumen[],22,0)*T551","v":0.08},{"$f":"+VLOOKUP(O549,TablaResumen[],23,0)*T551","v":0.08},{"$f":"+IFERROR(VALUE(MID(S551,1,FIND(\"-\",S551)-1)),S551)","v":0.91},{"$f":"+IFERROR(VALUE(MID(S551,FIND(\"-\",S551)+1,LEN(S551)-FIND(\"-\",S551))),S551)","v":1},null,null,"Muy bueno","0,91-0","0,91-1","0,91-1","0,91-1","0,91-1","0,91-1","0,91-1","0,91-1","0,91-1",2,null,{"$f":"+IF('Datos Generales Edificio'!$F$50=\"Calefacción por combustión\",1,0)","v":1},{"$f":"+IF('Datos Generales Edificio'!$F$50=\"Calefacción por combustión\",1,0)","v":1},{"$f":"+IF('Datos Generales Edificio'!$F$50=\"Calefacción por combustión\",1,0)","v":1},{"$f":"+IF('Datos Generales Edificio'!$F$50=\"Calefacción por combustión\",1,0)","v":1},{"$f":"+IF('Datos Generales Edificio'!$F$50=\"Calefacción por combustión\",1,0)","v":1},{"$f":"+IF('Datos Generales Edificio'!$F$50=\"Calefacción por combustión\",1,0)","v":1},{"$f":"+IF('Datos Generales Edificio'!$F$50=\"Calefacción por combustión\",1,0)","v":1},{"$f":"+IF('Datos Generales Edificio'!$F$50=\"Calefacción por combustión\",1,0)","v":1},{"$f":"+IF('Datos Generales Edificio'!$F$50=\"Calefacción por combustión\",1,0)","v":1}]
[null,null,null,null,null,null,null,null,null,null,null,null,"N","69.5",69,5,{"$f":"+VLOOKUP(O552,'Resumen requerimientos'!$A$5:$B$104,2,FALSE)","v":"INST.ENERGIA.16.2"},"Bueno",{"$f":"+HLOOKUP($AA$549,$AB$550:$AJ$554,AK552,0)","v":"0,88-0,91"},{"$f":"+HLOOKUP($AA$549,$AM$550:$AU$554,AK552,FALSE)","v":0.8125},{"$f":"+VLOOKUP(O550,TablaResumen[],22,0)*T552","v":6.5000000000000002E-2},{"$f":"+VLOOKUP(O550,TablaResumen[],23,0)*T552","v":6.5000000000000002E-2},{"$f":"+IFERROR(VALUE(MID(S552,1,FIND(\"-\",S552)-1)),S552)","v":0.88},{"$f":"+IFERROR(VALUE(MID(S552,FIND(\"-\",S552)+1,LEN(S552)-FIND(\"-\",S552))),S552)","v":0.91},null,null,"Bueno","0,88-0,91","0,88-0,91","0,88-0,91","0,88-0,91","0,88-0,91","0,88-0,91","0,88-0,91","0,88-0,91","0,88-0,91",3,null,{"$f":"+IF('Datos Generales Edificio'!$F$50=\"Calefacción por combustión\",6.5/8,0)","v":0.8125},{"$f":"+IF('Datos Generales Edificio'!$F$50=\"Calefacción por combustión\",6.5/8,0)","v":0.8125},{"$f":"+IF('Datos Generales Edificio'!$F$50=\"Calefacción por combustión\",6.5/8,0)","v":0.8125},{"$f":"+IF('Datos Generales Edificio'!$F$50=\"Calefacción por combustión\",6.5/8,0)","v":0.8125},{"$f":"+IF('Datos Generales Edificio'!$F$50=\"Calefacción por combustión\",6.5/8,0)","v":0.8125},{"$f":"+IF('Datos Generales Edificio'!$F$50=\"Calefacción por combustión\",6.5/8,0)","v":0.8125},{"$f":"+IF('Datos Generales Edificio'!$F$50=\"Calefacción por combustión\",6.5/8,0)","v":0.8125},{"$f":"+IF('Datos Generales Edificio'!$F$50=\"Calefacción por combustión\",6.5/8,0)","v":0.8125},{"$f":"+IF('Datos Generales Edificio'!$F$50=\"Calefacción por combustión\",6.5/8,0)","v":0.8125}]
[null,null,null,null,null,null,null,null,null,null,null,null,"N","69.6",69,6,{"$f":"+VLOOKUP(O553,'Resumen requerimientos'!$A$5:$B$104,2,FALSE)","v":"INST.ENERGIA.16.2"},"Regular",{"$f":"+HLOOKUP($AA$549,$AB$550:$AJ$554,AK553,0)","v":"0,85-0,88"},{"$f":"+HLOOKUP($AA$549,$AM$550:$AU$554,AK553,FALSE)","v":0.5},{"$f":"+VLOOKUP(O551,TablaResumen[],22,0)*T553","v":0.04},{"$f":"+VLOOKUP(O551,TablaResumen[],23,0)*T553","v":0.04},{"$f":"+IFERROR(VALUE(MID(S553,1,FIND(\"-\",S553)-1)),S553)","v":0.85},{"$f":"+IFERROR(VALUE(MID(S553,FIND(\"-\",S553)+1,LEN(S553)-FIND(\"-\",S553))),S553)","v":0.88},null,null,"Regular","0,85-0,88","0,85-0,88","0,85-0,88","0,85-0,88","0,85-0,88","0,85-0,88","0,85-0,88","0,85-0,88","0,85-0,88",4,null,{"$f":"+IF('Datos Generales Edificio'!$F$50=\"Calefacción por combustión\",4/8,0)","v":0.5},{"$f":"+IF('Datos Generales Edificio'!$F$50=\"Calefacción por combustión\",4/8,0)","v":0.5},{"$f":"+IF('Datos Generales Edificio'!$F$50=\"Calefacción por combustión\",4/8,0)","v":0.5},{"$f":"+IF('Datos Generales Edificio'!$F$50=\"Calefacción por combustión\",4/8,0)","v":0.5},{"$f":"+IF('Datos Generales Edificio'!$F$50=\"Calefacción por combustión\",4/8,0)","v":0.5},{"$f":"+IF('Datos Generales Edificio'!$F$50=\"Calefacción por combustión\",4/8,0)","v":0.5},{"$f":"+IF('Datos Generales Edificio'!$F$50=\"Calefacción por combustión\",4/8,0)","v":0.5},{"$f":"+IF('Datos Generales Edificio'!$F$50=\"Calefacción por combustión\",4/8,0)","v":0.5},{"$f":"+IF('Datos Generales Edificio'!$F$50=\"Calefacción por combustión\",4/8,0)","v":0.5}]
[null,null,null,null,null,null,null,null,null,null,null,null,"N","69.7",69,7,{"$f":"+VLOOKUP(O554,'Resumen requerimientos'!$A$5:$B$104,2,FALSE)","v":"INST.ENERGIA.16.2"},"Minimo",{"$f":"+HLOOKUP($AA$549,$AB$550:$AJ$554,AK554,0)","v":0},{"$f":"+HLOOKUP($AA$549,$AM$550:$AU$554,AK554,FALSE)","v":0},{"$f":"+VLOOKUP(O552,TablaResumen[],22,0)*T554","v":0},{"$f":"+VLOOKUP(O552,TablaResumen[],23,0)*T554","v":0},{"$f":"+IFERROR(VALUE(MID(S554,1,FIND(\"-\",S554)-1)),S554)","v":0},{"$f":"+IFERROR(VALUE(MID(S554,FIND(\"-\",S554)+1,LEN(S554)-FIND(\"-\",S554))),S554)","v":0},null,null,"Minimo",null,null,null,null,null,null,null,null,null,5,null,0,0,0,0,0,0,0,0,0]
[null,null,null,null,null,null,null,null,null,null,null,null,"N","69.8",69,8]
[null,null,null,null,null,null,null,null,null,null,null,null,"T","70.1",{"$f":"+IF(R555=\"\",O555+1,O555)","v":70},1,{"$f":"+VLOOKUP(O556,'Resumen requerimientos'!$A$5:$B$104,2,FALSE)","v":"INST.ENERGIA.16.2"},{"$f":"+VLOOKUP(Q557,'Resumen requerimientos'!$B$5:$AJ$91,10,0)","v":"Climatización y ACS"},null,{"$f":"+VLOOKUP(O557,TablaResumen[],16,0)","v":"Rendimiento Nominal"},null,"Opción",{"$f":"+CONCATENATE(VLOOKUP(O557,'Resumen requerimientos'!$A$5:$AB$91,24),\" de \",VLOOKUP(O557,'Resumen requerimientos'!$A$5:$AB$91,25))","v":"3 de 3"},null,null,null,{"$f":"+'Datos Generales Edificio'!$C$5","v":"RM - Región Metropolitana de Santiago"}]
[null,null,null,null,null,null,null,null,null,null,null,null,"T","70.2",{"$f":"+O556","v":70},2,{"$f":"+VLOOKUP(O557,'Resumen requerimientos'!$A$5:$B$104,2,FALSE)","v":"INST.ENERGIA.16.2"},{"$f":"+VLOOKUP(O557,TablaResumen[],21,0)","v":"Rendimiento nominal del sistema de calefacción y enfriamiento por electricidad"},null,null,null,"Simultáneo",{"$f":"+CONCATENATE(IF(VLOOKUP(O557,'Resumen requerimientos'!$A$5:$AB$91,26)=0,1,VLOOKUP(O557,'Resumen requerimientos'!$A$5:$AB$91,26)),\" de \",IF(VLOOKUP(O557,'Resumen requerimientos'!$A$5:$AB$91,27)=0,1,VLOOKUP(O557,'Resumen requerimientos'!$A$5:$AB$91,27)))","v":"1 de 1"},null,null,null,{"$f":"+'Datos Generales Edificio'!$F$28","v":"CI - Central Interior"}]
[null,null,null,null,null,null,null,null,null,null,null,null,"T","70.3",70,3,{"$f":"+VLOOKUP(O558,'Resumen requerimientos'!$A$5:$B$104,2,FALSE)","v":"INST.ENERGIA.16.2"},"Nivel","Rango","Prioridad","Ponderación Of. Y Serv.","Ponderación Educ. y Salud.","Rango",null,null,null,{"$f":"+R557","v":"Rendimiento nominal del sistema de calefacción y enfriamiento por electricidad"},"NL - Norte Litoral","ND - Norte Desértico","NVT - Norte Valle Transversal","CL - Central Litoral","CI - Central Interior","SL - Sur Litoral","SI - Sur Interior","SE - Sur Extremo","An - Andino"]
[null,null,null,null,null,null,null,null,null,null,null,null,"T","70.4",70,4,{"$f":"+VLOOKUP(O559,'Resumen requerimientos'!$A$5:$B$104,2,FALSE)","v":"INST.ENERGIA.16.2"},"Muy bueno",{"$f":"+HLOOKUP($AA$557,$AB$558:$AJ$562,AK559,0)","v":"Supera en 25% la tabla 14"},1,{"$f":"+VLOOKUP(O557,TablaResumen[],22,0)*T559","v":0.08},{"$f":"+VLOOKUP(O557,TablaResumen[],23,0)*T559","v":0.08},{"$f":"+IFERROR(VALUE(MID(S559,1,FIND(\"-\",S559)-1)),S559)","v":"Supera en 25% la tabla 14"},{"$f":"+IFERROR(VALUE(MID(S559,FIND(\"-\",S559)+1,LEN(S559)-FIND(\"-\",S559))),S559)","v":"Supera en 25% la tabla 14"},null,null,"Muy bueno","Supera en 25% la tabla 14","Supera en 25% la tabla 14","Supera en 25% la tabla 14","Supera en 25% la tabla 14","Supera en 25% la tabla 14","Supera en 25% la tabla 14","Supera en 25% la tabla 14","Supera en 25% la tabla 14","Supera en 25% la tabla 14",2]
[null,null,null,null,null,null,null,null,null,null,null,null,"T","70.5",70,5,{"$f":"+VLOOKUP(O560,'Resumen requerimientos'!$A$5:$B$104,2,FALSE)","v":"INST.ENERGIA.16.2"},"Bueno",{"$f":"+HLOOKUP($AA$557,$AB$558:$AJ$562,AK560,0)","v":"Igual o superior la tabla 14"},{"$f":"6.5/8","v":0.8125},{"$f":"+VLOOKUP(O558,TablaResumen[],22,0)*T560","v":6.5000000000000002E-2},{"$f":"+VLOOKUP(O558,TablaResumen[],23,0)*T560","v":6.5000000000000002E-2},{"$f":"+IFERROR(VALUE(MID(S560,1,FIND(\"-\",S560)-1)),S560)","v":"Igual o superior la tabla 14"},{"$f":"+IFERROR(VALUE(MID(S560,FIND(\"-\",S560)+1,LEN(S560)-FIND(\"-\",S560))),S560)","v":"Igual o superior la tabla 14"},null,null,"Bueno","Igual o superior la tabla 14","Igual o superior la tabla 14","Igual o superior la tabla 14","Igual o superior la tabla 14","Igual o superior la tabla 14","Igual o superior la tabla 14","Igual o superior la tabla 14","Igual o superior la tabla 14","Igual o superior la tabla 14",3]
[null,null,null,null,null,null,null,null,null,null,null,null,"T","70.6",70,6,{"$f":"+VLOOKUP(O561,'Resumen requerimientos'!$A$5:$B$104,2,FALSE)","v":"INST.ENERGIA.16.2"},"Regular",{"$f":"+HLOOKUP($AA$557,$AB$558:$AJ$562,AK561,0)","v":"≥ 2,8 y < a la tabla 14"},{"$f":"4/8","v":0.5},{"$f":"+VLOOKUP(O559,TablaResumen[],22,0)*T561","v":0.04},{"$f":"+VLOOKUP(O559,TablaResumen[],23,0)*T561","v":0.04},{"$f":"+IFERROR(VALUE(MID(S561,1,FIND(\"-\",S561)-1)),S561)","v":"≥ 2,8 y < a la tabla 14"},{"$f":"+IFERROR(VALUE(MID(S561,FIND(\"-\",S561)+1,LEN(S561)-FIND(\"-\",S561))),S561)","v":"≥ 2,8 y < a la tabla 14"},null,null,"Regular","≥ 2,8 y < a la tabla 14","≥ 2,8 y < a la tabla 14","≥ 2,8 y < a la tabla 14","≥ 2,8 y < a la tabla 14","≥ 2,8 y < a la tabla 14","≥ 2,8 y < a la tabla 14","≥ 2,8 y < a la tabla 14","≥ 2,8 y < a la tabla 14","≥ 2,8 y < a la tabla 14",4]
[null,null,null,null,null,null,null,null,null,null,null,null,"T","70.7",70,7,{"$f":"+VLOOKUP(O562,'Resumen requerimientos'!$A$5:$B$104,2,FALSE)","v":"INST.ENERGIA.16.2"},"Minimo",{"$f":"+HLOOKUP($AA$557,$AB$558:$AJ$562,AK562,0)","v":0},0,{"$f":"+VLOOKUP(O560,TablaResumen[],22,0)*T562","v":0},{"$f":"+VLOOKUP(O560,TablaResumen[],23,0)*T562","v":0},{"$f":"+IFERROR(VALUE(MID(S562,1,FIND(\"-\",S562)-1)),S562)","v":0},{"$f":"+IFERROR(VALUE(MID(S562,FIND(\"-\",S562)+1,LEN(S562)-FIND(\"-\",S562))),S562)","v":0},null,null,"Minimo",null,null,null,null,null,null,null,null,null,5]
[null,null,null,null,null,null,null,null,null,null,null,null,"T","70.8",70,8]
[null,null,null,null,null,null,null,null,null,null,null,null,"T","71.1",{"$f":"+IF(R563=\"\",O563+1,O563)","v":71},1,{"$f":"+VLOOKUP(O564,'Resumen requerimientos'!$A$5:$B$104,2,FALSE)","v":"INST.ENERGIA.16.2"},{"$f":"+VLOOKUP(Q565,'Resumen requerimientos'!$B$5:$AJ$91,10,0)","v":"Climatización y ACS"},null,{"$f":"+VLOOKUP(O565,TablaResumen[],16,0)","v":"Rendimiento Nominal"},null,"Opción",{"$f":"+CONCATENATE(VLOOKUP(O565,'Resumen requerimientos'!$A$5:$AB$91,24),\" de \",VLOOKUP(O565,'Resumen requerimientos'!$A$5:$AB$91,25))","v":"1 de 3"},null,null,null,{"$f":"+'Datos Generales Edificio'!$C$5","v":"RM - Región Metropolitana de Santiago"}]
[null,null,null,null,null,null,null,null,null,null,null,null,"T","71.2",{"$f":"+O564","v":71},2,{"$f":"+VLOOKUP(O565,'Resumen requerimientos'!$A$5:$B$104,2,FALSE)","v":"INST.ENERGIA.16.2"},{"$f":"+VLOOKUP(O565,TablaResumen[],21,0)","v":"Disminución de consumo de energía en climatización y ACS"},null,null,null,"Simultáneo",{"$f":"+CONCATENATE(IF(VLOOKUP(O565,'Resumen requerimientos'!$A$5:$AB$91,26)=0,1,VLOOKUP(O565,'Resumen requerimientos'!$A$5:$AB$91,26)),\" de \",IF(VLOOKUP(O565,'Resumen requerimientos'!$A$5:$AB$91,27)=0,1,VLOOKUP(O565,'Resumen requerimientos'!$A$5:$AB$91,27)))","v":"1 de 1"},null,null,null,{"$f":"+'Datos Generales Edificio'!$F$28","v":"CI - Central Interior"}]
[null,null,null,null,null,null,null,null,null,null,null,null,"T","71.3",71,3,{"$f":"+VLOOKUP(O566,'Resumen requerimientos'!$A$5:$B$104,2,FALSE)","v":"INST.ENERGIA.16.2"},"Nivel","Rango","Prioridad","Ponderación Of. Y Serv.","Ponderación Educ. y Salud.","Rango",null,null,null,{"$f":"+R565","v":"Disminución de consumo de energía en climatización y ACS"},"NL - Norte Litoral","ND - Norte Desértico","NVT - Norte Valle Transversal","CL - Central Litoral","CI - Central Interior","SL - Sur Litoral","SI - Sur Interior","SE - Sur Extremo","An - Andino"]
[null,null,null,null,null,null,null,null,null,null,null,null,"T","71.4",71,4,{"$f":"+VLOOKUP(O567,'Resumen requerimientos'!$A$5:$B$104,2,FALSE)","v":"INST.ENERGIA.16.2"},"Muy bueno",{"$f":"+HLOOKUP($AA$565,$AB$566:$AJ$570,AK567,0)","v":"Cumple con disminución en el indicador de consumo de energía"},1,{"$f":"+VLOOKUP(O565,TablaResumen[],22,0)*T567","v":0.08},{"$f":"+VLOOKUP(O565,TablaResumen[],23,0)*T567","v":0.08},{"$f":"+IFERROR(VALUE(MID(S567,1,FIND(\"-\",S567)-1)),S567)","v":"Cumple con disminución en el indicador de consumo de energía"},{"$f":"+IFERROR(VALUE(MID(S567,FIND(\"-\",S567)+1,LEN(S567)-FIND(\"-\",S567))),S567)","v":"Cumple con disminución en el indicador de consumo de energía"},null,null,"Muy bueno","Cumple con disminución en el indicador de consumo de energía","Cumple con disminución en el indicador de consumo de energía","Cumple con disminución en el indicador de consumo de energía","Cumple con disminución en el indicador de consumo de energía","Cumple con disminución en el indicador de consumo de energía","Cumple con disminución en el indicador de consumo de energía","Cumple con disminución en el indicador de consumo de energía","Cumple con disminución en el indicador de consumo de energía","Cumple con disminución en el indicador de consumo de energía",2]
[null,null,null,null,null,null,null,null,null,null,null,null,"T","71.5",71,5,{"$f":"+VLOOKUP(O568,'Resumen requerimientos'!$A$5:$B$104,2,FALSE)","v":"INST.ENERGIA.16.2"},"Bueno",{"$f":"+HLOOKUP($AA$565,$AB$566:$AJ$570,AK568,0)","v":"NO cumple con disminución en el indicador de consumo de energía"},0.8125,{"$f":"+VLOOKUP(O566,TablaResumen[],22,0)*T568","v":6.5000000000000002E-2},{"$f":"+VLOOKUP(O566,TablaResumen[],23,0)*T568","v":6.5000000000000002E-2},{"$f":"+IFERROR(VALUE(MID(S568,1,FIND(\"-\",S568)-1)),S568)","v":"NO cumple con disminución en el indicador de consumo de energía"},{"$f":"+IFERROR(VALUE(MID(S568,FIND(\"-\",S568)+1,LEN(S568)-FIND(\"-\",S568))),S568)","v":"NO cumple con disminución en el indicador de consumo de energía"},null,null,"Bueno","NO cumple con disminución en el indicador de consumo de energía","NO cumple con disminución en el indicador de consumo de energía","NO cumple con disminución en el indicador de consumo de energía","NO cumple con disminución en el indicador de consumo de energía","NO cumple con disminución en el indicador de consumo de energía","NO cumple con disminución en el indicador de consumo de energía","NO cumple con disminución en el indicador de consumo de energía","NO cumple con disminución en el indicador de consumo de energía","NO cumple con disminución en el indicador de consumo de energía",3]
[null,null,null,null,null,null,null,null,null,null,null,null,"T","71.6",71,6,{"$f":"+VLOOKUP(O569,'Resumen requerimientos'!$A$5:$B$104,2,FALSE)","v":"INST.ENERGIA.16.2"},"Regular",{"$f":"+HLOOKUP($AA$565,$AB$566:$AJ$570,AK569,0)","v":0},0.625,{"$f":"+VLOOKUP(O567,TablaResumen[],22,0)*T569","v":0.05},{"$f":"+VLOOKUP(O567,TablaResumen[],23,0)*T569","v":0.05},{"$f":"+IFERROR(VALUE(MID(S569,1,FIND(\"-\",S569)-1)),S569)","v":0},{"$f":"+IFERROR(VALUE(MID(S569,FIND(\"-\",S569)+1,LEN(S569)-FIND(\"-\",S569))),S569)","v":0},null,null,"Regular",null,null,null,null,null,null,null,null,null,4]
[null,null,null,null,null,null,null,null,null,null,null,null,"T","71.7",71,7,{"$f":"+VLOOKUP(O570,'Resumen requerimientos'!$A$5:$B$104,2,FALSE)","v":"INST.ENERGIA.16.2"},"Minimo",{"$f":"+HLOOKUP($AA$565,$AB$566:$AJ$570,AK570,0)","v":0},0,{"$f":"+VLOOKUP(O568,TablaResumen[],22,0)*T570","v":0},{"$f":"+VLOOKUP(O568,TablaResumen[],23,0)*T570","v":0},{"$f":"+IFERROR(VALUE(MID(S570,1,FIND(\"-\",S570)-1)),S570)","v":0},{"$f":"+IFERROR(VALUE(MID(S570,FIND(\"-\",S570)+1,LEN(S570)-FIND(\"-\",S570))),S570)","v":0},null,null,"Minimo",null,null,null,null,null,null,null,null,null,5]
[null,null,null,null,null,null,null,null,null,null,null,null,"T","71.8",71,8]
[null,null,null,null,null,null,null,null,null,null,null,null,"T","72.1",{"$f":"+IF(R571=\"\",O571+1,O571)","v":72},1,{"$f":"+VLOOKUP(O572,'Resumen requerimientos'!$A$5:$B$104,2,FALSE)","v":"16R"},{"$f":"+VLOOKUP(Q573,'Resumen requerimientos'!$B$5:$AJ$91,10,0)","v":"Climatización y ACS"},null,{"$f":"+VLOOKUP(O573,TablaResumen[],16,0)","v":"Aislación térmica en distribución de calor y frío"},null,"Opción",{"$f":"+CONCATENATE(VLOOKUP(O573,'Resumen requerimientos'!$A$5:$AB$91,24),\" de \",VLOOKUP(O573,'Resumen requerimientos'!$A$5:$AB$91,25))","v":"1 de 1"},null,null,null,{"$f":"+'Datos Generales Edificio'!$C$5","v":"RM - Región Metropolitana de Santiago"}]
[null,null,null,null,null,null,null,null,null,null,null,null,"T","72.2",{"$f":"+O572","v":72},2,{"$f":"+VLOOKUP(O573,'Resumen requerimientos'!$A$5:$B$104,2,FALSE)","v":"16R"},{"$f":"+VLOOKUP(O573,TablaResumen[],21,0)","v":"Espesor de aislación térmica de cañerías para climatización/líquido [mm]"},null,null,null,"Simultáneo",{"$f":"+CONCATENATE(IF(VLOOKUP(O573,'Resumen requerimientos'!$A$5:$AB$91,26)=0,1,VLOOKUP(O573,'Resumen requerimientos'!$A$5:$AB$91,26)),\" de \",IF(VLOOKUP(O573,'Resumen requerimientos'!$A$5:$AB$91,27)=0,1,VLOOKUP(O573,'Resumen requerimientos'!$A$5:$AB$91,27)))","v":"1 de 4"},null,null,null,{"$f":"+'Datos Generales Edificio'!$F$28","v":"CI - Central Interior"}]
[null,null,null,null,null,null,null,null,null,null,null,null,"T","72.3",72,3,{"$f":"+VLOOKUP(O574,'Resumen requerimientos'!$A$5:$B$104,2,FALSE)","v":"16R"},"Nivel","Rango","Prioridad","Ponderación Of. Y Serv.","Ponderación Educ. y Salud.","Rango",null,null,null,{"$f":"+R573","v":"Espesor de aislación térmica de cañerías para climatización/líquido [mm]"},"NL - Norte Litoral","ND - Norte Desértico","NVT - Norte Valle Transversal","CL - Central Litoral","CI - Central Interior","SL - Sur Litoral","SI - Sur Interior","SE - Sur Extremo","An - Andino"]
[null,null,null,null,null,null,null,null,null,null,null,null,"T","72.4",72,4,{"$f":"+VLOOKUP(O575,'Resumen requerimientos'!$A$5:$B$104,2,FALSE)","v":"16R"},"Muy bueno",{"$f":"+HLOOKUP($AA$573,$AB$574:$AJ$578,AK575,0)","v":"12,999-500"},1,{"$f":"+VLOOKUP(O573,TablaResumen[],22,0)*T575","v":1},{"$f":"+VLOOKUP(O573,TablaResumen[],23,0)*T575","v":1},{"$f":"+IFERROR(VALUE(MID(S575,1,FIND(\"-\",S575)-1)),S575)","v":12.999000000000001},{"$f":"+IFERROR(VALUE(MID(S575,FIND(\"-\",S575)+1,LEN(S575)-FIND(\"-\",S575))),S575)","v":500},null,null,"Muy bueno",{"$f":"+IF('Datos Generales Edificio'!$F$46=\"\",\"No Aplica\",\"12,999-500\")","v":"12,999-500"},{"$f":"+IF('Datos Generales Edificio'!$F$46=\"\",\"No Aplica\",\"12,999-500\")","v":"12,999-500"},{"$f":"+IF('Datos Generales Edificio'!$F$46=\"\",\"No Aplica\",\"12,999-500\")","v":"12,999-500"},{"$f":"+IF('Datos Generales Edificio'!$F$46=\"\",\"No Aplica\",\"12,999-500\")","v":"12,999-500"},{"$f":"+IF('Datos Generales Edificio'!$F$46=\"\",\"No Aplica\",\"12,999-500\")","v":"12,999-500"},{"$f":"+IF('Datos Generales Edificio'!$F$46=\"\",\"No Aplica\",\"12,999-500\")","v":"12,999-500"},{"$f":"+IF('Datos Generales Edificio'!$F$46=\"\",\"No Aplica\",\"12,999-500\")","v":"12,999-500"},{"$f":"+IF('Datos Generales Edificio'!$F$46=\"\",\"No Aplica\",\"12,999-500\")","v":"12,999-500"},{"$f":"+IF('Datos Generales Edificio'!$F$46=\"\",\"No Aplica\",\"12,999-500\")","v":"12,999-500"},2]
[null,null,null,null,null,null,null,null,null,null,null,null,"T","72.5",72,5,{"$f":"+VLOOKUP(O576,'Resumen requerimientos'!$A$5:$B$104,2,FALSE)","v":"16R"},"Bueno",{"$f":"+HLOOKUP($AA$573,$AB$574:$AJ$578,AK576,0)","v":"12,999-500"},1,{"$f":"+VLOOKUP(O574,TablaResumen[],22,0)*T576","v":1},{"$f":"+VLOOKUP(O574,TablaResumen[],23,0)*T576","v":1},{"$f":"+IFERROR(VALUE(MID(S576,1,FIND(\"-\",S576)-1)),S576)","v":12.999000000000001},{"$f":"+IFERROR(VALUE(MID(S576,FIND(\"-\",S576)+1,LEN(S576)-FIND(\"-\",S576))),S576)","v":500},null,null,"Bueno",{"$f":"+IF('Datos Generales Edificio'!$F$46=\"\",\"No Aplica\",\"12,999-500\")","v":"12,999-500"},{"$f":"+IF('Datos Generales Edificio'!$F$46=\"\",\"No Aplica\",\"12,999-500\")","v":"12,999-500"},{"$f":"+IF('Datos Generales Edificio'!$F$46=\"\",\"No Aplica\",\"12,999-500\")","v":"12,999-500"},{"$f":"+IF('Datos Generales Edificio'!$F$46=\"\",\"No Aplica\",\"12,999-500\")","v":"12,999-500"},{"$f":"+IF('Datos Generales Edificio'!$F$46=\"\",\"No Aplica\",\"12,999-500\")","v":"12,999-500"},{"$f":"+IF('Datos Generales Edificio'!$F$46=\"\",\"No Aplica\",\"12,999-500\")","v":"12,999-500"},{"$f":"+IF('Datos Generales Edificio'!$F$46=\"\",\"No Aplica\",\"12,999-500\")","v":"12,999-500"},{"$f":"+IF('Datos Generales Edificio'!$F$46=\"\",\"No Aplica\",\"12,999-500\")","v":"12,999-500"},{"$f":"+IF('Datos Generales Edificio'!$F$46=\"\",\"No Aplica\",\"12,999-500\")","v":"12,999-500"},3]
[null,null,null,null,null,null,null,null,null,null,null,null,"T","72.6",72,6,{"$f":"+VLOOKUP(O577,'Resumen requerimientos'!$A$5:$B$104,2,FALSE)","v":"16R"},"Regular",{"$f":"+HLOOKUP($AA$573,$AB$574:$AJ$578,AK577,0)","v":"12,999-500"},1,{"$f":"+VLOOKUP(O575,TablaResumen[],22,0)*T577","v":1},{"$f":"+VLOOKUP(O575,TablaResumen[],23,0)*T577","v":1},{"$f":"+IFERROR(VALUE(MID(S577,1,FIND(\"-\",S577)-1)),S577)","v":12.999000000000001},{"$f":"+IFERROR(VALUE(MID(S577,FIND(\"-\",S577)+1,LEN(S577)-FIND(\"-\",S577))),S577)","v":500},null,null,"Regular",{"$f":"+IF('Datos Generales Edificio'!$F$46=\"\",\"No Aplica\",\"12,999-500\")","v":"12,999-500"},{"$f":"+IF('Datos Generales Edificio'!$F$46=\"\",\"No Aplica\",\"12,999-500\")","v":"12,999-500"},{"$f":"+IF('Datos Generales Edificio'!$F$46=\"\",\"No Aplica\",\"12,999-500\")","v":"12,999-500"},{"$f":"+IF('Datos Generales Edificio'!$F$46=\"\",\"No Aplica\",\"12,999-500\")","v":"12,999-500"},{"$f":"+IF('Datos Generales Edificio'!$F$46=\"\",\"No Aplica\",\"12,999-500\")","v":"12,999-500"},{"$f":"+IF('Datos Generales Edificio'!$F$46=\"\",\"No Aplica\",\"12,999-500\")","v":"12,999-500"},{"$f":"+IF('Datos Generales Edificio'!$F$46=\"\",\"No Aplica\",\"12,999-500\")","v":"12,999-500"},{"$f":"+IF('Datos Generales Edificio'!$F$46=\"\",\"No Aplica\",\"12,999-500\")","v":"12,999-500"},{"$f":"+IF('Datos Generales Edificio'!$F$46=\"\",\"No Aplica\",\"12,999-500\")","v":"12,999-500"},4]
[null,null,null,null,null,null,null,null,null,null,null,null,"T","72.7",72,7,{"$f":"+VLOOKUP(O578,'Resumen requerimientos'!$A$5:$B$104,2,FALSE)","v":"16R"},"Minimo",{"$f":"+HLOOKUP($AA$573,$AB$574:$AJ$578,AK578,0)","v":"12,999-500"},1,{"$f":"+VLOOKUP(O576,TablaResumen[],22,0)*T578","v":1},{"$f":"+VLOOKUP(O576,TablaResumen[],23,0)*T578","v":1},{"$f":"+IFERROR(VALUE(MID(S578,1,FIND(\"-\",S578)-1)),S578)","v":12.999000000000001},{"$f":"+IFERROR(VALUE(MID(S578,FIND(\"-\",S578)+1,LEN(S578)-FIND(\"-\",S578))),S578)","v":500},null,null,"Minimo",{"$f":"+IF('Datos Generales Edificio'!$F$46=\"\",\"No Aplica\",\"12,999-500\")","v":"12,999-500"},{"$f":"+IF('Datos Generales Edificio'!$F$46=\"\",\"No Aplica\",\"12,999-500\")","v":"12,999-500"},{"$f":"+IF('Datos Generales Edificio'!$F$46=\"\",\"No Aplica\",\"12,999-500\")","v":"12,999-500"},{"$f":"+IF('Datos Generales Edificio'!$F$46=\"\",\"No Aplica\",\"12,999-500\")","v":"12,999-500"},{"$f":"+IF('Datos Generales Edificio'!$F$46=\"\",\"No Aplica\",\"12,999-500\")","v":"12,999-500"},{"$f":"+IF('Datos Generales Edificio'!$F$46=\"\",\"No Aplica\",\"12,999-500\")","v":"12,999-500"},{"$f":"+IF('Datos Generales Edificio'!$F$46=\"\",\"No Aplica\",\"12,999-500\")","v":"12,999-500"},{"$f":"+IF('Datos Generales Edificio'!$F$46=\"\",\"No Aplica\",\"12,999-500\")","v":"12,999-500"},{"$f":"+IF('Datos Generales Edificio'!$F$46=\"\",\"No Aplica\",\"12,999-500\")","v":"12,999-500"},5]
[null,null,null,null,null,null,null,null,null,null,null,null,"T","72.8",72,8]
[null,null,null,null,null,null,null,null,null,null,null,null,"N","73.1",{"$f":"+IF(R579=\"\",O579+1,O579)","v":73},1,{"$f":"+VLOOKUP(O580,'Resumen requerimientos'!$A$5:$B$104,2,FALSE)","v":"16R"},{"$f":"+VLOOKUP(Q581,'Resumen requerimientos'!$B$5:$AJ$91,10,0)","v":"Climatización y ACS"},null,{"$f":"+VLOOKUP(O581,TablaResumen[],16,0)","v":"Aislación térmica en distribución de calor y frío"},null,"Opción",{"$f":"+CONCATENATE(VLOOKUP(O581,'Resumen requerimientos'!$A$5:$AB$91,24),\" de \",VLOOKUP(O581,'Resumen requerimientos'!$A$5:$AB$91,25))","v":"1 de 1"},null,null,null,{"$f":"+'Datos Generales Edificio'!$C$5","v":"RM - Región Metropolitana de Santiago"}]
[null,null,null,null,null,null,null,null,null,null,null,null,"N","73.2",{"$f":"+O580","v":73},2,{"$f":"+VLOOKUP(O581,'Resumen requerimientos'!$A$5:$B$104,2,FALSE)","v":"16R"},{"$f":"+VLOOKUP(O581,TablaResumen[],21,0)","v":"Espesor de aislación térmica de cañerías para ACS/líquido [mm]"},null,null,null,"Simultáneo",{"$f":"+CONCATENATE(IF(VLOOKUP(O581,'Resumen requerimientos'!$A$5:$AB$91,26)=0,1,VLOOKUP(O581,'Resumen requerimientos'!$A$5:$AB$91,26)),\" de \",IF(VLOOKUP(O581,'Resumen requerimientos'!$A$5:$AB$91,27)=0,1,VLOOKUP(O581,'Resumen requerimientos'!$A$5:$AB$91,27)))","v":"2 de 4"},null,null,null,{"$f":"+'Datos Generales Edificio'!$F$28","v":"CI - Central Interior"}]
[null,null,null,null,null,null,null,null,null,null,null,null,"N",{"$f":"+CONCATENATE(O582,\".\",P582)","v":"73.3"},73,{"$f":"+IF(O582=O581,P581+1,1)","v":3},{"$f":"+VLOOKUP(O582,'Resumen requerimientos'!$A$5:$B$104,2,FALSE)","v":"16R"},"Nivel","Rango","Prioridad","Ponderación Of. Y Serv.","Ponderación Educ. y Salud.","Rango",null,null,null,{"$f":"+R581","v":"Espesor de aislación térmica de cañerías para ACS/líquido [mm]"},"NL - Norte Litoral","ND - Norte Desértico","NVT - Norte Valle Transversal","CL - Central Litoral","CI - Central Interior","SL - Sur Litoral","SI - Sur Interior","SE - Sur Extremo","An - Andino"]
[null,null,null,null,null,null,null,null,null,null,null,null,"N","73.4",73,4,{"$f":"+VLOOKUP(O583,'Resumen requerimientos'!$A$5:$B$104,2,FALSE)","v":"16R"},"Muy bueno",{"$f":"+HLOOKUP($AA$581,$AB$582:$AJ$586,AK583,0)","v":"8,999-500"},1,{"$f":"+VLOOKUP(O581,TablaResumen[],22,0)*T583","v":1},{"$f":"+VLOOKUP(O581,TablaResumen[],23,0)*T583","v":1},{"$f":"+IFERROR(VALUE(MID(S583,1,FIND(\"-\",S583)-1)),S583)","v":8.9990000000000006},{"$f":"+IFERROR(VALUE(MID(S583,FIND(\"-\",S583)+1,LEN(S583)-FIND(\"-\",S583))),S583)","v":500},null,null,"Muy bueno",{"$f":"IF('Datos Generales Edificio'!$F$47=\"\",\"No Aplica\",\"8,999-500\")","v":"8,999-500"},{"$f":"IF('Datos Generales Edificio'!$F$47=\"\",\"No Aplica\",\"8,999-500\")","v":"8,999-500"},{"$f":"IF('Datos Generales Edificio'!$F$47=\"\",\"No Aplica\",\"8,999-500\")","v":"8,999-500"},{"$f":"IF('Datos Generales Edificio'!$F$47=\"\",\"No Aplica\",\"8,999-500\")","v":"8,999-500"},{"$f":"IF('Datos Generales Edificio'!$F$47=\"\",\"No Aplica\",\"8,999-500\")","v":"8,999-500"},{"$f":"IF('Datos Generales Edificio'!$F$47=\"\",\"No Aplica\",\"8,999-500\")","v":"8,999-500"},{"$f":"IF('Datos Generales Edificio'!$F$47=\"\",\"No Aplica\",\"8,999-500\")","v":"8,999-500"},{"$f":"IF('Datos Generales Edificio'!$F$47=\"\",\"No Aplica\",\"8,999-500\")","v":"8,999-500"},{"$f":"IF('Datos Generales Edificio'!$F$47=\"\",\"No Aplica\",\"8,999-500\")","v":"8,999-500"},2]
[null,null,null,null,null,null,null,null,null,null,null,null,"N","73.5",73,5,{"$f":"+VLOOKUP(O584,'Resumen requerimientos'!$A$5:$B$104,2,FALSE)","v":"16R"},"Bueno",{"$f":"+HLOOKUP($AA$581,$AB$582:$AJ$586,AK584,0)","v":"8,999-500"},1,{"$f":"+VLOOKUP(O582,TablaResumen[],22,0)*T584","v":1},{"$f":"+VLOOKUP(O582,TablaResumen[],23,0)*T584","v":1},{"$f":"+IFERROR(VALUE(MID(S584,1,FIND(\"-\",S584)-1)),S584)","v":8.9990000000000006},{"$f":"+IFERROR(VALUE(MID(S584,FIND(\"-\",S584)+1,LEN(S584)-FIND(\"-\",S584))),S584)","v":500},null,null,"Bueno",{"$f":"IF('Datos Generales Edificio'!$F$47=\"\",\"No Aplica\",\"8,999-500\")","v":"8,999-500"},{"$f":"IF('Datos Generales Edificio'!$F$47=\"\",\"No Aplica\",\"8,999-500\")","v":"8,999-500"},{"$f":"IF('Datos Generales Edificio'!$F$47=\"\",\"No Aplica\",\"8,999-500\")","v":"8,999-500"},{"$f":"IF('Datos Generales Edificio'!$F$47=\"\",\"No Aplica\",\"8,999-500\")","v":"8,999-500"},{"$f":"IF('Datos Generales Edificio'!$F$47=\"\",\"No Aplica\",\"8,999-500\")","v":"8,999-500"},{"$f":"IF('Datos Generales Edificio'!$F$47=\"\",\"No Aplica\",\"8,999-500\")","v":"8,999-500"},{"$f":"IF('Datos Generales Edificio'!$F$47=\"\",\"No Aplica\",\"8,999-500\")","v":"8,999-500"},{"$f":"IF('Datos Generales Edificio'!$F$47=\"\",\"No Aplica\",\"8,999-500\")","v":"8,999-500"},{"$f":"IF('Datos Generales Edificio'!$F$47=\"\",\"No Aplica\",\"8,999-500\")","v":"8,999-500"},3]
[null,null,null,null,null,null,null,null,null,null,null,null,"N","73.6",73,6,{"$f":"+VLOOKUP(O585,'Resumen requerimientos'!$A$5:$B$104,2,FALSE)","v":"16R"},"Regular",{"$f":"+HLOOKUP($AA$581,$AB$582:$AJ$586,AK585,0)","v":"8,999-500"},1,{"$f":"+VLOOKUP(O583,TablaResumen[],22,0)*T585","v":1},{"$f":"+VLOOKUP(O583,TablaResumen[],23,0)*T585","v":1},{"$f":"+IFERROR(VALUE(MID(S585,1,FIND(\"-\",S585)-1)),S585)","v":8.9990000000000006},{"$f":"+IFERROR(VALUE(MID(S585,FIND(\"-\",S585)+1,LEN(S585)-FIND(\"-\",S585))),S585)","v":500},null,null,"Regular",{"$f":"IF('Datos Generales Edificio'!$F$47=\"\",\"No Aplica\",\"8,999-500\")","v":"8,999-500"},{"$f":"IF('Datos Generales Edificio'!$F$47=\"\",\"No Aplica\",\"8,999-500\")","v":"8,999-500"},{"$f":"IF('Datos Generales Edificio'!$F$47=\"\",\"No Aplica\",\"8,999-500\")","v":"8,999-500"},{"$f":"IF('Datos Generales Edificio'!$F$47=\"\",\"No Aplica\",\"8,999-500\")","v":"8,999-500"},{"$f":"IF('Datos Generales Edificio'!$F$47=\"\",\"No Aplica\",\"8,999-500\")","v":"8,999-500"},{"$f":"IF('Datos Generales Edificio'!$F$47=\"\",\"No Aplica\",\"8,999-500\")","v":"8,999-500"},{"$f":"IF('Datos Generales Edificio'!$F$47=\"\",\"No Aplica\",\"8,999-500\")","v":"8,999-500"},{"$f":"IF('Datos Generales Edificio'!$F$47=\"\",\"No Aplica\",\"8,999-500\")","v":"8,999-500"},{"$f":"IF('Datos Generales Edificio'!$F$47=\"\",\"No Aplica\",\"8,999-500\")","v":"8,999-500"},4]
[null,null,null,null,null,null,null,null,null,null,null,null,"N","73.7",73,7,{"$f":"+VLOOKUP(O586,'Resumen requerimientos'!$A$5:$B$104,2,FALSE)","v":"16R"},"Minimo",{"$f":"+HLOOKUP($AA$581,$AB$582:$AJ$586,AK586,0)","v":"8,999-500"},1,{"$f":"+VLOOKUP(O584,TablaResumen[],22,0)*T586","v":1},{"$f":"+VLOOKUP(O584,TablaResumen[],23,0)*T586","v":1},{"$f":"+IFERROR(VALUE(MID(S586,1,FIND(\"-\",S586)-1)),S586)","v":8.9990000000000006},{"$f":"+IFERROR(VALUE(MID(S586,FIND(\"-\",S586)+1,LEN(S586)-FIND(\"-\",S586))),S586)","v":500},null,null,"Minimo",{"$f":"IF('Datos Generales Edificio'!$F$47=\"\",\"No Aplica\",\"8,999-500\")","v":"8,999-500"},{"$f":"IF('Datos Generales Edificio'!$F$47=\"\",\"No Aplica\",\"8,999-500\")","v":"8,999-500"},{"$f":"IF('Datos Generales Edificio'!$F$47=\"\",\"No Aplica\",\"8,999-500\")","v":"8,999-500"},{"$f":"IF('Datos Generales Edificio'!$F$47=\"\",\"No Aplica\",\"8,999-500\")","v":"8,999-500"},{"$f":"IF('Datos Generales Edificio'!$F$47=\"\",\"No Aplica\",\"8,999-500\")","v":"8,999-500"},{"$f":"IF('Datos Generales Edificio'!$F$47=\"\",\"No Aplica\",\"8,999-500\")","v":"8,999-500"},{"$f":"IF('Datos Generales Edificio'!$F$47=\"\",\"No Aplica\",\"8,999-500\")","v":"8,999-500"},{"$f":"IF('Datos Generales Edificio'!$F$47=\"\",\"No Aplica\",\"8,999-500\")","v":"8,999-500"},{"$f":"IF('Datos Generales Edificio'!$F$47=\"\",\"No Aplica\",\"8,999-500\")","v":"8,999-500"},5]
[null,null,null,null,null,null,null,null,null,null,null,null,"N","73.8",73,8]
[null,null,null,null,null,null,null,null,null,null,null,null,"N","74.1",{"$f":"+IF(R587=\"\",O587+1,O587)","v":74},1,{"$f":"+VLOOKUP(O588,'Resumen requerimientos'!$A$5:$B$104,2,FALSE)","v":"16R"},{"$f":"+VLOOKUP(Q589,'Resumen requerimientos'!$B$5:$AJ$91,10,0)","v":"Climatización y ACS"},null,{"$f":"+VLOOKUP(O589,TablaResumen[],16,0)","v":"Aislación térmica en distribución de calor y frío"},null,"Opción",{"$f":"+CONCATENATE(VLOOKUP(O589,'Resumen requerimientos'!$A$5:$AB$91,24),\" de \",VLOOKUP(O589,'Resumen requerimientos'!$A$5:$AB$91,25))","v":"1 de 1"},null,null,null,{"$f":"+'Datos Generales Edificio'!$C$5","v":"RM - Región Metropolitana de Santiago"}]
[null,null,null,null,null,null,null,null,null,null,null,null,"N","74.2",{"$f":"+O588","v":74},2,{"$f":"+VLOOKUP(O589,'Resumen requerimientos'!$A$5:$B$104,2,FALSE)","v":"16R"},{"$f":"+VLOOKUP(O589,TablaResumen[],21,0)","v":"Espesor de aislación térmica de cañerías interiores de climatización/aire [mm]"},null,null,null,"Simultáneo",{"$f":"+CONCATENATE(IF(VLOOKUP(O589,'Resumen requerimientos'!$A$5:$AB$91,26)=0,1,VLOOKUP(O589,'Resumen requerimientos'!$A$5:$AB$91,26)),\" de \",IF(VLOOKUP(O589,'Resumen requerimientos'!$A$5:$AB$91,27)=0,1,VLOOKUP(O589,'Resumen requerimientos'!$A$5:$AB$91,27)))","v":"3 de 4"},null,null,null,{"$f":"+'Datos Generales Edificio'!$F$28","v":"CI - Central Interior"}]
[null,null,null,null,null,null,null,null,null,null,null,null,"N","74.3",74,3,{"$f":"+VLOOKUP(O590,'Resumen requerimientos'!$A$5:$B$104,2,FALSE)","v":"16R"},"Nivel","Rango","Prioridad","Ponderación Of. Y Serv.","Ponderación Educ. y Salud.","Rango",null,null,null,{"$f":"+R589","v":"Espesor de aislación térmica de cañerías interiores de climatización/aire [mm]"},"NL - Norte Litoral","ND - Norte Desértico","NVT - Norte Valle Transversal","CL - Central Litoral","CI - Central Interior","SL - Sur Litoral","SI - Sur Interior","SE - Sur Extremo","An - Andino"]
[null,null,null,null,null,null,null,null,null,null,null,null,"N","74.4",74,4,{"$f":"+VLOOKUP(O591,'Resumen requerimientos'!$A$5:$B$104,2,FALSE)","v":"16R"},"Muy bueno",{"$f":"+HLOOKUP($AA$589,$AB$590:$AJ$594,AK591,0)","v":"18,999-500"},1,{"$f":"+VLOOKUP(O589,TablaResumen[],22,0)*T591","v":1},{"$f":"+VLOOKUP(O589,TablaResumen[],23,0)*T591","v":1},{"$f":"+IFERROR(VALUE(MID(S591,1,FIND(\"-\",S591)-1)),S591)","v":18.998999999999999},{"$f":"+IFERROR(VALUE(MID(S591,FIND(\"-\",S591)+1,LEN(S591)-FIND(\"-\",S591))),S591)","v":500},null,null,"Muy bueno",{"$f":"+IF('Datos Generales Edificio'!$F$48=\"\",\"No Aplica\",\"18,999-500\")","v":"18,999-500"},{"$f":"+IF('Datos Generales Edificio'!$F$48=\"\",\"No Aplica\",\"18,999-500\")","v":"18,999-500"},{"$f":"+IF('Datos Generales Edificio'!$F$48=\"\",\"No Aplica\",\"18,999-500\")","v":"18,999-500"},{"$f":"+IF('Datos Generales Edificio'!$F$48=\"\",\"No Aplica\",\"18,999-500\")","v":"18,999-500"},{"$f":"+IF('Datos Generales Edificio'!$F$48=\"\",\"No Aplica\",\"18,999-500\")","v":"18,999-500"},{"$f":"+IF('Datos Generales Edificio'!$F$48=\"\",\"No Aplica\",\"18,999-500\")","v":"18,999-500"},{"$f":"+IF('Datos Generales Edificio'!$F$48=\"\",\"No Aplica\",\"18,999-500\")","v":"18,999-500"},{"$f":"+IF('Datos Generales Edificio'!$F$48=\"\",\"No Aplica\",\"18,999-500\")","v":"18,999-500"},{"$f":"+IF('Datos Generales Edificio'!$F$48=\"\",\"No Aplica\",\"18,999-500\")","v":"18,999-500"},2]
[null,null,null,null,null,null,null,null,null,null,null,null,"N","74.5",74,5,{"$f":"+VLOOKUP(O592,'Resumen requerimientos'!$A$5:$B$104,2,FALSE)","v":"16R"},"Bueno",{"$f":"+HLOOKUP($AA$589,$AB$590:$AJ$594,AK592,0)","v":"18,999-500"},1,{"$f":"+VLOOKUP(O590,TablaResumen[],22,0)*T592","v":1},{"$f":"+VLOOKUP(O590,TablaResumen[],23,0)*T592","v":1},{"$f":"+IFERROR(VALUE(MID(S592,1,FIND(\"-\",S592)-1)),S592)","v":18.998999999999999},{"$f":"+IFERROR(VALUE(MID(S592,FIND(\"-\",S592)+1,LEN(S592)-FIND(\"-\",S592))),S592)","v":500},null,null,"Bueno",{"$f":"+IF('Datos Generales Edificio'!$F$48=\"\",\"No Aplica\",\"18,999-500\")","v":"18,999-500"},{"$f":"+IF('Datos Generales Edificio'!$F$48=\"\",\"No Aplica\",\"18,999-500\")","v":"18,999-500"},{"$f":"+IF('Datos Generales Edificio'!$F$48=\"\",\"No Aplica\",\"18,999-500\")","v":"18,999-500"},{"$f":"+IF('Datos Generales Edificio'!$F$48=\"\",\"No Aplica\",\"18,999-500\")","v":"18,999-500"},{"$f":"+IF('Datos Generales Edificio'!$F$48=\"\",\"No Aplica\",\"18,999-500\")","v":"18,999-500"},{"$f":"+IF('Datos Generales Edificio'!$F$48=\"\",\"No Aplica\",\"18,999-500\")","v":"18,999-500"},{"$f":"+IF('Datos Generales Edificio'!$F$48=\"\",\"No Aplica\",\"18,999-500\")","v":"18,999-500"},{"$f":"+IF('Datos Generales Edificio'!$F$48=\"\",\"No Aplica\",\"18,999-500\")","v":"18,999-500"},{"$f":"+IF('Datos Generales Edificio'!$F$48=\"\",\"No Aplica\",\"18,999-500\")","v":"18,999-500"},3]
[null,null,null,null,null,null,null,null,null,null,null,null,"N","74.6",74,6,{"$f":"+VLOOKUP(O593,'Resumen requerimientos'!$A$5:$B$104,2,FALSE)","v":"16R"},"Regular",{"$f":"+HLOOKUP($AA$589,$AB$590:$AJ$594,AK593,0)","v":"18,999-500"},1,{"$f":"+VLOOKUP(O591,TablaResumen[],22,0)*T593","v":1},{"$f":"+VLOOKUP(O591,TablaResumen[],23,0)*T593","v":1},{"$f":"+IFERROR(VALUE(MID(S593,1,FIND(\"-\",S593)-1)),S593)","v":18.998999999999999},{"$f":"+IFERROR(VALUE(MID(S593,FIND(\"-\",S593)+1,LEN(S593)-FIND(\"-\",S593))),S593)","v":500},null,null,"Regular",{"$f":"+IF('Datos Generales Edificio'!$F$48=\"\",\"No Aplica\",\"18,999-500\")","v":"18,999-500"},{"$f":"+IF('Datos Generales Edificio'!$F$48=\"\",\"No Aplica\",\"18,999-500\")","v":"18,999-500"},{"$f":"+IF('Datos Generales Edificio'!$F$48=\"\",\"No Aplica\",\"18,999-500\")","v":"18,999-500"},{"$f":"+IF('Datos Generales Edificio'!$F$48=\"\",\"No Aplica\",\"18,999-500\")","v":"18,999-500"},{"$f":"+IF('Datos Generales Edificio'!$F$48=\"\",\"No Aplica\",\"18,999-500\")","v":"18,999-500"},{"$f":"+IF('Datos Generales Edificio'!$F$48=\"\",\"No Aplica\",\"18,999-500\")","v":"18,999-500"},{"$f":"+IF('Datos Generales Edificio'!$F$48=\"\",\"No Aplica\",\"18,999-500\")","v":"18,999-500"},{"$f":"+IF('Datos Generales Edificio'!$F$48=\"\",\"No Aplica\",\"18,999-500\")","v":"18,999-500"},{"$f":"+IF('Datos Generales Edificio'!$F$48=\"\",\"No Aplica\",\"18,999-500\")","v":"18,999-500"},4]
[null,null,null,null,null,null,null,null,null,null,null,null,"N","74.7",74,7,{"$f":"+VLOOKUP(O594,'Resumen requerimientos'!$A$5:$B$104,2,FALSE)","v":"16R"},"Minimo",{"$f":"+HLOOKUP($AA$589,$AB$590:$AJ$594,AK594,0)","v":"18,999-500"},1,{"$f":"+VLOOKUP(O592,TablaResumen[],22,0)*T594","v":1},{"$f":"+VLOOKUP(O592,TablaResumen[],23,0)*T594","v":1},{"$f":"+IFERROR(VALUE(MID(S594,1,FIND(\"-\",S594)-1)),S594)","v":18.998999999999999},{"$f":"+IFERROR(VALUE(MID(S594,FIND(\"-\",S594)+1,LEN(S594)-FIND(\"-\",S594))),S594)","v":500},null,null,"Minimo",{"$f":"+IF('Datos Generales Edificio'!$F$48=\"\",\"No Aplica\",\"18,999-500\")","v":"18,999-500"},{"$f":"+IF('Datos Generales Edificio'!$F$48=\"\",\"No Aplica\",\"18,999-500\")","v":"18,999-500"},{"$f":"+IF('Datos Generales Edificio'!$F$48=\"\",\"No Aplica\",\"18,999-500\")","v":"18,999-500"},{"$f":"+IF('Datos Generales Edificio'!$F$48=\"\",\"No Aplica\",\"18,999-500\")","v":"18,999-500"},{"$f":"+IF('Datos Generales Edificio'!$F$48=\"\",\"No Aplica\",\"18,999-500\")","v":"18,999-500"},{"$f":"+IF('Datos Generales Edificio'!$F$48=\"\",\"No Aplica\",\"18,999-500\")","v":"18,999-500"},{"$f":"+IF('Datos Generales Edificio'!$F$48=\"\",\"No Aplica\",\"18,999-500\")","v":"18,999-500"},{"$f":"+IF('Datos Generales Edificio'!$F$48=\"\",\"No Aplica\",\"18,999-500\")","v":"18,999-500"},{"$f":"+IF('Datos Generales Edificio'!$F$48=\"\",\"No Aplica\",\"18,999-500\")","v":"18,999-500"},5]
[null,null,null,null,null,null,null,null,null,null,null,null,"N","74.8",74,8]
[null,null,null,null,null,null,null,null,null,null,null,null,"N","75.1",{"$f":"+IF(R595=\"\",O595+1,O595)","v":75},1,{"$f":"+VLOOKUP(O596,'Resumen requerimientos'!$A$5:$B$104,2,FALSE)","v":"16R"},{"$f":"+VLOOKUP(Q597,'Resumen requerimientos'!$B$5:$AJ$91,10,0)","v":"Climatización y ACS"},null,{"$f":"+VLOOKUP(O597,TablaResumen[],16,0)","v":"Aislación térmica en distribución de calor y frío"},null,"Opción",{"$f":"+CONCATENATE(VLOOKUP(O597,'Resumen requerimientos'!$A$5:$AB$91,24),\" de \",VLOOKUP(O597,'Resumen requerimientos'!$A$5:$AB$91,25))","v":"1 de 1"},null,null,null,{"$f":"+'Datos Generales Edificio'!$C$5","v":"RM - Región Metropolitana de Santiago"}]
[null,null,null,null,null,null,null,null,null,null,null,null,"N","75.2",{"$f":"+O596","v":75},2,{"$f":"+VLOOKUP(O597,'Resumen requerimientos'!$A$5:$B$104,2,FALSE)","v":"16R"},{"$f":"+VLOOKUP(O597,TablaResumen[],21,0)","v":"Espesor de aislación térmica de cañerías exteriores de climatización/aire [mm]"},null,null,null,"Simultáneo",{"$f":"+CONCATENATE(IF(VLOOKUP(O597,'Resumen requerimientos'!$A$5:$AB$91,26)=0,1,VLOOKUP(O597,'Resumen requerimientos'!$A$5:$AB$91,26)),\" de \",IF(VLOOKUP(O597,'Resumen requerimientos'!$A$5:$AB$91,27)=0,1,VLOOKUP(O597,'Resumen requerimientos'!$A$5:$AB$91,27)))","v":"4 de 4"},null,null,null,{"$f":"+'Datos Generales Edificio'!$F$28","v":"CI - Central Interior"}]
[null,null,null,null,null,null,null,null,null,null,null,null,"N","75.3",75,3,{"$f":"+VLOOKUP(O598,'Resumen requerimientos'!$A$5:$B$104,2,FALSE)","v":"16R"},"Nivel","Rango","Prioridad","Ponderación Of. Y Serv.","Ponderación Educ. y Salud.","Rango",null,null,null,{"$f":"+R597","v":"Espesor de aislación térmica de cañerías exteriores de climatización/aire [mm]"},"NL - Norte Litoral","ND - Norte Desértico","NVT - Norte Valle Transversal","CL - Central Litoral","CI - Central Interior","SL - Sur Litoral","SI - Sur Interior","SE - Sur Extremo","An - Andino"]
[null,null,null,null,null,null,null,null,null,null,null,null,"N","75.4",75,4,{"$f":"+VLOOKUP(O599,'Resumen requerimientos'!$A$5:$B$104,2,FALSE)","v":"16R"},"Muy bueno",{"$f":"+HLOOKUP($AA$597,$AB$598:$AJ$602,AK599,0)","v":"29,999-500"},1,{"$f":"+VLOOKUP(O597,TablaResumen[],22,0)*T599","v":1},{"$f":"+VLOOKUP(O597,TablaResumen[],23,0)*T599","v":1},{"$f":"+IFERROR(VALUE(MID(S599,1,FIND(\"-\",S599)-1)),S599)","v":29.998999999999999},{"$f":"+IFERROR(VALUE(MID(S599,FIND(\"-\",S599)+1,LEN(S599)-FIND(\"-\",S599))),S599)","v":500},null,null,"Muy bueno",{"$f":"+IF('Datos Generales Edificio'!$F$49=\"\",\"No Aplica\",\"29,999-500\")","v":"29,999-500"},{"$f":"+IF('Datos Generales Edificio'!$F$49=\"\",\"No Aplica\",\"29,999-500\")","v":"29,999-500"},{"$f":"+IF('Datos Generales Edificio'!$F$49=\"\",\"No Aplica\",\"29,999-500\")","v":"29,999-500"},{"$f":"+IF('Datos Generales Edificio'!$F$49=\"\",\"No Aplica\",\"29,999-500\")","v":"29,999-500"},{"$f":"+IF('Datos Generales Edificio'!$F$49=\"\",\"No Aplica\",\"29,999-500\")","v":"29,999-500"},{"$f":"+IF('Datos Generales Edificio'!$F$49=\"\",\"No Aplica\",\"29,999-500\")","v":"29,999-500"},{"$f":"+IF('Datos Generales Edificio'!$F$49=\"\",\"No Aplica\",\"29,999-500\")","v":"29,999-500"},{"$f":"+IF('Datos Generales Edificio'!$F$49=\"\",\"No Aplica\",\"29,999-500\")","v":"29,999-500"},{"$f":"+IF('Datos Generales Edificio'!$F$49=\"\",\"No Aplica\",\"29,999-500\")","v":"29,999-500"},2]
[null,null,null,null,null,null,null,null,null,null,null,null,"N","75.5",75,5,{"$f":"+VLOOKUP(O600,'Resumen requerimientos'!$A$5:$B$104,2,FALSE)","v":"16R"},"Bueno",{"$f":"+HLOOKUP($AA$597,$AB$598:$AJ$602,AK600,0)","v":"29,999-500"},1,{"$f":"+VLOOKUP(O598,TablaResumen[],22,0)*T600","v":1},{"$f":"+VLOOKUP(O598,TablaResumen[],23,0)*T600","v":1},{"$f":"+IFERROR(VALUE(MID(S600,1,FIND(\"-\",S600)-1)),S600)","v":29.998999999999999},{"$f":"+IFERROR(VALUE(MID(S600,FIND(\"-\",S600)+1,LEN(S600)-FIND(\"-\",S600))),S600)","v":500},null,null,"Bueno",{"$f":"+IF('Datos Generales Edificio'!$F$49=\"\",\"No Aplica\",\"29,999-500\")","v":"29,999-500"},{"$f":"+IF('Datos Generales Edificio'!$F$49=\"\",\"No Aplica\",\"29,999-500\")","v":"29,999-500"},{"$f":"+IF('Datos Generales Edificio'!$F$49=\"\",\"No Aplica\",\"29,999-500\")","v":"29,999-500"},{"$f":"+IF('Datos Generales Edificio'!$F$49=\"\",\"No Aplica\",\"29,999-500\")","v":"29,999-500"},{"$f":"+IF('Datos Generales Edificio'!$F$49=\"\",\"No Aplica\",\"29,999-500\")","v":"29,999-500"},{"$f":"+IF('Datos Generales Edificio'!$F$49=\"\",\"No Aplica\",\"29,999-500\")","v":"29,999-500"},{"$f":"+IF('Datos Generales Edificio'!$F$49=\"\",\"No Aplica\",\"29,999-500\")","v":"29,999-500"},{"$f":"+IF('Datos Generales Edificio'!$F$49=\"\",\"No Aplica\",\"29,999-500\")","v":"29,999-500"},{"$f":"+IF('Datos Generales Edificio'!$F$49=\"\",\"No Aplica\",\"29,999-500\")","v":"29,999-500"},3]
[null,null,null,null,null,null,null,null,null,null,null,null,"N","75.6",75,6,{"$f":"+VLOOKUP(O601,'Resumen requerimientos'!$A$5:$B$104,2,FALSE)","v":"16R"},"Regular",{"$f":"+HLOOKUP($AA$597,$AB$598:$AJ$602,AK601,0)","v":"29,999-500"},1,{"$f":"+VLOOKUP(O599,TablaResumen[],22,0)*T601","v":1},{"$f":"+VLOOKUP(O599,TablaResumen[],23,0)*T601","v":1},{"$f":"+IFERROR(VALUE(MID(S601,1,FIND(\"-\",S601)-1)),S601)","v":29.998999999999999},{"$f":"+IFERROR(VALUE(MID(S601,FIND(\"-\",S601)+1,LEN(S601)-FIND(\"-\",S601))),S601)","v":500},null,null,"Regular",{"$f":"+IF('Datos Generales Edificio'!$F$49=\"\",\"No Aplica\",\"29,999-500\")","v":"29,999-500"},{"$f":"+IF('Datos Generales Edificio'!$F$49=\"\",\"No Aplica\",\"29,999-500\")","v":"29,999-500"},{"$f":"+IF('Datos Generales Edificio'!$F$49=\"\",\"No Aplica\",\"29,999-500\")","v":"29,999-500"},{"$f":"+IF('Datos Generales Edificio'!$F$49=\"\",\"No Aplica\",\"29,999-500\")","v":"29,999-500"},{"$f":"+IF('Datos Generales Edificio'!$F$49=\"\",\"No Aplica\",\"29,999-500\")","v":"29,999-500"},{"$f":"+IF('Datos Generales Edificio'!$F$49=\"\",\"No Aplica\",\"29,999-500\")","v":"29,999-500"},{"$f":"+IF('Datos Generales Edificio'!$F$49=\"\",\"No Aplica\",\"29,999-500\")","v":"29,999-500"},{"$f":"+IF('Datos Generales Edificio'!$F$49=\"\",\"No Aplica\",\"29,999-500\")","v":"29,999-500"},{"$f":"+IF('Datos Generales Edificio'!$F$49=\"\",\"No Aplica\",\"29,999-500\")","v":"29,999-500"},4]
[null,null,null,null,null,null,null,null,null,null,null,null,"N","75.7",75,7,{"$f":"+VLOOKUP(O602,'Resumen requerimientos'!$A$5:$B$104,2,FALSE)","v":"16R"},"Minimo",{"$f":"+HLOOKUP($AA$597,$AB$598:$AJ$602,AK602,0)","v":"29,999-500"},1,{"$f":"+VLOOKUP(O600,TablaResumen[],22,0)*T602","v":1},{"$f":"+VLOOKUP(O600,TablaResumen[],23,0)*T602","v":1},{"$f":"+IFERROR(VALUE(MID(S602,1,FIND(\"-\",S602)-1)),S602)","v":29.998999999999999},{"$f":"+IFERROR(VALUE(MID(S602,FIND(\"-\",S602)+1,LEN(S602)-FIND(\"-\",S602))),S602)","v":500},null,null,"Minimo",{"$f":"+IF('Datos Generales Edificio'!$F$49=\"\",\"No Aplica\",\"29,999-500\")","v":"29,999-500"},{"$f":"+IF('Datos Generales Edificio'!$F$49=\"\",\"No Aplica\",\"29,999-500\")","v":"29,999-500"},{"$f":"+IF('Datos Generales Edificio'!$F$49=\"\",\"No Aplica\",\"29,999-500\")","v":"29,999-500"},{"$f":"+IF('Datos Generales Edificio'!$F$49=\"\",\"No Aplica\",\"29,999-500\")","v":"29,999-500"},{"$f":"+IF('Datos Generales Edificio'!$F$49=\"\",\"No Aplica\",\"29,999-500\")","v":"29,999-500"},{"$f":"+IF('Datos Generales Edificio'!$F$49=\"\",\"No Aplica\",\"29,999-500\")","v":"29,999-500"},{"$f":"+IF('Datos Generales Edificio'!$F$49=\"\",\"No Aplica\",\"29,999-500\")","v":"29,999-500"},{"$f":"+IF('Datos Generales Edificio'!$F$49=\"\",\"No Aplica\",\"29,999-500\")","v":"29,999-500"},{"$f":"+IF('Datos Generales Edificio'!$F$49=\"\",\"No Aplica\",\"29,999-500\")","v":"29,999-500"},5]
[null,null,null,null,null,null,null,null,null,null,null,null,"N","75.8",75,8]
[null,null,null,null,null,null,null,null,null,null,null,null,"N","76.1",{"$f":"+IF(R603=\"\",O603+1,O603)","v":76},1,{"$f":"+VLOOKUP(O604,'Resumen requerimientos'!$A$5:$B$104,2,FALSE)","v":"INST.ENERGIA.17"},{"$f":"+VLOOKUP(Q605,'Resumen requerimientos'!$B$5:$AJ$91,10,0)","v":"Otros consumos de energía"},null,{"$f":"+VLOOKUP(O605,TablaResumen[],16,0)","v":"Otros consumos de energía"},null,"Opción",{"$f":"+CONCATENATE(VLOOKUP(O605,'Resumen requerimientos'!$A$5:$AB$91,24),\" de \",VLOOKUP(O605,'Resumen requerimientos'!$A$5:$AB$91,25))","v":"2 de 2"},null,null,null,{"$f":"+'Datos Generales Edificio'!$C$5","v":"RM - Región Metropolitana de Santiago"}]
[null,null,null,null,null,null,null,null,null,null,null,null,"N","76.2",{"$f":"+O604","v":76},2,{"$f":"+VLOOKUP(O605,'Resumen requerimientos'!$A$5:$B$104,2,FALSE)","v":"INST.ENERGIA.17"},{"$f":"+VLOOKUP(O605,TablaResumen[],21,0)","v":"% de reducción del consumo estimado de energía de equipos y artefactos"},null,null,null,"Simultáneo",{"$f":"+CONCATENATE(IF(VLOOKUP(O605,'Resumen requerimientos'!$A$5:$AB$91,26)=0,1,VLOOKUP(O605,'Resumen requerimientos'!$A$5:$AB$91,26)),\" de \",IF(VLOOKUP(O605,'Resumen requerimientos'!$A$5:$AB$91,27)=0,1,VLOOKUP(O605,'Resumen requerimientos'!$A$5:$AB$91,27)))","v":"1 de 1"},null,null,null,{"$f":"+'Datos Generales Edificio'!$F$28","v":"CI - Central Interior"}]
[null,null,null,null,null,null,null,null,null,null,null,null,"N","76.3",76,3,{"$f":"+VLOOKUP(O606,'Resumen requerimientos'!$A$5:$B$104,2,FALSE)","v":"INST.ENERGIA.17"},"Nivel","Rango","Prioridad","Ponderación Of. Y Serv.","Ponderación Educ. y Salud.","Rango",null,null,null,{"$f":"+R605","v":"% de reducción del consumo estimado de energía de equipos y artefactos"},"NL - Norte Litoral","ND - Norte Desértico","NVT - Norte Valle Transversal","CL - Central Litoral","CI - Central Interior","SL - Sur Litoral","SI - Sur Interior","SE - Sur Extremo","An - Andino"]
[null,null,null,null,null,null,null,null,null,null,null,null,"N","76.4",76,4,{"$f":"+VLOOKUP(O607,'Resumen requerimientos'!$A$5:$B$104,2,FALSE)","v":"INST.ENERGIA.17"},"Muy bueno",{"$f":"+HLOOKUP($AA$605,$AB$606:$AJ$610,AK607,0)","v":"29,999%-100%"},1,{"$f":"+VLOOKUP(O605,TablaResumen[],22,0)*T607","v":0.01},{"$f":"+VLOOKUP(O605,TablaResumen[],23,0)*T607","v":0.01},{"$f":"+IFERROR(VALUE(MID(S607,1,FIND(\"-\",S607)-1)),S607)","v":0.29998999999999998},{"$f":"+IFERROR(VALUE(MID(S607,FIND(\"-\",S607)+1,LEN(S607)-FIND(\"-\",S607))),S607)","v":1},null,null,"Muy bueno","29,999%-100%","29,999%-100%","29,999%-100%","29,999%-100%","29,999%-100%","29,999%-100%","29,999%-100%","29,999%-100%","29,999%-100%",2]
[null,null,null,null,null,null,null,null,null,null,null,null,"N","76.5",76,5,{"$f":"+VLOOKUP(O608,'Resumen requerimientos'!$A$5:$B$104,2,FALSE)","v":"INST.ENERGIA.17"},"Bueno",{"$f":"+HLOOKUP($AA$605,$AB$606:$AJ$610,AK608,0)","v":"14,999%-29,999%"},0.5,{"$f":"+VLOOKUP(O606,TablaResumen[],22,0)*T608","v":5.0000000000000001E-3},{"$f":"+VLOOKUP(O606,TablaResumen[],23,0)*T608","v":5.0000000000000001E-3},{"$f":"+IFERROR(VALUE(MID(S608,1,FIND(\"-\",S608)-1)),S608)","v":0.14999000000000001},{"$f":"+IFERROR(VALUE(MID(S608,FIND(\"-\",S608)+1,LEN(S608)-FIND(\"-\",S608))),S608)","v":0.29998999999999998},null,null,"Bueno","14,999%-29,999%","14,999%-29,999%","14,999%-29,999%","14,999%-29,999%","14,999%-29,999%","14,999%-29,999%","14,999%-29,999%","14,999%-29,999%","14,999%-29,999%",3]
[null,null,null,null,null,null,null,null,null,null,null,null,"N","76.6",76,6,{"$f":"+VLOOKUP(O609,'Resumen requerimientos'!$A$5:$B$104,2,FALSE)","v":"INST.ENERGIA.17"},"Regular",{"$f":"+HLOOKUP($AA$605,$AB$606:$AJ$610,AK609,0)","v":0},0,{"$f":"+VLOOKUP(O607,TablaResumen[],22,0)*T609","v":0},{"$f":"+VLOOKUP(O607,TablaResumen[],23,0)*T609","v":0},{"$f":"+IFERROR(VALUE(MID(S609,1,FIND(\"-\",S609)-1)),S609)","v":0},{"$f":"+IFERROR(VALUE(MID(S609,FIND(\"-\",S609)+1,LEN(S609)-FIND(\"-\",S609))),S609)","v":0},null,null,"Regular",null,null,null,null,null,null,null,null,null,4]
[null,null,null,null,null,null,null,null,null,null,null,null,"N","76.7",76,7,{"$f":"+VLOOKUP(O610,'Resumen requerimientos'!$A$5:$B$104,2,FALSE)","v":"INST.ENERGIA.17"},"Minimo",{"$f":"+HLOOKUP($AA$605,$AB$606:$AJ$610,AK610,0)","v":0},0,{"$f":"+VLOOKUP(O608,TablaResumen[],22,0)*T610","v":0},{"$f":"+VLOOKUP(O608,TablaResumen[],23,0)*T610","v":0},{"$f":"+IFERROR(VALUE(MID(S610,1,FIND(\"-\",S610)-1)),S610)","v":0},{"$f":"+IFERROR(VALUE(MID(S610,FIND(\"-\",S610)+1,LEN(S610)-FIND(\"-\",S610))),S610)","v":0},null,null,"Minimo",null,null,null,null,null,null,null,null,null,5]
[null,null,null,null,null,null,null,null,null,null,null,null,"N","76.8",76,8]
[null,null,null,null,null,null,null,null,null,null,null,null,"N","77.1",{"$f":"+IF(R611=\"\",O611+1,O611)","v":77},1,{"$f":"+VLOOKUP(O612,'Resumen requerimientos'!$A$5:$B$104,2,FALSE)","v":"INST.ENERGIA.17"},{"$f":"+VLOOKUP(Q613,'Resumen requerimientos'!$B$5:$AJ$91,10,0)","v":"Otros consumos de energía"},null,{"$f":"+VLOOKUP(O613,TablaResumen[],16,0)","v":"Otros consumos de energía"},null,"Opción",{"$f":"+CONCATENATE(VLOOKUP(O613,'Resumen requerimientos'!$A$5:$AB$91,24),\" de \",VLOOKUP(O613,'Resumen requerimientos'!$A$5:$AB$91,25))","v":"1 de 2"},null,null,null,{"$f":"+'Datos Generales Edificio'!$C$5","v":"RM - Región Metropolitana de Santiago"}]
[null,null,null,null,null,null,null,null,null,null,null,null,"N","77.2",{"$f":"+O612","v":77},2,{"$f":"+VLOOKUP(O613,'Resumen requerimientos'!$A$5:$B$104,2,FALSE)","v":"INST.ENERGIA.17"},{"$f":"+VLOOKUP(O613,TablaResumen[],21,0)","v":"Disminución del consumo estimado de energía en equipos y artefactos"},null,null,null,"Simultáneo",{"$f":"+CONCATENATE(IF(VLOOKUP(O613,'Resumen requerimientos'!$A$5:$AB$91,26)=0,1,VLOOKUP(O613,'Resumen requerimientos'!$A$5:$AB$91,26)),\" de \",IF(VLOOKUP(O613,'Resumen requerimientos'!$A$5:$AB$91,27)=0,1,VLOOKUP(O613,'Resumen requerimientos'!$A$5:$AB$91,27)))","v":"1 de 1"},null,null,null,{"$f":"+'Datos Generales Edificio'!$F$28","v":"CI - Central Interior"}]
[null,null,null,null,null,null,null,null,null,null,null,null,"N","77.3",77,3,{"$f":"+VLOOKUP(O614,'Resumen requerimientos'!$A$5:$B$104,2,FALSE)","v":"INST.ENERGIA.17"},"Nivel","Rango","Prioridad","Ponderación Of. Y Serv.","Ponderación Educ. y Salud.","Rango",null,null,null,{"$f":"+R613","v":"Disminución del consumo estimado de energía en equipos y artefactos"},"NL - Norte Litoral","ND - Norte Desértico","NVT - Norte Valle Transversal","CL - Central Litoral","CI - Central Interior","SL - Sur Litoral","SI - Sur Interior","SE - Sur Extremo","An - Andino"]
[null,null,null,null,null,null,null,null,null,null,null,null,"N","77.4",77,4,{"$f":"+VLOOKUP(O615,'Resumen requerimientos'!$A$5:$B$104,2,FALSE)","v":"INST.ENERGIA.17"},"Muy bueno",{"$f":"+HLOOKUP($AA$613,$AB$614:$AJ$618,AK615,0)","v":"Cumple con disminución en el indicador de consumo de energía"},1,{"$f":"+VLOOKUP(O613,TablaResumen[],22,0)*T615","v":0.01},{"$f":"+VLOOKUP(O613,TablaResumen[],23,0)*T615","v":0.01},{"$f":"+IFERROR(VALUE(MID(S615,1,FIND(\"-\",S615)-1)),S615)","v":"Cumple con disminución en el indicador de consumo de energía"},{"$f":"+IFERROR(VALUE(MID(S615,FIND(\"-\",S615)+1,LEN(S615)-FIND(\"-\",S615))),S615)","v":"Cumple con disminución en el indicador de consumo de energía"},null,null,"Muy bueno","Cumple con disminución en el indicador de consumo de energía","Cumple con disminución en el indicador de consumo de energía","Cumple con disminución en el indicador de consumo de energía","Cumple con disminución en el indicador de consumo de energía","Cumple con disminución en el indicador de consumo de energía","Cumple con disminución en el indicador de consumo de energía","Cumple con disminución en el indicador de consumo de energía","Cumple con disminución en el indicador de consumo de energía","Cumple con disminución en el indicador de consumo de energía",2]
[null,null,null,null,null,null,null,null,null,null,null,null,"N","77.5",77,5,{"$f":"+VLOOKUP(O616,'Resumen requerimientos'!$A$5:$B$104,2,FALSE)","v":"INST.ENERGIA.17"},"Bueno",{"$f":"+HLOOKUP($AA$613,$AB$614:$AJ$618,AK616,0)","v":"NO cumple con disminución en el indicador de consumo de energía"},0.5,{"$f":"+VLOOKUP(O614,TablaResumen[],22,0)*T616","v":5.0000000000000001E-3},{"$f":"+VLOOKUP(O614,TablaResumen[],23,0)*T616","v":5.0000000000000001E-3},{"$f":"+IFERROR(VALUE(MID(S616,1,FIND(\"-\",S616)-1)),S616)","v":"NO cumple con disminución en el indicador de consumo de energía"},{"$f":"+IFERROR(VALUE(MID(S616,FIND(\"-\",S616)+1,LEN(S616)-FIND(\"-\",S616))),S616)","v":"NO cumple con disminución en el indicador de consumo de energía"},null,null,"Bueno","NO cumple con disminución en el indicador de consumo de energía","NO cumple con disminución en el indicador de consumo de energía","NO cumple con disminución en el indicador de consumo de energía","NO cumple con disminución en el indicador de consumo de energía","NO cumple con disminución en el indicador de consumo de energía","NO cumple con disminución en el indicador de consumo de energía","NO cumple con disminución en el indicador de consumo de energía","NO cumple con disminución en el indicador de consumo de energía","NO cumple con disminución en el indicador de consumo de energía",3]
[null,null,null,null,null,null,null,null,null,null,null,null,"N","77.6",77,6,{"$f":"+VLOOKUP(O617,'Resumen requerimientos'!$A$5:$B$104,2,FALSE)","v":"INST.ENERGIA.17"},"Regular",{"$f":"+HLOOKUP($AA$613,$AB$614:$AJ$618,AK617,0)","v":0},0,{"$f":"+VLOOKUP(O615,TablaResumen[],22,0)*T617","v":0},{"$f":"+VLOOKUP(O615,TablaResumen[],23,0)*T617","v":0},{"$f":"+IFERROR(VALUE(MID(S617,1,FIND(\"-\",S617)-1)),S617)","v":0},{"$f":"+IFERROR(VALUE(MID(S617,FIND(\"-\",S617)+1,LEN(S617)-FIND(\"-\",S617))),S617)","v":0},null,null,"Regular",null,null,null,null,null,null,null,null,null,4]
[null,null,null,null,null,null,null,null,null,null,null,null,"N","77.7",77,7,{"$f":"+VLOOKUP(O618,'Resumen requerimientos'!$A$5:$B$104,2,FALSE)","v":"INST.ENERGIA.17"},"Minimo",{"$f":"+HLOOKUP($AA$613,$AB$614:$AJ$618,AK618,0)","v":0},0,{"$f":"+VLOOKUP(O616,TablaResumen[],22,0)*T618","v":0},{"$f":"+VLOOKUP(O616,TablaResumen[],23,0)*T618","v":0},{"$f":"+IFERROR(VALUE(MID(S618,1,FIND(\"-\",S618)-1)),S618)","v":0},{"$f":"+IFERROR(VALUE(MID(S618,FIND(\"-\",S618)+1,LEN(S618)-FIND(\"-\",S618))),S618)","v":0},null,null,"Minimo",null,null,null,null,null,null,null,null,null,5]
[null,null,null,null,null,null,null,null,null,null,null,null,"N","77.8",77,8]
[null,null,null,null,null,null,null,null,null,null,null,null,"T","78.1",{"$f":"+IF(R619=\"\",O619+1,O619)","v":78},1,{"$f":"+VLOOKUP(O620,'Resumen requerimientos'!$A$5:$B$104,2,FALSE)","v":"INST.ENERGIA.18"},{"$f":"+VLOOKUP(Q621,'Resumen requerimientos'!$B$5:$AJ$91,10,0)","v":"Energía renovable no convencional"},null,{"$f":"+VLOOKUP(O621,TablaResumen[],16,0)","v":"Energía renovable no convencional"},null,"Opción",{"$f":"+CONCATENATE(VLOOKUP(O621,'Resumen requerimientos'!$A$5:$AB$91,24),\" de \",VLOOKUP(O621,'Resumen requerimientos'!$A$5:$AB$91,25))","v":"1 de 1"},null,null,null,{"$f":"+'Datos Generales Edificio'!$C$5","v":"RM - Región Metropolitana de Santiago"}]
[null,null,null,null,null,null,null,null,null,null,null,null,"T","78.2",{"$f":"+O620","v":78},2,{"$f":"+VLOOKUP(O621,'Resumen requerimientos'!$A$5:$B$104,2,FALSE)","v":"INST.ENERGIA.18"},{"$f":"+VLOOKUP(O621,TablaResumen[],21,0)","v":"Cobertura de demanda de energía primaria del edificio"},null,null,null,"Simultáneo",{"$f":"+CONCATENATE(IF(VLOOKUP(O621,'Resumen requerimientos'!$A$5:$AB$91,26)=0,1,VLOOKUP(O621,'Resumen requerimientos'!$A$5:$AB$91,26)),\" de \",IF(VLOOKUP(O621,'Resumen requerimientos'!$A$5:$AB$91,27)=0,1,VLOOKUP(O621,'Resumen requerimientos'!$A$5:$AB$91,27)))","v":"1 de 1"},null,null,null,{"$f":"+'Datos Generales Edificio'!$F$28","v":"CI - Central Interior"}]
[null,null,null,null,null,null,null,null,null,null,null,null,"T","78.3",78,3,{"$f":"+VLOOKUP(O622,'Resumen requerimientos'!$A$5:$B$104,2,FALSE)","v":"INST.ENERGIA.18"},"Nivel","Rango","Prioridad","Ponderación Of. Y Serv.","Ponderación Educ. y Salud.","Rango",null,null,null,{"$f":"+R621","v":"Cobertura de demanda de energía primaria del edificio"},"NL - Norte Litoral","ND - Norte Desértico","NVT - Norte Valle Transversal","CL - Central Litoral","CI - Central Interior","SL - Sur Litoral","SI - Sur Interior","SE - Sur Extremo","An - Andino"]
[null,null,null,null,null,null,null,null,null,null,null,null,"T","78.4",78,4,{"$f":"+VLOOKUP(O623,'Resumen requerimientos'!$A$5:$B$104,2,FALSE)","v":"INST.ENERGIA.18"},"Muy bueno",{"$f":"+HLOOKUP($AA$621,$AB$622:$AJ$626,AK623,0)","v":"9,999%-100%"},1,{"$f":"+VLOOKUP(O621,TablaResumen[],22,0)*T623","v":0.02},{"$f":"+VLOOKUP(O621,TablaResumen[],23,0)*T623","v":0.02},{"$f":"+IFERROR(VALUE(MID(S623,1,FIND(\"-\",S623)-1)),S623)","v":9.9989999999999996E-2},{"$f":"+IFERROR(VALUE(MID(S623,FIND(\"-\",S623)+1,LEN(S623)-FIND(\"-\",S623))),S623)","v":1},null,null,"Muy bueno","9,999%-100%","9,999%-100%","9,999%-100%","9,999%-100%","9,999%-100%","9,999%-100%","9,999%-100%","9,999%-100%","9,999%-100%",2]
[null,null,null,null,null,null,null,null,null,null,null,null,"T","78.5",78,5,{"$f":"+VLOOKUP(O624,'Resumen requerimientos'!$A$5:$B$104,2,FALSE)","v":"INST.ENERGIA.18"},"Bueno",{"$f":"+HLOOKUP($AA$621,$AB$622:$AJ$626,AK624,0)","v":"4,999%-9,999%"},0.5,{"$f":"+VLOOKUP(O622,TablaResumen[],22,0)*T624","v":0.01},{"$f":"+VLOOKUP(O622,TablaResumen[],23,0)*T624","v":0.01},{"$f":"+IFERROR(VALUE(MID(S624,1,FIND(\"-\",S624)-1)),S624)","v":4.999E-2},{"$f":"+IFERROR(VALUE(MID(S624,FIND(\"-\",S624)+1,LEN(S624)-FIND(\"-\",S624))),S624)","v":9.9989999999999996E-2},null,null,"Bueno","4,999%-9,999%","4,999%-9,999%","4,999%-9,999%","4,999%-9,999%","4,999%-9,999%","4,999%-9,999%","4,999%-9,999%","4,999%-9,999%","4,999%-9,999%",3]
[null,null,null,null,null,null,null,null,null,null,null,null,"T","78.6",78,6,{"$f":"+VLOOKUP(O625,'Resumen requerimientos'!$A$5:$B$104,2,FALSE)","v":"INST.ENERGIA.18"},"Regular",{"$f":"+HLOOKUP($AA$621,$AB$622:$AJ$626,AK625,0)","v":"1,999%-4,999%"},0.25,{"$f":"+VLOOKUP(O623,TablaResumen[],22,0)*T625","v":5.0000000000000001E-3},{"$f":"+VLOOKUP(O623,TablaResumen[],23,0)*T625","v":5.0000000000000001E-3},{"$f":"+IFERROR(VALUE(MID(S625,1,FIND(\"-\",S625)-1)),S625)","v":1.9990000000000001E-2},{"$f":"+IFERROR(VALUE(MID(S625,FIND(\"-\",S625)+1,LEN(S625)-FIND(\"-\",S625))),S625)","v":4.999E-2},null,null,"Regular","1,999%-4,999%","1,999%-4,999%","1,999%-4,999%","1,999%-4,999%","1,999%-4,999%","1,999%-4,999%","1,999%-4,999%","1,999%-4,999%","1,999%-4,999%",4]
[null,null,null,null,null,null,null,null,null,null,null,null,"T","78.7",78,7,{"$f":"+VLOOKUP(O626,'Resumen requerimientos'!$A$5:$B$104,2,FALSE)","v":"INST.ENERGIA.18"},"Minimo",{"$f":"+HLOOKUP($AA$621,$AB$622:$AJ$626,AK626,0)","v":"0%-1,999%"},0,{"$f":"+VLOOKUP(O624,TablaResumen[],22,0)*T626","v":0},{"$f":"+VLOOKUP(O624,TablaResumen[],23,0)*T626","v":0},{"$f":"+IFERROR(VALUE(MID(S626,1,FIND(\"-\",S626)-1)),S626)","v":0},{"$f":"+IFERROR(VALUE(MID(S626,FIND(\"-\",S626)+1,LEN(S626)-FIND(\"-\",S626))),S626)","v":1.9990000000000001E-2},null,null,"Minimo","0%-1,999%","0%-1,999%","0%-1,999%","0%-1,999%","0%-1,999%","0%-1,999%","0%-1,999%","0%-1,999%","0%-1,999%",5]
[null,null,null,null,null,null,null,null,null,null,null,null,"T","78.8",78,8]
[null,null,null,null,null,null,null,null,null,null,null,null,"N","79.1",{"$f":"+IF(R627=\"\",O627+1,O627)","v":79},1,{"$f":"+VLOOKUP(O628,'Resumen requerimientos'!$A$5:$B$104,2,FALSE)","v":"INST.AGUA.19.1"},{"$f":"+VLOOKUP(Q629,'Resumen requerimientos'!$B$5:$AJ$91,10,0)","v":"Instalación de agua potable"},null,{"$f":"+VLOOKUP(O629,TablaResumen[],16,0)","v":"Sistemas eficientes"},null,"Opción",{"$f":"+CONCATENATE(VLOOKUP(O629,'Resumen requerimientos'!$A$5:$AB$91,24),\" de \",VLOOKUP(O629,'Resumen requerimientos'!$A$5:$AB$91,25))","v":"1 de 1"},null,null,null,{"$f":"+'Datos Generales Edificio'!$C$5","v":"RM - Región Metropolitana de Santiago"}]
[null,null,null,null,null,null,null,null,null,null,null,null,"N","79.2",{"$f":"+O628","v":79},2,{"$f":"+VLOOKUP(O629,'Resumen requerimientos'!$A$5:$B$104,2,FALSE)","v":"INST.AGUA.19.1"},{"$f":"+VLOOKUP(O629,TablaResumen[],21,0)","v":"Disminución de consumo de agua potable [%]"},null,null,null,"Simultáneo",{"$f":"+CONCATENATE(IF(VLOOKUP(O629,'Resumen requerimientos'!$A$5:$AB$91,26)=0,1,VLOOKUP(O629,'Resumen requerimientos'!$A$5:$AB$91,26)),\" de \",IF(VLOOKUP(O629,'Resumen requerimientos'!$A$5:$AB$91,27)=0,1,VLOOKUP(O629,'Resumen requerimientos'!$A$5:$AB$91,27)))","v":"1 de 1"},null,null,null,{"$f":"+'Datos Generales Edificio'!$F$28","v":"CI - Central Interior"}]
[null,null,null,null,null,null,null,null,null,null,null,null,"N","79.3",79,3,{"$f":"+VLOOKUP(O630,'Resumen requerimientos'!$A$5:$B$104,2,FALSE)","v":"INST.AGUA.19.1"},"Nivel","Rango","Prioridad","Ponderación Of. Y Serv.","Ponderación Educ. y Salud.","Rango",null,null,null,{"$f":"+R629","v":"Disminución de consumo de agua potable [%]"},"NL - Norte Litoral","ND - Norte Desértico","NVT - Norte Valle Transversal","CL - Central Litoral","CI - Central Interior","SL - Sur Litoral","SI - Sur Interior","SE - Sur Extremo","An - Andino",null,null,"NL - Norte Litoral","ND - Norte Desértico","NVT - Norte Valle Transversal","CL - Central Litoral","CI - Central Interior","SL - Sur Litoral","SI - Sur Interior","SE - Sur Extremo","An - Andino"]
[null,null,null,null,null,null,null,null,null,null,null,null,"N","79.4",79,4,{"$f":"+VLOOKUP(O631,'Resumen requerimientos'!$A$5:$B$104,2,FALSE)","v":"INST.AGUA.19.1"},"Muy bueno",{"$f":"+HLOOKUP($AA$629,$AB$630:$AJ$634,AK631,0)","v":"39,999%-100%"},{"$f":"+HLOOKUP($AA$629,$AM$630:$AU$634,AK631,FALSE)","v":1},{"$f":"+VLOOKUP(O629,TablaResumen[],22,0)*T631","v":0.06},{"$f":"+VLOOKUP(O629,TablaResumen[],23,0)*T631","v":0.06},{"$f":"+IFERROR(VALUE(MID(S631,1,FIND(\"-\",S631)-1)),S631)","v":0.39999000000000001},{"$f":"+IFERROR(VALUE(MID(S631,FIND(\"-\",S631)+1,LEN(S631)-FIND(\"-\",S631))),S631)","v":1},null,null,"Muy bueno","39,999%-100%","39,999%-100%","39,999%-100%","39,999%-100%","39,999%-100%","39,999%-100%","39,999%-100%","39,999%-100%","39,999%-100%",2,null,1,1,1,1,1,{"$f":"2.5/6","v":0.41666666666666669},{"$f":"2.5/6","v":0.41666666666666669},{"$f":"2.5/6","v":0.41666666666666669},{"$f":"2.5/6","v":0.41666666666666669}]
[null,null,null,null,null,null,null,null,null,null,null,null,"N","79.5",79,5,{"$f":"+VLOOKUP(O632,'Resumen requerimientos'!$A$5:$B$104,2,FALSE)","v":"INST.AGUA.19.1"},"Bueno",{"$f":"+HLOOKUP($AA$629,$AB$630:$AJ$634,AK632,0)","v":"29,999%-39,999%"},{"$f":"+HLOOKUP($AA$629,$AM$630:$AU$634,AK632,FALSE)","v":0.5},{"$f":"+VLOOKUP(O630,TablaResumen[],22,0)*T632","v":0.03},{"$f":"+VLOOKUP(O630,TablaResumen[],23,0)*T632","v":0.03},{"$f":"+IFERROR(VALUE(MID(S632,1,FIND(\"-\",S632)-1)),S632)","v":0.29998999999999998},{"$f":"+IFERROR(VALUE(MID(S632,FIND(\"-\",S632)+1,LEN(S632)-FIND(\"-\",S632))),S632)","v":0.39999000000000001},null,null,"Bueno","29,999%-39,999%","29,999%-39,999%","29,999%-39,999%","29,999%-39,999%","29,999%-39,999%","29,999%-39,999%","29,999%-39,999%","29,999%-39,999%","29,999%-39,999%",3,null,0.5,0.5,0.5,0.5,0.5,{"$f":"1.5/6","v":0.25},{"$f":"1.5/6","v":0.25},{"$f":"1.5/6","v":0.25},{"$f":"1.5/6","v":0.25}]
[null,null,null,null,null,null,null,null,null,null,null,null,"N","79.6",79,6,{"$f":"+VLOOKUP(O633,'Resumen requerimientos'!$A$5:$B$104,2,FALSE)","v":"INST.AGUA.19.1"},"Regular",{"$f":"+HLOOKUP($AA$629,$AB$630:$AJ$634,AK633,0)","v":"19,999%-29,999%"},{"$f":"+HLOOKUP($AA$629,$AM$630:$AU$634,AK633,FALSE)","v":0.16666666666666666},{"$f":"+VLOOKUP(O631,TablaResumen[],22,0)*T633","v":9.9999999999999985E-3},{"$f":"+VLOOKUP(O631,TablaResumen[],23,0)*T633","v":9.9999999999999985E-3},{"$f":"+IFERROR(VALUE(MID(S633,1,FIND(\"-\",S633)-1)),S633)","v":0.19999},{"$f":"+IFERROR(VALUE(MID(S633,FIND(\"-\",S633)+1,LEN(S633)-FIND(\"-\",S633))),S633)","v":0.29998999999999998},null,null,"Regular","19,999%-29,999%","19,999%-29,999%","19,999%-29,999%","19,999%-29,999%","19,999%-29,999%","19,999%-29,999%","19,999%-29,999%","19,999%-29,999%","19,999%-29,999%",4,null,{"$f":"1/6","v":0.16666666666666666},{"$f":"1/6","v":0.16666666666666666},{"$f":"1/6","v":0.16666666666666666},{"$f":"1/6","v":0.16666666666666666},{"$f":"1/6","v":0.16666666666666666},{"$f":"0.5/6","v":8.3333333333333329E-2},{"$f":"0.5/6","v":8.3333333333333329E-2},{"$f":"0.5/6","v":8.3333333333333329E-2},{"$f":"0.5/6","v":8.3333333333333329E-2}]
[null,null,null,null,null,null,null,null,null,null,null,null,"N","79.7",79,7,{"$f":"+VLOOKUP(O634,'Resumen requerimientos'!$A$5:$B$104,2,FALSE)","v":"INST.AGUA.19.1"},"Minimo",{"$f":"+HLOOKUP($AA$629,$AB$630:$AJ$634,AK634,0)","v":0},{"$f":"+HLOOKUP($AA$629,$AM$630:$AU$634,AK634,FALSE)","v":0},{"$f":"+VLOOKUP(O632,TablaResumen[],22,0)*T634","v":0},{"$f":"+VLOOKUP(O632,TablaResumen[],23,0)*T634","v":0},{"$f":"+IFERROR(VALUE(MID(S634,1,FIND(\"-\",S634)-1)),S634)","v":0},{"$f":"+IFERROR(VALUE(MID(S634,FIND(\"-\",S634)+1,LEN(S634)-FIND(\"-\",S634))),S634)","v":0},null,null,"Minimo",null,null,null,null,null,null,null,null,null,5]
[null,null,null,null,null,null,null,null,null,null,null,null,"N","79.8",79,8]
[null,null,null,null,null,null,null,null,null,null,null,null,"N","80.1",{"$f":"+IF(R635=\"\",O635+1,O635)","v":80},1,{"$f":"+VLOOKUP(O636,'Resumen requerimientos'!$A$5:$B$104,2,FALSE)","v":"INST.AGUA.19.2"},{"$f":"+VLOOKUP(Q637,'Resumen requerimientos'!$B$5:$AJ$91,10,0)","v":"Instalación de agua potable"},null,{"$f":"+VLOOKUP(O637,TablaResumen[],16,0)","v":"Dureza del agua"},null,"Opción",{"$f":"+CONCATENATE(VLOOKUP(O637,'Resumen requerimientos'!$A$5:$AB$91,24),\" de \",VLOOKUP(O637,'Resumen requerimientos'!$A$5:$AB$91,25))","v":"1 de 1"},null,null,null,{"$f":"+'Datos Generales Edificio'!$C$5","v":"RM - Región Metropolitana de Santiago"}]
[null,null,null,null,null,null,null,null,null,null,null,null,"N","80.2",{"$f":"+O636","v":80},2,{"$f":"+VLOOKUP(O637,'Resumen requerimientos'!$A$5:$B$104,2,FALSE)","v":"INST.AGUA.19.2"},{"$f":"+VLOOKUP(O637,TablaResumen[],21,0)","v":"Tratamiento para la remoción de dureza de agua"},null,null,null,"Simultáneo",{"$f":"+CONCATENATE(IF(VLOOKUP(O637,'Resumen requerimientos'!$A$5:$AB$91,26)=0,1,VLOOKUP(O637,'Resumen requerimientos'!$A$5:$AB$91,26)),\" de \",IF(VLOOKUP(O637,'Resumen requerimientos'!$A$5:$AB$91,27)=0,1,VLOOKUP(O637,'Resumen requerimientos'!$A$5:$AB$91,27)))","v":"1 de 1"},null,null,null,{"$f":"+'Datos Generales Edificio'!$F$28","v":"CI - Central Interior"}]
[null,null,null,null,null,null,null,null,null,null,null,null,"N","80.3",80,3,{"$f":"+VLOOKUP(O638,'Resumen requerimientos'!$A$5:$B$104,2,FALSE)","v":"INST.AGUA.19.2"},"Nivel","Rango","Prioridad","Ponderación Of. Y Serv.","Ponderación Educ. y Salud.","Rango",null,null,null,{"$f":"+R637","v":"Tratamiento para la remoción de dureza de agua"},"NL - Norte Litoral","ND - Norte Desértico","NVT - Norte Valle Transversal","CL - Central Litoral","CI - Central Interior","SL - Sur Litoral","SI - Sur Interior","SE - Sur Extremo","An - Andino"]
[null,null,null,null,null,null,null,null,null,null,null,null,"N","80.4",80,4,{"$f":"+VLOOKUP(O639,'Resumen requerimientos'!$A$5:$B$104,2,FALSE)","v":"INST.AGUA.19.2"},"Muy bueno",{"$f":"+HLOOKUP($AA$637,$AB$638:$AJ$642,AK639,0)","v":"Posee sistema de tratamiento de dureza del agua"},1,{"$f":"+VLOOKUP(O637,TablaResumen[],22,0)*T639","v":5.0000000000000001E-3},{"$f":"+VLOOKUP(O637,TablaResumen[],23,0)*T639","v":5.0000000000000001E-3},{"$f":"+IFERROR(VALUE(MID(S639,1,FIND(\"-\",S639)-1)),S639)","v":"Posee sistema de tratamiento de dureza del agua"},{"$f":"+IFERROR(VALUE(MID(S639,FIND(\"-\",S639)+1,LEN(S639)-FIND(\"-\",S639))),S639)","v":"Posee sistema de tratamiento de dureza del agua"},null,null,"Muy bueno","Posee sistema de tratamiento de dureza del agua","Posee sistema de tratamiento de dureza del agua","Posee sistema de tratamiento de dureza del agua","Posee sistema de tratamiento de dureza del agua","Posee sistema de tratamiento de dureza del agua","Posee sistema de tratamiento de dureza del agua","Posee sistema de tratamiento de dureza del agua","Posee sistema de tratamiento de dureza del agua","Posee sistema de tratamiento de dureza del agua",2]
[null,null,null,null,null,null,null,null,null,null,null,null,"N","80.5",80,5,{"$f":"+VLOOKUP(O640,'Resumen requerimientos'!$A$5:$B$104,2,FALSE)","v":"INST.AGUA.19.2"},"Bueno",{"$f":"+HLOOKUP($AA$637,$AB$638:$AJ$642,AK640,0)","v":"NO posee sistema de tratamiento de dureza del agua"},0,{"$f":"+VLOOKUP(O638,TablaResumen[],22,0)*T640","v":0},{"$f":"+VLOOKUP(O638,TablaResumen[],23,0)*T640","v":0},{"$f":"+IFERROR(VALUE(MID(S640,1,FIND(\"-\",S640)-1)),S640)","v":"NO posee sistema de tratamiento de dureza del agua"},{"$f":"+IFERROR(VALUE(MID(S640,FIND(\"-\",S640)+1,LEN(S640)-FIND(\"-\",S640))),S640)","v":"NO posee sistema de tratamiento de dureza del agua"},null,null,"Bueno","NO posee sistema de tratamiento de dureza del agua","NO posee sistema de tratamiento de dureza del agua","NO posee sistema de tratamiento de dureza del agua","NO posee sistema de tratamiento de dureza del agua","NO posee sistema de tratamiento de dureza del agua","NO posee sistema de tratamiento de dureza del agua","NO posee sistema de tratamiento de dureza del agua","NO posee sistema de tratamiento de dureza del agua","NO posee sistema de tratamiento de dureza del agua",3]
[null,null,null,null,null,null,null,null,null,null,null,null,"N","80.6",80,6,{"$f":"+VLOOKUP(O641,'Resumen requerimientos'!$A$5:$B$104,2,FALSE)","v":"INST.AGUA.19.2"},"Regular",{"$f":"+HLOOKUP($AA$637,$AB$638:$AJ$642,AK641,0)","v":0},0,{"$f":"+VLOOKUP(O639,TablaResumen[],22,0)*T641","v":0},{"$f":"+VLOOKUP(O639,TablaResumen[],23,0)*T641","v":0},{"$f":"+IFERROR(VALUE(MID(S641,1,FIND(\"-\",S641)-1)),S641)","v":0},{"$f":"+IFERROR(VALUE(MID(S641,FIND(\"-\",S641)+1,LEN(S641)-FIND(\"-\",S641))),S641)","v":0},null,null,"Regular",null,null,null,null,null,null,null,null,null,4]
[null,null,null,null,null,null,null,null,null,null,null,null,"N","80.7",80,7,{"$f":"+VLOOKUP(O642,'Resumen requerimientos'!$A$5:$B$104,2,FALSE)","v":"INST.AGUA.19.2"},"Minimo",{"$f":"+HLOOKUP($AA$637,$AB$638:$AJ$642,AK642,0)","v":0},0,{"$f":"+VLOOKUP(O640,TablaResumen[],22,0)*T642","v":0},{"$f":"+VLOOKUP(O640,TablaResumen[],23,0)*T642","v":0},{"$f":"+IFERROR(VALUE(MID(S642,1,FIND(\"-\",S642)-1)),S642)","v":0},{"$f":"+IFERROR(VALUE(MID(S642,FIND(\"-\",S642)+1,LEN(S642)-FIND(\"-\",S642))),S642)","v":0},null,null,"Minimo",null,null,null,null,null,null,null,null,null,5]
[null,null,null,null,null,null,null,null,null,null,null,null,"N","80.8",80,8]
[null,null,null,null,null,null,null,null,null,null,null,null,"T","81.1",{"$f":"+IF(R643=\"\",O643+1,O643)","v":81},1,{"$f":"+VLOOKUP(O644,'Resumen requerimientos'!$A$5:$B$104,2,FALSE)","v":"19R"},{"$f":"+VLOOKUP(Q645,'Resumen requerimientos'!$B$5:$AJ$91,10,0)","v":"Instalación de agua potable"},null,{"$f":"+VLOOKUP(O645,TablaResumen[],16,0)","v":"Reducir en un 20% el consumo de agua potable"},null,"Opción",{"$f":"+CONCATENATE(VLOOKUP(O645,'Resumen requerimientos'!$A$5:$AB$91,24),\" de \",VLOOKUP(O645,'Resumen requerimientos'!$A$5:$AB$91,25))","v":"1 de 1"},null,null,null,{"$f":"+'Datos Generales Edificio'!$C$5","v":"RM - Región Metropolitana de Santiago"}]
[null,null,null,null,null,null,null,null,null,null,null,null,"T","81.2",{"$f":"+O644","v":81},2,{"$f":"+VLOOKUP(O645,'Resumen requerimientos'!$A$5:$B$104,2,FALSE)","v":"19R"},{"$f":"+VLOOKUP(O645,TablaResumen[],21,0)","v":"Disminución del consumo de agua potable por griferías y artefactos [%]"},null,null,null,"Simultáneo",{"$f":"+CONCATENATE(IF(VLOOKUP(O645,'Resumen requerimientos'!$A$5:$AB$91,26)=0,1,VLOOKUP(O645,'Resumen requerimientos'!$A$5:$AB$91,26)),\" de \",IF(VLOOKUP(O645,'Resumen requerimientos'!$A$5:$AB$91,27)=0,1,VLOOKUP(O645,'Resumen requerimientos'!$A$5:$AB$91,27)))","v":"1 de 1"},null,null,null,{"$f":"+'Datos Generales Edificio'!$F$28","v":"CI - Central Interior"}]
[null,null,null,null,null,null,null,null,null,null,null,null,"T",{"$f":"+CONCATENATE(O646,\".\",P646)","v":"81.3"},81,{"$f":"+IF(O646=O645,P645+1,1)","v":3},{"$f":"+VLOOKUP(O646,'Resumen requerimientos'!$A$5:$B$104,2,FALSE)","v":"19R"},"Nivel","Rango","Prioridad","Ponderación Of. Y Serv.","Ponderación Educ. y Salud.","Rango",null,null,null,{"$f":"+R645","v":"Disminución del consumo de agua potable por griferías y artefactos [%]"},"NL - Norte Litoral","ND - Norte Desértico","NVT - Norte Valle Transversal","CL - Central Litoral","CI - Central Interior","SL - Sur Litoral","SI - Sur Interior","SE - Sur Extremo","An - Andino"]
[null,null,null,null,null,null,null,null,null,null,null,null,"T","81.4",81,4,{"$f":"+VLOOKUP(O647,'Resumen requerimientos'!$A$5:$B$104,2,FALSE)","v":"19R"},"Muy bueno",{"$f":"+HLOOKUP($AA$645,$AB$646:$AJ$650,AK647,0)","v":"19,999%-1000%"},1,{"$f":"+VLOOKUP(O645,TablaResumen[],22,0)*T647","v":1},{"$f":"+VLOOKUP(O645,TablaResumen[],23,0)*T647","v":1},{"$f":"+IFERROR(VALUE(MID(S647,1,FIND(\"-\",S647)-1)),S647)","v":0.19999},{"$f":"+IFERROR(VALUE(MID(S647,FIND(\"-\",S647)+1,LEN(S647)-FIND(\"-\",S647))),S647)","v":10},null,null,"Muy bueno","19,999%-1000%","19,999%-1000%","19,999%-1000%","19,999%-1000%","19,999%-1000%","19,999%-1000%","19,999%-1000%","19,999%-1000%","19,999%-1000%",2]
[null,null,null,null,null,null,null,null,null,null,null,null,"T","81.5",81,5,{"$f":"+VLOOKUP(O648,'Resumen requerimientos'!$A$5:$B$104,2,FALSE)","v":"19R"},"Bueno",{"$f":"+HLOOKUP($AA$645,$AB$646:$AJ$650,AK648,0)","v":"19,999%-1000%"},1,{"$f":"+VLOOKUP(O646,TablaResumen[],22,0)*T648","v":1},{"$f":"+VLOOKUP(O646,TablaResumen[],23,0)*T648","v":1},{"$f":"+IFERROR(VALUE(MID(S648,1,FIND(\"-\",S648)-1)),S648)","v":0.19999},{"$f":"+IFERROR(VALUE(MID(S648,FIND(\"-\",S648)+1,LEN(S648)-FIND(\"-\",S648))),S648)","v":10},null,null,"Bueno","19,999%-1000%","19,999%-1000%","19,999%-1000%","19,999%-1000%","19,999%-1000%","19,999%-1000%","19,999%-1000%","19,999%-1000%","19,999%-1000%",3]
[null,null,null,null,null,null,null,null,null,null,null,null,"T","81.6",81,6,{"$f":"+VLOOKUP(O649,'Resumen requerimientos'!$A$5:$B$104,2,FALSE)","v":"19R"},"Regular",{"$f":"+HLOOKUP($AA$645,$AB$646:$AJ$650,AK649,0)","v":"19,999%-1000%"},1,{"$f":"+VLOOKUP(O647,TablaResumen[],22,0)*T649","v":1},{"$f":"+VLOOKUP(O647,TablaResumen[],23,0)*T649","v":1},{"$f":"+IFERROR(VALUE(MID(S649,1,FIND(\"-\",S649)-1)),S649)","v":0.19999},{"$f":"+IFERROR(VALUE(MID(S649,FIND(\"-\",S649)+1,LEN(S649)-FIND(\"-\",S649))),S649)","v":10},null,null,"Regular","19,999%-1000%","19,999%-1000%","19,999%-1000%","19,999%-1000%","19,999%-1000%","19,999%-1000%","19,999%-1000%","19,999%-1000%","19,999%-1000%",4]
[null,null,null,null,null,null,null,null,null,null,null,null,"T","81.7",81,7,{"$f":"+VLOOKUP(O650,'Resumen requerimientos'!$A$5:$B$104,2,FALSE)","v":"19R"},"Minimo",{"$f":"+HLOOKUP($AA$645,$AB$646:$AJ$650,AK650,0)","v":"19,999%-1000%"},1,{"$f":"+VLOOKUP(O648,TablaResumen[],22,0)*T650","v":1},{"$f":"+VLOOKUP(O648,TablaResumen[],23,0)*T650","v":1},{"$f":"+IFERROR(VALUE(MID(S650,1,FIND(\"-\",S650)-1)),S650)","v":0.19999},{"$f":"+IFERROR(VALUE(MID(S650,FIND(\"-\",S650)+1,LEN(S650)-FIND(\"-\",S650))),S650)","v":10},null,null,"Minimo","19,999%-1000%","19,999%-1000%","19,999%-1000%","19,999%-1000%","19,999%-1000%","19,999%-1000%","19,999%-1000%","19,999%-1000%","19,999%-1000%",5]
[null,null,null,null,null,null,null,null,null,null,null,null,"T","81.8",81,8]
[null,null,null,null,null,null,null,null,null,null,null,null,"N","82.1",{"$f":"+IF(R651=\"\",O651+1,O651)","v":82},1,{"$f":"+VLOOKUP(O652,'Resumen requerimientos'!$A$5:$B$104,2,FALSE)","v":"INST.AGUA.20"},{"$f":"+VLOOKUP(Q653,'Resumen requerimientos'!$B$5:$AJ$91,10,0)","v":"Instalación de riego"},null,{"$f":"+VLOOKUP(O653,TablaResumen[],16,0)","v":"Sistemas eficientes"},null,"Opción",{"$f":"+CONCATENATE(VLOOKUP(O653,'Resumen requerimientos'!$A$5:$AB$91,24),\" de \",VLOOKUP(O653,'Resumen requerimientos'!$A$5:$AB$91,25))","v":"1 de 1"},null,null,null,{"$f":"+'Datos Generales Edificio'!$C$5","v":"RM - Región Metropolitana de Santiago"}]
[null,null,null,null,null,null,null,null,null,null,null,null,"N","82.2",{"$f":"+O652","v":82},2,{"$f":"+VLOOKUP(O653,'Resumen requerimientos'!$A$5:$B$104,2,FALSE)","v":"INST.AGUA.20"},{"$f":"+VLOOKUP(O653,TablaResumen[],21,0)","v":"Disminución del consumo de agua para riego [%]"},null,null,null,"Simultáneo",{"$f":"+CONCATENATE(IF(VLOOKUP(O653,'Resumen requerimientos'!$A$5:$AB$91,26)=0,1,VLOOKUP(O653,'Resumen requerimientos'!$A$5:$AB$91,26)),\" de \",IF(VLOOKUP(O653,'Resumen requerimientos'!$A$5:$AB$91,27)=0,1,VLOOKUP(O653,'Resumen requerimientos'!$A$5:$AB$91,27)))","v":"1 de 1"},null,null,null,{"$f":"+'Datos Generales Edificio'!$F$28","v":"CI - Central Interior"}]
[null,null,null,null,null,null,null,null,null,null,null,null,"N","82.3",82,3,{"$f":"+VLOOKUP(O654,'Resumen requerimientos'!$A$5:$B$104,2,FALSE)","v":"INST.AGUA.20"},"Nivel","Rango","Prioridad","Ponderación Of. Y Serv.","Ponderación Educ. y Salud.","Rango",null,null,null,{"$f":"+R653","v":"Disminución del consumo de agua para riego [%]"},"NL - Norte Litoral","ND - Norte Desértico","NVT - Norte Valle Transversal","CL - Central Litoral","CI - Central Interior","SL - Sur Litoral","SI - Sur Interior","SE - Sur Extremo","An - Andino",null,null,"NL - Norte Litoral","ND - Norte Desértico","NVT - Norte Valle Transversal","CL - Central Litoral","CI - Central Interior","SL - Sur Litoral","SI - Sur Interior","SE - Sur Extremo","An - Andino"]
[null,null,null,null,null,null,null,null,null,null,null,null,"N","82.4",82,4,{"$f":"+VLOOKUP(O655,'Resumen requerimientos'!$A$5:$B$104,2,FALSE)","v":"INST.AGUA.20"},"Muy bueno",{"$f":"+HLOOKUP($AA$653,$AB$654:$AJ$658,AK655,0)","v":"59,999%-100%"},{"$f":"+HLOOKUP($AA$653,$AM$654:$AU$658,AK655)","v":1},{"$f":"+VLOOKUP(O653,TablaResumen[],22,0)*T655","v":0.01},{"$f":"+VLOOKUP(O653,TablaResumen[],23,0)*T655","v":0.01},{"$f":"+IFERROR(VALUE(MID(S655,1,FIND(\"-\",S655)-1)),S655)","v":0.59999000000000002},{"$f":"+IFERROR(VALUE(MID(S655,FIND(\"-\",S655)+1,LEN(S655)-FIND(\"-\",S655))),S655)","v":1},null,null,"Muy bueno","59,999%-100%","59,999%-100%","59,999%-100%","59,999%-100%","59,999%-100%","59,999%-100%","59,999%-100%","59,999%-100%","59,999%-100%",2,null,1,1,1,1,1,0.5,0.5,0.5,0.5]
[null,null,null,null,null,null,null,null,null,null,null,null,"N","82.5",82,5,{"$f":"+VLOOKUP(O656,'Resumen requerimientos'!$A$5:$B$104,2,FALSE)","v":"INST.AGUA.20"},"Bueno",{"$f":"+HLOOKUP($AA$653,$AB$654:$AJ$658,AK656,0)","v":"39,999%-59,999%"},{"$f":"+HLOOKUP($AA$653,$AM$654:$AU$658,AK656)","v":0.5},{"$f":"+VLOOKUP(O654,TablaResumen[],22,0)*T656","v":5.0000000000000001E-3},{"$f":"+VLOOKUP(O654,TablaResumen[],23,0)*T656","v":5.0000000000000001E-3},{"$f":"+IFERROR(VALUE(MID(S656,1,FIND(\"-\",S656)-1)),S656)","v":0.39999000000000001},{"$f":"+IFERROR(VALUE(MID(S656,FIND(\"-\",S656)+1,LEN(S656)-FIND(\"-\",S656))),S656)","v":0.59999000000000002},null,null,"Bueno","39,999%-59,999%","39,999%-59,999%","39,999%-59,999%","39,999%-59,999%","39,999%-59,999%","39,999%-59,999%","39,999%-59,999%","39,999%-59,999%","39,999%-59,999%",3,null,0.5,0.5,0.5,0.5,0.5,0.5,0.5,0.5,0.5]
[null,null,null,null,null,null,null,null,null,null,null,null,"N","82.6",82,6,{"$f":"+VLOOKUP(O657,'Resumen requerimientos'!$A$5:$B$104,2,FALSE)","v":"INST.AGUA.20"},"Regular",{"$f":"+HLOOKUP($AA$653,$AB$654:$AJ$658,AK657,0)","v":"19,999%-39,999%"},{"$f":"+HLOOKUP($AA$653,$AM$654:$AU$658,AK657)","v":0.2},{"$f":"+VLOOKUP(O655,TablaResumen[],22,0)*T657","v":2E-3},{"$f":"+VLOOKUP(O655,TablaResumen[],23,0)*T657","v":2E-3},{"$f":"+IFERROR(VALUE(MID(S657,1,FIND(\"-\",S657)-1)),S657)","v":0.19999},{"$f":"+IFERROR(VALUE(MID(S657,FIND(\"-\",S657)+1,LEN(S657)-FIND(\"-\",S657))),S657)","v":0.39999000000000001},null,null,"Regular","19,999%-39,999%","19,999%-39,999%","19,999%-39,999%","19,999%-39,999%","19,999%-39,999%","19,999%-39,999%","19,999%-39,999%","19,999%-39,999%","19,999%-39,999%",4,null,0.2,0.2,0.2,0.2,0.2,0,0,0,0]
[null,null,null,null,null,null,null,null,null,null,null,null,"N","82.7",82,7,{"$f":"+VLOOKUP(O658,'Resumen requerimientos'!$A$5:$B$104,2,FALSE)","v":"INST.AGUA.20"},"Minimo",{"$f":"+HLOOKUP($AA$653,$AB$654:$AJ$658,AK658,0)","v":0},{"$f":"+HLOOKUP($AA$653,$AM$654:$AU$658,AK658)","v":0},{"$f":"+VLOOKUP(O656,TablaResumen[],22,0)*T658","v":0},{"$f":"+VLOOKUP(O656,TablaResumen[],23,0)*T658","v":0},{"$f":"+IFERROR(VALUE(MID(S658,1,FIND(\"-\",S658)-1)),S658)","v":0},{"$f":"+IFERROR(VALUE(MID(S658,FIND(\"-\",S658)+1,LEN(S658)-FIND(\"-\",S658))),S658)","v":0},null,null,"Minimo",null,null,null,null,null,null,null,null,null,5]
[null,null,null,null,null,null,null,null,null,null,null,null,"N","82.8",82,8]
[null,null,null,null,null,null,null,null,null,null,null,null,"N","83.1",{"$f":"+IF(R659=\"\",O659+1,O659)","v":83},1,{"$f":"+VLOOKUP(O660,'Resumen requerimientos'!$A$5:$B$104,2,FALSE)","v":"20R"},{"$f":"+VLOOKUP(Q661,'Resumen requerimientos'!$B$5:$AJ$91,10,0)","v":"Instalación de riego"},null,{"$f":"+VLOOKUP(O661,TablaResumen[],16,0)","v":"Reducir en un 20% el consumo de agua para riego"},null,"Opción",{"$f":"+CONCATENATE(VLOOKUP(O661,'Resumen requerimientos'!$A$5:$AB$91,24),\" de \",VLOOKUP(O661,'Resumen requerimientos'!$A$5:$AB$91,25))","v":"1 de 1"},null,null,null,{"$f":"+'Datos Generales Edificio'!$C$5","v":"RM - Región Metropolitana de Santiago"}]
[null,null,null,null,null,null,null,null,null,null,null,null,"N","83.2",{"$f":"+O660","v":83},2,{"$f":"+VLOOKUP(O661,'Resumen requerimientos'!$A$5:$B$104,2,FALSE)","v":"20R"},{"$f":"+VLOOKUP(O661,TablaResumen[],21,0)","v":"Disminución del consumo de agua para riego por sistema de riego [%]"},null,null,null,"Simultáneo",{"$f":"+CONCATENATE(IF(VLOOKUP(O661,'Resumen requerimientos'!$A$5:$AB$91,26)=0,1,VLOOKUP(O661,'Resumen requerimientos'!$A$5:$AB$91,26)),\" de \",IF(VLOOKUP(O661,'Resumen requerimientos'!$A$5:$AB$91,27)=0,1,VLOOKUP(O661,'Resumen requerimientos'!$A$5:$AB$91,27)))","v":"1 de 1"},null,null,null,{"$f":"+'Datos Generales Edificio'!$F$28","v":"CI - Central Interior"}]
[null,null,null,null,null,null,null,null,null,null,null,null,"N","83.3",83,3,{"$f":"+VLOOKUP(O662,'Resumen requerimientos'!$A$5:$B$104,2,FALSE)","v":"20R"},"Nivel","Rango","Prioridad","Ponderación Of. Y Serv.","Ponderación Educ. y Salud.","Rango",null,null,null,{"$f":"+R661","v":"Disminución del consumo de agua para riego por sistema de riego [%]"},"NL - Norte Litoral","ND - Norte Desértico","NVT - Norte Valle Transversal","CL - Central Litoral","CI - Central Interior","SL - Sur Litoral","SI - Sur Interior","SE - Sur Extremo","An - Andino"]
[null,null,null,null,null,null,null,null,null,null,null,null,"N","83.4",83,4,{"$f":"+VLOOKUP(O663,'Resumen requerimientos'!$A$5:$B$104,2,FALSE)","v":"20R"},"Muy bueno",{"$f":"+HLOOKUP($AA$661,$AB$662:$AJ$666,AK663,0)","v":"20% o más"},1,{"$f":"+VLOOKUP(O661,TablaResumen[],22,0)*T663","v":1},{"$f":"+VLOOKUP(O661,TablaResumen[],23,0)*T663","v":1},{"$f":"+IFERROR(VALUE(MID(S663,1,FIND(\"-\",S663)-1)),S663)","v":"20% o más"},{"$f":"+IFERROR(VALUE(MID(S663,FIND(\"-\",S663)+1,LEN(S663)-FIND(\"-\",S663))),S663)","v":"20% o más"},null,null,"Muy bueno",{"$f":"+IF('Datos Generales Edificio'!$F$54=\"menor a 500 mm\",\"20% o más\",\"Se exime de este requisito\")","v":"20% o más"},{"$f":"+IF('Datos Generales Edificio'!$F$54=\"menor a 500 mm\",\"20% o más\",\"Se exime de este requisito\")","v":"20% o más"},{"$f":"+IF('Datos Generales Edificio'!$F$54=\"menor a 500 mm\",\"20% o más\",\"Se exime de este requisito\")","v":"20% o más"},{"$f":"+IF('Datos Generales Edificio'!$F$54=\"menor a 500 mm\",\"20% o más\",\"Se exime de este requisito\")","v":"20% o más"},{"$f":"+IF('Datos Generales Edificio'!$F$54=\"menor a 500 mm\",\"20% o más\",\"Se exime de este requisito\")","v":"20% o más"},{"$f":"+IF('Datos Generales Edificio'!$F$54=\"menor a 500 mm\",\"20% o más\",\"Se exime de este requisito\")","v":"20% o más"},{"$f":"+IF('Datos Generales Edificio'!$F$54=\"menor a 500 mm\",\"20% o más\",\"Se exime de este requisito\")","v":"20% o más"},{"$f":"+IF('Datos Generales Edificio'!$F$54=\"menor a 500 mm\",\"20% o más\",\"Se exime de este requisito\")","v":"20% o más"},{"$f":"+IF('Datos Generales Edificio'!$F$54=\"menor a 500 mm\",\"20% o más\",\"Se exime de este requisito\")","v":"20% o más"},2]
[null,null,null,null,null,null,null,null,null,null,null,null,"N","83.5",83,5,{"$f":"+VLOOKUP(O664,'Resumen requerimientos'!$A$5:$B$104,2,FALSE)","v":"20R"},"Bueno",{"$f":"+HLOOKUP($AA$661,$AB$662:$AJ$666,AK664,0)","v":"0%-20%"},0,{"$f":"+VLOOKUP(O662,TablaResumen[],22,0)*T664","v":0},{"$f":"+VLOOKUP(O662,TablaResumen[],23,0)*T664","v":0},{"$f":"+IFERROR(VALUE(MID(S664,1,FIND(\"-\",S664)-1)),S664)","v":0},{"$f":"+IFERROR(VALUE(MID(S664,FIND(\"-\",S664)+1,LEN(S664)-FIND(\"-\",S664))),S664)","v":0.2},null,null,"Bueno",{"$f":"+IF('Datos Generales Edificio'!$F$54=\"menor a 500 mm\",\"0%-20%\",\"\")","v":"0%-20%"},{"$f":"+IF('Datos Generales Edificio'!$F$54=\"menor a 500 mm\",\"0%-20%\",\"\")","v":"0%-20%"},{"$f":"+IF('Datos Generales Edificio'!$F$54=\"menor a 500 mm\",\"0%-20%\",\"\")","v":"0%-20%"},{"$f":"+IF('Datos Generales Edificio'!$F$54=\"menor a 500 mm\",\"0%-20%\",\"\")","v":"0%-20%"},{"$f":"+IF('Datos Generales Edificio'!$F$54=\"menor a 500 mm\",\"0%-20%\",\"\")","v":"0%-20%"},{"$f":"+IF('Datos Generales Edificio'!$F$54=\"menor a 500 mm\",\"0%-20%\",\"\")","v":"0%-20%"},{"$f":"+IF('Datos Generales Edificio'!$F$54=\"menor a 500 mm\",\"0%-20%\",\"\")","v":"0%-20%"},{"$f":"+IF('Datos Generales Edificio'!$F$54=\"menor a 500 mm\",\"0%-20%\",\"\")","v":"0%-20%"},{"$f":"+IF('Datos Generales Edificio'!$F$54=\"menor a 500 mm\",\"0%-20%\",\"\")","v":"0%-20%"},3]
[null,null,null,null,null,null,null,null,null,null,null,null,"N","83.6",83,6,{"$f":"+VLOOKUP(O665,'Resumen requerimientos'!$A$5:$B$104,2,FALSE)","v":"20R"},"Regular",null,null,{"$f":"+VLOOKUP(O663,TablaResumen[],22,0)*T665","v":0},{"$f":"+VLOOKUP(O663,TablaResumen[],23,0)*T665","v":0},{"$f":"+IFERROR(VALUE(MID(S665,1,FIND(\"-\",S665)-1)),S665)","v":0},{"$f":"+IFERROR(VALUE(MID(S665,FIND(\"-\",S665)+1,LEN(S665)-FIND(\"-\",S665))),S665)","v":0},null,null,"Regular",null,null,null,null,null,null,null,null,null,4]
[null,null,null,null,null,null,null,null,null,null,null,null,"N","83.7",83,7,{"$f":"+VLOOKUP(O666,'Resumen requerimientos'!$A$5:$B$104,2,FALSE)","v":"20R"},"Minimo",null,null,{"$f":"+VLOOKUP(O664,TablaResumen[],22,0)*T666","v":0},{"$f":"+VLOOKUP(O664,TablaResumen[],23,0)*T666","v":0},{"$f":"+IFERROR(VALUE(MID(S666,1,FIND(\"-\",S666)-1)),S666)","v":0},{"$f":"+IFERROR(VALUE(MID(S666,FIND(\"-\",S666)+1,LEN(S666)-FIND(\"-\",S666))),S666)","v":0},null,null,"Minimo",null,null,null,null,null,null,null,null,null,5]
[null,null,null,null,null,null,null,null,null,null,null,null,"N","83.8",83,8]
[null,null,null,null,null,null,null,null,null,null,null,null,"N","84.1",{"$f":"+IF(R667=\"\",O667+1,O667)","v":84},1,{"$f":"+VLOOKUP(O668,'Resumen requerimientos'!$A$5:$B$104,2,FALSE)","v":"CONST.RESIDUOS.21"},{"$f":"+VLOOKUP(Q669,'Resumen requerimientos'!$B$5:$AJ$91,10,0)","v":"Manejo de residuos durante la construcción"},null,{"$f":"+VLOOKUP(O669,TablaResumen[],16,0)","v":"Manejo de residuos durante la construcción"},null,"Opción",{"$f":"+CONCATENATE(VLOOKUP(O669,'Resumen requerimientos'!$A$5:$AB$91,24),\" de \",VLOOKUP(O669,'Resumen requerimientos'!$A$5:$AB$91,25))","v":"1 de 1"},null,null,null,{"$f":"+'Datos Generales Edificio'!$C$5","v":"RM - Región Metropolitana de Santiago"}]
[null,null,null,null,null,null,null,null,null,null,null,null,"N","84.2",{"$f":"+O668","v":84},2,{"$f":"+VLOOKUP(O669,'Resumen requerimientos'!$A$5:$B$104,2,FALSE)","v":"CONST.RESIDUOS.21"},{"$f":"+VLOOKUP(O669,TablaResumen[],21,0)","v":"Separación, control y reciclaje de residuos"},null,null,null,"Simultáneo",{"$f":"+CONCATENATE(IF(VLOOKUP(O669,'Resumen requerimientos'!$A$5:$AB$91,26)=0,1,VLOOKUP(O669,'Resumen requerimientos'!$A$5:$AB$91,26)),\" de \",IF(VLOOKUP(O669,'Resumen requerimientos'!$A$5:$AB$91,27)=0,1,VLOOKUP(O669,'Resumen requerimientos'!$A$5:$AB$91,27)))","v":"1 de 1"},null,null,null,{"$f":"+'Datos Generales Edificio'!$F$28","v":"CI - Central Interior"}]
[null,null,null,null,null,null,null,null,null,null,null,null,"N","84.3",84,3,{"$f":"+VLOOKUP(O670,'Resumen requerimientos'!$A$5:$B$104,2,FALSE)","v":"CONST.RESIDUOS.21"},"Nivel","Rango","Prioridad","Ponderación Of. Y Serv.","Ponderación Educ. y Salud.","Rango",null,null,null,{"$f":"+R669","v":"Separación, control y reciclaje de residuos"},"NL - Norte Litoral","ND - Norte Desértico","NVT - Norte Valle Transversal","CL - Central Litoral","CI - Central Interior","SL - Sur Litoral","SI - Sur Interior","SE - Sur Extremo","An - Andino"]
[null,null,null,null,null,null,null,null,null,null,null,null,"N","84.4",84,4,{"$f":"+VLOOKUP(O671,'Resumen requerimientos'!$A$5:$B$104,2,FALSE)","v":"CONST.RESIDUOS.21"},"Muy bueno",{"$f":"+HLOOKUP($AA$669,$AB$670:$AJ$674,AK671,0)","v":"Cumple con la separación, control y reciclaje de residuos"},1,{"$f":"+VLOOKUP(O669,TablaResumen[],22,0)*T671","v":0.01},{"$f":"+VLOOKUP(O669,TablaResumen[],23,0)*T671","v":0.01},{"$f":"+IFERROR(VALUE(MID(S671,1,FIND(\"-\",S671)-1)),S671)","v":"Cumple con la separación, control y reciclaje de residuos"},{"$f":"+IFERROR(VALUE(MID(S671,FIND(\"-\",S671)+1,LEN(S671)-FIND(\"-\",S671))),S671)","v":"Cumple con la separación, control y reciclaje de residuos"},null,null,"Muy bueno","Cumple con la separación, control y reciclaje de residuos","Cumple con la separación, control y reciclaje de residuos","Cumple con la separación, control y reciclaje de residuos","Cumple con la separación, control y reciclaje de residuos","Cumple con la separación, control y reciclaje de residuos","Cumple con la separación, control y reciclaje de residuos","Cumple con la separación, control y reciclaje de residuos","Cumple con la separación, control y reciclaje de residuos","Cumple con la separación, control y reciclaje de residuos",2]
[null,null,null,null,null,null,null,null,null,null,null,null,"N","84.5",84,5,{"$f":"+VLOOKUP(O672,'Resumen requerimientos'!$A$5:$B$104,2,FALSE)","v":"CONST.RESIDUOS.21"},"Bueno",{"$f":"+HLOOKUP($AA$669,$AB$670:$AJ$674,AK672,0)","v":"NO cumple con la separación, control y reciclaje de residuos"},0,{"$f":"+VLOOKUP(O670,TablaResumen[],22,0)*T672","v":0},{"$f":"+VLOOKUP(O670,TablaResumen[],23,0)*T672","v":0},{"$f":"+IFERROR(VALUE(MID(S672,1,FIND(\"-\",S672)-1)),S672)","v":"NO cumple con la separación, control y reciclaje de residuos"},{"$f":"+IFERROR(VALUE(MID(S672,FIND(\"-\",S672)+1,LEN(S672)-FIND(\"-\",S672))),S672)","v":"NO cumple con la separación, control y reciclaje de residuos"},null,null,"Bueno","NO cumple con la separación, control y reciclaje de residuos","NO cumple con la separación, control y reciclaje de residuos","NO cumple con la separación, control y reciclaje de residuos","NO cumple con la separación, control y reciclaje de residuos","NO cumple con la separación, control y reciclaje de residuos","NO cumple con la separación, control y reciclaje de residuos","NO cumple con la separación, control y reciclaje de residuos","NO cumple con la separación, control y reciclaje de residuos","NO cumple con la separación, control y reciclaje de residuos",3]
[null,null,null,null,null,null,null,null,null,null,null,null,"N","84.6",84,6,{"$f":"+VLOOKUP(O673,'Resumen requerimientos'!$A$5:$B$104,2,FALSE)","v":"CONST.RESIDUOS.21"},"Regular",{"$f":"+HLOOKUP($AA$669,$AB$670:$AJ$674,AK673,0)","v":0},0,{"$f":"+VLOOKUP(O671,TablaResumen[],22,0)*T673","v":0},{"$f":"+VLOOKUP(O671,TablaResumen[],23,0)*T673","v":0},{"$f":"+IFERROR(VALUE(MID(S673,1,FIND(\"-\",S673)-1)),S673)","v":0},{"$f":"+IFERROR(VALUE(MID(S673,FIND(\"-\",S673)+1,LEN(S673)-FIND(\"-\",S673))),S673)","v":0},null,null,"Regular",null,null,null,null,null,null,null,null,null,4]
[null,null,null,null,null,null,null,null,null,null,null,null,"N","84.7",84,7,{"$f":"+VLOOKUP(O674,'Resumen requerimientos'!$A$5:$B$104,2,FALSE)","v":"CONST.RESIDUOS.21"},"Minimo",{"$f":"+HLOOKUP($AA$669,$AB$670:$AJ$674,AK674,0)","v":0},0,{"$f":"+VLOOKUP(O672,TablaResumen[],22,0)*T674","v":0},{"$f":"+VLOOKUP(O672,TablaResumen[],23,0)*T674","v":0},{"$f":"+IFERROR(VALUE(MID(S674,1,FIND(\"-\",S674)-1)),S674)","v":0},{"$f":"+IFERROR(VALUE(MID(S674,FIND(\"-\",S674)+1,LEN(S674)-FIND(\"-\",S674))),S674)","v":0},null,null,"Minimo",null,null,null,null,null,null,null,null,null,5]
[null,null,null,null,null,null,null,null,null,null,null,null,"N","84.8",84,8]
[null,null,null,null,null,null,null,null,null,null,null,null,"T","85.1",{"$f":"+IF(R675=\"\",O675+1,O675)","v":85},1,{"$f":"+VLOOKUP(O676,'Resumen requerimientos'!$A$5:$B$104,2,FALSE)","v":"21R"},{"$f":"+VLOOKUP(Q677,'Resumen requerimientos'!$B$5:$AJ$91,10,0)","v":"Manejo de residuos durante la construcción"},null,{"$f":"+VLOOKUP(O677,TablaResumen[],16,0)","v":"Medidas de control y mitigación durante la construcción"},null,"Opción",{"$f":"+CONCATENATE(VLOOKUP(O677,'Resumen requerimientos'!$A$5:$AB$91,24),\" de \",VLOOKUP(O677,'Resumen requerimientos'!$A$5:$AB$91,25))","v":"1 de 1"},null,null,null,{"$f":"+'Datos Generales Edificio'!$C$5","v":"RM - Región Metropolitana de Santiago"}]
[null,null,null,null,null,null,null,null,null,null,null,null,"T","85.2",{"$f":"+O676","v":85},2,{"$f":"+VLOOKUP(O677,'Resumen requerimientos'!$A$5:$B$104,2,FALSE)","v":"21R"},{"$f":"+VLOOKUP(O677,TablaResumen[],21,0)","v":"Separación, control y reciclaje de residuos"},null,null,null,"Simultáneo",{"$f":"+CONCATENATE(IF(VLOOKUP(O677,'Resumen requerimientos'!$A$5:$AB$91,26)=0,1,VLOOKUP(O677,'Resumen requerimientos'!$A$5:$AB$91,26)),\" de \",IF(VLOOKUP(O677,'Resumen requerimientos'!$A$5:$AB$91,27)=0,1,VLOOKUP(O677,'Resumen requerimientos'!$A$5:$AB$91,27)))","v":"1 de 1"},null,null,null,{"$f":"+'Datos Generales Edificio'!$F$28","v":"CI - Central Interior"}]
[null,null,null,null,null,null,null,null,null,null,null,null,"T","85.3",85,3,{"$f":"+VLOOKUP(O678,'Resumen requerimientos'!$A$5:$B$104,2,FALSE)","v":"21R"},"Nivel","Rango","Prioridad","Ponderación Of. Y Serv.","Ponderación Educ. y Salud.","Rango",null,null,null,{"$f":"+R677","v":"Separación, control y reciclaje de residuos"},"NL - Norte Litoral","ND - Norte Desértico","NVT - Norte Valle Transversal","CL - Central Litoral","CI - Central Interior","SL - Sur Litoral","SI - Sur Interior","SE - Sur Extremo","An - Andino"]
[null,null,null,null,null,null,null,null,null,null,null,null,"T","85.4",85,4,{"$f":"+VLOOKUP(O679,'Resumen requerimientos'!$A$5:$B$104,2,FALSE)","v":"21R"},"Muy bueno",{"$f":"+HLOOKUP($AA$677,$AB$678:$AJ$682,AK679,0)","v":"Cumple con el artículo 5.8.3 de la O.G.U.C."},1,{"$f":"+VLOOKUP(O677,TablaResumen[],22,0)*T679","v":1},{"$f":"+VLOOKUP(O677,TablaResumen[],23,0)*T679","v":1},{"$f":"+IFERROR(VALUE(MID(S679,1,FIND(\"-\",S679)-1)),S679)","v":"Cumple con el artículo 5.8.3 de la O.G.U.C."},{"$f":"+IFERROR(VALUE(MID(S679,FIND(\"-\",S679)+1,LEN(S679)-FIND(\"-\",S679))),S679)","v":"Cumple con el artículo 5.8.3 de la O.G.U.C."},null,null,"Muy bueno","Cumple con el artículo 5.8.3 de la O.G.U.C.","Cumple con el artículo 5.8.3 de la O.G.U.C.","Cumple con el artículo 5.8.3 de la O.G.U.C.","Cumple con el artículo 5.8.3 de la O.G.U.C.","Cumple con el artículo 5.8.3 de la O.G.U.C.","Cumple con el artículo 5.8.3 de la O.G.U.C.","Cumple con el artículo 5.8.3 de la O.G.U.C.","Cumple con el artículo 5.8.3 de la O.G.U.C.","Cumple con el artículo 5.8.3 de la O.G.U.C.",2]
[null,null,null,null,null,null,null,null,null,null,null,null,"T","85.5",85,5,{"$f":"+VLOOKUP(O680,'Resumen requerimientos'!$A$5:$B$104,2,FALSE)","v":"21R"},"Bueno",{"$f":"+HLOOKUP($AA$677,$AB$678:$AJ$682,AK680,0)","v":"NO cumple con el artículo 5.8.3 de la O.G.U.C."},-1,{"$f":"+VLOOKUP(O678,TablaResumen[],22,0)*T680","v":-1},{"$f":"+VLOOKUP(O678,TablaResumen[],23,0)*T680","v":-1},{"$f":"+IFERROR(VALUE(MID(S680,1,FIND(\"-\",S680)-1)),S680)","v":"NO cumple con el artículo 5.8.3 de la O.G.U.C."},{"$f":"+IFERROR(VALUE(MID(S680,FIND(\"-\",S680)+1,LEN(S680)-FIND(\"-\",S680))),S680)","v":"NO cumple con el artículo 5.8.3 de la O.G.U.C."},null,null,"Bueno","NO cumple con el artículo 5.8.3 de la O.G.U.C.","NO cumple con el artículo 5.8.3 de la O.G.U.C.","NO cumple con el artículo 5.8.3 de la O.G.U.C.","NO cumple con el artículo 5.8.3 de la O.G.U.C.","NO cumple con el artículo 5.8.3 de la O.G.U.C.","NO cumple con el artículo 5.8.3 de la O.G.U.C.","NO cumple con el artículo 5.8.3 de la O.G.U.C.","NO cumple con el artículo 5.8.3 de la O.G.U.C.","NO cumple con el artículo 5.8.3 de la O.G.U.C.",3]
[null,null,null,null,null,null,null,null,null,null,null,null,"T","85.6",85,6,{"$f":"+VLOOKUP(O681,'Resumen requerimientos'!$A$5:$B$104,2,FALSE)","v":"21R"},"Regular",{"$f":"+HLOOKUP($AA$677,$AB$678:$AJ$682,AK681,0)","v":0},0,{"$f":"+VLOOKUP(O679,TablaResumen[],22,0)*T681","v":0},{"$f":"+VLOOKUP(O679,TablaResumen[],23,0)*T681","v":0},{"$f":"+IFERROR(VALUE(MID(S681,1,FIND(\"-\",S681)-1)),S681)","v":0},{"$f":"+IFERROR(VALUE(MID(S681,FIND(\"-\",S681)+1,LEN(S681)-FIND(\"-\",S681))),S681)","v":0},null,null,"Regular",null,null,null,null,null,null,null,null,null,4]
[null,null,null,null,null,null,null,null,null,null,null,null,"T","85.7",85,7,{"$f":"+VLOOKUP(O682,'Resumen requerimientos'!$A$5:$B$104,2,FALSE)","v":"21R"},"Minimo",{"$f":"+HLOOKUP($AA$677,$AB$678:$AJ$682,AK682,0)","v":0},0,{"$f":"+VLOOKUP(O680,TablaResumen[],22,0)*T682","v":0},{"$f":"+VLOOKUP(O680,TablaResumen[],23,0)*T682","v":0},{"$f":"+IFERROR(VALUE(MID(S682,1,FIND(\"-\",S682)-1)),S682)","v":0},{"$f":"+IFERROR(VALUE(MID(S682,FIND(\"-\",S682)+1,LEN(S682)-FIND(\"-\",S682))),S682)","v":0},null,null,"Minimo",null,null,null,null,null,null,null,null,null,5]
[null,null,null,null,null,null,null,null,null,null,null,null,"T","85.8",85,8]
[null,null,null,null,null,null,null,null,null,null,null,null,"N","86.1",{"$f":"+IF(R683=\"\",O683+1,O683)","v":86},1,{"$f":"+VLOOKUP(O684,'Resumen requerimientos'!$A$5:$B$104,2,FALSE)","v":"GESTION.22"},{"$f":"+VLOOKUP(Q685,'Resumen requerimientos'!$B$5:$AJ$91,10,0)","v":"Proceso de diseño integrado"},null,{"$f":"+VLOOKUP(O685,TablaResumen[],16,0)","v":"Proceso de diseño integrado"},null,"Opción",{"$f":"+CONCATENATE(VLOOKUP(O685,'Resumen requerimientos'!$A$5:$AB$91,24),\" de \",VLOOKUP(O685,'Resumen requerimientos'!$A$5:$AB$91,25))","v":"1 de 1"},null,null,null,{"$f":"+'Datos Generales Edificio'!$C$5","v":"RM - Región Metropolitana de Santiago"}]
[null,null,null,null,null,null,null,null,null,null,null,null,"N","86.2",{"$f":"+O684","v":86},2,{"$f":"+VLOOKUP(O685,'Resumen requerimientos'!$A$5:$B$104,2,FALSE)","v":"GESTION.22"},{"$f":"+VLOOKUP(O685,TablaResumen[],21,0)","v":"Actas de reuniones e informe"},null,null,null,"Simultáneo",{"$f":"+CONCATENATE(IF(VLOOKUP(O685,'Resumen requerimientos'!$A$5:$AB$91,26)=0,1,VLOOKUP(O685,'Resumen requerimientos'!$A$5:$AB$91,26)),\" de \",IF(VLOOKUP(O685,'Resumen requerimientos'!$A$5:$AB$91,27)=0,1,VLOOKUP(O685,'Resumen requerimientos'!$A$5:$AB$91,27)))","v":"1 de 1"},null,null,null,{"$f":"+'Datos Generales Edificio'!$F$28","v":"CI - Central Interior"}]
[null,null,null,null,null,null,null,null,null,null,null,null,"N","86.3",86,3,{"$f":"+VLOOKUP(O686,'Resumen requerimientos'!$A$5:$B$104,2,FALSE)","v":"GESTION.22"},"Nivel","Rango","Prioridad","Ponderación Of. Y Serv.","Ponderación Educ. y Salud.","Rango",null,null,null,{"$f":"+R685","v":"Actas de reuniones e informe"},"NL - Norte Litoral","ND - Norte Desértico","NVT - Norte Valle Transversal","CL - Central Litoral","CI - Central Interior","SL - Sur Litoral","SI - Sur Interior","SE - Sur Extremo","An - Andino"]
[null,null,null,null,null,null,null,null,null,null,null,null,"N","86.4",86,4,{"$f":"+VLOOKUP(O687,'Resumen requerimientos'!$A$5:$B$104,2,FALSE)","v":"GESTION.22"},"Muy bueno",{"$f":"+HLOOKUP($AA$685,$AB$686:$AJ$690,AK687,0)","v":"Proceso de diseño integrado"},1,{"$f":"+VLOOKUP(O685,TablaResumen[],22,0)*T687","v":0.04},{"$f":"+VLOOKUP(O685,TablaResumen[],23,0)*T687","v":0.04},{"$f":"+IFERROR(VALUE(MID(S687,1,FIND(\"-\",S687)-1)),S687)","v":"Proceso de diseño integrado"},{"$f":"+IFERROR(VALUE(MID(S687,FIND(\"-\",S687)+1,LEN(S687)-FIND(\"-\",S687))),S687)","v":"Proceso de diseño integrado"},null,null,"Muy bueno","Proceso de diseño integrado","Proceso de diseño integrado","Proceso de diseño integrado","Proceso de diseño integrado","Proceso de diseño integrado","Proceso de diseño integrado","Proceso de diseño integrado","Proceso de diseño integrado","Proceso de diseño integrado",2]
[null,null,null,null,null,null,null,null,null,null,null,null,"N","86.5",86,5,{"$f":"+VLOOKUP(O688,'Resumen requerimientos'!$A$5:$B$104,2,FALSE)","v":"GESTION.22"},"Bueno",{"$f":"+HLOOKUP($AA$685,$AB$686:$AJ$690,AK688,0)","v":"Condiciones para un proceso de diseño integrado"},{"$f":"1/4","v":0.25},{"$f":"+VLOOKUP(O686,TablaResumen[],22,0)*T688","v":0.01},{"$f":"+VLOOKUP(O686,TablaResumen[],23,0)*T688","v":0.01},{"$f":"+IFERROR(VALUE(MID(S688,1,FIND(\"-\",S688)-1)),S688)","v":"Condiciones para un proceso de diseño integrado"},{"$f":"+IFERROR(VALUE(MID(S688,FIND(\"-\",S688)+1,LEN(S688)-FIND(\"-\",S688))),S688)","v":"Condiciones para un proceso de diseño integrado"},null,null,"Bueno","Condiciones para un proceso de diseño integrado","Condiciones para un proceso de diseño integrado","Condiciones para un proceso de diseño integrado","Condiciones para un proceso de diseño integrado","Condiciones para un proceso de diseño integrado","Condiciones para un proceso de diseño integrado","Condiciones para un proceso de diseño integrado","Condiciones para un proceso de diseño integrado","Condiciones para un proceso de diseño integrado",3]
[null,null,null,null,null,null,null,null,null,null,null,null,"N","86.6",86,6,{"$f":"+VLOOKUP(O689,'Resumen requerimientos'!$A$5:$B$104,2,FALSE)","v":"GESTION.22"},"Regular",{"$f":"+HLOOKUP($AA$685,$AB$686:$AJ$690,AK689,0)","v":0},0,{"$f":"+VLOOKUP(O687,TablaResumen[],22,0)*T689","v":0},{"$f":"+VLOOKUP(O687,TablaResumen[],23,0)*T689","v":0},{"$f":"+IFERROR(VALUE(MID(S689,1,FIND(\"-\",S689)-1)),S689)","v":0},{"$f":"+IFERROR(VALUE(MID(S689,FIND(\"-\",S689)+1,LEN(S689)-FIND(\"-\",S689))),S689)","v":0},null,null,"Regular",null,null,null,null,null,null,null,null,null,4]
[null,null,null,null,null,null,null,null,null,null,null,null,"N","86.7",86,7,{"$f":"+VLOOKUP(O690,'Resumen requerimientos'!$A$5:$B$104,2,FALSE)","v":"GESTION.22"},"Minimo",{"$f":"+HLOOKUP($AA$685,$AB$686:$AJ$690,AK690,0)","v":0},0,{"$f":"+VLOOKUP(O688,TablaResumen[],22,0)*T690","v":0},{"$f":"+VLOOKUP(O688,TablaResumen[],23,0)*T690","v":0},{"$f":"+IFERROR(VALUE(MID(S690,1,FIND(\"-\",S690)-1)),S690)","v":0},{"$f":"+IFERROR(VALUE(MID(S690,FIND(\"-\",S690)+1,LEN(S690)-FIND(\"-\",S690))),S690)","v":0},null,null,"Minimo",null,null,null,null,null,null,null,null,null,5]
[null,null,null,null,null,null,null,null,null,null,null,null,"N","86.8",86,8]
[null,null,null,null,null,null,null,null,null,null,null,null,"T","87.1",{"$f":"+IF(R691=\"\",O691+1,O691)","v":87},1,{"$f":"+VLOOKUP(O692,'Resumen requerimientos'!$A$5:$B$104,2,FALSE)","v":"GESTION.23"},{"$f":"+VLOOKUP(Q693,'Resumen requerimientos'!$B$5:$AJ$91,10,0)","v":"Gestión de la operación y mantenimiento"},null,{"$f":"+VLOOKUP(O693,TablaResumen[],16,0)","v":"Gestión de la Operación y Mantenimiento"},null,"Opción",{"$f":"+CONCATENATE(VLOOKUP(O693,'Resumen requerimientos'!$A$5:$AB$91,24),\" de \",VLOOKUP(O693,'Resumen requerimientos'!$A$5:$AB$91,25))","v":"1 de 1"},null,null,null,{"$f":"+'Datos Generales Edificio'!$C$5","v":"RM - Región Metropolitana de Santiago"}]
[null,null,null,null,null,null,null,null,null,null,null,null,"T","87.2",{"$f":"+O692","v":87},2,{"$f":"+VLOOKUP(O693,'Resumen requerimientos'!$A$5:$B$104,2,FALSE)","v":"GESTION.23"},{"$f":"+VLOOKUP(O693,TablaResumen[],21,0)","v":"Compromiso y plan de mejora continua"},null,null,null,"Simultáneo",{"$f":"+CONCATENATE(IF(VLOOKUP(O693,'Resumen requerimientos'!$A$5:$AB$91,26)=0,1,VLOOKUP(O693,'Resumen requerimientos'!$A$5:$AB$91,26)),\" de \",IF(VLOOKUP(O693,'Resumen requerimientos'!$A$5:$AB$91,27)=0,1,VLOOKUP(O693,'Resumen requerimientos'!$A$5:$AB$91,27)))","v":"1 de 1"},null,null,null,{"$f":"+'Datos Generales Edificio'!$F$28","v":"CI - Central Interior"}]
[null,null,null,null,null,null,null,null,null,null,null,null,"T","87.3",87,3,{"$f":"+VLOOKUP(O694,'Resumen requerimientos'!$A$5:$B$104,2,FALSE)","v":"GESTION.23"},"Nivel","Rango","Prioridad","Ponderación Of. Y Serv.","Ponderación Educ. y Salud.","Rango",null,null,null,{"$f":"+R693","v":"Compromiso y plan de mejora continua"},"NL - Norte Litoral","ND - Norte Desértico","NVT - Norte Valle Transversal","CL - Central Litoral","CI - Central Interior","SL - Sur Litoral","SI - Sur Interior","SE - Sur Extremo","An - Andino"]
[null,null,null,null,null,null,null,null,null,null,null,null,"T","87.4",87,4,{"$f":"+VLOOKUP(O695,'Resumen requerimientos'!$A$5:$B$104,2,FALSE)","v":"GESTION.23"},"Muy bueno",{"$f":"+HLOOKUP($AA$693,$AB$694:$AJ$698,AK695,0)","v":"Cumple condiciones de sello plus"},1,{"$f":"+VLOOKUP(O693,TablaResumen[],22,0)*T695","v":1},{"$f":"+VLOOKUP(O693,TablaResumen[],23,0)*T695","v":1},{"$f":"+IFERROR(VALUE(MID(S695,1,FIND(\"-\",S695)-1)),S695)","v":"Cumple condiciones de sello plus"},{"$f":"+IFERROR(VALUE(MID(S695,FIND(\"-\",S695)+1,LEN(S695)-FIND(\"-\",S695))),S695)","v":"Cumple condiciones de sello plus"},null,null,"Muy bueno","Cumple condiciones de sello plus","Cumple condiciones de sello plus","Cumple condiciones de sello plus","Cumple condiciones de sello plus","Cumple condiciones de sello plus","Cumple condiciones de sello plus","Cumple condiciones de sello plus","Cumple condiciones de sello plus","Cumple condiciones de sello plus",2]
[null,null,null,null,null,null,null,null,null,null,null,null,"T","87.5",87,5,{"$f":"+VLOOKUP(O696,'Resumen requerimientos'!$A$5:$B$104,2,FALSE)","v":"GESTION.23"},"Bueno",{"$f":"+HLOOKUP($AA$693,$AB$694:$AJ$698,AK696,0)","v":"NO cumple condiciones de sello plus"},0,{"$f":"+VLOOKUP(O694,TablaResumen[],22,0)*T696","v":0},{"$f":"+VLOOKUP(O694,TablaResumen[],23,0)*T696","v":0},{"$f":"+IFERROR(VALUE(MID(S696,1,FIND(\"-\",S696)-1)),S696)","v":"NO cumple condiciones de sello plus"},{"$f":"+IFERROR(VALUE(MID(S696,FIND(\"-\",S696)+1,LEN(S696)-FIND(\"-\",S696))),S696)","v":"NO cumple condiciones de sello plus"},null,null,"Bueno","NO cumple condiciones de sello plus","NO cumple condiciones de sello plus","NO cumple condiciones de sello plus","NO cumple condiciones de sello plus","NO cumple condiciones de sello plus","NO cumple condiciones de sello plus","NO cumple condiciones de sello plus","NO cumple condiciones de sello plus","NO cumple condiciones de sello plus",3]
[null,null,null,null,null,null,null,null,null,null,null,null,"T","87.6",87,6,{"$f":"+VLOOKUP(O697,'Resumen requerimientos'!$A$5:$B$104,2,FALSE)","v":"GESTION.23"},"Regular",{"$f":"+HLOOKUP($AA$693,$AB$694:$AJ$698,AK697,0)","v":0},0,{"$f":"+VLOOKUP(O695,TablaResumen[],22,0)*T697","v":0},{"$f":"+VLOOKUP(O695,TablaResumen[],23,0)*T697","v":0},{"$f":"+IFERROR(VALUE(MID(S697,1,FIND(\"-\",S697)-1)),S697)","v":0},{"$f":"+IFERROR(VALUE(MID(S697,FIND(\"-\",S697)+1,LEN(S697)-FIND(\"-\",S697))),S697)","v":0},null,null,"Regular",null,null,null,null,null,null,null,null,null,4]
[null,null,null,null,null,null,null,null,null,null,null,null,"T","87.7",87,7,{"$f":"+VLOOKUP(O698,'Resumen requerimientos'!$A$5:$B$104,2,FALSE)","v":"GESTION.23"},"Minimo",{"$f":"+HLOOKUP($AA$693,$AB$694:$AJ$698,AK698,0)","v":0},0,{"$f":"+VLOOKUP(O696,TablaResumen[],22,0)*T698","v":0},{"$f":"+VLOOKUP(O696,TablaResumen[],23,0)*T698","v":0},{"$f":"+IFERROR(VALUE(MID(S698,1,FIND(\"-\",S698)-1)),S698)","v":0},{"$f":"+IFERROR(VALUE(MID(S698,FIND(\"-\",S698)+1,LEN(S698)-FIND(\"-\",S698))),S698)","v":0},null,null,"Minimo",null,null,null,null,null,null,null,null,null,5]
[null,null,null,null,null,null,null,null,null,null,null,null,"T","87.8",87,8]
[null,null,null,null,null,null,null,null,null,null,null,null,"N","88.1",{"$f":"+IF(R699=\"\",O699+1,O699)","v":88},1,{"$f":"+VLOOKUP(O700,'Resumen requerimientos'!$A$5:$B$92,2,FALSE)","v":"INST.ENERGIA 15 A 18"},{"$f":"+VLOOKUP(Q701,'Resumen requerimientos'!$B$5:$AJ$92,10,0)","v":"Consumo de Energía"},null,{"$f":"+VLOOKUP(O701,TablaResumen[],16,0)","v":"Consumo de Energía"},null,"Opción",{"$f":"+CONCATENATE(VLOOKUP(O701,'Resumen requerimientos'!$A$5:$AB$91,24),\" de \",VLOOKUP(O701,'Resumen requerimientos'!$A$5:$AB$91,25))","v":"1 de 1"},null,null,null,{"$f":"+'Datos Generales Edificio'!$C$5","v":"RM - Región Metropolitana de Santiago"}]
[null,null,null,null,null,null,null,null,null,null,null,null,"N","88.2",{"$f":"+O700","v":88},2,{"$f":"+VLOOKUP(O701,'Resumen requerimientos'!$A$5:$B$92,2,FALSE)","v":"INST.ENERGIA 15 A 18"},{"$f":"+VLOOKUP(O701,TablaResumen[],21,0)","v":"Reducción del consumo anual de energía [kWh/m2] para todo el edificio"},null,null,null,"Simultáneo",{"$f":"+CONCATENATE(IF(VLOOKUP(O701,'Resumen requerimientos'!$A$5:$AB$91,26)=0,1,VLOOKUP(O701,'Resumen requerimientos'!$A$5:$AB$91,26)),\" de \",IF(VLOOKUP(O701,'Resumen requerimientos'!$A$5:$AB$91,27)=0,1,VLOOKUP(O701,'Resumen requerimientos'!$A$5:$AB$91,27)))","v":"1 de 1"},null,null,null,{"$f":"+'Datos Generales Edificio'!$F$28","v":"CI - Central Interior"}]
[null,null,null,null,null,null,null,null,null,null,null,null,"N","88.3",88,3,{"$f":"+VLOOKUP(O702,'Resumen requerimientos'!$A$5:$B$92,2,FALSE)","v":"INST.ENERGIA 15 A 18"},"Nivel","Rango","Prioridad","Ponderación Of. Y Serv.","Ponderación Educ. y Salud.","Rango",null,null,null,{"$f":"+R701","v":"Reducción del consumo anual de energía [kWh/m2] para todo el edificio"},"NL - Norte Litoral","ND - Norte Desértico","NVT - Norte Valle Transversal","CL - Central Litoral","CI - Central Interior","SL - Sur Litoral","SI - Sur Interior","SE - Sur Extremo","An - Andino"]
[null,null,null,null,null,null,null,null,null,null,null,null,"N","88.4",88,4,{"$f":"+VLOOKUP(O703,'Resumen requerimientos'!$A$5:$B$92,2,FALSE)","v":"INST.ENERGIA 15 A 18"},"Muy bueno",{"$f":"+HLOOKUP($AA$701,$AB$702:$AJ$706,AK703,0)","v":"40%-1000%"},{"$f":"16/18","v":0.88888888888888884},{"$f":"+VLOOKUP(O701,TablaResumen[],22,0)*T703","v":0.15999999999999998},{"$f":"+VLOOKUP(O701,TablaResumen[],23,0)*T703","v":0.15999999999999998},{"$f":"+IFERROR(VALUE(MID(S703,1,FIND(\"-\",S703)-1)),S703)","v":0.4},{"$f":"+IFERROR(VALUE(MID(S703,FIND(\"-\",S703)+1,LEN(S703)-FIND(\"-\",S703))),S703)","v":10},null,null,"Muy bueno","40%-1000%","40%-1000%","40%-1000%","40%-1000%","40%-1000%","40%-1000%","40%-1000%","40%-1000%","40%-1000%",2]
[null,null,null,null,null,null,null,null,null,null,null,null,"N","88.5",88,5,{"$f":"+VLOOKUP(O704,'Resumen requerimientos'!$A$5:$B$92,2,FALSE)","v":"INST.ENERGIA 15 A 18"},"Bueno",{"$f":"+HLOOKUP($AA$701,$AB$702:$AJ$706,AK704,0)","v":"30%-40%"},{"$f":"12/18","v":0.66666666666666663},{"$f":"+VLOOKUP(O702,TablaResumen[],22,0)*T704","v":0.12},{"$f":"+VLOOKUP(O702,TablaResumen[],23,0)*T704","v":0.12},{"$f":"+IFERROR(VALUE(MID(S704,1,FIND(\"-\",S704)-1)),S704)","v":0.3},{"$f":"+IFERROR(VALUE(MID(S704,FIND(\"-\",S704)+1,LEN(S704)-FIND(\"-\",S704))),S704)","v":0.4},null,null,"Bueno","30%-40%","30%-40%","30%-40%","30%-40%","30%-40%","30%-40%","30%-40%","30%-40%","30%-40%",3]
[null,null,null,null,null,null,null,null,null,null,null,null,"N","88.6",88,6,{"$f":"+VLOOKUP(O705,'Resumen requerimientos'!$A$5:$B$92,2,FALSE)","v":"INST.ENERGIA 15 A 18"},"Regular",{"$f":"+HLOOKUP($AA$701,$AB$702:$AJ$706,AK705,0)","v":"20%-30%"},{"$f":"8/18","v":0.44444444444444442},{"$f":"+VLOOKUP(O703,TablaResumen[],22,0)*T705","v":7.9999999999999988E-2},{"$f":"+VLOOKUP(O703,TablaResumen[],23,0)*T705","v":7.9999999999999988E-2},{"$f":"+IFERROR(VALUE(MID(S705,1,FIND(\"-\",S705)-1)),S705)","v":0.2},{"$f":"+IFERROR(VALUE(MID(S705,FIND(\"-\",S705)+1,LEN(S705)-FIND(\"-\",S705))),S705)","v":0.3},null,null,"Regular","20%-30%","20%-30%","20%-30%","20%-30%","20%-30%","20%-30%","20%-30%","20%-30%","20%-30%",4]
[null,null,null,null,null,null,null,null,null,null,null,null,"N","88.7",88,7,{"$f":"+VLOOKUP(O706,'Resumen requerimientos'!$A$5:$B$92,2,FALSE)","v":"INST.ENERGIA 15 A 18"},"Minimo",{"$f":"+HLOOKUP($AA$701,$AB$702:$AJ$706,AK706,0)","v":"10%-20%"},{"$f":"4/18","v":0.22222222222222221},{"$f":"+VLOOKUP(O704,TablaResumen[],22,0)*T706","v":3.9999999999999994E-2},{"$f":"+VLOOKUP(O704,TablaResumen[],23,0)*T706","v":3.9999999999999994E-2},{"$f":"+IFERROR(VALUE(MID(S706,1,FIND(\"-\",S706)-1)),S706)","v":0.1},{"$f":"+IFERROR(VALUE(MID(S706,FIND(\"-\",S706)+1,LEN(S706)-FIND(\"-\",S706))),S706)","v":0.2},null,null,"Minimo","10%-20%","10%-20%","10%-20%","10%-20%","10%-20%","10%-20%","10%-20%","10%-20%","10%-20%",5]
[null,null,null,null,null,null,null,null,null,null,null,null,"N","88.8",88,8]
[null,null,null,null,null,null,null,null,null,null,null,null,"N","89.1",{"$f":"+IF(R707=\"\",O707+1,O707)","v":89},1,{"$f":"+VLOOKUP(O708,'Resumen requerimientos'!$A$5:$B$104,2,FALSE)","v":"5R"},{"$f":"+VLOOKUP(Q709,'Resumen requerimientos'!$B$5:$AJ$92,10,0)","v":"Demanda de energía"},null,{"$f":"+VLOOKUP(O709,TablaResumen[],16,0)","v":"Transmitancia térmica de la envolvente y Factor Solar Modificado"},null,"Opción",{"$f":"+CONCATENATE(VLOOKUP(O709,'Resumen requerimientos'!$A$5:$AB$91,24),\" de \",VLOOKUP(O709,'Resumen requerimientos'!$A$5:$AB$91,25))","v":"1 de 1"},null,null,null,{"$f":"+'Datos Generales Edificio'!$C$5","v":"RM - Región Metropolitana de Santiago"}]
[null,null,null,null,null,null,null,null,null,null,null,null,"N","89.2",89,2,{"$f":"+VLOOKUP(O709,'Resumen requerimientos'!$A$5:$B$104,2,FALSE)","v":"5R"},{"$f":"+VLOOKUP(O709,TablaResumen[],21,0)","v":"Transmitancia Térmica Piso Ventilado [W/m2K]"},null,null,null,"Simultáneo",{"$f":"+CONCATENATE(IF(VLOOKUP(O709,'Resumen requerimientos'!$A$5:$AB$91,26)=0,1,VLOOKUP(O709,'Resumen requerimientos'!$A$5:$AB$91,26)),\" de \",IF(VLOOKUP(O709,'Resumen requerimientos'!$A$5:$AB$91,27)=0,1,VLOOKUP(O709,'Resumen requerimientos'!$A$5:$AB$91,27)))","v":"1 de 1"},null,null,null,{"$f":"+'Datos Generales Edificio'!$F$28","v":"CI - Central Interior"}]
[null,null,null,null,null,null,null,null,null,null,null,null,"N",{"$f":"+CONCATENATE(O710,\".\",P710)","v":"89.3"},89,{"$f":"+IF(O710=O709,P709+1,1)","v":3},{"$f":"+VLOOKUP(O710,'Resumen requerimientos'!$A$5:$B$104,2,FALSE)","v":"5R"},"Nivel","Rango","Prioridad","Ponderación Of. Y Serv.","Ponderación Educ. y Salud.","Rango",null,null,null,{"$f":"+R709","v":"Transmitancia Térmica Piso Ventilado [W/m2K]"},"NL - Norte Litoral","ND - Norte Desértico","NVT - Norte Valle Transversal","CL - Central Litoral","CI - Central Interior","SL - Sur Litoral","SI - Sur Interior","SE - Sur Extremo","An - Andino"]
[null,null,null,null,null,null,null,null,null,null,null,null,"N","89.4",89,4,{"$f":"+VLOOKUP(O711,'Resumen requerimientos'!$A$5:$B$104,2,FALSE)","v":"5R"},"Muy bueno",{"$f":"+HLOOKUP($AA$709,$AB$710:$AJ$714,AK711,0)","v":"0-0,8"},1,{"$f":"+VLOOKUP(O709,TablaResumen[],22,0)*T711","v":1},{"$f":"+VLOOKUP(O709,TablaResumen[],23,0)*T711","v":1},{"$f":"+IFERROR(VALUE(MID(S711,1,FIND(\"-\",S711)-1)),S711)","v":0},{"$f":"+IFERROR(VALUE(MID(S711,FIND(\"-\",S711)+1,LEN(S711)-FIND(\"-\",S711))),S711)","v":0.8},null,null,"Muy bueno","0-1,35","0-0,8","0-0,9","0-0,9","0-0,8","0-0,7","0-0,6","0-0,3","0-0,5",2]
[null,null,null,null,null,null,null,null,null,null,null,null,"N","89.5",89,5,{"$f":"+VLOOKUP(O712,'Resumen requerimientos'!$A$5:$B$104,2,FALSE)","v":"5R"},"Bueno",{"$f":"+HLOOKUP($AA$709,$AB$710:$AJ$714,AK712,0)","v":"0-0,8"},1,{"$f":"+VLOOKUP(O710,TablaResumen[],22,0)*T712","v":1},{"$f":"+VLOOKUP(O710,TablaResumen[],23,0)*T712","v":1},{"$f":"+IFERROR(VALUE(MID(S712,1,FIND(\"-\",S712)-1)),S712)","v":0},{"$f":"+IFERROR(VALUE(MID(S712,FIND(\"-\",S712)+1,LEN(S712)-FIND(\"-\",S712))),S712)","v":0.8},null,null,"Bueno","0-1,35","0-0,8","0-0,9","0-0,9","0-0,8","0-0,7","0-0,6","0-0,3","0-0,5",3]
[null,null,null,null,null,null,null,null,null,null,null,null,"N","89.6",89,6,{"$f":"+VLOOKUP(O713,'Resumen requerimientos'!$A$5:$B$104,2,FALSE)","v":"5R"},"Regular",{"$f":"+HLOOKUP($AA$709,$AB$710:$AJ$714,AK713,0)","v":"0-0,8"},1,{"$f":"+VLOOKUP(O711,TablaResumen[],22,0)*T713","v":1},{"$f":"+VLOOKUP(O711,TablaResumen[],23,0)*T713","v":1},{"$f":"+IFERROR(VALUE(MID(S713,1,FIND(\"-\",S713)-1)),S713)","v":0},{"$f":"+IFERROR(VALUE(MID(S713,FIND(\"-\",S713)+1,LEN(S713)-FIND(\"-\",S713))),S713)","v":0.8},null,null,"Regular","0-1,35","0-0,8","0-0,9","0-0,9","0-0,8","0-0,7","0-0,6","0-0,3","0-0,5",4]
[null,null,null,null,null,null,null,null,null,null,null,null,"N","89.7",89,7,{"$f":"+VLOOKUP(O714,'Resumen requerimientos'!$A$5:$B$104,2,FALSE)","v":"5R"},"Minimo",{"$f":"+HLOOKUP($AA$709,$AB$710:$AJ$714,AK714,0)","v":"0-0,8"},1,{"$f":"+VLOOKUP(O712,TablaResumen[],22,0)*T714","v":1},{"$f":"+VLOOKUP(O712,TablaResumen[],23,0)*T714","v":1},{"$f":"+IFERROR(VALUE(MID(S714,1,FIND(\"-\",S714)-1)),S714)","v":0},{"$f":"+IFERROR(VALUE(MID(S714,FIND(\"-\",S714)+1,LEN(S714)-FIND(\"-\",S714))),S714)","v":0.8},null,null,"Minimo","0-1,35","0-0,8","0-0,9","0-0,9","0-0,8","0-0,7","0-0,6","0-0,3","0-0,5",5]
[null,null,null,null,null,null,null,null,null,null,null,null,"N","89.8",89,8]
[null,null,null,null,null,null,null,null,null,null,null,null,"N","90.1",{"$f":"+IF(R715=\"\",O715+1,O715)","v":90},1,{"$f":"+VLOOKUP(O716,'Resumen requerimientos'!$A$5:$B$104,2,FALSE)","v":"5R"},{"$f":"+VLOOKUP(Q717,'Resumen requerimientos'!$B$5:$AJ$92,10,0)","v":"Demanda de energía"},null,{"$f":"+VLOOKUP(O717,TablaResumen[],16,0)","v":"Transmitancia térmica de la envolvente y Factor Solar Modificado"},null,"Opción",{"$f":"+CONCATENATE(VLOOKUP(O717,'Resumen requerimientos'!$A$5:$AB$91,24),\" de \",VLOOKUP(O717,'Resumen requerimientos'!$A$5:$AB$91,25))","v":"1 de 1"},null,null,null,{"$f":"+'Datos Generales Edificio'!$C$5","v":"RM - Región Metropolitana de Santiago"}]
[null,null,null,null,null,null,null,null,null,null,null,null,"N","90.2",90,2,{"$f":"+VLOOKUP(O717,'Resumen requerimientos'!$A$5:$B$104,2,FALSE)","v":"5R"},{"$f":"+VLOOKUP(O717,TablaResumen[],21,0)","v":"FSM - NorEste"},null,null,null,"Simultáneo",{"$f":"+CONCATENATE(IF(VLOOKUP(O717,'Resumen requerimientos'!$A$5:$AB$91,26)=0,1,VLOOKUP(O717,'Resumen requerimientos'!$A$5:$AB$91,26)),\" de \",IF(VLOOKUP(O717,'Resumen requerimientos'!$A$5:$AB$91,27)=0,1,VLOOKUP(O717,'Resumen requerimientos'!$A$5:$AB$91,27)))","v":"1 de 1"},null,null,null,{"$f":"+'Datos Generales Edificio'!$F$28","v":"CI - Central Interior"}]
[null,null,null,null,null,null,null,null,null,null,null,null,"N","90.3",90,3,{"$f":"+VLOOKUP(O718,'Resumen requerimientos'!$A$5:$B$104,2,FALSE)","v":"5R"},"Nivel","Rango","Prioridad","Ponderación Of. Y Serv.","Ponderación Educ. y Salud.","Rango",null,null,null,{"$f":"+R717","v":"FSM - NorEste"},"NL - Norte Litoral","ND - Norte Desértico","NVT - Norte Valle Transversal","CL - Central Litoral","CI - Central Interior","SL - Sur Litoral","SI - Sur Interior","SE - Sur Extremo","An - Andino"]
[null,null,null,null,null,null,null,null,null,null,null,null,"N","90.4",90,4,{"$f":"+VLOOKUP(O719,'Resumen requerimientos'!$A$5:$B$104,2,FALSE)","v":"5R"},"Muy bueno",{"$f":"+HLOOKUP($AA$717,$AB$718:$AJ$722,AK719,0)","v":"0-0,75"},1,{"$f":"+VLOOKUP(O717,TablaResumen[],22,0)*T719","v":1},{"$f":"+VLOOKUP(O717,TablaResumen[],23,0)*T719","v":1},{"$f":"+IFERROR(VALUE(MID(S719,1,FIND(\"-\",S719)-1)),S719)","v":0},{"$f":"+IFERROR(VALUE(MID(S719,FIND(\"-\",S719)+1,LEN(S719)-FIND(\"-\",S719))),S719)","v":0.75},null,null,"Muy bueno","0-0,75","0-0,75","0-0,75","0-0,75","0-0,75","No Aplica","0-0,75","No Aplica","No Aplica",2]
[null,null,null,null,null,null,null,null,null,null,null,null,"N","90.5",90,5,{"$f":"+VLOOKUP(O720,'Resumen requerimientos'!$A$5:$B$104,2,FALSE)","v":"5R"},"Bueno",{"$f":"+HLOOKUP($AA$717,$AB$718:$AJ$722,AK720,0)","v":"0-0,75"},1,{"$f":"+VLOOKUP(O718,TablaResumen[],22,0)*T720","v":1},{"$f":"+VLOOKUP(O718,TablaResumen[],23,0)*T720","v":1},{"$f":"+IFERROR(VALUE(MID(S720,1,FIND(\"-\",S720)-1)),S720)","v":0},{"$f":"+IFERROR(VALUE(MID(S720,FIND(\"-\",S720)+1,LEN(S720)-FIND(\"-\",S720))),S720)","v":0.75},null,null,"Bueno","0-0,75","0-0,75","0-0,75","0-0,75","0-0,75","No Aplica","0-0,75","No Aplica","No Aplica",3]
[null,null,null,null,null,null,null,null,null,null,null,null,"N","90.6",90,6,{"$f":"+VLOOKUP(O721,'Resumen requerimientos'!$A$5:$B$104,2,FALSE)","v":"5R"},"Regular",{"$f":"+HLOOKUP($AA$717,$AB$718:$AJ$722,AK721,0)","v":"0-0,75"},1,{"$f":"+VLOOKUP(O719,TablaResumen[],22,0)*T721","v":1},{"$f":"+VLOOKUP(O719,TablaResumen[],23,0)*T721","v":1},{"$f":"+IFERROR(VALUE(MID(S721,1,FIND(\"-\",S721)-1)),S721)","v":0},{"$f":"+IFERROR(VALUE(MID(S721,FIND(\"-\",S721)+1,LEN(S721)-FIND(\"-\",S721))),S721)","v":0.75},null,null,"Regular","0-0,75","0-0,75","0-0,75","0-0,75","0-0,75","No Aplica","0-0,75","No Aplica","No Aplica",4]
[null,null,null,null,null,null,null,null,null,null,null,null,"N","90.7",90,7,{"$f":"+VLOOKUP(O722,'Resumen requerimientos'!$A$5:$B$104,2,FALSE)","v":"5R"},"Minimo",{"$f":"+HLOOKUP($AA$717,$AB$718:$AJ$722,AK722,0)","v":"0-0,75"},1,{"$f":"+VLOOKUP(O720,TablaResumen[],22,0)*T722","v":1},{"$f":"+VLOOKUP(O720,TablaResumen[],23,0)*T722","v":1},{"$f":"+IFERROR(VALUE(MID(S722,1,FIND(\"-\",S722)-1)),S722)","v":0},{"$f":"+IFERROR(VALUE(MID(S722,FIND(\"-\",S722)+1,LEN(S722)-FIND(\"-\",S722))),S722)","v":0.75},null,null,"Minimo","0-0,75","0-0,75","0-0,75","0-0,75","0-0,75","No Aplica","0-0,75","No Aplica","No Aplica",5]
[null,null,null,null,null,null,null,null,null,null,null,null,"N","90.8",90,8]
[null,null,null,null,null,null,null,null,null,null,null,null,"N","91.1",{"$f":"+IF(R723=\"\",O723+1,O723)","v":91},1,{"$f":"+VLOOKUP(O724,'Resumen requerimientos'!$A$5:$B$104,2,FALSE)","v":"5R"},{"$f":"+VLOOKUP(Q725,'Resumen requerimientos'!$B$5:$AJ$92,10,0)","v":"Demanda de energía"},null,{"$f":"+VLOOKUP(O725,TablaResumen[],16,0)","v":"Transmitancia térmica de la envolvente y Factor Solar Modificado"},null,"Opción",{"$f":"+CONCATENATE(VLOOKUP(O725,'Resumen requerimientos'!$A$5:$AB$91,24),\" de \",VLOOKUP(O725,'Resumen requerimientos'!$A$5:$AB$91,25))","v":"1 de 1"},null,null,null,{"$f":"+'Datos Generales Edificio'!$C$5","v":"RM - Región Metropolitana de Santiago"}]
[null,null,null,null,null,null,null,null,null,null,null,null,"N","91.2",91,2,{"$f":"+VLOOKUP(O725,'Resumen requerimientos'!$A$5:$B$104,2,FALSE)","v":"5R"},{"$f":"+VLOOKUP(O725,TablaResumen[],21,0)","v":"FSM - Nor Oeste"},null,null,null,"Simultáneo",{"$f":"+CONCATENATE(IF(VLOOKUP(O725,'Resumen requerimientos'!$A$5:$AB$91,26)=0,1,VLOOKUP(O725,'Resumen requerimientos'!$A$5:$AB$91,26)),\" de \",IF(VLOOKUP(O725,'Resumen requerimientos'!$A$5:$AB$91,27)=0,1,VLOOKUP(O725,'Resumen requerimientos'!$A$5:$AB$91,27)))","v":"1 de 1"},null,null,null,{"$f":"+'Datos Generales Edificio'!$F$28","v":"CI - Central Interior"}]
[null,null,null,null,null,null,null,null,null,null,null,null,"N","91.3",91,3,{"$f":"+VLOOKUP(O726,'Resumen requerimientos'!$A$5:$B$104,2,FALSE)","v":"5R"},"Nivel","Rango","Prioridad","Ponderación Of. Y Serv.","Ponderación Educ. y Salud.","Rango",null,null,null,{"$f":"+R725","v":"FSM - Nor Oeste"},"NL - Norte Litoral","ND - Norte Desértico","NVT - Norte Valle Transversal","CL - Central Litoral","CI - Central Interior","SL - Sur Litoral","SI - Sur Interior","SE - Sur Extremo","An - Andino"]
[null,null,null,null,null,null,null,null,null,null,null,null,"N","91.4",91,4,{"$f":"+VLOOKUP(O727,'Resumen requerimientos'!$A$5:$B$104,2,FALSE)","v":"5R"},"Muy bueno",{"$f":"+HLOOKUP($AA$725,$AB$726:$AJ$730,AK727,0)","v":"0-0,75"},1,{"$f":"+VLOOKUP(O725,TablaResumen[],22,0)*T727","v":1},{"$f":"+VLOOKUP(O725,TablaResumen[],23,0)*T727","v":1},{"$f":"+IFERROR(VALUE(MID(S727,1,FIND(\"-\",S727)-1)),S727)","v":0},{"$f":"+IFERROR(VALUE(MID(S727,FIND(\"-\",S727)+1,LEN(S727)-FIND(\"-\",S727))),S727)","v":0.75},null,null,"Muy bueno","0-0,75","0-0,75","0-0,75","0-0,75","0-0,75","No Aplica","0-0,75","No Aplica","No Aplica",2]
[null,null,null,null,null,null,null,null,null,null,null,null,"N","91.5",91,5,{"$f":"+VLOOKUP(O728,'Resumen requerimientos'!$A$5:$B$104,2,FALSE)","v":"5R"},"Bueno",{"$f":"+HLOOKUP($AA$725,$AB$726:$AJ$730,AK728,0)","v":"0-0,75"},1,{"$f":"+VLOOKUP(O726,TablaResumen[],22,0)*T728","v":1},{"$f":"+VLOOKUP(O726,TablaResumen[],23,0)*T728","v":1},{"$f":"+IFERROR(VALUE(MID(S728,1,FIND(\"-\",S728)-1)),S728)","v":0},{"$f":"+IFERROR(VALUE(MID(S728,FIND(\"-\",S728)+1,LEN(S728)-FIND(\"-\",S728))),S728)","v":0.75},null,null,"Bueno","0-0,75","0-0,75","0-0,75","0-0,75","0-0,75","No Aplica","0-0,75","No Aplica","No Aplica",3]
[null,null,null,null,null,null,null,null,null,null,null,null,"N","91.6",91,6,{"$f":"+VLOOKUP(O729,'Resumen requerimientos'!$A$5:$B$104,2,FALSE)","v":"5R"},"Regular",{"$f":"+HLOOKUP($AA$725,$AB$726:$AJ$730,AK729,0)","v":"0-0,75"},1,{"$f":"+VLOOKUP(O727,TablaResumen[],22,0)*T729","v":1},{"$f":"+VLOOKUP(O727,TablaResumen[],23,0)*T729","v":1},{"$f":"+IFERROR(VALUE(MID(S729,1,FIND(\"-\",S729)-1)),S729)","v":0},{"$f":"+IFERROR(VALUE(MID(S729,FIND(\"-\",S729)+1,LEN(S729)-FIND(\"-\",S729))),S729)","v":0.75},null,null,"Regular","0-0,75","0-0,75","0-0,75","0-0,75","0-0,75","No Aplica","0-0,75","No Aplica","No Aplica",4]
[null,null,null,null,null,null,null,null,null,null,null,null,"N","91.7",91,7,{"$f":"+VLOOKUP(O730,'Resumen requerimientos'!$A$5:$B$104,2,FALSE)","v":"5R"},"Minimo",{"$f":"+HLOOKUP($AA$725,$AB$726:$AJ$730,AK730,0)","v":"0-0,75"},1,{"$f":"+VLOOKUP(O728,TablaResumen[],22,0)*T730","v":1},{"$f":"+VLOOKUP(O728,TablaResumen[],23,0)*T730","v":1},{"$f":"+IFERROR(VALUE(MID(S730,1,FIND(\"-\",S730)-1)),S730)","v":0},{"$f":"+IFERROR(VALUE(MID(S730,FIND(\"-\",S730)+1,LEN(S730)-FIND(\"-\",S730))),S730)","v":0.75},null,null,"Minimo","0-0,75","0-0,75","0-0,75","0-0,75","0-0,75","No Aplica","0-0,75","No Aplica","No Aplica",5]
[null,null,null,null,null,null,null,null,null,null,null,null,"N","91.8",91,8]
[null,null,null,null,null,null,null,null,null,null,null,null,"N","92.1",{"$f":"+IF(R731=\"\",O731+1,O731)","v":92},1,{"$f":"+VLOOKUP(O732,'Resumen requerimientos'!$A$5:$B$104,2,FALSE)","v":"5R"},{"$f":"+VLOOKUP(Q733,'Resumen requerimientos'!$B$5:$AJ$92,10,0)","v":"Demanda de energía"},null,{"$f":"+VLOOKUP(O733,TablaResumen[],16,0)","v":"Transmitancia térmica de la envolvente y Factor Solar Modificado"},null,"Opción",{"$f":"+CONCATENATE(VLOOKUP(O733,'Resumen requerimientos'!$A$5:$AB$91,24),\" de \",VLOOKUP(O733,'Resumen requerimientos'!$A$5:$AB$91,25))","v":"1 de 1"},null,null,null,{"$f":"+'Datos Generales Edificio'!$C$5","v":"RM - Región Metropolitana de Santiago"}]
[null,null,null,null,null,null,null,null,null,null,null,null,"N","92.2",92,2,{"$f":"+VLOOKUP(O733,'Resumen requerimientos'!$A$5:$B$104,2,FALSE)","v":"5R"},{"$f":"+VLOOKUP(O733,TablaResumen[],21,0)","v":"FSM - Oeste"},null,null,null,"Simultáneo",{"$f":"+CONCATENATE(IF(VLOOKUP(O733,'Resumen requerimientos'!$A$5:$AB$91,26)=0,1,VLOOKUP(O733,'Resumen requerimientos'!$A$5:$AB$91,26)),\" de \",IF(VLOOKUP(O733,'Resumen requerimientos'!$A$5:$AB$91,27)=0,1,VLOOKUP(O733,'Resumen requerimientos'!$A$5:$AB$91,27)))","v":"1 de 1"},null,null,null,{"$f":"+'Datos Generales Edificio'!$F$28","v":"CI - Central Interior"}]
[null,null,null,null,null,null,null,null,null,null,null,null,"N","92.3",92,3,{"$f":"+VLOOKUP(O734,'Resumen requerimientos'!$A$5:$B$104,2,FALSE)","v":"5R"},"Nivel","Rango","Prioridad","Ponderación Of. Y Serv.","Ponderación Educ. y Salud.","Rango",null,null,null,{"$f":"+R733","v":"FSM - Oeste"},"NL - Norte Litoral","ND - Norte Desértico","NVT - Norte Valle Transversal","CL - Central Litoral","CI - Central Interior","SL - Sur Litoral","SI - Sur Interior","SE - Sur Extremo","An - Andino"]
[null,null,null,null,null,null,null,null,null,null,null,null,"N","92.4",92,4,{"$f":"+VLOOKUP(O735,'Resumen requerimientos'!$A$5:$B$104,2,FALSE)","v":"5R"},"Muy bueno",{"$f":"+HLOOKUP($AA$733,$AB$734:$AJ$738,AK735,0)","v":"0-0,6"},1,{"$f":"+VLOOKUP(O733,TablaResumen[],22,0)*T735","v":1},{"$f":"+VLOOKUP(O733,TablaResumen[],23,0)*T735","v":1},{"$f":"+IFERROR(VALUE(MID(S735,1,FIND(\"-\",S735)-1)),S735)","v":0},{"$f":"+IFERROR(VALUE(MID(S735,FIND(\"-\",S735)+1,LEN(S735)-FIND(\"-\",S735))),S735)","v":0.6},null,null,"Muy bueno","0-0,6","0-0,6","0-0,6","0-0,6","0-0,6","No Aplica","0-0,6","No Aplica","No Aplica",2]
[null,null,null,null,null,null,null,null,null,null,null,null,"N","92.5",92,5,{"$f":"+VLOOKUP(O736,'Resumen requerimientos'!$A$5:$B$104,2,FALSE)","v":"5R"},"Bueno",{"$f":"+HLOOKUP($AA$733,$AB$734:$AJ$738,AK736,0)","v":"0-0,6"},1,{"$f":"+VLOOKUP(O734,TablaResumen[],22,0)*T736","v":1},{"$f":"+VLOOKUP(O734,TablaResumen[],23,0)*T736","v":1},{"$f":"+IFERROR(VALUE(MID(S736,1,FIND(\"-\",S736)-1)),S736)","v":0},{"$f":"+IFERROR(VALUE(MID(S736,FIND(\"-\",S736)+1,LEN(S736)-FIND(\"-\",S736))),S736)","v":0.6},null,null,"Bueno","0-0,6","0-0,6","0-0,6","0-0,6","0-0,6","No Aplica","0-0,6","No Aplica","No Aplica",3]
[null,null,null,null,null,null,null,null,null,null,null,null,"N","92.6",92,6,{"$f":"+VLOOKUP(O737,'Resumen requerimientos'!$A$5:$B$104,2,FALSE)","v":"5R"},"Regular",{"$f":"+HLOOKUP($AA$733,$AB$734:$AJ$738,AK737,0)","v":"0-0,6"},1,{"$f":"+VLOOKUP(O735,TablaResumen[],22,0)*T737","v":1},{"$f":"+VLOOKUP(O735,TablaResumen[],23,0)*T737","v":1},{"$f":"+IFERROR(VALUE(MID(S737,1,FIND(\"-\",S737)-1)),S737)","v":0},{"$f":"+IFERROR(VALUE(MID(S737,FIND(\"-\",S737)+1,LEN(S737)-FIND(\"-\",S737))),S737)","v":0.6},null,null,"Regular","0-0,6","0-0,6","0-0,6","0-0,6","0-0,6","No Aplica","0-0,6","No Aplica","No Aplica",4]
[null,null,null,null,null,null,null,null,null,null,null,null,"N","92.7",92,7,{"$f":"+VLOOKUP(O738,'Resumen requerimientos'!$A$5:$B$104,2,FALSE)","v":"5R"},"Minimo",{"$f":"+HLOOKUP($AA$733,$AB$734:$AJ$738,AK738,0)","v":"0-0,6"},1,{"$f":"+VLOOKUP(O736,TablaResumen[],22,0)*T738","v":1},{"$f":"+VLOOKUP(O736,TablaResumen[],23,0)*T738","v":1},{"$f":"+IFERROR(VALUE(MID(S738,1,FIND(\"-\",S738)-1)),S738)","v":0},{"$f":"+IFERROR(VALUE(MID(S738,FIND(\"-\",S738)+1,LEN(S738)-FIND(\"-\",S738))),S738)","v":0.6},null,null,"Minimo","0-0,6","0-0,6","0-0,6","0-0,6","0-0,6","No Aplica","0-0,6","No Aplica","No Aplica",5]
[null,null,null,null,null,null,null,null,null,null,null,null,"N","92.8",92,8]
[null,null,null,null,null,null,null,null,null,null,null,null,"N",{"$f":"+CONCATENATE(O740,\".\",P740)","v":"93.1"},{"$f":"+IF(R739=\"\",O739+1,O739)","v":93},{"$f":"+IF(O740=O739,P739+1,1)","v":1},{"$f":"+VLOOKUP(O740,'Resumen requerimientos'!$A$5:$B$104,2,FALSE)","v":"ARQ.ENERGIA.5"},{"$f":"+VLOOKUP(Q741,'Resumen requerimientos'!$B$5:$AJ$92,10,0)","v":"Demanda de energía"},null,{"$f":"+VLOOKUP(O741,TablaResumen[],16,0)","v":"Demanda de energía"},null,"Opción",{"$f":"+CONCATENATE(VLOOKUP(O741,'Resumen requerimientos'!$A$5:$AB$91,24),\" de \",VLOOKUP(O741,'Resumen requerimientos'!$A$5:$AB$91,25))","v":"1 de 1"},null,null,null,{"$f":"+'Datos Generales Edificio'!$C$5","v":"RM - Región Metropolitana de Santiago"}]
[null,null,null,null,null,null,null,null,null,null,null,null,"N","93.2",93,2,{"$f":"+VLOOKUP(O741,'Resumen requerimientos'!$A$5:$B$104,2,FALSE)","v":"ARQ.ENERGIA.5"},{"$f":"+VLOOKUP(O741,TablaResumen[],21,0)","v":"Mejora de U en pisos ventilados [W/m2K] "},null,null,null,"Simultáneo",{"$f":"+CONCATENATE(IF(VLOOKUP(O741,'Resumen requerimientos'!$A$5:$AB$91,26)=0,1,VLOOKUP(O741,'Resumen requerimientos'!$A$5:$AB$91,26)),\" de \",IF(VLOOKUP(O741,'Resumen requerimientos'!$A$5:$AB$91,27)=0,1,VLOOKUP(O741,'Resumen requerimientos'!$A$5:$AB$91,27)))","v":"1 de 1"},null,null,null,{"$f":"+'Datos Generales Edificio'!$F$28","v":"CI - Central Interior"}]
[null,null,null,null,null,null,null,null,null,null,null,null,"N","93.3",93,3,{"$f":"+VLOOKUP(O742,'Resumen requerimientos'!$A$5:$B$104,2,FALSE)","v":"ARQ.ENERGIA.5"},"Nivel","Rango","Prioridad","Ponderación Of. Y Serv.","Ponderación Educ. y Salud.","Rango",null,null,null,{"$f":"+R741","v":"Mejora de U en pisos ventilados [W/m2K] "},"NL - Norte Litoral","ND - Norte Desértico","NVT - Norte Valle Transversal","CL - Central Litoral","CI - Central Interior","SL - Sur Litoral","SI - Sur Interior","SE - Sur Extremo","An - Andino"]
[null,null,null,null,null,null,null,null,null,null,null,null,"N","93.4",93,4,{"$f":"+VLOOKUP(O743,'Resumen requerimientos'!$A$5:$B$104,2,FALSE)","v":"ARQ.ENERGIA.5"},"Muy bueno",{"$f":"+HLOOKUP($AA$741,$AB$742:$AJ$746,AK743,0)","v":"0-0,2"},1,{"$f":"+VLOOKUP(O741,TablaResumen[],22,0)*T743","v":0.03},{"$f":"+VLOOKUP(O741,TablaResumen[],23,0)*T743","v":0.03},{"$f":"+IFERROR(VALUE(MID(S743,1,FIND(\"-\",S743)-1)),S743)","v":0},{"$f":"+IFERROR(VALUE(MID(S743,FIND(\"-\",S743)+1,LEN(S743)-FIND(\"-\",S743))),S743)","v":0.2},null,null,"Muy bueno","0-0,4","0-0,25","0-0,4","0-0,35","0-0,2","0-0,2","0-0,2","0-0,15","0-0,15",2]
[null,null,null,null,null,null,null,null,null,null,null,null,"N","93.5",93,5,{"$f":"+VLOOKUP(O744,'Resumen requerimientos'!$A$5:$B$104,2,FALSE)","v":"ARQ.ENERGIA.5"},"Bueno",{"$f":"+HLOOKUP($AA$741,$AB$742:$AJ$746,AK744,0)","v":"0,2-0,47"},0.66666666666666663,{"$f":"+VLOOKUP(O742,TablaResumen[],22,0)*T744","v":1.9999999999999997E-2},{"$f":"+VLOOKUP(O742,TablaResumen[],23,0)*T744","v":1.9999999999999997E-2},{"$f":"+IFERROR(VALUE(MID(S744,1,FIND(\"-\",S744)-1)),S744)","v":0.2},{"$f":"+IFERROR(VALUE(MID(S744,FIND(\"-\",S744)+1,LEN(S744)-FIND(\"-\",S744))),S744)","v":0.47},null,null,"Bueno","0,4-0,85","0,25-0,38","0-0,6","0,35-0,6","0,2-0,47","0,2-0,38","0,2-0,33","0,15-0,25","0,15-0,33",3]
[null,null,null,null,null,null,null,null,null,null,null,null,"N","93.6",93,6,{"$f":"+VLOOKUP(O745,'Resumen requerimientos'!$A$5:$B$104,2,FALSE)","v":"ARQ.ENERGIA.5"},"Regular",{"$f":"+HLOOKUP($AA$741,$AB$742:$AJ$746,AK745,0)","v":"0,47-0,8"},0,{"$f":"+VLOOKUP(O743,TablaResumen[],22,0)*T745","v":0},{"$f":"+VLOOKUP(O743,TablaResumen[],23,0)*T745","v":0},{"$f":"+IFERROR(VALUE(MID(S745,1,FIND(\"-\",S745)-1)),S745)","v":0.47},{"$f":"+IFERROR(VALUE(MID(S745,FIND(\"-\",S745)+1,LEN(S745)-FIND(\"-\",S745))),S745)","v":0.8},null,null,"Regular","0,85-1,35","0,38-0,8","0-0,9","0,6-0,9","0,47-0,8","0,38-0,7","0,33-0,6","0,25-0,3","0,33-0,5",4]
[null,null,null,null,null,null,null,null,null,null,null,null,"N","93.7",93,7,{"$f":"+VLOOKUP(O746,'Resumen requerimientos'!$A$5:$B$104,2,FALSE)","v":"ARQ.ENERGIA.5"},"Minimo",{"$f":"+HLOOKUP($AA$741,$AB$742:$AJ$746,AK746,0)","v":"0,8-1000000"},0,{"$f":"+VLOOKUP(O744,TablaResumen[],22,0)*T746","v":0},{"$f":"+VLOOKUP(O744,TablaResumen[],23,0)*T746","v":0},{"$f":"+IFERROR(VALUE(MID(S746,1,FIND(\"-\",S746)-1)),S746)","v":0.8},{"$f":"+IFERROR(VALUE(MID(S746,FIND(\"-\",S746)+1,LEN(S746)-FIND(\"-\",S746))),S746)","v":1000000},null,null,"Minimo","1,35-1000000","0,8-1000000","0,9-1000000","0,9-1000000","0,8-1000000","0,7-100000","0,6-1000000","0,3-1000000","0,5-1000000",5]
[null,null,null,null,null,null,null,null,null,null,null,null,"N","93.8",93,8]
[null,null,null,null,null,null,null,null,null,null,null,null,"N","94.1",{"$f":"+IF(R747=\"\",O747+1,O747)","v":94},1,{"$f":"+VLOOKUP(O748,'Resumen requerimientos'!$A$5:$B$104,2,FALSE)","v":"ARQ.ENERGIA.5"},{"$f":"+VLOOKUP(Q749,'Resumen requerimientos'!$B$5:$AJ$92,10,0)","v":"Demanda de energía"},null,{"$f":"+VLOOKUP(O749,TablaResumen[],16,0)","v":"Demanda de energía"},null,"Opción",{"$f":"+CONCATENATE(VLOOKUP(O749,'Resumen requerimientos'!$A$5:$AB$91,24),\" de \",VLOOKUP(O749,'Resumen requerimientos'!$A$5:$AB$91,25))","v":"1 de 1"},null,null,null,{"$f":"+'Datos Generales Edificio'!$C$5","v":"RM - Región Metropolitana de Santiago"}]
[null,null,null,null,null,null,null,null,null,null,null,null,"N","94.2",94,2,{"$f":"+VLOOKUP(O749,'Resumen requerimientos'!$A$5:$B$104,2,FALSE)","v":"ARQ.ENERGIA.5"},{"$f":"+VLOOKUP(O749,TablaResumen[],21,0)","v":"Mejora FSM - NorEste"},null,null,null,"Simultáneo",{"$f":"+CONCATENATE(IF(VLOOKUP(O749,'Resumen requerimientos'!$A$5:$AB$91,26)=0,1,VLOOKUP(O749,'Resumen requerimientos'!$A$5:$AB$91,26)),\" de \",IF(VLOOKUP(O749,'Resumen requerimientos'!$A$5:$AB$91,27)=0,1,VLOOKUP(O749,'Resumen requerimientos'!$A$5:$AB$91,27)))","v":"1 de 1"},null,null,null,{"$f":"+'Datos Generales Edificio'!$F$28","v":"CI - Central Interior"}]
[null,null,null,null,null,null,null,null,null,null,null,null,"N","94.3",94,3,{"$f":"+VLOOKUP(O750,'Resumen requerimientos'!$A$5:$B$104,2,FALSE)","v":"ARQ.ENERGIA.5"},"Nivel","Rango","Prioridad","Ponderación Of. Y Serv.","Ponderación Educ. y Salud.","Rango",null,null,null,{"$f":"+R749","v":"Mejora FSM - NorEste"},"NL - Norte Litoral","ND - Norte Desértico","NVT - Norte Valle Transversal","CL - Central Litoral","CI - Central Interior","SL - Sur Litoral","SI - Sur Interior","SE - Sur Extremo","An - Andino"]
[null,null,null,null,null,null,null,null,null,null,null,null,"N","94.4",94,4,{"$f":"+VLOOKUP(O751,'Resumen requerimientos'!$A$5:$B$104,2,FALSE)","v":"ARQ.ENERGIA.5"},"Muy bueno",{"$f":"+HLOOKUP($AA$749,$AB$750:$AJ$754,AK751,0)","v":"0-0,5"},1,{"$f":"+VLOOKUP(O749,TablaResumen[],22,0)*T751","v":0.06},{"$f":"+VLOOKUP(O749,TablaResumen[],23,0)*T751","v":0.06},{"$f":"+IFERROR(VALUE(MID(S751,1,FIND(\"-\",S751)-1)),S751)","v":0},{"$f":"+IFERROR(VALUE(MID(S751,FIND(\"-\",S751)+1,LEN(S751)-FIND(\"-\",S751))),S751)","v":0.5},null,null,"Muy bueno","0-0,5","0-0,5","0-0,5","0-0,5","0-0,5","0-0,7","0-0,7","0-1","0-1",2]
[null,null,null,null,null,null,null,null,null,null,null,null,"N","94.5",94,5,{"$f":"+VLOOKUP(O752,'Resumen requerimientos'!$A$5:$B$104,2,FALSE)","v":"ARQ.ENERGIA.5"},"Bueno",{"$f":"+HLOOKUP($AA$749,$AB$750:$AJ$754,AK752,0)","v":"0,5-0,6"},0.66666666666666663,{"$f":"+VLOOKUP(O750,TablaResumen[],22,0)*T752","v":3.9999999999999994E-2},{"$f":"+VLOOKUP(O750,TablaResumen[],23,0)*T752","v":3.9999999999999994E-2},{"$f":"+IFERROR(VALUE(MID(S752,1,FIND(\"-\",S752)-1)),S752)","v":0.5},{"$f":"+IFERROR(VALUE(MID(S752,FIND(\"-\",S752)+1,LEN(S752)-FIND(\"-\",S752))),S752)","v":0.6},null,null,"Bueno","0,5-0,6","0,5-0,6","0,5-0,6","0,5-0,6","0,5-0,6","-","-","-","-",3]
[null,null,null,null,null,null,null,null,null,null,null,null,"N","94.6",94,6,{"$f":"+VLOOKUP(O753,'Resumen requerimientos'!$A$5:$B$104,2,FALSE)","v":"ARQ.ENERGIA.5"},"Regular",{"$f":"+HLOOKUP($AA$749,$AB$750:$AJ$754,AK753,0)","v":"0,6-0,75"},0,{"$f":"+VLOOKUP(O751,TablaResumen[],22,0)*T753","v":0},{"$f":"+VLOOKUP(O751,TablaResumen[],23,0)*T753","v":0},{"$f":"+IFERROR(VALUE(MID(S753,1,FIND(\"-\",S753)-1)),S753)","v":0.6},{"$f":"+IFERROR(VALUE(MID(S753,FIND(\"-\",S753)+1,LEN(S753)-FIND(\"-\",S753))),S753)","v":0.75},null,null,"Regular","0,6-0,75","0,6-0,75","0,6-0,75","0,6-0,75","0,6-0,75","-","0,7-0,75","-","-",4]
[null,null,null,null,null,null,null,null,null,null,null,null,"N","94.7",94,7,{"$f":"+VLOOKUP(O754,'Resumen requerimientos'!$A$5:$B$104,2,FALSE)","v":"ARQ.ENERGIA.5"},"Minimo",{"$f":"+HLOOKUP($AA$749,$AB$750:$AJ$754,AK754,0)","v":"0,75-1000000"},0,{"$f":"+VLOOKUP(O752,TablaResumen[],22,0)*T754","v":0},{"$f":"+VLOOKUP(O752,TablaResumen[],23,0)*T754","v":0},{"$f":"+IFERROR(VALUE(MID(S754,1,FIND(\"-\",S754)-1)),S754)","v":0.75},{"$f":"+IFERROR(VALUE(MID(S754,FIND(\"-\",S754)+1,LEN(S754)-FIND(\"-\",S754))),S754)","v":1000000},null,null,"Minimo","0,75-1000000","0,75-1000000","0,75-1000000","0,75-1000000","0,75-1000000","0,7-1000000","0,7-1000000","1-1000000","1-1000000",5]
[null,null,null,null,null,null,null,null,null,null,null,null,"N","94.8",94,8]
[null,null,null,null,null,null,null,null,null,null,null,null,"N","95.1",{"$f":"+IF(R755=\"\",O755+1,O755)","v":95},1,{"$f":"+VLOOKUP(O756,'Resumen requerimientos'!$A$5:$B$104,2,FALSE)","v":"ARQ.ENERGIA.5"},{"$f":"+VLOOKUP(Q757,'Resumen requerimientos'!$B$5:$AJ$92,10,0)","v":"Demanda de energía"},null,{"$f":"+VLOOKUP(O757,TablaResumen[],16,0)","v":"Demanda de energía"},null,"Opción",{"$f":"+CONCATENATE(VLOOKUP(O757,'Resumen requerimientos'!$A$5:$AB$91,24),\" de \",VLOOKUP(O757,'Resumen requerimientos'!$A$5:$AB$91,25))","v":"1 de 1"},null,null,null,{"$f":"+'Datos Generales Edificio'!$C$5","v":"RM - Región Metropolitana de Santiago"}]
[null,null,null,null,null,null,null,null,null,null,null,null,"N","95.2",95,2,{"$f":"+VLOOKUP(O757,'Resumen requerimientos'!$A$5:$B$104,2,FALSE)","v":"ARQ.ENERGIA.5"},{"$f":"+VLOOKUP(O757,TablaResumen[],21,0)","v":"Mejora FSM - NorOeste"},null,null,null,"Simultáneo",{"$f":"+CONCATENATE(IF(VLOOKUP(O757,'Resumen requerimientos'!$A$5:$AB$91,26)=0,1,VLOOKUP(O757,'Resumen requerimientos'!$A$5:$AB$91,26)),\" de \",IF(VLOOKUP(O757,'Resumen requerimientos'!$A$5:$AB$91,27)=0,1,VLOOKUP(O757,'Resumen requerimientos'!$A$5:$AB$91,27)))","v":"1 de 1"},null,null,null,{"$f":"+'Datos Generales Edificio'!$F$28","v":"CI - Central Interior"}]
[null,null,null,null,null,null,null,null,null,null,null,null,"N","95.3",95,3,{"$f":"+VLOOKUP(O758,'Resumen requerimientos'!$A$5:$B$104,2,FALSE)","v":"ARQ.ENERGIA.5"},"Nivel","Rango","Prioridad","Ponderación Of. Y Serv.","Ponderación Educ. y Salud.","Rango",null,null,null,{"$f":"+R757","v":"Mejora FSM - NorOeste"},"NL - Norte Litoral","ND - Norte Desértico","NVT - Norte Valle Transversal","CL - Central Litoral","CI - Central Interior","SL - Sur Litoral","SI - Sur Interior","SE - Sur Extremo","An - Andino"]
[null,null,null,null,null,null,null,null,null,null,null,null,"N","95.4",95,4,{"$f":"+VLOOKUP(O759,'Resumen requerimientos'!$A$5:$B$104,2,FALSE)","v":"ARQ.ENERGIA.5"},"Muy bueno",{"$f":"+HLOOKUP($AA$757,$AB$758:$AJ$762,AK759,0)","v":"0-0,5"},1,{"$f":"+VLOOKUP(O757,TablaResumen[],22,0)*T759","v":0.06},{"$f":"+VLOOKUP(O757,TablaResumen[],23,0)*T759","v":0.06},{"$f":"+IFERROR(VALUE(MID(S759,1,FIND(\"-\",S759)-1)),S759)","v":0},{"$f":"+IFERROR(VALUE(MID(S759,FIND(\"-\",S759)+1,LEN(S759)-FIND(\"-\",S759))),S759)","v":0.5},null,null,"Muy bueno","0-0,5","0-0,5","0-0,5","0-0,5","0-0,5","0-0,7","0-0,7","0-1","0-1",2]
[null,null,null,null,null,null,null,null,null,null,null,null,"N","95.5",95,5,{"$f":"+VLOOKUP(O760,'Resumen requerimientos'!$A$5:$B$104,2,FALSE)","v":"ARQ.ENERGIA.5"},"Bueno",{"$f":"+HLOOKUP($AA$757,$AB$758:$AJ$762,AK760,0)","v":"0,5-0,6"},0.66666666666666663,{"$f":"+VLOOKUP(O758,TablaResumen[],22,0)*T760","v":3.9999999999999994E-2},{"$f":"+VLOOKUP(O758,TablaResumen[],23,0)*T760","v":3.9999999999999994E-2},{"$f":"+IFERROR(VALUE(MID(S760,1,FIND(\"-\",S760)-1)),S760)","v":0.5},{"$f":"+IFERROR(VALUE(MID(S760,FIND(\"-\",S760)+1,LEN(S760)-FIND(\"-\",S760))),S760)","v":0.6},null,null,"Bueno","0,5-0,6","0,5-0,6","0,5-0,6","0,5-0,6","0,5-0,6","-","-","-","-",3]
[null,null,null,null,null,null,null,null,null,null,null,null,"N","95.6",95,6,{"$f":"+VLOOKUP(O761,'Resumen requerimientos'!$A$5:$B$104,2,FALSE)","v":"ARQ.ENERGIA.5"},"Regular",{"$f":"+HLOOKUP($AA$757,$AB$758:$AJ$762,AK761,0)","v":"0,6-0,75"},0,{"$f":"+VLOOKUP(O759,TablaResumen[],22,0)*T761","v":0},{"$f":"+VLOOKUP(O759,TablaResumen[],23,0)*T761","v":0},{"$f":"+IFERROR(VALUE(MID(S761,1,FIND(\"-\",S761)-1)),S761)","v":0.6},{"$f":"+IFERROR(VALUE(MID(S761,FIND(\"-\",S761)+1,LEN(S761)-FIND(\"-\",S761))),S761)","v":0.75},null,null,"Regular","0,6-0,75","0,6-0,75","0,6-0,75","0,6-0,75","0,6-0,75","-","0,7-0,75","-","-",4]
[null,null,null,null,null,null,null,null,null,null,null,null,"N","95.7",95,7,{"$f":"+VLOOKUP(O762,'Resumen requerimientos'!$A$5:$B$104,2,FALSE)","v":"ARQ.ENERGIA.5"},"Minimo",{"$f":"+HLOOKUP($AA$757,$AB$758:$AJ$762,AK762,0)","v":"0,75-1000000"},0,{"$f":"+VLOOKUP(O760,TablaResumen[],22,0)*T762","v":0},{"$f":"+VLOOKUP(O760,TablaResumen[],23,0)*T762","v":0},{"$f":"+IFERROR(VALUE(MID(S762,1,FIND(\"-\",S762)-1)),S762)","v":0.75},{"$f":"+IFERROR(VALUE(MID(S762,FIND(\"-\",S762)+1,LEN(S762)-FIND(\"-\",S762))),S762)","v":1000000},null,null,"Minimo","0,75-1000000","0,75-1000000","0,75-1000000","0,75-1000000","0,75-1000000","0,7-1000000","0,7-1000000","1-1000000","1-1000000",5]
[null,null,null,null,null,null,null,null,null,null,null,null,"N","95.8",95,8]
[null,null,null,null,null,null,null,null,null,null,null,null,"N","96.1",{"$f":"+IF(R763=\"\",O763+1,O763)","v":96},1,{"$f":"+VLOOKUP(O764,'Resumen requerimientos'!$A$5:$B$104,2,FALSE)","v":"ARQ.ENERGIA.5"},{"$f":"+VLOOKUP(Q765,'Resumen requerimientos'!$B$5:$AJ$92,10,0)","v":"Demanda de energía"},null,{"$f":"+VLOOKUP(O765,TablaResumen[],16,0)","v":"Demanda de energía"},null,"Opción",{"$f":"+CONCATENATE(VLOOKUP(O765,'Resumen requerimientos'!$A$5:$AB$91,24),\" de \",VLOOKUP(O765,'Resumen requerimientos'!$A$5:$AB$91,25))","v":"1 de 1"},null,null,null,{"$f":"+'Datos Generales Edificio'!$C$5","v":"RM - Región Metropolitana de Santiago"}]
[null,null,null,null,null,null,null,null,null,null,null,null,"N","96.2",96,2,{"$f":"+VLOOKUP(O765,'Resumen requerimientos'!$A$5:$B$104,2,FALSE)","v":"ARQ.ENERGIA.5"},{"$f":"+VLOOKUP(O765,TablaResumen[],21,0)","v":"Mejora FSM - Oeste"},null,null,null,"Simultáneo",{"$f":"+CONCATENATE(IF(VLOOKUP(O765,'Resumen requerimientos'!$A$5:$AB$91,26)=0,1,VLOOKUP(O765,'Resumen requerimientos'!$A$5:$AB$91,26)),\" de \",IF(VLOOKUP(O765,'Resumen requerimientos'!$A$5:$AB$91,27)=0,1,VLOOKUP(O765,'Resumen requerimientos'!$A$5:$AB$91,27)))","v":"1 de 1"},null,null,null,{"$f":"+'Datos Generales Edificio'!$F$28","v":"CI - Central Interior"}]
[null,null,null,null,null,null,null,null,null,null,null,null,"N","96.3",{"$f":"+O765","v":96},3,{"$f":"+VLOOKUP(O766,'Resumen requerimientos'!$A$5:$B$104,2,FALSE)","v":"ARQ.ENERGIA.5"},"Nivel","Rango","Prioridad","Ponderación Of. Y Serv.","Ponderación Educ. y Salud.","Rango",null,null,null,{"$f":"+R765","v":"Mejora FSM - Oeste"},"NL - Norte Litoral","ND - Norte Desértico","NVT - Norte Valle Transversal","CL - Central Litoral","CI - Central Interior","SL - Sur Litoral","SI - Sur Interior","SE - Sur Extremo","An - Andino"]
[null,null,null,null,null,null,null,null,null,null,null,null,"N","96.4",96,4,{"$f":"+VLOOKUP(O767,'Resumen requerimientos'!$A$5:$B$104,2,FALSE)","v":"ARQ.ENERGIA.5"},"Muy bueno",{"$f":"+HLOOKUP($AA$765,$AB$766:$AJ$770,AK767,0)","v":"0-0,4"},1,{"$f":"+VLOOKUP(O765,TablaResumen[],22,0)*T767","v":0.06},{"$f":"+VLOOKUP(O765,TablaResumen[],23,0)*T767","v":0.06},{"$f":"+IFERROR(VALUE(MID(S767,1,FIND(\"-\",S767)-1)),S767)","v":0},{"$f":"+IFERROR(VALUE(MID(S767,FIND(\"-\",S767)+1,LEN(S767)-FIND(\"-\",S767))),S767)","v":0.4},null,null,"Muy bueno","0-0,4","0-0,4","0-0,4","0-0,4","0-0,4","0-0,6","0-0,6","0-1","0-1",2]
[null,null,null,null,null,null,null,null,null,null,null,null,"N","96.5",96,5,{"$f":"+VLOOKUP(O768,'Resumen requerimientos'!$A$5:$B$104,2,FALSE)","v":"ARQ.ENERGIA.5"},"Bueno",{"$f":"+HLOOKUP($AA$765,$AB$766:$AJ$770,AK768,0)","v":"0,4-0,5"},0.66666666666666663,{"$f":"+VLOOKUP(O766,TablaResumen[],22,0)*T768","v":3.9999999999999994E-2},{"$f":"+VLOOKUP(O766,TablaResumen[],23,0)*T768","v":3.9999999999999994E-2},{"$f":"+IFERROR(VALUE(MID(S768,1,FIND(\"-\",S768)-1)),S768)","v":0.4},{"$f":"+IFERROR(VALUE(MID(S768,FIND(\"-\",S768)+1,LEN(S768)-FIND(\"-\",S768))),S768)","v":0.5},null,null,"Bueno","0,4-0,5","0,4-0,5","0,4-0,5","0,4-0,5","0,4-0,5","-","-","-","-",3]
[null,null,null,null,null,null,null,null,null,null,null,null,"N","96.6",96,6,{"$f":"+VLOOKUP(O769,'Resumen requerimientos'!$A$5:$B$104,2,FALSE)","v":"ARQ.ENERGIA.5"},"Regular",{"$f":"+HLOOKUP($AA$765,$AB$766:$AJ$770,AK769,0)","v":"0,5-0,6"},0,{"$f":"+VLOOKUP(O767,TablaResumen[],22,0)*T769","v":0},{"$f":"+VLOOKUP(O767,TablaResumen[],23,0)*T769","v":0},{"$f":"+IFERROR(VALUE(MID(S769,1,FIND(\"-\",S769)-1)),S769)","v":0.5},{"$f":"+IFERROR(VALUE(MID(S769,FIND(\"-\",S769)+1,LEN(S769)-FIND(\"-\",S769))),S769)","v":0.6},null,null,"Regular","0,5-0,6","0,5-0,6","0,5-0,6","0,5-0,6","0,5-0,6","0,6-1","0,6-1","-",null,4]
[null,null,null,null,null,null,null,null,null,null,null,null,"N","96.7",96,7,{"$f":"+VLOOKUP(O770,'Resumen requerimientos'!$A$5:$B$104,2,FALSE)","v":"ARQ.ENERGIA.5"},"Minimo",{"$f":"+HLOOKUP($AA$765,$AB$766:$AJ$770,AK770,0)","v":"0,6-1000000"},0,{"$f":"+VLOOKUP(O768,TablaResumen[],22,0)*T770","v":0},{"$f":"+VLOOKUP(O768,TablaResumen[],23,0)*T770","v":0},{"$f":"+IFERROR(VALUE(MID(S770,1,FIND(\"-\",S770)-1)),S770)","v":0.6},{"$f":"+IFERROR(VALUE(MID(S770,FIND(\"-\",S770)+1,LEN(S770)-FIND(\"-\",S770))),S770)","v":1000000},null,null,"Minimo","0,6-1000000","0,6-1000000","0,6-1000000","0,6-1000000","0,6-1000000","1-1000000","1-1000000","1-1000000","1-1000000",5]
[null,null,null,null,null,null,null,null,null,null,null,null,"N","96.8",96,8]
[null,null,null,null,null,null,null,null,null,null,null,null,"N","97.1",{"$f":"+IF(R771=\"\",O771+1,O771)","v":97},1,{"$f":"+VLOOKUP(O772,'Resumen requerimientos'!$A$5:$B$104,2,FALSE)","v":"ARQ.ENERGIA.5"},{"$f":"+VLOOKUP(Q773,'Resumen requerimientos'!$B$5:$AJ$92,10,0)","v":"Demanda de energía"},null,{"$f":"+VLOOKUP(O773,TablaResumen[],16,0)","v":"Demanda de energía"},null,"Opción",{"$f":"+CONCATENATE(VLOOKUP(O773,'Resumen requerimientos'!$A$5:$AB$91,24),\" de \",VLOOKUP(O773,'Resumen requerimientos'!$A$5:$AB$91,25))","v":"1 de 1"},null,null,null,{"$f":"+'Datos Generales Edificio'!$C$5","v":"RM - Región Metropolitana de Santiago"}]
[null,null,null,null,null,null,null,null,null,null,null,null,"N","97.2",{"$f":"+O772","v":97},2,{"$f":"+VLOOKUP(O773,'Resumen requerimientos'!$A$5:$B$104,2,FALSE)","v":"ARQ.ENERGIA.5"},{"$f":"+VLOOKUP(O773,TablaResumen[],21,0)","v":"Mejora FSM - Lucernarios"},null,null,null,"Simultáneo",{"$f":"+CONCATENATE(IF(VLOOKUP(O773,'Resumen requerimientos'!$A$5:$AB$91,26)=0,1,VLOOKUP(O773,'Resumen requerimientos'!$A$5:$AB$91,26)),\" de \",IF(VLOOKUP(O773,'Resumen requerimientos'!$A$5:$AB$91,27)=0,1,VLOOKUP(O773,'Resumen requerimientos'!$A$5:$AB$91,27)))","v":"1 de 1"},null,null,null,{"$f":"+'Datos Generales Edificio'!$F$28","v":"CI - Central Interior"}]
[null,null,null,null,null,null,null,null,null,null,null,null,"N","97.3",97,3,{"$f":"+VLOOKUP(O774,'Resumen requerimientos'!$A$5:$B$104,2,FALSE)","v":"ARQ.ENERGIA.5"},"Nivel","Rango","Prioridad","Ponderación Of. Y Serv.","Ponderación Educ. y Salud.","Rango",null,null,null,{"$f":"+R773","v":"Mejora FSM - Lucernarios"},"NL - Norte Litoral","ND - Norte Desértico","NVT - Norte Valle Transversal","CL - Central Litoral","CI - Central Interior","SL - Sur Litoral","SI - Sur Interior","SE - Sur Extremo","An - Andino"]
[null,null,null,null,null,null,null,null,null,null,null,null,"N","97.4",97,4,{"$f":"+VLOOKUP(O775,'Resumen requerimientos'!$A$5:$B$104,2,FALSE)","v":"ARQ.ENERGIA.5"},"Muy bueno",{"$f":"+HLOOKUP($AA$773,$AB$774:$AJ$778,AK775,0)","v":"0-0,2999"},1,{"$f":"+VLOOKUP(O773,TablaResumen[],22,0)*T775","v":0.06},{"$f":"+VLOOKUP(O773,TablaResumen[],23,0)*T775","v":0.06},{"$f":"+IFERROR(VALUE(MID(S775,1,FIND(\"-\",S775)-1)),S775)","v":0},{"$f":"+IFERROR(VALUE(MID(S775,FIND(\"-\",S775)+1,LEN(S775)-FIND(\"-\",S775))),S775)","v":0.2999},null,null,"Muy bueno","0-0,0999","0-0,2999","0-0,3999","0-0,3999","0-0,2999","0-0,3999","0-0,3999","0-0,5999","0-0,2999",2]
[null,null,null,null,null,null,null,null,null,null,null,null,"N","97.5",97,5,{"$f":"+VLOOKUP(O776,'Resumen requerimientos'!$A$5:$B$104,2,FALSE)","v":"ARQ.ENERGIA.5"},"Bueno",{"$f":"+HLOOKUP($AA$773,$AB$774:$AJ$778,AK776,0)","v":"0,2999-0,3"},0.66666666666666663,{"$f":"+VLOOKUP(O774,TablaResumen[],22,0)*T776","v":3.9999999999999994E-2},{"$f":"+VLOOKUP(O774,TablaResumen[],23,0)*T776","v":3.9999999999999994E-2},{"$f":"+IFERROR(VALUE(MID(S776,1,FIND(\"-\",S776)-1)),S776)","v":0.2999},{"$f":"+IFERROR(VALUE(MID(S776,FIND(\"-\",S776)+1,LEN(S776)-FIND(\"-\",S776))),S776)","v":0.3},null,null,"Bueno","0,0999-0,1","0,2999-0,3","0,3999-0,4","0,3999-0,4","0,2999-0,3","0,3999-0,4","0,3999-0,4","0,5999-0,6","0,2999-0,3",3]
[null,null,null,null,null,null,null,null,null,null,null,null,"N","97.6",97,6,{"$f":"+VLOOKUP(O777,'Resumen requerimientos'!$A$5:$B$104,2,FALSE)","v":"ARQ.ENERGIA.5"},"Regular",{"$f":"+HLOOKUP($AA$773,$AB$774:$AJ$778,AK777,0)","v":"0,3-1000000"},0,{"$f":"+VLOOKUP(O775,TablaResumen[],22,0)*T777","v":0},{"$f":"+VLOOKUP(O775,TablaResumen[],23,0)*T777","v":0},{"$f":"+IFERROR(VALUE(MID(S777,1,FIND(\"-\",S777)-1)),S777)","v":0.3},{"$f":"+IFERROR(VALUE(MID(S777,FIND(\"-\",S777)+1,LEN(S777)-FIND(\"-\",S777))),S777)","v":1000000},null,null,"Regular","0,1-1000000","0,3-1000000","0,4-1000000","0,4-1000000","0,3-1000000","0,4-1000000","0,4-1000000","0,6-1000000","0,3-1000000",4]
[null,null,null,null,null,null,null,null,null,null,null,null,"N","97.7",97,7,{"$f":"+VLOOKUP(O778,'Resumen requerimientos'!$A$5:$B$104,2,FALSE)","v":"ARQ.ENERGIA.5"},"Minimo",{"$f":"+HLOOKUP($AA$773,$AB$774:$AJ$778,AK778,0)","v":0},0,{"$f":"+VLOOKUP(O776,TablaResumen[],22,0)*T778","v":0},{"$f":"+VLOOKUP(O776,TablaResumen[],23,0)*T778","v":0},{"$f":"+IFERROR(VALUE(MID(S778,1,FIND(\"-\",S778)-1)),S778)","v":0},{"$f":"+IFERROR(VALUE(MID(S778,FIND(\"-\",S778)+1,LEN(S778)-FIND(\"-\",S778))),S778)","v":0},null,null,"Minimo",null,null,null,null,null,null,null,null,null,5]
[null,null,null,null,null,null,null,null,null,null,null,null,"N","97.8",97,8]
[null,null,null,null,null,null,null,null,null,null,null,null,"T",{"$f":"+CONCATENATE(O780,\".\",P780)","v":"98.1"},{"$f":"+IF(R779=\"\",O779+1,O779)","v":98},{"$f":"+IF(O780=O779,P779+1,1)","v":1},{"$f":"+VLOOKUP(O780,'Resumen requerimientos'!$A$5:$B$104,2,FALSE)","v":"ARQ.ENERGIA.5"},{"$f":"+VLOOKUP(Q781,'Resumen requerimientos'!$B$5:$AJ$92,10,0)","v":"Demanda de energía"},null,{"$f":"+VLOOKUP(O781,TablaResumen[],16,0)","v":"Demanda de energía"},null,"Opción",{"$f":"+CONCATENATE(VLOOKUP(O781,'Resumen requerimientos'!$A$5:$AB$91,24),\" de \",VLOOKUP(O781,'Resumen requerimientos'!$A$5:$AB$91,25))","v":"1 de 1"},null,null,null,{"$f":"+'Datos Generales Edificio'!$C$5","v":"RM - Región Metropolitana de Santiago"}]
[null,null,null,null,null,null,null,null,null,null,null,null,"T","98.2",98,2,{"$f":"+VLOOKUP(O781,'Resumen requerimientos'!$A$5:$B$104,2,FALSE)","v":"ARQ.ENERGIA.5"},{"$f":"+VLOOKUP(O781,TablaResumen[],21,0)","v":"Mejora de U en pisos en contacto con el terreno [W/m2K] "},null,null,null,"Simultáneo",{"$f":"+CONCATENATE(IF(VLOOKUP(O781,'Resumen requerimientos'!$A$5:$AB$91,26)=0,1,VLOOKUP(O781,'Resumen requerimientos'!$A$5:$AB$91,26)),\" de \",IF(VLOOKUP(O781,'Resumen requerimientos'!$A$5:$AB$91,27)=0,1,VLOOKUP(O781,'Resumen requerimientos'!$A$5:$AB$91,27)))","v":"1 de 1"},null,null,null,{"$f":"+'Datos Generales Edificio'!$F$28","v":"CI - Central Interior"}]
[null,null,null,null,null,null,null,null,null,null,null,null,"T","98.3",98,3,{"$f":"+VLOOKUP(O782,'Resumen requerimientos'!$A$5:$B$104,2,FALSE)","v":"ARQ.ENERGIA.5"},"Nivel","Rango","Prioridad","Ponderación Of. Y Serv.","Ponderación Educ. y Salud.","Rango",null,null,null,{"$f":"+R781","v":"Mejora de U en pisos en contacto con el terreno [W/m2K] "},"NL - Norte Litoral","ND - Norte Desértico","NVT - Norte Valle Transversal","CL - Central Litoral","CI - Central Interior","SL - Sur Litoral","SI - Sur Interior","SE - Sur Extremo","An - Andino"]
[null,null,null,null,null,null,null,null,null,null,null,null,"T","98.4",98,4,{"$f":"+VLOOKUP(O783,'Resumen requerimientos'!$A$5:$B$104,2,FALSE)","v":"ARQ.ENERGIA.5"},"Muy bueno",{"$f":"+HLOOKUP($AA$781,$AB$782:$AJ$786,AK783,0)","v":"Cumple con los requerimientos de transmitancia térmica"},1,{"$f":"+VLOOKUP(O781,TablaResumen[],22,0)*T783","v":0.01},{"$f":"+VLOOKUP(O781,TablaResumen[],23,0)*T783","v":0.01},{"$f":"+IFERROR(VALUE(MID(S783,1,FIND(\"-\",S783)-1)),S783)","v":"Cumple con los requerimientos de transmitancia térmica"},{"$f":"+IFERROR(VALUE(MID(S783,FIND(\"-\",S783)+1,LEN(S783)-FIND(\"-\",S783))),S783)","v":"Cumple con los requerimientos de transmitancia térmica"},null,null,"Muy bueno","Cumple con los requerimientos de transmitancia térmica","Cumple con los requerimientos de transmitancia térmica","Cumple con los requerimientos de transmitancia térmica","Cumple con los requerimientos de transmitancia térmica","Cumple con los requerimientos de transmitancia térmica","Cumple con los requerimientos de transmitancia térmica","Cumple con los requerimientos de transmitancia térmica","Cumple con los requerimientos de transmitancia térmica","Cumple con los requerimientos de transmitancia térmica",2]
[null,null,null,null,null,null,null,null,null,null,null,null,"T","98.5",98,5,{"$f":"+VLOOKUP(O784,'Resumen requerimientos'!$A$5:$B$104,2,FALSE)","v":"ARQ.ENERGIA.5"},"Bueno",{"$f":"+HLOOKUP($AA$781,$AB$782:$AJ$786,AK784,0)","v":"No cumple con los requerimientos de transmitancia térmica."},0,{"$f":"+VLOOKUP(O782,TablaResumen[],22,0)*T784","v":0},{"$f":"+VLOOKUP(O782,TablaResumen[],23,0)*T784","v":0},{"$f":"+IFERROR(VALUE(MID(S784,1,FIND(\"-\",S784)-1)),S784)","v":"No cumple con los requerimientos de transmitancia térmica."},{"$f":"+IFERROR(VALUE(MID(S784,FIND(\"-\",S784)+1,LEN(S784)-FIND(\"-\",S784))),S784)","v":"No cumple con los requerimientos de transmitancia térmica."},null,null,"Bueno","No cumple con los requerimientos de transmitancia térmica.","No cumple con los requerimientos de transmitancia térmica.","No cumple con los requerimientos de transmitancia térmica.","No cumple con los requerimientos de transmitancia térmica.","No cumple con los requerimientos de transmitancia térmica.","No cumple con los requerimientos de transmitancia térmica.","No cumple con los requerimientos de transmitancia térmica.","No cumple con los requerimientos de transmitancia térmica.","No cumple con los requerimientos de transmitancia térmica.",3]
[null,null,null,null,null,null,null,null,null,null,null,null,"T","98.6",98,6,{"$f":"+VLOOKUP(O785,'Resumen requerimientos'!$A$5:$B$104,2,FALSE)","v":"ARQ.ENERGIA.5"},"Regular",{"$f":"+HLOOKUP($AA$781,$AB$782:$AJ$786,AK785,0)","v":0},0,{"$f":"+VLOOKUP(O783,TablaResumen[],22,0)*T785","v":0},{"$f":"+VLOOKUP(O783,TablaResumen[],23,0)*T785","v":0},{"$f":"+IFERROR(VALUE(MID(S785,1,FIND(\"-\",S785)-1)),S785)","v":0},{"$f":"+IFERROR(VALUE(MID(S785,FIND(\"-\",S785)+1,LEN(S785)-FIND(\"-\",S785))),S785)","v":0},null,null,"Regular",null,null,null,null,null,null,null,null,null,4]
[null,null,null,null,null,null,null,null,null,null,null,null,"T","98.7",98,7,{"$f":"+VLOOKUP(O786,'Resumen requerimientos'!$A$5:$B$104,2,FALSE)","v":"ARQ.ENERGIA.5"},"Minimo",{"$f":"+HLOOKUP($AA$781,$AB$782:$AJ$786,AK786,0)","v":0},0,{"$f":"+VLOOKUP(O784,TablaResumen[],22,0)*T786","v":0},{"$f":"+VLOOKUP(O784,TablaResumen[],23,0)*T786","v":0},{"$f":"+IFERROR(VALUE(MID(S786,1,FIND(\"-\",S786)-1)),S786)","v":0},{"$f":"+IFERROR(VALUE(MID(S786,FIND(\"-\",S786)+1,LEN(S786)-FIND(\"-\",S786))),S786)","v":0},null,null,"Minimo",null,null,null,null,null,null,null,null,null,5]
[null,null,null,null,null,null,null,null,null,null,null,null,"T","98.8",98,8]
[null,null,null,null,null,null,null,null,null,null,null,null,"T",{"$f":"+CONCATENATE(O788,\".\",P788)","v":"99.1"},{"$f":"+IF(R787=\"\",O787+1,O787)","v":99},{"$f":"+IF(O788=O787,P787+1,1)","v":1},{"$f":"+VLOOKUP(O788,'Resumen requerimientos'!$A$5:$B$104,2,FALSE)","v":"ARQ.AGUA.9"},{"$f":"+VLOOKUP(Q789,'Resumen requerimientos'!$B$5:$AJ$92,10,0)","v":"Agua incorporada en los materiales estructurales del edificio"},null,{"$f":"+VLOOKUP(O789,TablaResumen[],16,0)","v":"Agua incorporada en los materiales estructurales del edificio [%]"},null,"Opción",{"$f":"+CONCATENATE(VLOOKUP(O789,'Resumen requerimientos'!$A$5:$AB$91,24),\" de \",VLOOKUP(O789,'Resumen requerimientos'!$A$5:$AB$91,25))","v":"1 de 1"},null,null,null,{"$f":"+'Datos Generales Edificio'!$C$5","v":"RM - Región Metropolitana de Santiago"}]
[null,null,null,null,null,null,null,null,null,null,null,null,"T","99.2",99,2,{"$f":"+VLOOKUP(O789,'Resumen requerimientos'!$A$5:$B$104,2,FALSE)","v":"ARQ.AGUA.9"},{"$f":"+VLOOKUP(O789,TablaResumen[],21,0)","v":"Cantidad de categorías de materiales en que se declara la información de agua incorporada según UNE-14025"},null,null,null,"Simultáneo",{"$f":"+CONCATENATE(IF(VLOOKUP(O789,'Resumen requerimientos'!$A$5:$AB$91,26)=0,1,VLOOKUP(O789,'Resumen requerimientos'!$A$5:$AB$91,26)),\" de \",IF(VLOOKUP(O789,'Resumen requerimientos'!$A$5:$AB$91,27)=0,1,VLOOKUP(O789,'Resumen requerimientos'!$A$5:$AB$91,27)))","v":"1 de 1"},null,null,null,{"$f":"+'Datos Generales Edificio'!$F$28","v":"CI - Central Interior"}]
[null,null,null,null,null,null,null,null,null,null,null,null,"T","99.3",99,3,{"$f":"+VLOOKUP(O790,'Resumen requerimientos'!$A$5:$B$104,2,FALSE)","v":"ARQ.AGUA.9"},"Nivel","Rango","Prioridad","Ponderación Of. Y Serv.","Ponderación Educ. y Salud.","Rango",null,null,null,{"$f":"+R789","v":"Cantidad de categorías de materiales en que se declara la información de agua incorporada según UNE-14025"},"NL - Norte Litoral","ND - Norte Desértico","NVT - Norte Valle Transversal","CL - Central Litoral","CI - Central Interior","SL - Sur Litoral","SI - Sur Interior","SE - Sur Extremo","An - Andino"]
[null,null,null,null,null,null,null,null,null,null,null,null,"T","99.4",99,4,{"$f":"+VLOOKUP(O791,'Resumen requerimientos'!$A$5:$B$104,2,FALSE)","v":"ARQ.AGUA.9"},"Muy bueno",{"$f":"+HLOOKUP($AA$789,$AB$790:$AJ$794,AK791,0)","v":"1,99-2"},1,{"$f":"+VLOOKUP(O789,TablaResumen[],22,0)*T791","v":0.01},{"$f":"+VLOOKUP(O789,TablaResumen[],23,0)*T791","v":0.01},{"$f":"+IFERROR(VALUE(MID(S791,1,FIND(\"-\",S791)-1)),S791)","v":1.99},{"$f":"+IFERROR(VALUE(MID(S791,FIND(\"-\",S791)+1,LEN(S791)-FIND(\"-\",S791))),S791)","v":2},null,null,"Muy bueno",{"$f":"+IF(OR(cantidad_materiales=3,cantidad_materiales=\"4 o más\"),\"2,99-4\",\"1,99-2\")","v":"1,99-2"},"1,99-2","1,99-2","1,99-2","1,99-2","1,99-2","1,99-2","1,99-2","1,99-2",2]
[null,null,null,null,null,null,null,null,null,null,null,null,"T","99.5",99,5,{"$f":"+VLOOKUP(O792,'Resumen requerimientos'!$A$5:$B$104,2,FALSE)","v":"ARQ.AGUA.9"},"Bueno",{"$f":"+HLOOKUP($AA$789,$AB$790:$AJ$794,AK792,0)","v":"0,99-1"},0.5,{"$f":"+VLOOKUP(O790,TablaResumen[],22,0)*T792","v":5.0000000000000001E-3},{"$f":"+VLOOKUP(O790,TablaResumen[],23,0)*T792","v":5.0000000000000001E-3},{"$f":"+IFERROR(VALUE(MID(S792,1,FIND(\"-\",S792)-1)),S792)","v":0.99},{"$f":"+IFERROR(VALUE(MID(S792,FIND(\"-\",S792)+1,LEN(S792)-FIND(\"-\",S792))),S792)","v":1},null,null,"Bueno",{"$f":"+IF(OR(cantidad_materiales=3,cantidad_materiales=\"4 o más\"),\"1,99-2\",\"0,99-1\")","v":"0,99-1"},"0,99-1","0,99-1","0,99-1","0,99-1","0,99-1","0,99-1","0,99-1","0,99-1",3]
[null,null,null,null,null,null,null,null,null,null,null,null,"T","99.6",99,6,{"$f":"+VLOOKUP(O793,'Resumen requerimientos'!$A$5:$B$104,2,FALSE)","v":"ARQ.AGUA.9"},"Regular",{"$f":"+HLOOKUP($AA$789,$AB$790:$AJ$794,AK793,0)","v":0},0,{"$f":"+VLOOKUP(O791,TablaResumen[],22,0)*T793","v":0},{"$f":"+VLOOKUP(O791,TablaResumen[],23,0)*T793","v":0},{"$f":"+IFERROR(VALUE(MID(S793,1,FIND(\"-\",S793)-1)),S793)","v":0},{"$f":"+IFERROR(VALUE(MID(S793,FIND(\"-\",S793)+1,LEN(S793)-FIND(\"-\",S793))),S793)","v":0},null,null,"Regular",null,null,null,null,null,null,null,null,null,4]
[null,null,null,null,null,null,null,null,null,null,null,null,"T","99.7",99,7,{"$f":"+VLOOKUP(O794,'Resumen requerimientos'!$A$5:$B$104,2,FALSE)","v":"ARQ.AGUA.9"},"Minimo",{"$f":"+HLOOKUP($AA$789,$AB$790:$AJ$794,AK794,0)","v":0},0,{"$f":"+VLOOKUP(O792,TablaResumen[],22,0)*T794","v":0},{"$f":"+VLOOKUP(O792,TablaResumen[],23,0)*T794","v":0},{"$f":"+IFERROR(VALUE(MID(S794,1,FIND(\"-\",S794)-1)),S794)","v":0},{"$f":"+IFERROR(VALUE(MID(S794,FIND(\"-\",S794)+1,LEN(S794)-FIND(\"-\",S794))),S794)","v":0},null,null,"Minimo",null,null,null,null,null,null,null,null,null,5]
[null,null,null,null,null,null,null,null,null,null,null,null,"T","99.8",99,8]
[null,null,null,null,null,null,null,null,null,null,null,null,"T",{"$f":"+CONCATENATE(O796,\".\",P796)","v":"100.1"},{"$f":"+IF(R795=\"\",O795+1,O795)","v":100},{"$f":"+IF(O796=O795,P795+1,1)","v":1},{"$f":"+VLOOKUP(O796,'Resumen requerimientos'!$A$5:$B$104,2,FALSE)","v":"ARQ.AGUA.9"},{"$f":"+VLOOKUP(Q797,'Resumen requerimientos'!$B$5:$AJ$92,10,0)","v":"Agua incorporada en los materiales estructurales del edificio"},null,{"$f":"+VLOOKUP(O797,TablaResumen[],16,0)","v":"Agua incorporada en los materiales estructurales del edificio [%]"},null,"Opción",{"$f":"+CONCATENATE(VLOOKUP(O797,'Resumen requerimientos'!$A$5:$AB$91,24),\" de \",VLOOKUP(O797,'Resumen requerimientos'!$A$5:$AB$91,25))","v":"1 de 1"},null,null,null,{"$f":"+'Datos Generales Edificio'!$C$5","v":"RM - Región Metropolitana de Santiago"}]
[null,null,null,null,null,null,null,null,null,null,null,null,"T","100.2",100,2,{"$f":"+VLOOKUP(O797,'Resumen requerimientos'!$A$5:$B$104,2,FALSE)","v":"ARQ.AGUA.9"},{"$f":"+VLOOKUP(O797,TablaResumen[],21,0)","v":"Porcentaje de la superficie de el sistema estructural principal que se mantiene"},null,null,null,"Simultáneo",{"$f":"+CONCATENATE(IF(VLOOKUP(O797,'Resumen requerimientos'!$A$5:$AB$91,26)=0,1,VLOOKUP(O797,'Resumen requerimientos'!$A$5:$AB$91,26)),\" de \",IF(VLOOKUP(O797,'Resumen requerimientos'!$A$5:$AB$91,27)=0,1,VLOOKUP(O797,'Resumen requerimientos'!$A$5:$AB$91,27)))","v":"1 de 1"},null,null,null,{"$f":"+'Datos Generales Edificio'!$F$28","v":"CI - Central Interior"}]
[null,null,null,null,null,null,null,null,null,null,null,null,"T","100.3",100,3,{"$f":"+VLOOKUP(O798,'Resumen requerimientos'!$A$5:$B$104,2,FALSE)","v":"ARQ.AGUA.9"},"Nivel","Rango","Prioridad","Ponderación Of. Y Serv.","Ponderación Educ. y Salud.","Rango",null,null,null,{"$f":"+R797","v":"Porcentaje de la superficie de el sistema estructural principal que se mantiene"},"NL - Norte Litoral","ND - Norte Desértico","NVT - Norte Valle Transversal","CL - Central Litoral","CI - Central Interior","SL - Sur Litoral","SI - Sur Interior","SE - Sur Extremo","An - Andino"]
[null,null,null,null,null,null,null,null,null,null,null,null,"T","100.4",100,4,{"$f":"+VLOOKUP(O799,'Resumen requerimientos'!$A$5:$B$104,2,FALSE)","v":"ARQ.AGUA.9"},"Muy bueno",{"$f":"+HLOOKUP($AA$797,$AB$798:$AJ$802,AK799,0)","v":"99,999%-100%"},1,{"$f":"+VLOOKUP(O797,TablaResumen[],22,0)*T799","v":0.01},{"$f":"+VLOOKUP(O797,TablaResumen[],23,0)*T799","v":0.01},{"$f":"+IFERROR(VALUE(MID(S799,1,FIND(\"-\",S799)-1)),S799)","v":0.99999000000000005},{"$f":"+IFERROR(VALUE(MID(S799,FIND(\"-\",S799)+1,LEN(S799)-FIND(\"-\",S799))),S799)","v":1},null,null,"Muy bueno","99,999%-100%","99,999%-100%","99,999%-100%","99,999%-100%","99,999%-100%","99,999%-100%","99,999%-100%","99,999%-100%","99,999%-100%",2]
[null,null,null,null,null,null,null,null,null,null,null,null,"T","100.5",100,5,{"$f":"+VLOOKUP(O800,'Resumen requerimientos'!$A$5:$B$104,2,FALSE)","v":"ARQ.AGUA.9"},"Bueno",{"$f":"+HLOOKUP($AA$797,$AB$798:$AJ$802,AK800,0)","v":"49,999%-99,999%"},0.5,{"$f":"+VLOOKUP(O798,TablaResumen[],22,0)*T800","v":5.0000000000000001E-3},{"$f":"+VLOOKUP(O798,TablaResumen[],23,0)*T800","v":5.0000000000000001E-3},{"$f":"+IFERROR(VALUE(MID(S800,1,FIND(\"-\",S800)-1)),S800)","v":0.49998999999999999},{"$f":"+IFERROR(VALUE(MID(S800,FIND(\"-\",S800)+1,LEN(S800)-FIND(\"-\",S800))),S800)","v":0.99999000000000005},null,null,"Bueno","49,999%-99,999%","49,999%-99,999%","49,999%-99,999%","49,999%-99,999%","49,999%-99,999%","49,999%-99,999%","49,999%-99,999%","49,999%-99,999%","49,999%-99,999%",3]
[null,null,null,null,null,null,null,null,null,null,null,null,"T","100.6",100,6,{"$f":"+VLOOKUP(O801,'Resumen requerimientos'!$A$5:$B$104,2,FALSE)","v":"ARQ.AGUA.9"},"Regular",{"$f":"+HLOOKUP($AA$797,$AB$798:$AJ$802,AK801,0)","v":0},0,{"$f":"+VLOOKUP(O799,TablaResumen[],22,0)*T801","v":0},{"$f":"+VLOOKUP(O799,TablaResumen[],23,0)*T801","v":0},{"$f":"+IFERROR(VALUE(MID(S801,1,FIND(\"-\",S801)-1)),S801)","v":0},{"$f":"+IFERROR(VALUE(MID(S801,FIND(\"-\",S801)+1,LEN(S801)-FIND(\"-\",S801))),S801)","v":0},null,null,"Regular",null,null,null,null,null,null,null,null,null,4]
[null,null,null,null,null,null,null,null,null,null,null,null,"T","100.7",100,7,{"$f":"+VLOOKUP(O802,'Resumen requerimientos'!$A$5:$B$104,2,FALSE)","v":"ARQ.AGUA.9"},"Minimo",{"$f":"+HLOOKUP($AA$797,$AB$798:$AJ$802,AK802,0)","v":0},0,{"$f":"+VLOOKUP(O800,TablaResumen[],22,0)*T802","v":0},{"$f":"+VLOOKUP(O800,TablaResumen[],23,0)*T802","v":0},{"$f":"+IFERROR(VALUE(MID(S802,1,FIND(\"-\",S802)-1)),S802)","v":0},{"$f":"+IFERROR(VALUE(MID(S802,FIND(\"-\",S802)+1,LEN(S802)-FIND(\"-\",S802))),S802)","v":0},null,null,"Minimo",null,null,null,null,null,null,null,null,null,5]
[null,null,null,null,null,null,null,null,null,null,null,null,"T","100.8",100,8]

{"sheet":"Evaluacion ARQ.CAI Voluntarios","index":14,"n_rows":248,"n_cols":25,"rows_kept":248,"cut":false,"hidden":false,"merged":[[127,13,129,15],[127,16,129,16],[131,13,138,15],[131,16,138,16],[157,13,159,15],[234,13,236,15],[234,16,236,16],[238,13,245,15],[238,16,245,16],[173,13,175,15],[173,16,175,16],[177,13,184,15],[177,16,184,16],[188,13,190,15],[188,16,190,16],[192,13,199,15],[192,16,199,16],[204,13,206,15],[204,16,206,16],[208,13,215,15],[208,16,215,16],[219,13,221,15],[219,16,221,16],[223,13,230,15],[3,13,5,15],[3,16,5,16],[18,13,20,15],[18,16,20,16],[22,13,29,15],[22,16,29,16],[34,13,36,15],[34,16,36,16],[38,13,45,15],[38,16,45,16],[7,16,14,16],[7,13,14,15],[135,7,136,11],[156,5,157,6],[156,7,157,11],[181,5,182,6],[181,7,182,11],[103,7,104,11],[130,7,131,11],[132,5,132,6],[132,7,132,11],[133,5,134,6],[133,7,134,11],[63,21,63,23],[84,5,84,6],[84,7,84,11],[85,5,86,6],[85,7,86,11],[87,5,88,6],[87,7,88,11],[82,7,83,11],[63,7,64,11],[69,7,69,11],[69,5,69,6],[78,21,78,23],[74,7,75,11],[76,5,76,11],[78,5,79,6],[78,7,79,11],[79,13,81,15],[79,16,81,16],[30,5,30,11],[196,5,197,6],[191,7,192,11],[191,5,192,6],[189,7,190,11],[189,5,190,6],[48,21,48,23],[32,18,91,18],[33,21,33,23],[35,5,36,6],[35,7,36,11],[37,5,38,6],[54,5,54,6],[49,13,51,15],[49,16,51,16],[53,13,60,15],[53,16,60,16],[64,13,66,15],[64,16,66,16],[68,13,75,15],[68,16,75,16],[54,7,54,11],[55,5,56,6],[55,7,56,11],[11,5,12,6],[11,7,12,11],[23,5,23,6],[23,7,23,11],[24,5,25,6],[24,7,25,11],[26,5,27,6],[26,7,27,11],[28,5,29,6],[28,7,29,11],[33,5,34,6],[33,7,34,11],[17,21,17,23],[19,5,20,6],[19,7,20,11],[13,5,14,6],[13,7,14,11],[15,5,15,11],[17,5,18,6],[17,7,18,11],[1,18,30,18],[2,5,3,6],[2,7,3,11],[2,21,2,23],[4,5,5,6],[4,7,5,11],[21,5,22,6],[21,7,22,11],[6,5,7,6],[6,7,7,11],[8,5,8,6],[8,7,8,11],[9,5,10,6],[9,7,10,11],[32,3,91,3],[37,7,38,11],[39,5,39,6],[1,3,30,3],[46,5,46,11],[48,5,49,6],[48,7,49,11],[57,5,58,6],[57,7,58,11],[50,5,51,6],[50,7,51,11],[52,5,53,6],[52,7,53,11],[67,5,68,6],[67,7,68,11],[39,7,39,11],[40,5,41,6],[40,7,41,11],[42,5,43,6],[42,7,43,11],[44,5,45,6],[80,5,81,6],[80,7,81,11],[74,5,75,6],[94,21,94,23],[96,5,97,6],[96,7,97,11],[98,5,99,6],[89,5,90,6],[89,7,90,11],[91,5,91,11],[98,7,99,11],[100,5,100,6],[100,7,100,11],[95,16,97,16],[99,13,106,15],[99,16,106,16],[105,5,106,6],[105,7,106,11],[93,18,107,18],[94,5,95,6],[94,7,95,11],[107,5,107,11],[103,5,104,6],[83,13,90,15],[83,16,90,16],[95,13,97,15],[82,5,83,6],[93,3,107,3],[112,5,113,6],[112,7,113,11],[128,5,129,6],[128,7,129,11],[121,5,122,6],[121,7,122,11],[126,5,127,6],[126,7,127,11],[125,3,169,3],[109,3,123,3],[137,5,138,6],[137,7,138,11],[139,5,139,11],[141,5,142,6],[141,7,142,11],[160,5,161,6],[160,7,161,11],[162,5,162,6],[162,7,162,11],[163,5,164,6],[163,7,164,11],[165,5,166,6],[165,7,166,11],[110,21,110,23],[114,5,115,6],[114,7,115,11],[116,5,116,6],[116,7,116,11],[117,5,118,6],[117,7,118,11],[119,5,120,6],[119,7,120,11],[109,18,123,18],[110,5,111,6],[110,7,111,11],[123,5,123,11],[111,13,113,15],[111,16,113,16],[115,13,122,15],[115,16,122,16],[125,18,169,18],[130,5,131,6],[145,5,146,6],[126,21,126,23],[141,21,141,23],[143,5,144,6],[143,7,144,11],[142,13,144,15],[142,16,144,16],[145,7,146,11],[147,5,147,6],[147,7,147,11],[148,5,149,6],[148,7,149,11],[150,5,151,6],[150,7,151,11],[146,13,153,15],[146,16,153,16],[156,21,156,23],[158,5,159,6],[158,7,159,11],[152,5,153,6],[152,7,153,11],[154,5,154,11],[202,3,246,3],[207,7,208,11],[209,5,209,6],[216,5,216,11],[218,5,219,6],[218,7,219,11],[227,5,228,6],[157,16,159,16],[161,13,168,15],[161,16,168,16],[167,5,168,6],[167,7,168,11],[169,5,169,11],[178,7,178,11],[179,5,180,6],[179,7,180,11],[187,7,188,11],[187,5,188,6],[178,5,178,6],[176,7,177,11],[171,3,200,3],[185,5,185,11],[235,7,236,11],[229,5,230,6],[187,21,187,23],[171,18,200,18],[172,21,172,23],[200,5,200,11],[183,5,184,6],[183,7,184,11],[172,5,173,6],[172,7,173,11],[174,5,175,6],[174,7,175,11],[176,5,177,6],[193,5,193,6],[193,7,193,11],[237,5,238,6],[237,7,238,11],[231,5,231,11],[233,5,234,6],[233,7,234,11],[225,5,226,6],[225,7,226,11],[223,16,230,16],[233,21,233,23],[235,5,236,6],[203,21,203,23],[205,5,206,6],[205,7,206,11],[207,5,208,6],[224,5,224,6],[224,7,224,11],[227,7,228,11],[220,5,221,6],[220,7,221,11],[222,5,223,6],[222,7,223,11],[0,4,0,5],[31,4,31,5],[92,4,92,5],[108,4,108,5],[124,4,124,5],[170,4,170,5],[201,4,201,5],[65,5,66,6],[65,7,66,11],[59,5,60,6],[59,7,60,11],[61,5,61,11],[63,5,64,6],[194,5,195,6],[194,7,195,11],[198,5,199,6],[198,7,199,11],[70,5,71,6],[70,7,71,11],[72,5,73,6],[72,7,73,11],[196,7,197,11],[101,5,102,6],[44,7,45,11],[101,7,102,11],[135,5,136,6],[218,21,218,23],[209,7,209,11],[210,5,211,6],[210,7,211,11],[212,5,213,6],[212,7,213,11],[247,4,247,5],[244,7,245,11],[246,5,246,11],[239,5,239,6],[239,7,239,11],[240,5,241,6],[240,7,241,11],[242,5,243,6],[242,7,243,11],[244,5,245,6],[214,5,215,6],[214,7,215,11],[229,7,230,11],[202,18,246,18],[203,5,204,6],[203,7,204,11]]}
["N",0,null,null,"Volver al índice"]
["N",{"$f":"+IF(F1=\"\",B1+1,B1)","v":1},null,"ARQ.CAI 1 - CONFORT TÉRMICO PASIVO",null,null,null,null,null,null,null,null,null,null,null,null,null,null,"ARQ.CAI 1 - CONFORT TÉRMICO PASIVO"]
["N",{"$f":"+B2","v":1},null,null,null,"Tipo requerimiento",null,{"$f":"+IF(VLOOKUP(B2,TablaResumen[],4)=\"C\",\"Voluntario\",\"Obligatorio\")","v":"Voluntario"},null,null,null,null,null,null,null,null,null,null,null,null,null,"Puntaje crédito numérico"]
["N",{"$f":"+B3","v":1},null,null,null,null,null,null,null,null,null,null,null,{"$f":"+IF(H3=\"Obligatorio\",\"Cumple Requisito\",\"Puntaje obtenido\")","v":"Puntaje obtenido"},null,null,{"$f":"+IF(H3=\"Obligatorio\",W15,IF(A5=\"N\",IF(Uso_Edificio=\"Oficinas\",SUM(W5:W8),SUM(X5:X8)),IF(Uso_Edificio=\"Oficinas\",SUM(X11:X14),SUM(Y11:Y14))))","v":0},null,null,null,null,"Calificación","Of. Y Serv.","Ed. Y Salud"]
["N",1,null,null,null,"Nombre Requerimiento",null,{"$f":"+VLOOKUP(B7,TablaResumen[],16,0)","v":"Confort térmico pasivo"},null,null,null,null,null,null,null,null,{"$f":"+IF(H2=\"Requisito\",W14,IF(#REF!=\"N\",IF(Uso_Edificio=\"Oficinas\",SUM(W4:W7),SUM(X4:X7)),IF(Uso_Edificio=\"Oficinas\",SUM(X10:X13),SUM(Y10:Y13))))","v":{"$error":"#REF!"}},null,null,null,{"$f":"+CONCATENATE(B5,\".\",4)","v":"1.4"},{"$f":"+AND(Q8>VLOOKUP(U5,MatrizRequerimientos,10,FALSE),Q8<=VLOOKUP(U5,MatrizRequerimientos,11,FALSE))","v":false},{"$f":"+V5*VLOOKUP(U5,MatrizRequerimientos,8,FALSE)","v":0},{"$f":"+V5*VLOOKUP(U5,MatrizRequerimientos,9,FALSE)","v":0}]
["N",1,null,null,null,null,null,null,null,null,null,null,null,null,null,null,{"$f":"+IF(H3=\"Requisito\",W15,IF(A2=\"N\",IF(Uso_Edificio=\"Oficinas\",SUM(W5:W8),SUM(X5:X8)),IF(Uso_Edificio=\"Oficinas\",SUM(X11:X14),SUM(Y11:Y14))))","v":0},null,null,null,{"$f":"+CONCATENATE(B6,\".\",5)","v":"1.5"},{"$f":"+AND(Q8>VLOOKUP(U6,MatrizRequerimientos,10,FALSE),Q8<=VLOOKUP(U6,MatrizRequerimientos,11,FALSE))","v":false},{"$f":"+V6*VLOOKUP(U6,MatrizRequerimientos,8,FALSE)","v":0},{"$f":"+V6*VLOOKUP(U6,MatrizRequerimientos,9,FALSE)","v":0}]
["N",1,null,null,null,"Indicador",null,{"$f":"+VLOOKUP(B8,TablaResumen[],21,0)","v":"Reducción % horas de disconfort Taire"},null,null,null,null,null,null,null,null,null,null,null,null,{"$f":"+CONCATENATE(B7,\".\",6)","v":"1.6"},{"$f":"+AND(Q8>VLOOKUP(U7,MatrizRequerimientos,10,FALSE),Q8<=VLOOKUP(U7,MatrizRequerimientos,11,FALSE))","v":false},{"$f":"+V7*VLOOKUP(U7,MatrizRequerimientos,8,FALSE)","v":0},{"$f":"+V7*VLOOKUP(U7,MatrizRequerimientos,9,FALSE)","v":0}]
["N",1,null,null,null,null,null,null,null,null,null,null,null,{"$f":"+IF(A7=\"N\",CONCATENATE(\"Valor obtenido en proyecto para \",H7),\"Seleccione Nivel de Cumplimiento\")","v":"Valor obtenido en proyecto para Reducción % horas de disconfort Taire"},null,null,null,null,null,null,{"$f":"+CONCATENATE(B8,\".\",7)","v":"1.7"},{"$f":"+AND(Q8>VLOOKUP(U8,MatrizRequerimientos,10,FALSE),Q8<=VLOOKUP(U8,MatrizRequerimientos,11,FALSE))","v":false},{"$f":"+V8*VLOOKUP(U8,MatrizRequerimientos,8,FALSE)","v":0},{"$f":"+V8*VLOOKUP(U8,MatrizRequerimientos,9,FALSE)","v":0}]
["N",1]
["N",1,null,null,null,"OPCIÓN ",null,{"$f":"CONCATENATE(VLOOKUP(B10,'Resumen requerimientos'!$T$5:$AB$96,5,FALSE), \" de \",VLOOKUP(B10,'Resumen requerimientos'!$T$5:$AB$96,6,FALSE))","v":"1 de 2"},null,null,null,null,null,null,null,null,null,null,null,null,null,null,null,"Of. Y Serv.","Ed. Y Salud"]
["N",1,null,null,null,null,null,null,null,null,null,null,null,null,null,null,null,null,null,null,{"$f":"+CONCATENATE(B11,\".\",4)","v":"1.4"},{"$f":"+VLOOKUP(U11,MatrizRequerimientos,6,FALSE)","v":"14,999%-100%"},{"$f":"+IF(A8=\"T\",Q8=V11,V5)","v":false},{"$f":"+W11*VLOOKUP(U11,MatrizRequerimientos,8,FALSE)","v":0},{"$f":"+W11*VLOOKUP(U11,MatrizRequerimientos,9,FALSE)","v":0}]
["N",1,null,null,null,{"$f":"+IF(H12=\"No\",\"¿OTROS REQUERIMIENTOS SIMULTÁNEOS?\",\"REQUERIMIENTOS SIMULTANEOS PARA LA OPCION\")","v":"¿OTROS REQUERIMIENTOS SIMULTÁNEOS?"},null,{"$f":"IF(VLOOKUP(B12,'Resumen requerimientos'!$T$5:$AB$96,7,FALSE)=0,\"No\",CONCATENATE(VLOOKUP(B12,'Resumen requerimientos'!$T$5:$AB$96,7,FALSE), \" de \",VLOOKUP(B12,'Resumen requerimientos'!$T$5:$AB$96,8,FALSE)))","v":"No"},null,null,null,null,null,null,null,null,null,null,null,null,{"$f":"+CONCATENATE(B12,\".\",5)","v":"1.5"},{"$f":"+VLOOKUP(U12,MatrizRequerimientos,6,FALSE)","v":"10,999%-14,999%"},{"$f":"+IF(A9=\"T\",Q8=V12,V6)","v":false},{"$f":"+W12*VLOOKUP(U12,MatrizRequerimientos,8,FALSE)","v":0},{"$f":"+W12*VLOOKUP(U12,MatrizRequerimientos,9,FALSE)","v":0}]
["N",1,null,null,null,null,null,null,null,null,null,null,null,null,null,null,null,null,null,null,{"$f":"+CONCATENATE(B13,\".\",6)","v":"1.6"},{"$f":"+VLOOKUP(U13,MatrizRequerimientos,6,FALSE)","v":"7,999%-10,999%"},{"$f":"+IF(A10=\"T\",Q8=V13,V7)","v":false},{"$f":"+W13*VLOOKUP(U13,MatrizRequerimientos,8,FALSE)","v":0},{"$f":"+W13*VLOOKUP(U13,MatrizRequerimientos,9,FALSE)","v":0}]
["N",1,null,null,null,"REQUERIMIENTO ADICIONAL",null,{"$f":"VLOOKUP(B14,'Resumen requerimientos'!$T$5:$AB$96,9,FALSE)","v":"No"},null,null,null,null,null,null,null,null,null,null,null,null,{"$f":"+CONCATENATE(B14,\".\",7)","v":"1.7"},{"$f":"+VLOOKUP(U14,MatrizRequerimientos,6,FALSE)","v":"4,999%-7,999%"},{"$f":"+IF(A11=\"T\",Q8=V14,V8)","v":false},{"$f":"+W14*VLOOKUP(U14,MatrizRequerimientos,8,FALSE)","v":0},{"$f":"+W14*VLOOKUP(U14,MatrizRequerimientos,9,FALSE)","v":0}]
["N",1,null,null,null,null,null,null,null,null,null,null,null,null,null,null,null,null,null,null,null,null,{"$f":"+IF(AND(A11=\"N\",H3=\"Voluntario\"),SUMIF(W11:W14,TRUE,IF(Uso_Edificio=\"Oficinas\",X11:X14,Y11:Y14)),IF(AND(A11=\"T\",H3=\"Obligatorio\"),VLOOKUP(Q8,V11:X14,3,FALSE)=1,W11))","v":0}]
["N",1]
["N",2]
["N",{"$f":"+B17","v":2},null,null,null,"Tipo requerimiento",null,{"$f":"+IF(VLOOKUP(B17,TablaResumen[],4)=\"C\",\"Voluntario\",\"Obligatorio\")","v":"Voluntario"},null,null,null,null,null,null,null,null,null,null,null,null,null,"Puntaje crédito numérico"]
["N",{"$f":"+B18","v":2},null,null,null,null,null,null,null,null,null,null,null,{"$f":"+IF(H18=\"Obligatorio\",\"Cumple Requisito\",\"Puntaje obtenido\")","v":"Puntaje obtenido"},null,null,{"$f":"+IF(H18=\"Obligatorio\",W30,IF(A20=\"N\",IF(Uso_Edificio=\"Oficinas\",SUM(W20:W23),SUM(X20:X23)),IF(Uso_Edificio=\"Oficinas\",SUM(X26:X29),SUM(Y26:Y29))))","v":0},null,null,null,null,"Calificación","Of. Y Serv.","Ed. Y Salud"]
["N",2,null,null,null,"Nombre Requerimiento",null,{"$f":"+VLOOKUP(B22,TablaResumen[],16,0)","v":"Confort térmico pasivo"},null,null,null,null,null,null,null,null,{"$f":"+IF(H17=\"Requisito\",W29,IF(#REF!=\"N\",IF(Uso_Edificio=\"Oficinas\",SUM(W19:W22),SUM(X19:X22)),IF(Uso_Edificio=\"Oficinas\",SUM(X25:X28),SUM(Y25:Y28))))","v":{"$error":"#REF!"}},null,null,null,{"$f":"+CONCATENATE(B20,\".\",4)","v":"2.4"},{"$f":"+AND(Q23>VLOOKUP(U20,MatrizRequerimientos,10,FALSE),Q23<=VLOOKUP(U20,MatrizRequerimientos,11,FALSE))","v":false},{"$f":"+V20*VLOOKUP(U20,MatrizRequerimientos,8,FALSE)","v":0},{"$f":"+V20*VLOOKUP(U20,MatrizRequerimientos,9,FALSE)","v":0}]
["N",2,null,null,null,null,null,null,null,null,null,null,null,null,null,null,{"$f":"+IF(H18=\"Requisito\",W30,IF(A17=\"N\",IF(Uso_Edificio=\"Oficinas\",SUM(W20:W23),SUM(X20:X23)),IF(Uso_Edificio=\"Oficinas\",SUM(X26:X29),SUM(Y26:Y29))))","v":0},null,null,null,{"$f":"+CONCATENATE(B21,\".\",5)","v":"2.5"},{"$f":"+AND(Q23>VLOOKUP(U21,MatrizRequerimientos,10,FALSE),Q23<=VLOOKUP(U21,MatrizRequerimientos,11,FALSE))","v":false},{"$f":"+V21*VLOOKUP(U21,MatrizRequerimientos,8,FALSE)","v":0},{"$f":"+V21*VLOOKUP(U21,MatrizRequerimientos,9,FALSE)","v":0}]
["N",2,null,null,null,"Indicador",null,{"$f":"+VLOOKUP(B23,TablaResumen[],21,0)","v":"Reducción % horas de disconfort Top y HR"},null,null,null,null,null,null,null,null,null,null,null,null,{"$f":"+CONCATENATE(B22,\".\",6)","v":"2.6"},{"$f":"+AND(Q23>VLOOKUP(U22,MatrizRequerimientos,10,FALSE),Q23<=VLOOKUP(U22,MatrizRequerimientos,11,FALSE))","v":false},{"$f":"+V22*VLOOKUP(U22,MatrizRequerimientos,8,FALSE)","v":0},{"$f":"+V22*VLOOKUP(U22,MatrizRequerimientos,9,FALSE)","v":0}]
["N",2,null,null,null,null,null,null,null,null,null,null,null,{"$f":"+IF(A22=\"N\",CONCATENATE(\"Valor obtenido en proyecto para \",H22),\"Seleccione Nivel de Cumplimiento\")","v":"Valor obtenido en proyecto para Reducción % horas de disconfort Top y HR"},null,null,null,null,null,null,{"$f":"+CONCATENATE(B23,\".\",7)","v":"2.7"},{"$f":"+AND(Q23>VLOOKUP(U23,MatrizRequerimientos,10,FALSE),Q23<=VLOOKUP(U23,MatrizRequerimientos,11,FALSE))","v":false},{"$f":"+V23*VLOOKUP(U23,MatrizRequerimientos,8,FALSE)","v":0},{"$f":"+V23*VLOOKUP(U23,MatrizRequerimientos,9,FALSE)","v":0}]
["N",2]
["N",2,null,null,null,"OPCIÓN ",null,{"$f":"CONCATENATE(VLOOKUP(B25,'Resumen requerimientos'!$T$5:$AB$96,5,FALSE), \" de \",VLOOKUP(B25,'Resumen requerimientos'!$T$5:$AB$96,6,FALSE))","v":"2 de 2"},null,null,null,null,null,null,null,null,null,null,null,null,null,null,null,"Of. Y Serv.","Ed. Y Salud"]
["N",2,null,null,null,null,null,null,null,null,null,null,null,null,null,null,null,null,null,null,{"$f":"+CONCATENATE(B26,\".\",4)","v":"2.4"},{"$f":"+VLOOKUP(U26,MatrizRequerimientos,6,FALSE)","v":"14,999%-100%"},{"$f":"+IF(A23=\"T\",Q23=V26,V20)","v":false},{"$f":"+W26*VLOOKUP(U26,MatrizRequerimientos,8,FALSE)","v":0},{"$f":"+W26*VLOOKUP(U26,MatrizRequerimientos,9,FALSE)","v":0}]
["N",2,null,null,null,{"$f":"+IF(H27=\"No\",\"¿OTROS REQUERIMIENTOS SIMULTÁNEOS?\",\"REQUERIMIENTOS SIMULTANEOS PARA LA OPCION\")","v":"¿OTROS REQUERIMIENTOS SIMULTÁNEOS?"},null,{"$f":"IF(VLOOKUP(B27,'Resumen requerimientos'!$T$5:$AB$96,7,FALSE)=0,\"No\",CONCATENATE(VLOOKUP(B27,'Resumen requerimientos'!$T$5:$AB$96,7,FALSE), \" de \",VLOOKUP(B27,'Resumen requerimientos'!$T$5:$AB$96,8,FALSE)))","v":"No"},null,null,null,null,null,null,null,null,null,null,null,null,{"$f":"+CONCATENATE(B27,\".\",5)","v":"2.5"},{"$f":"+VLOOKUP(U27,MatrizRequerimientos,6,FALSE)","v":"10,999%-14,999%"},{"$f":"+IF(A24=\"T\",Q23=V27,V21)","v":false},{"$f":"+W27*VLOOKUP(U27,MatrizRequerimientos,8,FALSE)","v":0},{"$f":"+W27*VLOOKUP(U27,MatrizRequerimientos,9,FALSE)","v":0}]
["N",2,null,null,null,null,null,null,null,null,null,null,null,null,null,null,null,null,null,null,{"$f":"+CONCATENATE(B28,\".\",6)","v":"2.6"},{"$f":"+VLOOKUP(U28,MatrizRequerimientos,6,FALSE)","v":"7,999%-10,999%"},{"$f":"+IF(A25=\"T\",Q23=V28,V22)","v":false},{"$f":"+W28*VLOOKUP(U28,MatrizRequerimientos,8,FALSE)","v":0},{"$f":"+W28*VLOOKUP(U28,MatrizRequerimientos,9,FALSE)","v":0}]
["N",2,null,null,null,"REQUERIMIENTO ADICIONAL",null,{"$f":"VLOOKUP(B29,'Resumen requerimientos'!$T$5:$AB$96,9,FALSE)","v":"No"},null,null,null,null,null,null,null,null,null,null,null,null,{"$f":"+CONCATENATE(B29,\".\",7)","v":"2.7"},{"$f":"+VLOOKUP(U29,MatrizRequerimientos,6,FALSE)","v":"4,999%-7,999%"},{"$f":"+IF(A26=\"T\",Q23=V29,V23)","v":false},{"$f":"+W29*VLOOKUP(U29,MatrizRequerimientos,8,FALSE)","v":0},{"$f":"+W29*VLOOKUP(U29,MatrizRequerimientos,9,FALSE)","v":0}]
["N",2,null,null,null,null,null,null,null,null,null,null,null,null,null,null,null,null,null,null,null,null,{"$f":"+IF(AND(A26=\"N\",H18=\"Voluntario\"),SUMIF(W26:W29,TRUE,IF(Uso_Edificio=\"Oficinas\",X26:X29,Y26:Y29)),IF(AND(A26=\"T\",H18=\"Obligatorio\"),VLOOKUP(Q23,V26:X29,3,FALSE)=1,W26))","v":0}]
["N",2]
["N",2,null,null,"Volver al índice"]
["N",{"$f":"+IF(F32=\"\",B32+1,B32)","v":3},null,"ARQ.CAI 2.1 - APORTE DE LUZ NATURAL",null,null,null,null,null,null,null,null,null,null,null,null,null,null,"ARQ.CAI 2.1 - APORTE DE LUZ NATURAL"]
["N",{"$f":"+B33","v":3},null,null,null,"Tipo requerimiento",null,{"$f":"+IF(VLOOKUP(B33,TablaResumen[],4)=\"C\",\"Voluntario\",\"Obligatorio\")","v":"Voluntario"},null,null,null,null,null,null,null,null,null,null,null,null,null,"Puntaje crédito numérico"]
["N",{"$f":"+B34","v":3},null,null,null,null,null,null,null,null,null,null,null,{"$f":"+IF(H34=\"Obligatorio\",\"Cumple Requisito\",\"Puntaje obtenido\")","v":"Puntaje obtenido"},null,null,{"$f":"+IF(H34=\"Obligatorio\",W46,IF(A36=\"N\",IF(Uso_Edificio=\"Oficinas\",SUM(W36:W39),SUM(X36:X39)),IF(Uso_Edificio=\"Oficinas\",SUM(X42:X45),SUM(Y42:Y45))))","v":0},null,null,null,null,"Calificación","Of. Y Serv.","Ed. Y Salud"]
["N",3,null,null,null,"Nombre Requerimiento",null,{"$f":"+VLOOKUP(B38,TablaResumen[],16,0)","v":"Aporte luz natural"},null,null,null,null,null,null,null,null,null,null,null,null,{"$f":"+CONCATENATE(B36,\".\",4)","v":"3.4"},{"$f":"+AND(Q39>VLOOKUP(U36,MatrizRequerimientos,10,FALSE),Q39<=VLOOKUP(U36,MatrizRequerimientos,11,FALSE))","v":false},{"$f":"+V36*VLOOKUP(U36,MatrizRequerimientos,8,FALSE)","v":0},{"$f":"+V36*VLOOKUP(U36,MatrizRequerimientos,9,FALSE)","v":0}]
["N",3,null,null,null,null,null,null,null,null,null,null,null,null,null,null,null,null,null,null,{"$f":"+CONCATENATE(B37,\".\",5)","v":"3.5"},{"$f":"+AND(Q39>VLOOKUP(U37,MatrizRequerimientos,10,FALSE),Q39<=VLOOKUP(U37,MatrizRequerimientos,11,FALSE))","v":false},{"$f":"+V37*VLOOKUP(U37,MatrizRequerimientos,8,FALSE)","v":0},{"$f":"+V37*VLOOKUP(U37,MatrizRequerimientos,9,FALSE)","v":0}]
["N",3,null,null,null,"Indicador",null,{"$f":"+VLOOKUP(B39,TablaResumen[],21,0)","v":"FLD"},null,null,null,null,null,null,null,null,null,null,null,null,{"$f":"+CONCATENATE(B38,\".\",6)","v":"3.6"},{"$f":"+AND(Q39>VLOOKUP(U38,MatrizRequerimientos,10,FALSE),Q39<=VLOOKUP(U38,MatrizRequerimientos,11,FALSE))","v":false},{"$f":"+V38*VLOOKUP(U38,MatrizRequerimientos,8,FALSE)","v":0},{"$f":"+V38*VLOOKUP(U38,MatrizRequerimientos,9,FALSE)","v":0}]
["N",3,null,null,null,null,null,null,null,null,null,null,null,{"$f":"+IF(A38=\"N\",CONCATENATE(\"Valor obtenido en proyecto para \",H38),\"Seleccione Nivel de Cumplimiento\")","v":"Valor obtenido en proyecto para FLD"},null,null,null,null,null,null,{"$f":"+CONCATENATE(B39,\".\",7)","v":"3.7"},{"$f":"+AND(Q39>VLOOKUP(U39,MatrizRequerimientos,10,FALSE),Q39<=VLOOKUP(U39,MatrizRequerimientos,11,FALSE))","v":false},{"$f":"+V39*VLOOKUP(U39,MatrizRequerimientos,8,FALSE)","v":0},{"$f":"+V39*VLOOKUP(U39,MatrizRequerimientos,9,FALSE)","v":0}]
["N",3]
["N",3,null,null,null,"OPCIÓN ",null,{"$f":"CONCATENATE(VLOOKUP(B41,'Resumen requerimientos'!$T$5:$AB$96,5,FALSE), \" de \",VLOOKUP(B41,'Resumen requerimientos'!$T$5:$AB$96,6,FALSE))","v":"1 de 3"},null,null,null,null,null,null,null,null,null,null,null,null,null,null,null,"Of. Y Serv.","Ed. Y Salud"]
["N",3,null,null,null,null,null,null,null,null,null,null,null,null,null,null,null,null,null,null,{"$f":"+CONCATENATE(B42,\".\",4)","v":"3.4"},{"$f":"+VLOOKUP(U42,MatrizRequerimientos,6,FALSE)","v":"4,999-14"},{"$f":"+IF(A39=\"T\",Q39=V42,V36)","v":false},{"$f":"+W42*VLOOKUP(U42,MatrizRequerimientos,8,FALSE)","v":0},{"$f":"+W42*VLOOKUP(U42,MatrizRequerimientos,9,FALSE)","v":0}]
["N",3,null,null,null,{"$f":"+IF(H43=\"No\",\"¿OTROS REQUERIMIENTOS SIMULTÁNEOS?\",\"REQUERIMIENTOS SIMULTANEOS PARA LA OPCION\")","v":"¿OTROS REQUERIMIENTOS SIMULTÁNEOS?"},null,{"$f":"IF(VLOOKUP(B43,'Resumen requerimientos'!$T$5:$AB$96,7,FALSE)=0,\"No\",CONCATENATE(VLOOKUP(B43,'Resumen requerimientos'!$T$5:$AB$96,7,FALSE), \" de \",VLOOKUP(B43,'Resumen requerimientos'!$T$5:$AB$96,8,FALSE)))","v":"No"},null,null,null,null,null,null,null,null,null,null,null,null,{"$f":"+CONCATENATE(B43,\".\",5)","v":"3.5"},{"$f":"+VLOOKUP(U43,MatrizRequerimientos,6,FALSE)","v":"2-4,1003"},{"$f":"+IF(A40=\"T\",Q39=V43,V37)","v":false},{"$f":"+W43*VLOOKUP(U43,MatrizRequerimientos,8,FALSE)","v":0},{"$f":"+W43*VLOOKUP(U43,MatrizRequerimientos,9,FALSE)","v":0}]
["N",3,null,null,null,null,null,null,null,null,null,null,null,null,null,null,null,null,null,null,{"$f":"+CONCATENATE(B44,\".\",6)","v":"3.6"},{"$f":"+VLOOKUP(U44,MatrizRequerimientos,6,FALSE)","v":0},{"$f":"+IF(A41=\"T\",Q39=V44,V38)","v":false},{"$f":"+W44*VLOOKUP(U44,MatrizRequerimientos,8,FALSE)","v":0},{"$f":"+W44*VLOOKUP(U44,MatrizRequerimientos,9,FALSE)","v":0}]
["N",3,null,null,null,"REQUERIMIENTO ADICIONAL",null,{"$f":"VLOOKUP(B45,'Resumen requerimientos'!$T$5:$AB$96,9,FALSE)","v":"No"},null,null,null,null,null,null,null,null,null,null,null,null,{"$f":"+CONCATENATE(B45,\".\",7)","v":"3.7"},{"$f":"+VLOOKUP(U45,MatrizRequerimientos,6,FALSE)","v":0},{"$f":"+IF(A42=\"T\",Q39=V45,V39)","v":false},{"$f":"+W45*VLOOKUP(U45,MatrizRequerimientos,8,FALSE)","v":0},{"$f":"+W45*VLOOKUP(U45,MatrizRequerimientos,9,FALSE)","v":0}]
["N",3,null,null,null,null,null,null,null,null,null,null,null,null,null,null,null,null,null,null,null,null,{"$f":"+IF(AND(A42=\"N\",H34=\"Voluntario\"),SUMIF(W42:W45,TRUE,IF(Uso_Edificio=\"Oficinas\",X42:X45,Y42:Y45)),IF(AND(A42=\"T\",H34=\"Obligatorio\"),VLOOKUP(Q39,V42:X45,3,FALSE)=1,W42))","v":0}]
["N",3]
["N",4]
["N",{"$f":"+B48","v":4},null,null,null,"Tipo requerimiento",null,{"$f":"+IF(VLOOKUP(B48,TablaResumen[],4)=\"C\",\"Voluntario\",\"Obligatorio\")","v":"Voluntario"},null,null,null,null,null,null,null,null,null,null,null,null,null,"Puntaje crédito numérico"]
["N",{"$f":"+B49","v":4},null,null,null,null,null,null,null,null,null,null,null,{"$f":"+IF(H49=\"Obligatorio\",\"Cumple Requisito\",\"Puntaje obtenido\")","v":"Puntaje obtenido"},null,null,{"$f":"+IF(H49=\"Obligatorio\",W61,IF(A51=\"N\",IF(Uso_Edificio=\"Oficinas\",SUM(W51:W54),SUM(X51:X54)),IF(Uso_Edificio=\"Oficinas\",SUM(X57:X60),SUM(Y57:Y60))))","v":0},null,null,null,null,"Calificación","Of. Y Serv.","Ed. Y Salud"]
["N",4,null,null,null,"Nombre Requerimiento",null,{"$f":"+VLOOKUP(B53,TablaResumen[],16,0)","v":"Aporte luz natural"},null,null,null,null,null,null,null,null,{"$f":"+IF(H48=\"Requisito\",W60,IF(#REF!=\"N\",IF(Uso_Edificio=\"Oficinas\",SUM(W50:W53),SUM(X50:X53)),IF(Uso_Edificio=\"Oficinas\",SUM(X56:X59),SUM(Y56:Y59))))","v":{"$error":"#REF!"}},null,null,null,{"$f":"+CONCATENATE(B51,\".\",4)","v":"4.4"},{"$f":"+AND(Q54>VLOOKUP(U51,MatrizRequerimientos,10,FALSE),Q54<=VLOOKUP(U51,MatrizRequerimientos,11,FALSE))","v":false},{"$f":"+V51*VLOOKUP(U51,MatrizRequerimientos,8,FALSE)","v":0},{"$f":"+V51*VLOOKUP(U51,MatrizRequerimientos,9,FALSE)","v":0}]
["N",4,null,null,null,null,null,null,null,null,null,null,null,null,null,null,{"$f":"+IF(H49=\"Requisito\",W61,IF(A48=\"N\",IF(Uso_Edificio=\"Oficinas\",SUM(W51:W54),SUM(X51:X54)),IF(Uso_Edificio=\"Oficinas\",SUM(X57:X60),SUM(Y57:Y60))))","v":0},null,null,null,{"$f":"+CONCATENATE(B52,\".\",5)","v":"4.5"},{"$f":"+AND(Q54>VLOOKUP(U52,MatrizRequerimientos,10,FALSE),Q54<=VLOOKUP(U52,MatrizRequerimientos,11,FALSE))","v":false},{"$f":"+V52*VLOOKUP(U52,MatrizRequerimientos,8,FALSE)","v":0},{"$f":"+V52*VLOOKUP(U52,MatrizRequerimientos,9,FALSE)","v":0}]
["N",4,null,null,null,"Indicador",null,{"$f":"+VLOOKUP(B54,TablaResumen[],21,0)","v":"Iluminancia útil"},null,null,null,null,null,null,null,null,null,null,null,null,{"$f":"+CONCATENATE(B53,\".\",6)","v":"4.6"},{"$f":"+AND(Q54>VLOOKUP(U53,MatrizRequerimientos,10,FALSE),Q54<=VLOOKUP(U53,MatrizRequerimientos,11,FALSE))","v":false},{"$f":"+V53*VLOOKUP(U53,MatrizRequerimientos,8,FALSE)","v":0},{"$f":"+V53*VLOOKUP(U53,MatrizRequerimientos,9,FALSE)","v":0}]
["N",4,null,null,null,null,null,null,null,null,null,null,null,{"$f":"+IF(A53=\"N\",CONCATENATE(\"Valor obtenido en proyecto para \",H53),\"Seleccione Nivel de Cumplimiento\")","v":"Valor obtenido en proyecto para Iluminancia útil"},null,null,null,null,null,null,{"$f":"+CONCATENATE(B54,\".\",7)","v":"4.7"},{"$f":"+AND(Q54>VLOOKUP(U54,MatrizRequerimientos,10,FALSE),Q54<=VLOOKUP(U54,MatrizRequerimientos,11,FALSE))","v":false},{"$f":"+V54*VLOOKUP(U54,MatrizRequerimientos,8,FALSE)","v":0},{"$f":"+V54*VLOOKUP(U54,MatrizRequerimientos,9,FALSE)","v":0}]
["N",4]
["N",4,null,null,null,"OPCIÓN ",null,{"$f":"CONCATENATE(VLOOKUP(B56,'Resumen requerimientos'!$T$5:$AB$96,5,FALSE), \" de \",VLOOKUP(B56,'Resumen requerimientos'!$T$5:$AB$96,6,FALSE))","v":"2 de 3"},null,null,null,null,null,null,null,null,null,null,null,null,null,null,null,"Of. Y Serv.","Ed. Y Salud"]
["N",4,null,null,null,null,null,null,null,null,null,null,null,null,null,null,null,null,null,null,{"$f":"+CONCATENATE(B57,\".\",4)","v":"4.4"},{"$f":"+VLOOKUP(U57,MatrizRequerimientos,6,FALSE)","v":"69,999%-100%"},{"$f":"+IF(A54=\"T\",Q54=V57,V51)","v":false},{"$f":"+W57*VLOOKUP(U57,MatrizRequerimientos,8,FALSE)","v":0},{"$f":"+W57*VLOOKUP(U57,MatrizRequerimientos,9,FALSE)","v":0}]
["N",4,null,null,null,{"$f":"+IF(H58=\"No\",\"¿OTROS REQUERIMIENTOS SIMULTÁNEOS?\",\"REQUERIMIENTOS SIMULTANEOS PARA LA OPCION\")","v":"¿OTROS REQUERIMIENTOS SIMULTÁNEOS?"},null,{"$f":"IF(VLOOKUP(B58,'Resumen requerimientos'!$T$5:$AB$96,7,FALSE)=0,\"No\",CONCATENATE(VLOOKUP(B58,'Resumen requerimientos'!$T$5:$AB$96,7,FALSE), \" de \",VLOOKUP(B58,'Resumen requerimientos'!$T$5:$AB$96,8,FALSE)))","v":"No"},null,null,null,null,null,null,null,null,null,null,null,null,{"$f":"+CONCATENATE(B58,\".\",5)","v":"4.5"},{"$f":"+VLOOKUP(U58,MatrizRequerimientos,6,FALSE)","v":"59,999%-69,999%"},{"$f":"+IF(A55=\"T\",Q54=V58,V52)","v":false},{"$f":"+W58*VLOOKUP(U58,MatrizRequerimientos,8,FALSE)","v":0},{"$f":"+W58*VLOOKUP(U58,MatrizRequerimientos,9,FALSE)","v":0}]
["N",4,null,null,null,null,null,null,null,null,null,null,null,null,null,null,null,null,null,null,{"$f":"+CONCATENATE(B59,\".\",6)","v":"4.6"},{"$f":"+VLOOKUP(U59,MatrizRequerimientos,6,FALSE)","v":"49,999%-59,999%"},{"$f":"+IF(A56=\"T\",Q54=V59,V53)","v":false},{"$f":"+W59*VLOOKUP(U59,MatrizRequerimientos,8,FALSE)","v":0},{"$f":"+W59*VLOOKUP(U59,MatrizRequerimientos,9,FALSE)","v":0}]
["N",4,null,null,null,"REQUERIMIENTO ADICIONAL",null,{"$f":"VLOOKUP(B60,'Resumen requerimientos'!$T$5:$AB$96,9,FALSE)","v":"No"},null,null,null,null,null,null,null,null,null,null,null,null,{"$f":"+CONCATENATE(B60,\".\",7)","v":"4.7"},{"$f":"+VLOOKUP(U60,MatrizRequerimientos,6,FALSE)","v":0},{"$f":"+IF(A57=\"T\",Q54=V60,V54)","v":false},{"$f":"+W60*VLOOKUP(U60,MatrizRequerimientos,8,FALSE)","v":0},{"$f":"+W60*VLOOKUP(U60,MatrizRequerimientos,9,FALSE)","v":0}]
["N",4,null,null,null,null,null,null,null,null,null,null,null,null,null,null,null,null,null,null,null,null,{"$f":"+IF(AND(A57=\"N\",H49=\"Voluntario\"),SUMIF(W57:W60,TRUE,IF(Uso_Edificio=\"Oficinas\",X57:X60,Y57:Y60)),IF(AND(A57=\"T\",H49=\"Obligatorio\"),VLOOKUP(Q54,V57:X60,3,FALSE)=1,W57))","v":0}]
["N",4]
["N",5]
["N",{"$f":"+B63","v":5},null,null,null,"Tipo requerimiento",null,{"$f":"+IF(VLOOKUP(B63,TablaResumen[],4)=\"C\",\"Voluntario\",\"Obligatorio\")","v":"Voluntario"},null,null,null,null,null,null,null,null,null,null,null,null,null,"Puntaje crédito numérico"]
["N",{"$f":"+B64","v":5},null,null,null,null,null,null,null,null,null,null,null,{"$f":"+IF(H64=\"Obligatorio\",\"Cumple Requisito\",\"Puntaje obtenido\")","v":"Puntaje obtenido"},null,null,{"$f":"+IF(H64=\"Obligatorio\",W76,IF(A66=\"N\",IF(Uso_Edificio=\"Oficinas\",SUM(W66:W69),SUM(X66:X69)),IF(Uso_Edificio=\"Oficinas\",SUM(X72:X75),SUM(Y72:Y75))))","v":0},null,null,null,null,"Calificación","Of. Y Serv.","Ed. Y Salud"]
["N",5,null,null,null,"Nombre Requerimiento",null,{"$f":"+VLOOKUP(B68,TablaResumen[],16,0)","v":"Aporte luz natural"},null,null,null,null,null,null,null,null,{"$f":"+IF(H63=\"Requisito\",W75,IF(#REF!=\"N\",IF(Uso_Edificio=\"Oficinas\",SUM(W65:W68),SUM(X65:X68)),IF(Uso_Edificio=\"Oficinas\",SUM(X71:X74),SUM(Y71:Y74))))","v":{"$error":"#REF!"}},null,null,null,{"$f":"+CONCATENATE(B66,\".\",4)","v":"5.4"},{"$f":"+AND(Q69>VLOOKUP(U66,MatrizRequerimientos,10,FALSE),Q69<=VLOOKUP(U66,MatrizRequerimientos,11,FALSE))","v":false},{"$f":"+V66*VLOOKUP(U66,MatrizRequerimientos,8,FALSE)","v":0},{"$f":"+V66*VLOOKUP(U66,MatrizRequerimientos,9,FALSE)","v":0}]
["N",5,null,null,null,null,null,null,null,null,null,null,null,null,null,null,{"$f":"+IF(H64=\"Requisito\",W76,IF(A63=\"N\",IF(Uso_Edificio=\"Oficinas\",SUM(W66:W69),SUM(X66:X69)),IF(Uso_Edificio=\"Oficinas\",SUM(X72:X75),SUM(Y72:Y75))))","v":0},null,null,null,{"$f":"+CONCATENATE(B67,\".\",5)","v":"5.5"},{"$f":"+AND(Q69>VLOOKUP(U67,MatrizRequerimientos,10,FALSE),Q69<=VLOOKUP(U67,MatrizRequerimientos,11,FALSE))","v":false},{"$f":"+V67*VLOOKUP(U67,MatrizRequerimientos,8,FALSE)","v":0},{"$f":"+V67*VLOOKUP(U67,MatrizRequerimientos,9,FALSE)","v":0}]
["N",5,null,null,null,"Indicador",null,{"$f":"+VLOOKUP(B69,TablaResumen[],21,0)","v":"Spatial Daylight Autonomy"},null,null,null,null,null,null,null,null,null,null,null,null,{"$f":"+CONCATENATE(B68,\".\",6)","v":"5.6"},{"$f":"+AND(Q69>VLOOKUP(U68,MatrizRequerimientos,10,FALSE),Q69<=VLOOKUP(U68,MatrizRequerimientos,11,FALSE))","v":false},{"$f":"+V68*VLOOKUP(U68,MatrizRequerimientos,8,FALSE)","v":0},{"$f":"+V68*VLOOKUP(U68,MatrizRequerimientos,9,FALSE)","v":0}]
["N",5,null,null,null,null,null,null,null,null,null,null,null,{"$f":"+IF(A68=\"N\",CONCATENATE(\"Valor obtenido en proyecto para \",H68),\"Seleccione Nivel de Cumplimiento\")","v":"Valor obtenido en proyecto para Spatial Daylight Autonomy"},null,null,null,null,null,null,{"$f":"+CONCATENATE(B69,\".\",7)","v":"5.7"},{"$f":"+AND(Q69>VLOOKUP(U69,MatrizRequerimientos,10,FALSE),Q69<=VLOOKUP(U69,MatrizRequerimientos,11,FALSE))","v":false},{"$f":"+V69*VLOOKUP(U69,MatrizRequerimientos,8,FALSE)","v":0},{"$f":"+V69*VLOOKUP(U69,MatrizRequerimientos,9,FALSE)","v":0}]
["N",5]
["N",5,null,null,null,"OPCIÓN ",null,{"$f":"CONCATENATE(VLOOKUP(B71,'Resumen requerimientos'!$T$5:$AB$96,5,FALSE), \" de \",VLOOKUP(B71,'Resumen requerimientos'!$T$5:$AB$96,6,FALSE))","v":"3 de 3"},null,null,null,null,null,null,null,null,null,null,null,null,null,null,null,"Of. Y Serv.","Ed. Y Salud"]
["N",5,null,null,null,null,null,null,null,null,null,null,null,null,null,null,null,null,null,null,{"$f":"+CONCATENATE(B72,\".\",4)","v":"5.4"},{"$f":"+VLOOKUP(U72,MatrizRequerimientos,6,FALSE)","v":"89,999%-100%"},{"$f":"+IF(A69=\"T\",Q69=V72,V66)","v":false},{"$f":"+W72*VLOOKUP(U72,MatrizRequerimientos,8,FALSE)","v":0},{"$f":"+W72*VLOOKUP(U72,MatrizRequerimientos,9,FALSE)","v":0}]
["N",5,null,null,null,{"$f":"+IF(H73=\"No\",\"¿OTROS REQUERIMIENTOS SIMULTÁNEOS?\",\"REQUERIMIENTOS SIMULTANEOS PARA LA OPCION\")","v":"¿OTROS REQUERIMIENTOS SIMULTÁNEOS?"},null,{"$f":"IF(VLOOKUP(B73,'Resumen requerimientos'!$T$5:$AB$96,7,FALSE)=0,\"No\",CONCATENATE(VLOOKUP(B73,'Resumen requerimientos'!$T$5:$AB$96,7,FALSE), \" de \",VLOOKUP(B73,'Resumen requerimientos'!$T$5:$AB$96,8,FALSE)))","v":"No"},null,null,null,null,null,null,null,null,null,null,null,null,{"$f":"+CONCATENATE(B73,\".\",5)","v":"5.5"},{"$f":"+VLOOKUP(U73,MatrizRequerimientos,6,FALSE)","v":"74,999%-89,999%"},{"$f":"+IF(A70=\"T\",Q69=V73,V67)","v":false},{"$f":"+W73*VLOOKUP(U73,MatrizRequerimientos,8,FALSE)","v":0},{"$f":"+W73*VLOOKUP(U73,MatrizRequerimientos,9,FALSE)","v":0}]
["N",5,null,null,null,null,null,null,null,null,null,null,null,null,null,null,null,null,null,null,{"$f":"+CONCATENATE(B74,\".\",6)","v":"5.6"},{"$f":"+VLOOKUP(U74,MatrizRequerimientos,6,FALSE)","v":"54,999%-74,999%"},{"$f":"+IF(A71=\"T\",Q69=V74,V68)","v":false},{"$f":"+W74*VLOOKUP(U74,MatrizRequerimientos,8,FALSE)","v":0},{"$f":"+W74*VLOOKUP(U74,MatrizRequerimientos,9,FALSE)","v":0}]
["N",5,null,null,null,"REQUERIMIENTO ADICIONAL",null,{"$f":"VLOOKUP(B75,'Resumen requerimientos'!$T$5:$AB$96,9,FALSE)","v":"No"},null,null,null,null,null,null,null,null,null,null,null,null,{"$f":"+CONCATENATE(B75,\".\",7)","v":"5.7"},{"$f":"+VLOOKUP(U75,MatrizRequerimientos,6,FALSE)","v":0},{"$f":"+IF(A72=\"T\",Q69=V75,V69)","v":false},{"$f":"+W75*VLOOKUP(U75,MatrizRequerimientos,8,FALSE)","v":0},{"$f":"+W75*VLOOKUP(U75,MatrizRequerimientos,9,FALSE)","v":0}]
["N",5,null,null,null,null,null,null,null,null,null,null,null,null,null,null,null,null,null,null,null,null,{"$f":"+IF(AND(A72=\"N\",H64=\"Voluntario\"),SUMIF(W72:W75,TRUE,IF(Uso_Edificio=\"Oficinas\",X72:X75,Y72:Y75)),IF(AND(A72=\"T\",H64=\"Obligatorio\"),VLOOKUP(Q69,V72:X75,3,FALSE)=1,W72))","v":0}]
["N",5]
["N",6]
["N",{"$f":"+B78","v":6},null,null,null,"Tipo requerimiento",null,{"$f":"+IF(VLOOKUP(B78,TablaResumen[],4)=\"C\",\"Voluntario\",\"Obligatorio\")","v":"Voluntario"},null,null,null,null,null,null,null,null,null,null,null,null,null,"Puntaje crédito numérico"]
["N",{"$f":"+B79","v":6},null,null,null,null,null,null,null,null,null,null,null,{"$f":"+IF(H79=\"Obligatorio\",\"Cumple Requisito\",\"Puntaje obtenido\")","v":"Puntaje obtenido"},null,null,{"$f":"+IF(H79=\"Obligatorio\",W91,IF(A81=\"N\",IF(Uso_Edificio=\"Oficinas\",SUM(W81:W84),SUM(X81:X84)),IF(Uso_Edificio=\"Oficinas\",SUM(X87:X90),SUM(Y87:Y90))))","v":0},null,null,null,null,"Calificación","Of. Y Serv.","Ed. Y Salud"]
["N",6,null,null,null,"Nombre Requerimiento",null,{"$f":"+VLOOKUP(B83,TablaResumen[],16,0)","v":"Aporte luz natural"},null,null,null,null,null,null,null,null,{"$f":"+IF(H78=\"Requisito\",W90,IF(#REF!=\"N\",IF(Uso_Edificio=\"Oficinas\",SUM(W80:W83),SUM(X80:X83)),IF(Uso_Edificio=\"Oficinas\",SUM(X86:X89),SUM(Y86:Y89))))","v":{"$error":"#REF!"}},null,null,null,{"$f":"+CONCATENATE(B81,\".\",4)","v":"6.4"},{"$f":"+AND(Q84>VLOOKUP(U81,MatrizRequerimientos,10,FALSE),Q84<=VLOOKUP(U81,MatrizRequerimientos,11,FALSE))","v":false},{"$f":"+V81*VLOOKUP(U81,MatrizRequerimientos,8,FALSE)","v":0},{"$f":"+V81*VLOOKUP(U81,MatrizRequerimientos,9,FALSE)","v":0}]
["N",6,null,null,null,null,null,null,null,null,null,null,null,null,null,null,{"$f":"+IF(H79=\"Requisito\",W91,IF(A78=\"N\",IF(Uso_Edificio=\"Oficinas\",SUM(W81:W84),SUM(X81:X84)),IF(Uso_Edificio=\"Oficinas\",SUM(X87:X90),SUM(Y87:Y90))))","v":0},null,null,null,{"$f":"+CONCATENATE(B82,\".\",5)","v":"6.5"},{"$f":"+AND(Q84>VLOOKUP(U82,MatrizRequerimientos,10,FALSE),Q84<=VLOOKUP(U82,MatrizRequerimientos,11,FALSE))","v":false},{"$f":"+V82*VLOOKUP(U82,MatrizRequerimientos,8,FALSE)","v":0},{"$f":"+V82*VLOOKUP(U82,MatrizRequerimientos,9,FALSE)","v":0}]
["N",6,null,null,null,"Indicador",null,{"$f":"+VLOOKUP(B84,TablaResumen[],21,0)","v":"Índice de probabilidad de deslumbramiento"},null,null,null,null,null,null,null,null,null,null,null,null,{"$f":"+CONCATENATE(B83,\".\",6)","v":"6.6"},{"$f":"+AND(Q84>VLOOKUP(U83,MatrizRequerimientos,10,FALSE),Q84<=VLOOKUP(U83,MatrizRequerimientos,11,FALSE))","v":false},{"$f":"+V83*VLOOKUP(U83,MatrizRequerimientos,8,FALSE)","v":0},{"$f":"+V83*VLOOKUP(U83,MatrizRequerimientos,9,FALSE)","v":0}]
["N",6,null,null,null,null,null,null,null,null,null,null,null,{"$f":"+IF(A83=\"N\",CONCATENATE(\"Valor obtenido en proyecto para \",H83),\"Seleccione Nivel de Cumplimiento\")","v":"Valor obtenido en proyecto para Índice de probabilidad de deslumbramiento"},null,null,null,null,null,null,{"$f":"+CONCATENATE(B84,\".\",7)","v":"6.7"},{"$f":"+AND(Q84>VLOOKUP(U84,MatrizRequerimientos,10,FALSE),Q84<=VLOOKUP(U84,MatrizRequerimientos,11,FALSE))","v":false},{"$f":"+V84*VLOOKUP(U84,MatrizRequerimientos,8,FALSE)","v":0},{"$f":"+V84*VLOOKUP(U84,MatrizRequerimientos,9,FALSE)","v":0}]
["N",6]
["N",6,null,null,null,"OPCIÓN ",null,{"$f":"CONCATENATE(VLOOKUP(B86,'Resumen requerimientos'!$T$5:$AB$96,5,FALSE), \" de \",VLOOKUP(B86,'Resumen requerimientos'!$T$5:$AB$96,6,FALSE))","v":"1 de 1"},null,null,null,null,null,null,null,null,null,null,null,null,null,null,null,"Of. Y Serv.","Ed. Y Salud"]
["N",6,null,null,null,null,null,null,null,null,null,null,null,null,null,null,null,null,null,null,{"$f":"+CONCATENATE(B87,\".\",4)","v":"6.4"},{"$f":"+VLOOKUP(U87,MatrizRequerimientos,6,FALSE)","v":"0%-35%"},{"$f":"+IF(A84=\"T\",Q84=V87,V81)","v":false},{"$f":"+W87*VLOOKUP(U87,MatrizRequerimientos,8,FALSE)","v":0},{"$f":"+W87*VLOOKUP(U87,MatrizRequerimientos,9,FALSE)","v":0}]
["N",6,null,null,null,{"$f":"+IF(H88=\"No\",\"¿OTROS REQUERIMIENTOS SIMULTÁNEOS?\",\"REQUERIMIENTOS SIMULTANEOS PARA LA OPCION\")","v":"¿OTROS REQUERIMIENTOS SIMULTÁNEOS?"},null,{"$f":"IF(VLOOKUP(B88,'Resumen requerimientos'!$T$5:$AB$96,7,FALSE)=0,\"No\",CONCATENATE(VLOOKUP(B88,'Resumen requerimientos'!$T$5:$AB$96,7,FALSE), \" de \",VLOOKUP(B88,'Resumen requerimientos'!$T$5:$AB$96,8,FALSE)))","v":"No"},null,null,null,null,null,null,null,null,null,null,null,null,{"$f":"+CONCATENATE(B88,\".\",5)","v":"6.5"},{"$f":"+VLOOKUP(U88,MatrizRequerimientos,6,FALSE)","v":"35%-40%"},{"$f":"+IF(A85=\"T\",Q84=V88,V82)","v":false},{"$f":"+W88*VLOOKUP(U88,MatrizRequerimientos,8,FALSE)","v":0},{"$f":"+W88*VLOOKUP(U88,MatrizRequerimientos,9,FALSE)","v":0}]
["N",6,null,null,null,null,null,null,null,null,null,null,null,null,null,null,null,null,null,null,{"$f":"+CONCATENATE(B89,\".\",6)","v":"6.6"},{"$f":"+VLOOKUP(U89,MatrizRequerimientos,6,FALSE)","v":0},{"$f":"+IF(A86=\"T\",Q84=V89,V83)","v":false},{"$f":"+W89*VLOOKUP(U89,MatrizRequerimientos,8,FALSE)","v":0},{"$f":"+W89*VLOOKUP(U89,MatrizRequerimientos,9,FALSE)","v":0}]
["N",6,null,null,null,"REQUERIMIENTO ADICIONAL",null,{"$f":"VLOOKUP(B90,'Resumen requerimientos'!$T$5:$AB$96,9,FALSE)","v":"Si"},null,null,null,null,null,null,null,null,null,null,null,null,{"$f":"+CONCATENATE(B90,\".\",7)","v":"6.7"},{"$f":"+VLOOKUP(U90,MatrizRequerimientos,6,FALSE)","v":0},{"$f":"+IF(A87=\"T\",Q84=V90,V84)","v":false},{"$f":"+W90*VLOOKUP(U90,MatrizRequerimientos,8,FALSE)","v":0},{"$f":"+W90*VLOOKUP(U90,MatrizRequerimientos,9,FALSE)","v":0}]
["N",6,null,null,null,null,null,null,null,null,null,null,null,null,null,null,null,null,null,null,null,null,{"$f":"+IF(AND(A87=\"N\",H79=\"Voluntario\"),SUMIF(W87:W90,TRUE,IF(Uso_Edificio=\"Oficinas\",X87:X90,Y87:Y90)),IF(AND(A87=\"T\",H79=\"Obligatorio\"),VLOOKUP(Q84,V87:X90,3,FALSE)=1,W87))","v":0}]
["N",6]
["N",6,null,null,"Volver al índice"]
["N",{"$f":"+IF(F93=\"\",B93+1,B93)","v":7},null,"ARQ.CAI 2.2 ACCESO VISUAL AL EXTERIOR",null,null,null,null,null,null,null,null,null,null,null,null,null,null,"ARQ.CAI 2.2 ACCESO VISUAL AL EXTERIOR"]
["N",{"$f":"+B94","v":7},null,null,null,"Tipo requerimiento",null,{"$f":"+IF(VLOOKUP(B94,TablaResumen[],4)=\"C\",\"Voluntario\",\"Obligatorio\")","v":"Voluntario"},null,null,null,null,null,null,null,null,null,null,null,null,null,"Puntaje crédito numérico"]
["N",{"$f":"+B95","v":7},null,null,null,null,null,null,null,null,null,null,null,{"$f":"+IF(H95=\"Obligatorio\",\"Cumple Requisito\",\"Puntaje obtenido\")","v":"Puntaje obtenido"},null,null,{"$f":"+IF(H95=\"Obligatorio\",W107,IF(A97=\"N\",IF(Uso_Edificio=\"Oficinas\",SUM(W97:W100),SUM(X97:X100)),IF(Uso_Edificio=\"Oficinas\",SUM(X103:X106),SUM(Y103:Y106))))","v":0},null,null,null,null,"Calificación","Of. Y Serv.","Ed. Y Salud"]
["N",7,null,null,null,"Nombre Requerimiento",null,{"$f":"+VLOOKUP(B99,TablaResumen[],16,0)","v":"Acceso visual al exterior"},null,null,null,null,null,null,null,null,{"$f":"+IF(H94=\"Requisito\",W106,IF(#REF!=\"N\",IF(Uso_Edificio=\"Oficinas\",SUM(W96:W99),SUM(X96:X99)),IF(Uso_Edificio=\"Oficinas\",SUM(X102:X105),SUM(Y102:Y105))))","v":{"$error":"#REF!"}},null,null,null,{"$f":"+CONCATENATE(B97,\".\",4)","v":"7.4"},{"$f":"+AND(Q100>VLOOKUP(U97,MatrizRequerimientos,10,FALSE),Q100<=VLOOKUP(U97,MatrizRequerimientos,11,FALSE))","v":false},{"$f":"+V97*VLOOKUP(U97,MatrizRequerimientos,8,FALSE)","v":0},{"$f":"+V97*VLOOKUP(U97,MatrizRequerimientos,9,FALSE)","v":0}]
["N",7,null,null,null,null,null,null,null,null,null,null,null,null,null,null,{"$f":"+IF(H95=\"Requisito\",W107,IF(A94=\"N\",IF(Uso_Edificio=\"Oficinas\",SUM(W97:W100),SUM(X97:X100)),IF(Uso_Edificio=\"Oficinas\",SUM(X103:X106),SUM(Y103:Y106))))","v":0},null,null,null,{"$f":"+CONCATENATE(B98,\".\",5)","v":"7.5"},{"$f":"+AND(Q100>VLOOKUP(U98,MatrizRequerimientos,10,FALSE),Q100<=VLOOKUP(U98,MatrizRequerimientos,11,FALSE))","v":false},{"$f":"+V98*VLOOKUP(U98,MatrizRequerimientos,8,FALSE)","v":0},{"$f":"+V98*VLOOKUP(U98,MatrizRequerimientos,9,FALSE)","v":0}]
["N",7,null,null,null,"Indicador",null,{"$f":"+VLOOKUP(B100,TablaResumen[],21,0)","v":"% de áreas con acceso visual al exterior"},null,null,null,null,null,null,null,null,null,null,null,null,{"$f":"+CONCATENATE(B99,\".\",6)","v":"7.6"},{"$f":"+AND(Q100>VLOOKUP(U99,MatrizRequerimientos,10,FALSE),Q100<=VLOOKUP(U99,MatrizRequerimientos,11,FALSE))","v":false},{"$f":"+V99*VLOOKUP(U99,MatrizRequerimientos,8,FALSE)","v":0},{"$f":"+V99*VLOOKUP(U99,MatrizRequerimientos,9,FALSE)","v":0}]
["N",7,null,null,null,null,null,null,null,null,null,null,null,{"$f":"+IF(A99=\"N\",CONCATENATE(\"Valor obtenido en proyecto para \",H99),\"Seleccione Nivel de Cumplimiento\")","v":"Valor obtenido en proyecto para % de áreas con acceso visual al exterior"},null,null,null,null,null,null,{"$f":"+CONCATENATE(B100,\".\",7)","v":"7.7"},{"$f":"+AND(Q100>VLOOKUP(U100,MatrizRequerimientos,10,FALSE),Q100<=VLOOKUP(U100,MatrizRequerimientos,11,FALSE))","v":false},{"$f":"+V100*VLOOKUP(U100,MatrizRequerimientos,8,FALSE)","v":0},{"$f":"+V100*VLOOKUP(U100,MatrizRequerimientos,9,FALSE)","v":0}]
["N",7]
["N",7,null,null,null,"OPCIÓN ",null,{"$f":"CONCATENATE(VLOOKUP(B102,'Resumen requerimientos'!$T$5:$AB$96,5,FALSE), \" de \",VLOOKUP(B102,'Resumen requerimientos'!$T$5:$AB$96,6,FALSE))","v":"1 de 1"},null,null,null,null,null,null,null,null,null,null,null,null,null,null,null,"Of. Y Serv.","Ed. Y Salud"]
["N",7,null,null,null,null,null,null,null,null,null,null,null,null,null,null,null,null,null,null,{"$f":"+CONCATENATE(B103,\".\",4)","v":"7.4"},{"$f":"+VLOOKUP(U103,MatrizRequerimientos,6,FALSE)","v":"90%-100%"},{"$f":"+IF(A100=\"T\",Q100=V103,V97)","v":false},{"$f":"+W103*VLOOKUP(U103,MatrizRequerimientos,8,FALSE)","v":0},{"$f":"+W103*VLOOKUP(U103,MatrizRequerimientos,9,FALSE)","v":0}]
["N",7,null,null,null,{"$f":"+IF(H104=\"No\",\"¿OTROS REQUERIMIENTOS SIMULTÁNEOS?\",\"REQUERIMIENTOS SIMULTANEOS PARA LA OPCION\")","v":"¿OTROS REQUERIMIENTOS SIMULTÁNEOS?"},null,{"$f":"IF(VLOOKUP(B104,'Resumen requerimientos'!$T$5:$AB$96,7,FALSE)=0,\"No\",CONCATENATE(VLOOKUP(B104,'Resumen requerimientos'!$T$5:$AB$96,7,FALSE), \" de \",VLOOKUP(B104,'Resumen requerimientos'!$T$5:$AB$96,8,FALSE)))","v":"No"},null,null,null,null,null,null,null,null,null,null,null,null,{"$f":"+CONCATENATE(B104,\".\",5)","v":"7.5"},{"$f":"+VLOOKUP(U104,MatrizRequerimientos,6,FALSE)","v":"79,999%-90%"},{"$f":"+IF(A101=\"T\",Q100=V104,V98)","v":false},{"$f":"+W104*VLOOKUP(U104,MatrizRequerimientos,8,FALSE)","v":0},{"$f":"+W104*VLOOKUP(U104,MatrizRequerimientos,9,FALSE)","v":0}]
["N",7,null,null,null,null,null,null,null,null,null,null,null,null,null,null,null,null,null,null,{"$f":"+CONCATENATE(B105,\".\",6)","v":"7.6"},{"$f":"+VLOOKUP(U105,MatrizRequerimientos,6,FALSE)","v":"74,999%-78,999%"},{"$f":"+IF(A102=\"T\",Q100=V105,V99)","v":false},{"$f":"+W105*VLOOKUP(U105,MatrizRequerimientos,8,FALSE)","v":0},{"$f":"+W105*VLOOKUP(U105,MatrizRequerimientos,9,FALSE)","v":0}]
["N",7,null,null,null,"REQUERIMIENTO ADICIONAL",null,{"$f":"VLOOKUP(B106,'Resumen requerimientos'!$T$5:$AB$96,9,FALSE)","v":"No"},null,null,null,null,null,null,null,null,null,null,null,null,{"$f":"+CONCATENATE(B106,\".\",7)","v":"7.7"},{"$f":"+VLOOKUP(U106,MatrizRequerimientos,6,FALSE)","v":0},{"$f":"+IF(A103=\"T\",Q100=V106,V100)","v":false},{"$f":"+W106*VLOOKUP(U106,MatrizRequerimientos,8,FALSE)","v":0},{"$f":"+W106*VLOOKUP(U106,MatrizRequerimientos,9,FALSE)","v":0}]
["N",7,null,null,null,null,null,null,null,null,null,null,null,null,null,null,null,null,null,null,null,null,{"$f":"+IF(AND(A103=\"N\",H95=\"Voluntario\"),SUMIF(W103:W106,TRUE,IF(Uso_Edificio=\"Oficinas\",X103:X106,Y103:Y106)),IF(AND(A103=\"T\",H95=\"Obligatorio\"),VLOOKUP(Q100,V103:X106,3,FALSE)=1,W103))","v":0}]
["N",7]
["N",7,null,null,"Volver al índice"]
[{"$f":"+IF(OR(AND(Vent_Mec=\"No\",Vent_Nat=\"Si\"),AND(Vent_Mec=\"Si\",Vent_Nat=\"Si\")),\"N\",\"T\")","v":"T"},10,null,"ARQ.CAI 3.1 COBERTURA DE TASAS DE RENOVACIÓN",null,null,null,null,null,null,null,null,null,null,null,null,null,null,"ARQ.CAI 3.1 COBERTURA DE TASAS DE RENOVACIÓN"]
["T",{"$f":"+B110","v":10},null,null,null,"Tipo requerimiento",null,{"$f":"+IF(VLOOKUP(B110,TablaResumen[],4)=\"C\",\"Voluntario\",\"Obligatorio\")","v":"Voluntario"},null,null,null,null,null,null,null,null,null,null,null,null,null,"Puntaje crédito numérico"]
["T",{"$f":"+B111","v":10},null,null,null,null,null,null,null,null,null,null,null,{"$f":"+IF(H111=\"Obligatorio\",\"Cumple Requisito\",\"Puntaje obtenido\")","v":"Puntaje obtenido"},null,null,{"$f":"+IF(H111=\"Obligatorio\",W123,IF(A113=\"N\",IF(Uso_Edificio=\"Oficinas\",SUM(W113:W116),SUM(X113:X116)),IF(Uso_Edificio=\"Oficinas\",SUM(X119:X122),SUM(Y119:Y122))))","v":0},null,null,null,null,"Calificación","Of. Y Serv.","Ed. Y Salud"]
["T",10,null,null,null,"Nombre Requerimiento",null,{"$f":"+VLOOKUP(B115,TablaResumen[],16,0)","v":"Cobertura de las tasas de renovación"},null,null,null,null,null,null,null,null,{"$f":"+IF(H110=\"Requisito\",W122,IF(#REF!=\"N\",IF(Uso_Edificio=\"Oficinas\",SUM(W112:W115),SUM(X112:X115)),IF(Uso_Edificio=\"Oficinas\",SUM(X118:X121),SUM(Y118:Y121))))","v":{"$error":"#REF!"}},null,null,null,{"$f":"+CONCATENATE(B113,\".\",4)","v":"10.4"},{"$f":"+AND(Q116>VLOOKUP(U113,MatrizRequerimientos,10,FALSE),Q116<=VLOOKUP(U113,MatrizRequerimientos,11,FALSE))","v":false},{"$f":"+V113*VLOOKUP(U113,MatrizRequerimientos,8,FALSE)","v":0},{"$f":"+V113*VLOOKUP(U113,MatrizRequerimientos,9,FALSE)","v":0}]
["T",10,null,null,null,null,null,null,null,null,null,null,null,null,null,null,{"$f":"+IF(H111=\"Requisito\",W123,IF(A110=\"N\",IF(Uso_Edificio=\"Oficinas\",SUM(W113:W116),SUM(X113:X116)),IF(Uso_Edificio=\"Oficinas\",SUM(X119:X122),SUM(Y119:Y122))))","v":0},null,null,null,{"$f":"+CONCATENATE(B114,\".\",5)","v":"10.5"},{"$f":"+AND(Q116>VLOOKUP(U114,MatrizRequerimientos,10,FALSE),Q116<=VLOOKUP(U114,MatrizRequerimientos,11,FALSE))","v":false},{"$f":"+V114*VLOOKUP(U114,MatrizRequerimientos,8,FALSE)","v":0},{"$f":"+V114*VLOOKUP(U114,MatrizRequerimientos,9,FALSE)","v":0}]
["T",10,null,null,null,"Indicador",null,{"$f":"+VLOOKUP(B116,TablaResumen[],21,0)","v":"Cobertura de tasas de renovaciones de aire hora [RAH]"},null,null,null,null,null,null,null,null,null,null,null,null,{"$f":"+CONCATENATE(B115,\".\",6)","v":"10.6"},{"$f":"+AND(Q116>VLOOKUP(U115,MatrizRequerimientos,10,FALSE),Q116<=VLOOKUP(U115,MatrizRequerimientos,11,FALSE))","v":false},{"$f":"+V115*VLOOKUP(U115,MatrizRequerimientos,8,FALSE)","v":0},{"$f":"+V115*VLOOKUP(U115,MatrizRequerimientos,9,FALSE)","v":0}]
["T",10,null,null,null,null,null,null,null,null,null,null,null,{"$f":"+IF(A115=\"N\",CONCATENATE(\"Valor obtenido en proyecto para \",H115),\"Seleccione Nivel de Cumplimiento\")","v":"Seleccione Nivel de Cumplimiento"},null,null,"No Aplica",null,null,null,{"$f":"+CONCATENATE(B116,\".\",7)","v":"10.7"},{"$f":"+AND(Q116>VLOOKUP(U116,MatrizRequerimientos,10,FALSE),Q116<=VLOOKUP(U116,MatrizRequerimientos,11,FALSE))","v":false},{"$f":"+V116*VLOOKUP(U116,MatrizRequerimientos,8,FALSE)","v":0},{"$f":"+V116*VLOOKUP(U116,MatrizRequerimientos,9,FALSE)","v":0}]
["T",10]
["T",10,null,null,null,"OPCIÓN ",null,{"$f":"CONCATENATE(VLOOKUP(B118,'Resumen requerimientos'!$T$5:$AB$96,5,FALSE), \" de \",VLOOKUP(B118,'Resumen requerimientos'!$T$5:$AB$96,6,FALSE))","v":"1 de 1"},null,null,null,null,null,null,null,null,null,null,null,null,null,null,null,"Of. Y Serv.","Ed. Y Salud"]
["T",10,null,null,null,null,null,null,null,null,null,null,null,null,null,null,null,null,null,null,{"$f":"+CONCATENATE(B119,\".\",4)","v":"10.4"},{"$f":"+VLOOKUP(U119,MatrizRequerimientos,6,FALSE)","v":""},{"$f":"+IF(A116=\"T\",Q116=V119,V113)","v":false},{"$f":"+W119*VLOOKUP(U119,MatrizRequerimientos,8,FALSE)","v":0},{"$f":"+W119*VLOOKUP(U119,MatrizRequerimientos,9,FALSE)","v":0}]
["T",10,null,null,null,{"$f":"+IF(H120=\"No\",\"¿OTROS REQUERIMIENTOS SIMULTÁNEOS?\",\"REQUERIMIENTOS SIMULTANEOS PARA LA OPCION\")","v":"¿OTROS REQUERIMIENTOS SIMULTÁNEOS?"},null,{"$f":"IF(VLOOKUP(B120,'Resumen requerimientos'!$T$5:$AB$96,7,FALSE)=0,\"No\",CONCATENATE(VLOOKUP(B120,'Resumen requerimientos'!$T$5:$AB$96,7,FALSE), \" de \",VLOOKUP(B120,'Resumen requerimientos'!$T$5:$AB$96,8,FALSE)))","v":"No"},null,null,null,null,null,null,null,null,null,null,null,null,{"$f":"+CONCATENATE(B120,\".\",5)","v":"10.5"},{"$f":"+VLOOKUP(U120,MatrizRequerimientos,6,FALSE)","v":""},{"$f":"+IF(A117=\"T\",Q116=V120,V114)","v":false},{"$f":"+W120*VLOOKUP(U120,MatrizRequerimientos,8,FALSE)","v":0},{"$f":"+W120*VLOOKUP(U120,MatrizRequerimientos,9,FALSE)","v":0}]
["T",10,null,null,null,null,null,null,null,null,null,null,null,null,null,null,null,null,null,null,{"$f":"+CONCATENATE(B121,\".\",6)","v":"10.6"},{"$f":"+VLOOKUP(U121,MatrizRequerimientos,6,FALSE)","v":""},{"$f":"+IF(A118=\"T\",Q116=V121,V115)","v":false},{"$f":"+W121*VLOOKUP(U121,MatrizRequerimientos,8,FALSE)","v":0},{"$f":"+W121*VLOOKUP(U121,MatrizRequerimientos,9,FALSE)","v":0}]
["T",10,null,null,null,"REQUERIMIENTO ADICIONAL",null,{"$f":"VLOOKUP(B122,'Resumen requerimientos'!$T$5:$AB$96,9,FALSE)","v":"No"},null,null,null,null,null,null,null,null,null,null,null,null,{"$f":"+CONCATENATE(B122,\".\",7)","v":"10.7"},{"$f":"+VLOOKUP(U122,MatrizRequerimientos,6,FALSE)","v":"No Aplica"},{"$f":"+IF(A119=\"T\",Q116=V122,V116)","v":true},{"$f":"+W122*VLOOKUP(U122,MatrizRequerimientos,8,FALSE)","v":0},{"$f":"+W122*VLOOKUP(U122,MatrizRequerimientos,9,FALSE)","v":0}]
["T",10,null,null,null,null,null,null,null,null,null,null,null,null,null,null,null,null,null,null,null,null,{"$f":"+IF(AND(A119=\"N\",H111=\"Voluntario\"),SUMIF(W119:W122,TRUE,IF(Uso_Edificio=\"Oficinas\",X119:X122,Y119:Y122)),IF(AND(A119=\"T\",H111=\"Obligatorio\"),VLOOKUP(Q116,V119:X122,3,FALSE)=1,W119))","v":false}]
["T",10]
["T",10,null,null,"Volver al índice"]
["N",{"$f":"+IF(F125=\"\",B125+1,B125)","v":11},null,"ARQ.CAI 3.2 - CONCENTRACIONES DE COMPUESTOS ORGÁNICOS  VOLÁTILES",null,null,null,null,null,null,null,null,null,null,null,null,null,null,"ARQ.CAI 3.2 - CONCENTRACIONES DE COMPUESTOS ORGÁNICOS VOLÁTILES"]
["N",{"$f":"+B126","v":11},null,null,null,"Tipo requerimiento",null,{"$f":"+IF(VLOOKUP(B126,TablaResumen[],4)=\"C\",\"Voluntario\",\"Obligatorio\")","v":"Voluntario"},null,null,null,null,null,null,null,null,null,null,null,null,null,"Puntaje crédito numérico"]
["N",{"$f":"+B127","v":11},null,null,null,null,null,null,null,null,null,null,null,{"$f":"+IF(H127=\"Obligatorio\",\"Cumple Requisito\",\"Puntaje obtenido\")","v":"Puntaje obtenido"},null,null,{"$f":"+IF(H127=\"Obligatorio\",W139,IF(A129=\"N\",IF(Uso_Edificio=\"Oficinas\",SUM(W129:W132),SUM(X129:X132)),IF(Uso_Edificio=\"Oficinas\",SUM(X135:X138),SUM(Y135:Y138))))","v":0},null,null,null,null,"Calificación","Of. Y Serv.","Ed. Y Salud"]
["N",11,null,null,null,"Nombre Requerimiento",null,{"$f":"+VLOOKUP(B131,TablaResumen[],16,0)","v":"Concentraciones de compuestos orgánicos volátiles"},null,null,null,null,null,null,null,null,{"$f":"+IF(H126=\"Requisito\",W138,IF(#REF!=\"N\",IF(Uso_Edificio=\"Oficinas\",SUM(W128:W131),SUM(X128:X131)),IF(Uso_Edificio=\"Oficinas\",SUM(X134:X137),SUM(Y134:Y137))))","v":{"$error":"#REF!"}},null,null,null,{"$f":"+CONCATENATE(B129,\".\",4)","v":"11.4"},{"$f":"+AND(Q132>VLOOKUP(U129,MatrizRequerimientos,10,FALSE),Q132<=VLOOKUP(U129,MatrizRequerimientos,11,FALSE))","v":false},{"$f":"+V129*VLOOKUP(U129,MatrizRequerimientos,8,FALSE)","v":0},{"$f":"+V129*VLOOKUP(U129,MatrizRequerimientos,9,FALSE)","v":0}]
["N",11,null,null,null,null,null,null,null,null,null,null,null,null,null,null,{"$f":"+IF(H127=\"Requisito\",W139,IF(A126=\"N\",IF(Uso_Edificio=\"Oficinas\",SUM(W129:W132),SUM(X129:X132)),IF(Uso_Edificio=\"Oficinas\",SUM(X135:X138),SUM(Y135:Y138))))","v":0},null,null,null,{"$f":"+CONCATENATE(B130,\".\",5)","v":"11.5"},{"$f":"+AND(Q132>VLOOKUP(U130,MatrizRequerimientos,10,FALSE),Q132<=VLOOKUP(U130,MatrizRequerimientos,11,FALSE))","v":false},{"$f":"+V130*VLOOKUP(U130,MatrizRequerimientos,8,FALSE)","v":0},{"$f":"+V130*VLOOKUP(U130,MatrizRequerimientos,9,FALSE)","v":0}]
["N",11,null,null,null,"Indicador",null,{"$f":"+VLOOKUP(B132,TablaResumen[],21,0)","v":"Nº de grupos que cumplen con las características Opción 1"},null,null,null,null,null,null,null,null,null,null,null,null,{"$f":"+CONCATENATE(B131,\".\",6)","v":"11.6"},{"$f":"+AND(Q132>VLOOKUP(U131,MatrizRequerimientos,10,FALSE),Q132<=VLOOKUP(U131,MatrizRequerimientos,11,FALSE))","v":false},{"$f":"+V131*VLOOKUP(U131,MatrizRequerimientos,8,FALSE)","v":0},{"$f":"+V131*VLOOKUP(U131,MatrizRequerimientos,9,FALSE)","v":0}]
["N",11,null,null,null,null,null,null,null,null,null,null,null,{"$f":"+IF(A131=\"N\",CONCATENATE(\"Valor obtenido en proyecto para \",H131),\"Seleccione Nivel de Cumplimiento\")","v":"Valor obtenido en proyecto para Nº de grupos que cumplen con las características Opción 1"},null,null,null,null,null,null,{"$f":"+CONCATENATE(B132,\".\",7)","v":"11.7"},{"$f":"+AND(Q132>VLOOKUP(U132,MatrizRequerimientos,10,FALSE),Q132<=VLOOKUP(U132,MatrizRequerimientos,11,FALSE))","v":false},{"$f":"+V132*VLOOKUP(U132,MatrizRequerimientos,8,FALSE)","v":0},{"$f":"+V132*VLOOKUP(U132,MatrizRequerimientos,9,FALSE)","v":0}]
["N",11]
["N",11,null,null,null,"OPCIÓN ",null,{"$f":"CONCATENATE(VLOOKUP(B134,'Resumen requerimientos'!$T$5:$AB$96,5,FALSE), \" de \",VLOOKUP(B134,'Resumen requerimientos'!$T$5:$AB$96,6,FALSE))","v":"1 de 3"},null,null,null,null,null,null,null,null,null,null,null,null,null,null,null,"Of. Y Serv.","Ed. Y Salud"]
["N",11,null,null,null,null,null,null,null,null,null,null,null,null,null,null,null,null,null,null,{"$f":"+CONCATENATE(B135,\".\",4)","v":"11.4"},{"$f":"+VLOOKUP(U135,MatrizRequerimientos,6,FALSE)","v":"4,999-5"},{"$f":"+IF(A132=\"T\",Q132=V135,V129)","v":false},{"$f":"+W135*VLOOKUP(U135,MatrizRequerimientos,8,FALSE)","v":0},{"$f":"+W135*VLOOKUP(U135,MatrizRequerimientos,9,FALSE)","v":0}]
["N",11,null,null,null,{"$f":"+IF(H136=\"No\",\"¿OTROS REQUERIMIENTOS SIMULTÁNEOS?\",\"REQUERIMIENTOS SIMULTANEOS PARA LA OPCION\")","v":"¿OTROS REQUERIMIENTOS SIMULTÁNEOS?"},null,{"$f":"IF(VLOOKUP(B136,'Resumen requerimientos'!$T$5:$AB$96,7,FALSE)=0,\"No\",CONCATENATE(VLOOKUP(B136,'Resumen requerimientos'!$T$5:$AB$96,7,FALSE), \" de \",VLOOKUP(B136,'Resumen requerimientos'!$T$5:$AB$96,8,FALSE)))","v":"No"},null,null,null,null,null,null,null,null,null,null,null,null,{"$f":"+CONCATENATE(B136,\".\",5)","v":"11.5"},{"$f":"+VLOOKUP(U136,MatrizRequerimientos,6,FALSE)","v":"2,999-4"},{"$f":"+IF(A133=\"T\",Q132=V136,V130)","v":false},{"$f":"+W136*VLOOKUP(U136,MatrizRequerimientos,8,FALSE)","v":0},{"$f":"+W136*VLOOKUP(U136,MatrizRequerimientos,9,FALSE)","v":0}]
["N",11,null,null,null,null,null,null,null,null,null,null,null,null,null,null,null,null,null,null,{"$f":"+CONCATENATE(B137,\".\",6)","v":"11.6"},{"$f":"+VLOOKUP(U137,MatrizRequerimientos,6,FALSE)","v":"1,999-2"},{"$f":"+IF(A134=\"T\",Q132=V137,V131)","v":false},{"$f":"+W137*VLOOKUP(U137,MatrizRequerimientos,8,FALSE)","v":0},{"$f":"+W137*VLOOKUP(U137,MatrizRequerimientos,9,FALSE)","v":0}]
["N",11,null,null,null,"REQUERIMIENTO ADICIONAL",null,{"$f":"VLOOKUP(B138,'Resumen requerimientos'!$T$5:$AB$96,9,FALSE)","v":"No"},null,null,null,null,null,null,null,null,null,null,null,null,{"$f":"+CONCATENATE(B138,\".\",7)","v":"11.7"},{"$f":"+VLOOKUP(U138,MatrizRequerimientos,6,FALSE)","v":0},{"$f":"+IF(A135=\"T\",Q132=V138,V132)","v":false},{"$f":"+W138*VLOOKUP(U138,MatrizRequerimientos,8,FALSE)","v":0},{"$f":"+W138*VLOOKUP(U138,MatrizRequerimientos,9,FALSE)","v":0}]
["N",11,null,null,null,null,null,null,null,null,null,null,null,null,null,null,null,null,null,null,null,null,{"$f":"+IF(AND(A135=\"N\",H127=\"Voluntario\"),SUMIF(W135:W138,TRUE,IF(Uso_Edificio=\"Oficinas\",X135:X138,Y135:Y138)),IF(AND(A135=\"T\",H127=\"Obligatorio\"),VLOOKUP(Q132,V135:X138,3,FALSE)=1,W135))","v":0}]
["N",11]
["N",12]
["N",{"$f":"+B141","v":12},null,null,null,"Tipo requerimiento",null,{"$f":"+IF(VLOOKUP(B141,TablaResumen[],4)=\"C\",\"Voluntario\",\"Obligatorio\")","v":"Voluntario"},null,null,null,null,null,null,null,null,null,null,null,null,null,"Puntaje crédito numérico"]
["N",{"$f":"+B142","v":12},null,null,null,null,null,null,null,null,null,null,null,{"$f":"+IF(H142=\"Obligatorio\",\"Cumple Requisito\",\"Puntaje obtenido\")","v":"Puntaje obtenido"},null,null,{"$f":"+IF(H142=\"Obligatorio\",W154,IF(A144=\"N\",IF(Uso_Edificio=\"Oficinas\",SUM(W144:W147),SUM(X144:X147)),IF(Uso_Edificio=\"Oficinas\",SUM(X150:X153),SUM(Y150:Y153))))","v":0},null,null,null,null,"Calificación","Of. Y Serv.","Ed. Y Salud"]
["N",12,null,null,null,"Nombre Requerimiento",null,{"$f":"+VLOOKUP(B146,TablaResumen[],16,0)","v":"Concentraciones de compuestos orgánicos volátiles"},null,null,null,null,null,null,null,null,{"$f":"+IF(H141=\"Requisito\",W153,IF(#REF!=\"N\",IF(Uso_Edificio=\"Oficinas\",SUM(W143:W146),SUM(X143:X146)),IF(Uso_Edificio=\"Oficinas\",SUM(X149:X152),SUM(Y149:Y152))))","v":{"$error":"#REF!"}},null,null,null,{"$f":"+CONCATENATE(B144,\".\",4)","v":"12.4"},{"$f":"+AND(Q147>VLOOKUP(U144,MatrizRequerimientos,10,FALSE),Q147<=VLOOKUP(U144,MatrizRequerimientos,11,FALSE))","v":false},{"$f":"+V144*VLOOKUP(U144,MatrizRequerimientos,8,FALSE)","v":0},{"$f":"+V144*VLOOKUP(U144,MatrizRequerimientos,9,FALSE)","v":0}]
["N",12,null,null,null,null,null,null,null,null,null,null,null,null,null,null,{"$f":"+IF(H142=\"Requisito\",W154,IF(A141=\"N\",IF(Uso_Edificio=\"Oficinas\",SUM(W144:W147),SUM(X144:X147)),IF(Uso_Edificio=\"Oficinas\",SUM(X150:X153),SUM(Y150:Y153))))","v":0},null,null,null,{"$f":"+CONCATENATE(B145,\".\",5)","v":"12.5"},{"$f":"+AND(Q147>VLOOKUP(U145,MatrizRequerimientos,10,FALSE),Q147<=VLOOKUP(U145,MatrizRequerimientos,11,FALSE))","v":false},{"$f":"+V145*VLOOKUP(U145,MatrizRequerimientos,8,FALSE)","v":0},{"$f":"+V145*VLOOKUP(U145,MatrizRequerimientos,9,FALSE)","v":0}]
["N",12,null,null,null,"Indicador",null,{"$f":"+VLOOKUP(B147,TablaResumen[],21,0)","v":"Nº de grupos que cumplen con la concentración límite de COV de Opción 2"},null,null,null,null,null,null,null,null,null,null,null,null,{"$f":"+CONCATENATE(B146,\".\",6)","v":"12.6"},{"$f":"+AND(Q147>VLOOKUP(U146,MatrizRequerimientos,10,FALSE),Q147<=VLOOKUP(U146,MatrizRequerimientos,11,FALSE))","v":false},{"$f":"+V146*VLOOKUP(U146,MatrizRequerimientos,8,FALSE)","v":0},{"$f":"+V146*VLOOKUP(U146,MatrizRequerimientos,9,FALSE)","v":0}]
["N",12,null,null,null,null,null,null,null,null,null,null,null,{"$f":"+IF(A146=\"N\",CONCATENATE(\"Valor obtenido en proyecto para \",H146),\"Seleccione Nivel de Cumplimiento\")","v":"Valor obtenido en proyecto para Nº de grupos que cumplen con la concentración límite de COV de Opción 2"},null,null,null,null,null,null,{"$f":"+CONCATENATE(B147,\".\",7)","v":"12.7"},{"$f":"+AND(Q147>VLOOKUP(U147,MatrizRequerimientos,10,FALSE),Q147<=VLOOKUP(U147,MatrizRequerimientos,11,FALSE))","v":false},{"$f":"+V147*VLOOKUP(U147,MatrizRequerimientos,8,FALSE)","v":0},{"$f":"+V147*VLOOKUP(U147,MatrizRequerimientos,9,FALSE)","v":0}]
["N",12]
["N",12,null,null,null,"OPCIÓN ",null,{"$f":"CONCATENATE(VLOOKUP(B149,'Resumen requerimientos'!$T$5:$AB$96,5,FALSE), \" de \",VLOOKUP(B149,'Resumen requerimientos'!$T$5:$AB$96,6,FALSE))","v":"2 de 3"},null,null,null,null,null,null,null,null,null,null,null,null,null,null,null,"Of. Y Serv.","Ed. Y Salud"]
["N",12,null,null,null,null,null,null,null,null,null,null,null,null,null,null,null,null,null,null,{"$f":"+CONCATENATE(B150,\".\",4)","v":"12.4"},{"$f":"+VLOOKUP(U150,MatrizRequerimientos,6,FALSE)","v":"4,999-5"},{"$f":"+IF(A147=\"T\",Q147=V150,V144)","v":false},{"$f":"+W150*VLOOKUP(U150,MatrizRequerimientos,8,FALSE)","v":0},{"$f":"+W150*VLOOKUP(U150,MatrizRequerimientos,9,FALSE)","v":0}]
["N",12,null,null,null,{"$f":"+IF(H151=\"No\",\"¿OTROS REQUERIMIENTOS SIMULTÁNEOS?\",\"REQUERIMIENTOS SIMULTANEOS PARA LA OPCION\")","v":"¿OTROS REQUERIMIENTOS SIMULTÁNEOS?"},null,{"$f":"IF(VLOOKUP(B151,'Resumen requerimientos'!$T$5:$AB$96,7,FALSE)=0,\"No\",CONCATENATE(VLOOKUP(B151,'Resumen requerimientos'!$T$5:$AB$96,7,FALSE), \" de \",VLOOKUP(B151,'Resumen requerimientos'!$T$5:$AB$96,8,FALSE)))","v":"No"},null,null,null,null,null,null,null,null,null,null,null,null,{"$f":"+CONCATENATE(B151,\".\",5)","v":"12.5"},{"$f":"+VLOOKUP(U151,MatrizRequerimientos,6,FALSE)","v":"2,999-4"},{"$f":"+IF(A148=\"T\",Q147=V151,V145)","v":false},{"$f":"+W151*VLOOKUP(U151,MatrizRequerimientos,8,FALSE)","v":0},{"$f":"+W151*VLOOKUP(U151,MatrizRequerimientos,9,FALSE)","v":0}]
["N",12,null,null,null,null,null,null,null,null,null,null,null,null,null,null,null,null,null,null,{"$f":"+CONCATENATE(B152,\".\",6)","v":"12.6"},{"$f":"+VLOOKUP(U152,MatrizRequerimientos,6,FALSE)","v":"1,999-2"},{"$f":"+IF(A149=\"T\",Q147=V152,V146)","v":false},{"$f":"+W152*VLOOKUP(U152,MatrizRequerimientos,8,FALSE)","v":0},{"$f":"+W152*VLOOKUP(U152,MatrizRequerimientos,9,FALSE)","v":0}]
["N",12,null,null,null,"REQUERIMIENTO ADICIONAL",null,{"$f":"VLOOKUP(B153,'Resumen requerimientos'!$T$5:$AB$96,9,FALSE)","v":"No"},null,null,null,null,null,null,null,null,null,null,null,null,{"$f":"+CONCATENATE(B153,\".\",7)","v":"12.7"},{"$f":"+VLOOKUP(U153,MatrizRequerimientos,6,FALSE)","v":0},{"$f":"+IF(A150=\"T\",Q147=V153,V147)","v":false},{"$f":"+W153*VLOOKUP(U153,MatrizRequerimientos,8,FALSE)","v":0},{"$f":"+W153*VLOOKUP(U153,MatrizRequerimientos,9,FALSE)","v":0}]
["N",12,null,null,null,null,null,null,null,null,null,null,null,null,null,null,null,null,null,null,null,null,{"$f":"+IF(AND(A150=\"N\",H142=\"Voluntario\"),SUMIF(W150:W153,TRUE,IF(Uso_Edificio=\"Oficinas\",X150:X153,Y150:Y153)),IF(AND(A150=\"T\",H142=\"Obligatorio\"),VLOOKUP(Q147,V150:X153,3,FALSE)=1,W150))","v":0}]
["N",12]
["N",13]
["N",{"$f":"+B156","v":13},null,null,null,"Tipo requerimiento",null,{"$f":"+IF(VLOOKUP(B156,TablaResumen[],4)=\"C\",\"Voluntario\",\"Obligatorio\")","v":"Voluntario"},null,null,null,null,null,null,null,null,null,null,null,null,null,"Puntaje crédito numérico"]
["N",{"$f":"+B157","v":13},null,null,null,null,null,null,null,null,null,null,null,{"$f":"+IF(H157=\"Obligatorio\",\"Cumple Requisito\",\"Puntaje obtenido\")","v":"Puntaje obtenido"},null,null,{"$f":"+IF(H157=\"Obligatorio\",W169,IF(A159=\"N\",IF(Uso_Edificio=\"Oficinas\",SUM(W159:W162),SUM(X159:X162)),IF(Uso_Edificio=\"Oficinas\",SUM(X165:X168),SUM(Y165:Y168))))","v":0},null,null,null,null,"Calificación","Of. Y Serv.","Ed. Y Salud"]
["N",13,null,null,null,"Nombre Requerimiento",null,{"$f":"+VLOOKUP(B161,TablaResumen[],16,0)","v":"Concentraciones de compuestos orgánicos volátiles"},null,null,null,null,null,null,null,null,{"$f":"+IF(H156=\"Requisito\",W168,IF(#REF!=\"N\",IF(Uso_Edificio=\"Oficinas\",SUM(W158:W161),SUM(X158:X161)),IF(Uso_Edificio=\"Oficinas\",SUM(X164:X167),SUM(Y164:Y167))))","v":{"$error":"#REF!"}},null,null,null,{"$f":"+CONCATENATE(B159,\".\",4)","v":"13.4"},{"$f":"+AND(Q162>VLOOKUP(U159,MatrizRequerimientos,10,FALSE),Q162<=VLOOKUP(U159,MatrizRequerimientos,11,FALSE))","v":false},{"$f":"+V159*VLOOKUP(U159,MatrizRequerimientos,8,FALSE)","v":0},{"$f":"+V159*VLOOKUP(U159,MatrizRequerimientos,9,FALSE)","v":0}]
["N",13,null,null,null,null,null,null,null,null,null,null,null,null,null,null,{"$f":"+IF(H157=\"Requisito\",W169,IF(A156=\"N\",IF(Uso_Edificio=\"Oficinas\",SUM(W159:W162),SUM(X159:X162)),IF(Uso_Edificio=\"Oficinas\",SUM(X165:X168),SUM(Y165:Y168))))","v":0},null,null,null,{"$f":"+CONCATENATE(B160,\".\",5)","v":"13.5"},{"$f":"+AND(Q162>VLOOKUP(U160,MatrizRequerimientos,10,FALSE),Q162<=VLOOKUP(U160,MatrizRequerimientos,11,FALSE))","v":false},{"$f":"+V160*VLOOKUP(U160,MatrizRequerimientos,8,FALSE)","v":0},{"$f":"+V160*VLOOKUP(U160,MatrizRequerimientos,9,FALSE)","v":0}]
["N",13,null,null,null,"Indicador",null,{"$f":"+VLOOKUP(B162,TablaResumen[],21,0)","v":"Reducción de la concentración ponderada de COV"},null,null,null,null,null,null,null,null,null,null,null,null,{"$f":"+CONCATENATE(B161,\".\",6)","v":"13.6"},{"$f":"+AND(Q162>VLOOKUP(U161,MatrizRequerimientos,10,FALSE),Q162<=VLOOKUP(U161,MatrizRequerimientos,11,FALSE))","v":false},{"$f":"+V161*VLOOKUP(U161,MatrizRequerimientos,8,FALSE)","v":0},{"$f":"+V161*VLOOKUP(U161,MatrizRequerimientos,9,FALSE)","v":0}]
["N",13,null,null,null,null,null,null,null,null,null,null,null,{"$f":"+IF(A161=\"N\",CONCATENATE(\"Valor obtenido en proyecto para \",H161),\"Seleccione Nivel de Cumplimiento\")","v":"Valor obtenido en proyecto para Reducción de la concentración ponderada de COV"},null,null,null,null,null,null,{"$f":"+CONCATENATE(B162,\".\",7)","v":"13.7"},{"$f":"+AND(Q162>VLOOKUP(U162,MatrizRequerimientos,10,FALSE),Q162<=VLOOKUP(U162,MatrizRequerimientos,11,FALSE))","v":false},{"$f":"+V162*VLOOKUP(U162,MatrizRequerimientos,8,FALSE)","v":0},{"$f":"+V162*VLOOKUP(U162,MatrizRequerimientos,9,FALSE)","v":0}]
["N",13]
["N",13,null,null,null,"OPCIÓN ",null,{"$f":"CONCATENATE(VLOOKUP(B164,'Resumen requerimientos'!$T$5:$AB$96,5,FALSE), \" de \",VLOOKUP(B164,'Resumen requerimientos'!$T$5:$AB$96,6,FALSE))","v":"3 de 3"},null,null,null,null,null,null,null,null,null,null,null,null,null,null,null,"Of. Y Serv.","Ed. Y Salud"]
["N",13,null,null,null,null,null,null,null,null,null,null,null,null,null,null,null,null,null,null,{"$f":"+CONCATENATE(B165,\".\",4)","v":"13.4"},{"$f":"+VLOOKUP(U165,MatrizRequerimientos,6,FALSE)","v":"39,999%-100%"},{"$f":"+IF(A162=\"T\",Q162=V165,V159)","v":false},{"$f":"+W165*VLOOKUP(U165,MatrizRequerimientos,8,FALSE)","v":0},{"$f":"+W165*VLOOKUP(U165,MatrizRequerimientos,9,FALSE)","v":0}]
["N",13,null,null,null,{"$f":"+IF(H166=\"No\",\"¿OTROS REQUERIMIENTOS SIMULTÁNEOS?\",\"REQUERIMIENTOS SIMULTANEOS PARA LA OPCION\")","v":"¿OTROS REQUERIMIENTOS SIMULTÁNEOS?"},null,{"$f":"IF(VLOOKUP(B166,'Resumen requerimientos'!$T$5:$AB$96,7,FALSE)=0,\"No\",CONCATENATE(VLOOKUP(B166,'Resumen requerimientos'!$T$5:$AB$96,7,FALSE), \" de \",VLOOKUP(B166,'Resumen requerimientos'!$T$5:$AB$96,8,FALSE)))","v":"No"},null,null,null,null,null,null,null,null,null,null,null,null,{"$f":"+CONCATENATE(B166,\".\",5)","v":"13.5"},{"$f":"+VLOOKUP(U166,MatrizRequerimientos,6,FALSE)","v":"19,999%-39,999%"},{"$f":"+IF(A163=\"T\",Q162=V166,V160)","v":false},{"$f":"+W166*VLOOKUP(U166,MatrizRequerimientos,8,FALSE)","v":0},{"$f":"+W166*VLOOKUP(U166,MatrizRequerimientos,9,FALSE)","v":0}]
["N",13,null,null,null,null,null,null,null,null,null,null,null,null,null,null,null,null,null,null,{"$f":"+CONCATENATE(B167,\".\",6)","v":"13.6"},{"$f":"+VLOOKUP(U167,MatrizRequerimientos,6,FALSE)","v":"9,999%-19,999%"},{"$f":"+IF(A164=\"T\",Q162=V167,V161)","v":false},{"$f":"+W167*VLOOKUP(U167,MatrizRequerimientos,8,FALSE)","v":0},{"$f":"+W167*VLOOKUP(U167,MatrizRequerimientos,9,FALSE)","v":0}]
["N",13,null,null,null,"REQUERIMIENTO ADICIONAL",null,{"$f":"VLOOKUP(B168,'Resumen requerimientos'!$T$5:$AB$96,9,FALSE)","v":"No"},null,null,null,null,null,null,null,null,null,null,null,null,{"$f":"+CONCATENATE(B168,\".\",7)","v":"13.7"},{"$f":"+VLOOKUP(U168,MatrizRequerimientos,6,FALSE)","v":0},{"$f":"+IF(A165=\"T\",Q162=V168,V162)","v":false},{"$f":"+W168*VLOOKUP(U168,MatrizRequerimientos,8,FALSE)","v":0},{"$f":"+W168*VLOOKUP(U168,MatrizRequerimientos,9,FALSE)","v":0}]
["N",13,null,null,null,null,null,null,null,null,null,null,null,null,null,null,null,null,null,null,null,null,{"$f":"+IF(AND(A165=\"N\",H157=\"Voluntario\"),SUMIF(W165:W168,TRUE,IF(Uso_Edificio=\"Oficinas\",X165:X168,Y165:Y168)),IF(AND(A165=\"T\",H157=\"Obligatorio\"),VLOOKUP(Q162,V165:X168,3,FALSE)=1,W165))","v":0}]
["N",13]
["N",13,null,null,"Volver al índice"]
["N",16,null,"ARQ.CAI 4.1 - AISLAMIENTO ACÚSTICO",null,null,null,null,null,null,null,null,null,null,null,null,null,null,"ARQ.CAI 4.1 - AISLAMIENTO ACÚSTICO"]
["N",{"$f":"+B172","v":16},null,null,null,"Tipo requerimiento",null,{"$f":"+IF(VLOOKUP(B172,TablaResumen[],4)=\"C\",\"Voluntario\",\"Obligatorio\")","v":"Voluntario"},null,null,null,null,null,null,null,null,null,null,null,null,null,"Puntaje crédito numérico"]
["N",{"$f":"+B173","v":16},null,null,null,null,null,null,null,null,null,null,null,{"$f":"+IF(H173=\"Obligatorio\",\"Cumple Requisito\",\"Puntaje obtenido\")","v":"Puntaje obtenido"},null,null,{"$f":"+IF(H173=\"Obligatorio\",W185,IF(A175=\"N\",IF(Uso_Edificio=\"Oficinas\",SUM(W175:W178),SUM(X175:X178)),IF(Uso_Edificio=\"Oficinas\",SUM(X181:X184),SUM(Y181:Y184))))","v":0},null,null,null,null,"Calificación","Of. Y Serv.","Ed. Y Salud"]
["N",16,null,null,null,"Nombre Requerimiento",null,{"$f":"+VLOOKUP(B177,TablaResumen[],16,0)","v":"Aislamiento acústico"},null,null,null,null,null,null,null,null,{"$f":"+IF(H172=\"Requisito\",W184,IF(#REF!=\"N\",IF(Uso_Edificio=\"Oficinas\",SUM(W174:W177),SUM(X174:X177)),IF(Uso_Edificio=\"Oficinas\",SUM(X180:X183),SUM(Y180:Y183))))","v":{"$error":"#REF!"}},null,null,null,{"$f":"+CONCATENATE(B175,\".\",4)","v":"16.4"},{"$f":"+AND(Q178>VLOOKUP(U175,MatrizRequerimientos,10,FALSE),Q178<=VLOOKUP(U175,MatrizRequerimientos,11,FALSE))","v":false},{"$f":"+V175*VLOOKUP(U175,MatrizRequerimientos,8,FALSE)","v":0},{"$f":"+V175*VLOOKUP(U175,MatrizRequerimientos,9,FALSE)","v":0}]
["N",16,null,null,null,null,null,null,null,null,null,null,null,null,null,null,{"$f":"+IF(H173=\"Requisito\",W185,IF(A172=\"N\",IF(Uso_Edificio=\"Oficinas\",SUM(W175:W178),SUM(X175:X178)),IF(Uso_Edificio=\"Oficinas\",SUM(X181:X184),SUM(Y181:Y184))))","v":0},null,null,null,{"$f":"+CONCATENATE(B176,\".\",5)","v":"16.5"},{"$f":"+AND(Q178>VLOOKUP(U176,MatrizRequerimientos,10,FALSE),Q178<=VLOOKUP(U176,MatrizRequerimientos,11,FALSE))","v":false},{"$f":"+V176*VLOOKUP(U176,MatrizRequerimientos,8,FALSE)","v":0},{"$f":"+V176*VLOOKUP(U176,MatrizRequerimientos,9,FALSE)","v":0}]
["N",16,null,null,null,"Indicador",null,{"$f":"+VLOOKUP(B178,TablaResumen[],21,0)","v":"Aislamiento acústico de fachada [dB(A)]"},null,null,null,null,null,null,null,null,null,null,null,null,{"$f":"+CONCATENATE(B177,\".\",6)","v":"16.6"},{"$f":"+AND(Q178>VLOOKUP(U177,MatrizRequerimientos,10,FALSE),Q178<=VLOOKUP(U177,MatrizRequerimientos,11,FALSE))","v":false},{"$f":"+V177*VLOOKUP(U177,MatrizRequerimientos,8,FALSE)","v":0},{"$f":"+V177*VLOOKUP(U177,MatrizRequerimientos,9,FALSE)","v":0}]
["N",16,null,null,null,null,null,null,null,null,null,null,null,{"$f":"+IF(A177=\"N\",CONCATENATE(\"Valor obtenido en proyecto para \",H177),\"Seleccione Nivel de Cumplimiento\")","v":"Valor obtenido en proyecto para Aislamiento acústico de fachada [dB(A)]"},null,null,null,null,null,null,{"$f":"+CONCATENATE(B178,\".\",7)","v":"16.7"},{"$f":"+AND(Q178>VLOOKUP(U178,MatrizRequerimientos,10,FALSE),Q178<=VLOOKUP(U178,MatrizRequerimientos,11,FALSE))","v":false},{"$f":"+V178*VLOOKUP(U178,MatrizRequerimientos,8,FALSE)","v":0},{"$f":"+V178*VLOOKUP(U178,MatrizRequerimientos,9,FALSE)","v":0}]
["N",16]
["N",16,null,null,null,"OPCIÓN ",null,{"$f":"CONCATENATE(VLOOKUP(B180,'Resumen requerimientos'!$T$5:$AB$96,5,FALSE), \" de \",VLOOKUP(B180,'Resumen requerimientos'!$T$5:$AB$96,6,FALSE))","v":"1 de 1"},null,null,null,null,null,null,null,null,null,null,null,null,null,null,null,"Of. Y Serv.","Ed. Y Salud"]
["N",16,null,null,null,null,null,null,null,null,null,null,null,null,null,null,null,null,null,null,{"$f":"+CONCATENATE(B181,\".\",4)","v":"16.4"},{"$f":"+VLOOKUP(U181,MatrizRequerimientos,6,FALSE)","v":"34,99999-100"},{"$f":"+IF(A178=\"T\",Q178=V181,V175)","v":false},{"$f":"+W181*VLOOKUP(U181,MatrizRequerimientos,8,FALSE)","v":0},{"$f":"+W181*VLOOKUP(U181,MatrizRequerimientos,9,FALSE)","v":0}]
["N",16,null,null,null,{"$f":"+IF(H182=\"No\",\"¿OTROS REQUERIMIENTOS SIMULTÁNEOS?\",\"REQUERIMIENTOS SIMULTANEOS PARA LA OPCION\")","v":"REQUERIMIENTOS SIMULTANEOS PARA LA OPCION"},null,{"$f":"IF(VLOOKUP(B182,'Resumen requerimientos'!$T$5:$AB$96,7,FALSE)=0,\"No\",CONCATENATE(VLOOKUP(B182,'Resumen requerimientos'!$T$5:$AB$96,7,FALSE), \" de \",VLOOKUP(B182,'Resumen requerimientos'!$T$5:$AB$96,8,FALSE)))","v":"1 de 1"},null,null,null,null,null,null,null,null,null,null,null,null,{"$f":"+CONCATENATE(B182,\".\",5)","v":"16.5"},{"$f":"+VLOOKUP(U182,MatrizRequerimientos,6,FALSE)","v":"29,99999-34,99999"},{"$f":"+IF(A179=\"T\",Q178=V182,V176)","v":false},{"$f":"+W182*VLOOKUP(U182,MatrizRequerimientos,8,FALSE)","v":0},{"$f":"+W182*VLOOKUP(U182,MatrizRequerimientos,9,FALSE)","v":0}]
["N",16,null,null,null,null,null,null,null,null,null,null,null,null,null,null,null,null,null,null,{"$f":"+CONCATENATE(B183,\".\",6)","v":"16.6"},{"$f":"+VLOOKUP(U183,MatrizRequerimientos,6,FALSE)","v":0},{"$f":"+IF(A180=\"T\",Q178=V183,V177)","v":false},{"$f":"+W183*VLOOKUP(U183,MatrizRequerimientos,8,FALSE)","v":0},{"$f":"+W183*VLOOKUP(U183,MatrizRequerimientos,9,FALSE)","v":0}]
["N",16,null,null,null,"REQUERIMIENTO ADICIONAL",null,{"$f":"VLOOKUP(B184,'Resumen requerimientos'!$T$5:$AB$96,9,FALSE)","v":"No"},null,null,null,null,null,null,null,null,null,null,null,null,{"$f":"+CONCATENATE(B184,\".\",7)","v":"16.7"},{"$f":"+VLOOKUP(U184,MatrizRequerimientos,6,FALSE)","v":0},{"$f":"+IF(A181=\"T\",Q178=V184,V178)","v":false},{"$f":"+W184*VLOOKUP(U184,MatrizRequerimientos,8,FALSE)","v":0},{"$f":"+W184*VLOOKUP(U184,MatrizRequerimientos,9,FALSE)","v":0}]
["N",16,null,null,null,null,null,null,null,null,null,null,null,null,null,null,null,null,null,null,null,null,{"$f":"+IF(AND(A181=\"N\",H173=\"Voluntario\"),SUMIF(W181:W184,TRUE,IF(Uso_Edificio=\"Oficinas\",X181:X184,Y181:Y184)),IF(AND(A181=\"T\",H173=\"Obligatorio\"),VLOOKUP(Q178,V181:X184,3,FALSE)=1,W181))","v":0}]
["N",16]
["N",17]
["N",{"$f":"+B187","v":17},null,null,null,"Tipo requerimiento",null,{"$f":"+IF(VLOOKUP(B187,TablaResumen[],4)=\"C\",\"Voluntario\",\"Obligatorio\")","v":"Voluntario"},null,null,null,null,null,null,null,null,null,null,null,null,null,"Puntaje crédito numérico"]
["N",{"$f":"+B188","v":17},null,null,null,null,null,null,null,null,null,null,null,{"$f":"+IF(H188=\"Obligatorio\",\"Cumple Requisito\",\"Puntaje obtenido\")","v":"Puntaje obtenido"},null,null,{"$f":"IF(Q193=\"\",0,IF(H188=\"Obligatorio\",W200,IF(A190=\"N\",IF(Uso_Edificio=\"Oficinas\",SUM(W190:W193),SUM(X190:X193)),IF(Uso_Edificio=\"Oficinas\",SUM(X196:X199),SUM(Y196:Y199)))))","v":0},null,null,null,null,"Calificación","Of. Y Serv.","Ed. Y Salud"]
["N",17,null,null,null,"Nombre Requerimiento",null,{"$f":"+VLOOKUP(B192,TablaResumen[],16,0)","v":"Aislamiento acústico"},null,null,null,null,null,null,null,null,{"$f":"+IF(H187=\"Requisito\",W199,IF(#REF!=\"N\",IF(Uso_Edificio=\"Oficinas\",SUM(W189:W192),SUM(X189:X192)),IF(Uso_Edificio=\"Oficinas\",SUM(X195:X198),SUM(Y195:Y198))))","v":{"$error":"#REF!"}},null,null,null,{"$f":"+CONCATENATE(B190,\".\",4)","v":"17.4"},{"$f":"+AND(Q193>VLOOKUP(U190,MatrizRequerimientos,10,FALSE),Q193<=VLOOKUP(U190,MatrizRequerimientos,11,FALSE))","v":false},{"$f":"+V190*VLOOKUP(U190,MatrizRequerimientos,8,FALSE)","v":0},{"$f":"+V190*VLOOKUP(U190,MatrizRequerimientos,9,FALSE)","v":0}]
["N",17,null,null,null,null,null,null,null,null,null,null,null,null,null,null,{"$f":"+IF(H188=\"Requisito\",W200,IF(A187=\"N\",IF(Uso_Edificio=\"Oficinas\",SUM(W190:W193),SUM(X190:X193)),IF(Uso_Edificio=\"Oficinas\",SUM(X196:X199),SUM(Y196:Y199))))","v":5.0000000000000001E-3},null,null,null,{"$f":"+CONCATENATE(B191,\".\",5)","v":"17.5"},{"$f":"+AND(Q193>VLOOKUP(U191,MatrizRequerimientos,10,FALSE),Q193<=VLOOKUP(U191,MatrizRequerimientos,11,FALSE))","v":true},{"$f":"+V191*VLOOKUP(U191,MatrizRequerimientos,8,FALSE)","v":5.0000000000000001E-3},{"$f":"+V191*VLOOKUP(U191,MatrizRequerimientos,9,FALSE)","v":0.01}]
["N",17,null,null,null,"Indicador",null,{"$f":"+VLOOKUP(B193,TablaResumen[],21,0)","v":"Aislamiento acústico entre recintos [dB(A)]"},null,null,null,null,null,null,null,null,null,null,null,null,{"$f":"+CONCATENATE(B192,\".\",6)","v":"17.6"},{"$f":"+AND(Q193>VLOOKUP(U192,MatrizRequerimientos,10,FALSE),Q193<=VLOOKUP(U192,MatrizRequerimientos,11,FALSE))","v":false},{"$f":"+V192*VLOOKUP(U192,MatrizRequerimientos,8,FALSE)","v":0},{"$f":"+V192*VLOOKUP(U192,MatrizRequerimientos,9,FALSE)","v":0}]
["N",17,null,null,null,null,null,null,null,null,null,null,null,"Menor diferencia entre aislación utilizada y aislación requerida de acuerdo a Tabla 7",null,null,null,null,null,null,{"$f":"+CONCATENATE(B193,\".\",7)","v":"17.7"},{"$f":"+AND(Q193>VLOOKUP(U193,MatrizRequerimientos,10,FALSE),Q193<=VLOOKUP(U193,MatrizRequerimientos,11,FALSE))","v":false},{"$f":"+V193*VLOOKUP(U193,MatrizRequerimientos,8,FALSE)","v":0},{"$f":"+V193*VLOOKUP(U193,MatrizRequerimientos,9,FALSE)","v":0}]
["N",17]
["N",17,null,null,null,"OPCIÓN ",null,{"$f":"CONCATENATE(VLOOKUP(B195,'Resumen requerimientos'!$T$5:$AB$96,5,FALSE), \" de \",VLOOKUP(B195,'Resumen requerimientos'!$T$5:$AB$96,6,FALSE))","v":"1 de 1"},null,null,null,null,null,null,null,null,null,null,null,null,null,null,null,"Of. Y Serv.","Ed. Y Salud"]
["N",17,null,null,null,null,null,null,null,null,null,null,null,null,null,null,null,null,null,null,{"$f":"+CONCATENATE(B196,\".\",4)","v":"17.4"},{"$f":"+VLOOKUP(U196,MatrizRequerimientos,6,FALSE)","v":"5-1000000"},{"$f":"+IF(A193=\"T\",Q193=V196,V190)","v":false},{"$f":"+W196*VLOOKUP(U196,MatrizRequerimientos,8,FALSE)","v":0},{"$f":"+W196*VLOOKUP(U196,MatrizRequerimientos,9,FALSE)","v":0}]
["N",17,null,null,null,{"$f":"+IF(H197=\"No\",\"¿OTROS REQUERIMIENTOS SIMULTÁNEOS?\",\"REQUERIMIENTOS SIMULTANEOS PARA LA OPCION\")","v":"REQUERIMIENTOS SIMULTANEOS PARA LA OPCION"},null,{"$f":"IF(VLOOKUP(B197,'Resumen requerimientos'!$T$5:$AB$96,7,FALSE)=0,\"No\",CONCATENATE(VLOOKUP(B197,'Resumen requerimientos'!$T$5:$AB$96,7,FALSE), \" de \",VLOOKUP(B197,'Resumen requerimientos'!$T$5:$AB$96,8,FALSE)))","v":"1 de 1"},null,null,null,null,null,null,null,null,null,null,null,null,{"$f":"+CONCATENATE(B197,\".\",5)","v":"17.5"},{"$f":"+VLOOKUP(U197,MatrizRequerimientos,6,FALSE)","v":"-0,000000000000000001-5"},{"$f":"+IF(A194=\"T\",Q193=V197,V191)","v":true},{"$f":"+W197*VLOOKUP(U197,MatrizRequerimientos,8,FALSE)","v":5.0000000000000001E-3},{"$f":"+W197*VLOOKUP(U197,MatrizRequerimientos,9,FALSE)","v":0.01}]
["N",17,null,null,null,null,null,null,null,null,null,null,null,null,null,null,null,null,null,null,{"$f":"+CONCATENATE(B198,\".\",6)","v":"17.6"},{"$f":"+VLOOKUP(U198,MatrizRequerimientos,6,FALSE)","v":0},{"$f":"+IF(A195=\"T\",Q193=V198,V192)","v":false},{"$f":"+W198*VLOOKUP(U198,MatrizRequerimientos,8,FALSE)","v":0},{"$f":"+W198*VLOOKUP(U198,MatrizRequerimientos,9,FALSE)","v":0}]
["N",17,null,null,null,"REQUERIMIENTO ADICIONAL",null,{"$f":"VLOOKUP(B199,'Resumen requerimientos'!$T$5:$AB$96,9,FALSE)","v":"si"},null,null,null,null,null,null,null,null,null,null,null,null,{"$f":"+CONCATENATE(B199,\".\",7)","v":"17.7"},{"$f":"+VLOOKUP(U199,MatrizRequerimientos,6,FALSE)","v":0},{"$f":"+IF(A196=\"T\",Q193=V199,V193)","v":false},{"$f":"+W199*VLOOKUP(U199,MatrizRequerimientos,8,FALSE)","v":0},{"$f":"+W199*VLOOKUP(U199,MatrizRequerimientos,9,FALSE)","v":0}]
["N",17,null,null,null,null,null,null,null,null,null,null,null,null,null,null,null,null,null,null,null,null,{"$f":"+IF(AND(A196=\"N\",H188=\"Voluntario\"),SUMIF(W196:W199,TRUE,IF(Uso_Edificio=\"Oficinas\",X196:X199,Y196:Y199)),IF(AND(A196=\"T\",H188=\"Obligatorio\"),VLOOKUP(Q193,V196:X199,3,FALSE)=1,W196))","v":5.0000000000000001E-3}]
["N",17]
["N",17,null,null,"Volver al índice"]
["T",{"$f":"+IF(F202=\"\",B202+1,B202)","v":18},null,"ARQ.CAI 4.2 - ACONDICIONAMIENTO ACÚSTICO",null,null,null,null,null,null,null,null,null,null,null,null,null,null,"ARQ.CAI 4.2 - ACONDICIONAMIENTO ACÚSTICO"]
["T",{"$f":"+B203","v":18},null,null,null,"Tipo requerimiento",null,{"$f":"+IF(VLOOKUP(B203,TablaResumen[],4)=\"C\",\"Voluntario\",\"Obligatorio\")","v":"Voluntario"},null,null,null,null,null,null,null,null,null,null,null,null,null,"Puntaje crédito numérico"]
["T",{"$f":"+B204","v":18},null,null,null,null,null,null,null,null,null,null,null,{"$f":"+IF(H204=\"Obligatorio\",\"Cumple Requisito\",\"Puntaje obtenido\")","v":"Puntaje obtenido"},null,null,{"$f":"+IF(H204=\"Obligatorio\",W216,IF(A206=\"N\",IF(Uso_Edificio=\"Oficinas\",SUM(W206:W209),SUM(X206:X209)),IF(Uso_Edificio=\"Oficinas\",SUM(X212:X215),SUM(Y212:Y215))))","v":0},null,null,null,null,"Calificación","Of. Y Serv.","Ed. Y Salud"]
["T",18,null,null,null,"Nombre Requerimiento",null,{"$f":"+VLOOKUP(B208,TablaResumen[],16,0)","v":"Acondicionamiento acústico"},null,null,null,null,null,null,null,null,{"$f":"+IF(H203=\"Requisito\",W215,IF(#REF!=\"N\",IF(Uso_Edificio=\"Oficinas\",SUM(W205:W208),SUM(X205:X208)),IF(Uso_Edificio=\"Oficinas\",SUM(X211:X214),SUM(Y211:Y214))))","v":{"$error":"#REF!"}},null,null,null,{"$f":"+CONCATENATE(B206,\".\",4)","v":"18.4"},{"$f":"+AND(Q209>VLOOKUP(U206,MatrizRequerimientos,10,FALSE),Q209<=VLOOKUP(U206,MatrizRequerimientos,11,FALSE))","v":false},{"$f":"+V206*VLOOKUP(U206,MatrizRequerimientos,8,FALSE)","v":0},{"$f":"+V206*VLOOKUP(U206,MatrizRequerimientos,9,FALSE)","v":0}]
["T",18,null,null,null,null,null,null,null,null,null,null,null,null,null,null,{"$f":"+IF(H204=\"Requisito\",W216,IF(A203=\"N\",IF(Uso_Edificio=\"Oficinas\",SUM(W206:W209),SUM(X206:X209)),IF(Uso_Edificio=\"Oficinas\",SUM(X212:X215),SUM(Y212:Y215))))","v":0},null,null,null,{"$f":"+CONCATENATE(B207,\".\",5)","v":"18.5"},{"$f":"+AND(Q209>VLOOKUP(U207,MatrizRequerimientos,10,FALSE),Q209<=VLOOKUP(U207,MatrizRequerimientos,11,FALSE))","v":false},{"$f":"+V207*VLOOKUP(U207,MatrizRequerimientos,8,FALSE)","v":0},{"$f":"+V207*VLOOKUP(U207,MatrizRequerimientos,9,FALSE)","v":0}]
["T",18,null,null,null,"Indicador",null,{"$f":"+VLOOKUP(B209,TablaResumen[],21,0)","v":"Tiempo de reverberación [s]"},null,null,null,null,null,null,null,null,null,null,null,null,{"$f":"+CONCATENATE(B208,\".\",6)","v":"18.6"},{"$f":"+AND(Q209>VLOOKUP(U208,MatrizRequerimientos,10,FALSE),Q209<=VLOOKUP(U208,MatrizRequerimientos,11,FALSE))","v":false},{"$f":"+V208*VLOOKUP(U208,MatrizRequerimientos,8,FALSE)","v":0},{"$f":"+V208*VLOOKUP(U208,MatrizRequerimientos,9,FALSE)","v":0}]
["T",18,null,null,null,null,null,null,null,null,null,null,null,{"$f":"+IF(A208=\"N\",CONCATENATE(\"Valor obtenido en proyecto para \",H208),\"Seleccione Nivel de Cumplimiento\")","v":"Seleccione Nivel de Cumplimiento"},null,null,null,null,null,null,{"$f":"+CONCATENATE(B209,\".\",7)","v":"18.7"},{"$f":"+AND(Q209>VLOOKUP(U209,MatrizRequerimientos,10,FALSE),Q209<=VLOOKUP(U209,MatrizRequerimientos,11,FALSE))","v":false},{"$f":"+V209*VLOOKUP(U209,MatrizRequerimientos,8,FALSE)","v":0},{"$f":"+V209*VLOOKUP(U209,MatrizRequerimientos,9,FALSE)","v":0}]
["T",18]
["T",18,null,null,null,"OPCIÓN ",null,{"$f":"CONCATENATE(VLOOKUP(B211,'Resumen requerimientos'!$T$5:$AB$96,5,FALSE), \" de \",VLOOKUP(B211,'Resumen requerimientos'!$T$5:$AB$96,6,FALSE))","v":"1 de 2"},null,null,null,null,null,null,null,null,null,null,null,null,null,null,null,"Of. Y Serv.","Ed. Y Salud"]
["T",18,null,null,null,null,null,null,null,null,null,null,null,null,null,null,null,null,null,null,{"$f":"+CONCATENATE(B212,\".\",4)","v":"18.4"},{"$f":"+VLOOKUP(U212,MatrizRequerimientos,6,FALSE)","v":"Cumple con requisitos de la tabla 8"},{"$f":"+IF(A209=\"T\",Q209=V212,V206)","v":false},{"$f":"+W212*VLOOKUP(U212,MatrizRequerimientos,8,FALSE)","v":0},{"$f":"+W212*VLOOKUP(U212,MatrizRequerimientos,9,FALSE)","v":0}]
["T",18,null,null,null,{"$f":"+IF(H213=\"No\",\"¿OTROS REQUERIMIENTOS SIMULTÁNEOS?\",\"REQUERIMIENTOS SIMULTANEOS PARA LA OPCION\")","v":"¿OTROS REQUERIMIENTOS SIMULTÁNEOS?"},null,{"$f":"IF(VLOOKUP(B213,'Resumen requerimientos'!$T$5:$AB$96,7,FALSE)=0,\"No\",CONCATENATE(VLOOKUP(B213,'Resumen requerimientos'!$T$5:$AB$96,7,FALSE), \" de \",VLOOKUP(B213,'Resumen requerimientos'!$T$5:$AB$96,8,FALSE)))","v":"No"},null,null,null,null,null,null,null,null,null,null,null,null,{"$f":"+CONCATENATE(B213,\".\",5)","v":"18.5"},{"$f":"+VLOOKUP(U213,MatrizRequerimientos,6,FALSE)","v":"Mayor a lo definido en la tabla 8 y menor a 1,5"},{"$f":"+IF(A210=\"T\",Q209=V213,V207)","v":false},{"$f":"+W213*VLOOKUP(U213,MatrizRequerimientos,8,FALSE)","v":0},{"$f":"+W213*VLOOKUP(U213,MatrizRequerimientos,9,FALSE)","v":0}]
["T",18,null,null,null,null,null,null,null,null,null,null,null,null,null,null,null,null,null,null,{"$f":"+CONCATENATE(B214,\".\",6)","v":"18.6"},{"$f":"+VLOOKUP(U214,MatrizRequerimientos,6,FALSE)","v":0},{"$f":"+IF(A211=\"T\",Q209=V214,V208)","v":true},{"$f":"+W214*VLOOKUP(U214,MatrizRequerimientos,8,FALSE)","v":0},{"$f":"+W214*VLOOKUP(U214,MatrizRequerimientos,9,FALSE)","v":0}]
["T",18,null,null,null,"REQUERIMIENTO ADICIONAL",null,{"$f":"VLOOKUP(B215,'Resumen requerimientos'!$T$5:$AB$96,9,FALSE)","v":"No"},null,null,null,null,null,null,null,null,null,null,null,null,{"$f":"+CONCATENATE(B215,\".\",7)","v":"18.7"},{"$f":"+VLOOKUP(U215,MatrizRequerimientos,6,FALSE)","v":0},{"$f":"+IF(A212=\"T\",Q209=V215,V209)","v":true},{"$f":"+W215*VLOOKUP(U215,MatrizRequerimientos,8,FALSE)","v":0},{"$f":"+W215*VLOOKUP(U215,MatrizRequerimientos,9,FALSE)","v":0}]
["T",18,null,null,null,null,null,null,null,null,null,null,null,null,null,null,null,null,null,null,null,null,{"$f":"+IF(AND(A212=\"N\",H204=\"Voluntario\"),SUMIF(W212:W215,TRUE,IF(Uso_Edificio=\"Oficinas\",X212:X215,Y212:Y215)),IF(AND(A212=\"T\",H204=\"Obligatorio\"),VLOOKUP(Q209,V212:X215,3,FALSE)=1,W212))","v":false}]
["T",18]
["T",19]
["T",{"$f":"+B218","v":19},null,null,null,"Tipo requerimiento",null,{"$f":"+IF(VLOOKUP(B218,TablaResumen[],4)=\"C\",\"Voluntario\",\"Obligatorio\")","v":"Voluntario"},null,null,null,null,null,null,null,null,null,null,null,null,null,"Puntaje crédito numérico"]
["T",{"$f":"+B219","v":19},null,null,null,null,null,null,null,null,null,null,null,{"$f":"+IF(H219=\"Obligatorio\",\"Cumple Requisito\",\"Puntaje obtenido\")","v":"Puntaje obtenido"},null,null,{"$f":"+IF(H219=\"Obligatorio\",W231,IF(A221=\"N\",IF(Uso_Edificio=\"Oficinas\",SUM(W221:W224),SUM(X221:X224)),IF(Uso_Edificio=\"Oficinas\",SUM(X227:X230),SUM(Y227:Y230))))","v":0},null,null,null,null,"Calificación","Of. Y Serv.","Ed. Y Salud"]
["T",19,null,null,null,"Nombre Requerimiento",null,{"$f":"+VLOOKUP(B223,TablaResumen[],16,0)","v":"Acondicionamiento acústico"},null,null,null,null,null,null,null,null,{"$f":"+IF(H218=\"Requisito\",W230,IF(#REF!=\"N\",IF(Uso_Edificio=\"Oficinas\",SUM(W220:W223),SUM(X220:X223)),IF(Uso_Edificio=\"Oficinas\",SUM(X226:X229),SUM(Y226:Y229))))","v":{"$error":"#REF!"}},null,null,null,{"$f":"+CONCATENATE(B221,\".\",4)","v":"19.4"},{"$f":"+AND(Q224>VLOOKUP(U221,MatrizRequerimientos,10,FALSE),Q224<=VLOOKUP(U221,MatrizRequerimientos,11,FALSE))","v":false},{"$f":"+V221*VLOOKUP(U221,MatrizRequerimientos,8,FALSE)","v":0},{"$f":"+V221*VLOOKUP(U221,MatrizRequerimientos,9,FALSE)","v":0}]
["T",19,null,null,null,null,null,null,null,null,null,null,null,null,null,null,{"$f":"+IF(H219=\"Requisito\",W231,IF(A218=\"N\",IF(Uso_Edificio=\"Oficinas\",SUM(W221:W224),SUM(X221:X224)),IF(Uso_Edificio=\"Oficinas\",SUM(X227:X230),SUM(Y227:Y230))))","v":0},null,null,null,{"$f":"+CONCATENATE(B222,\".\",5)","v":"19.5"},{"$f":"+AND(Q224>VLOOKUP(U222,MatrizRequerimientos,10,FALSE),Q224<=VLOOKUP(U222,MatrizRequerimientos,11,FALSE))","v":false},{"$f":"+V222*VLOOKUP(U222,MatrizRequerimientos,8,FALSE)","v":0},{"$f":"+V222*VLOOKUP(U222,MatrizRequerimientos,9,FALSE)","v":0}]
["T",19,null,null,null,"Indicador",null,{"$f":"+VLOOKUP(B224,TablaResumen[],21,0)","v":"Inteligibidad de la palabra"},null,null,null,null,null,null,null,null,null,null,null,null,{"$f":"+CONCATENATE(B223,\".\",6)","v":"19.6"},{"$f":"+AND(Q224>VLOOKUP(U223,MatrizRequerimientos,10,FALSE),Q224<=VLOOKUP(U223,MatrizRequerimientos,11,FALSE))","v":false},{"$f":"+V223*VLOOKUP(U223,MatrizRequerimientos,8,FALSE)","v":0},{"$f":"+V223*VLOOKUP(U223,MatrizRequerimientos,9,FALSE)","v":0}]
["T",19,null,null,null,null,null,null,null,null,null,null,null,{"$f":"+IF(A223=\"N\",CONCATENATE(\"Valor obtenido en proyecto para \",H223),\"Seleccione Nivel de Cumplimiento\")","v":"Seleccione Nivel de Cumplimiento"},null,null,null,null,null,null,{"$f":"+CONCATENATE(B224,\".\",7)","v":"19.7"},{"$f":"+AND(Q224>VLOOKUP(U224,MatrizRequerimientos,10,FALSE),Q224<=VLOOKUP(U224,MatrizRequerimientos,11,FALSE))","v":false},{"$f":"+V224*VLOOKUP(U224,MatrizRequerimientos,8,FALSE)","v":0},{"$f":"+V224*VLOOKUP(U224,MatrizRequerimientos,9,FALSE)","v":0}]
["T",19]
["T",19,null,null,null,"OPCIÓN ",null,{"$f":"CONCATENATE(VLOOKUP(B226,'Resumen requerimientos'!$T$5:$AB$96,5,FALSE), \" de \",VLOOKUP(B226,'Resumen requerimientos'!$T$5:$AB$96,6,FALSE))","v":"1 de 2"},null,null,null,null,null,null,null,null,null,null,null,null,null,null,null,"Of. Y Serv.","Ed. Y Salud"]
["T",19,null,null,null,null,null,null,null,null,null,null,null,null,null,null,null,null,null,null,{"$f":"+CONCATENATE(B227,\".\",4)","v":"19.4"},{"$f":"+VLOOKUP(U227,MatrizRequerimientos,6,FALSE)","v":"STI mayor a 0,6 en aulas, auditorios, salas de audiencia y cámaras Gesell. STI mayor a 0,5 en oficinas"},{"$f":"+IF(A224=\"T\",Q224=V227,V221)","v":false},{"$f":"+W227*VLOOKUP(U227,MatrizRequerimientos,8,FALSE)","v":0},{"$f":"+W227*VLOOKUP(U227,MatrizRequerimientos,9,FALSE)","v":0}]
["T",19,null,null,null,{"$f":"+IF(H228=\"No\",\"¿OTROS REQUERIMIENTOS SIMULTÁNEOS?\",\"REQUERIMIENTOS SIMULTANEOS PARA LA OPCION\")","v":"¿OTROS REQUERIMIENTOS SIMULTÁNEOS?"},null,{"$f":"IF(VLOOKUP(B228,'Resumen requerimientos'!$T$5:$AB$96,7,FALSE)=0,\"No\",CONCATENATE(VLOOKUP(B228,'Resumen requerimientos'!$T$5:$AB$96,7,FALSE), \" de \",VLOOKUP(B228,'Resumen requerimientos'!$T$5:$AB$96,8,FALSE)))","v":"No"},null,null,null,null,null,null,null,null,null,null,null,null,{"$f":"+CONCATENATE(B228,\".\",5)","v":"19.5"},{"$f":"+VLOOKUP(U228,MatrizRequerimientos,6,FALSE)","v":"No cumple con requisitos de STI"},{"$f":"+IF(A225=\"T\",Q224=V228,V222)","v":false},{"$f":"+W228*VLOOKUP(U228,MatrizRequerimientos,8,FALSE)","v":0},{"$f":"+W228*VLOOKUP(U228,MatrizRequerimientos,9,FALSE)","v":0}]
["T",19,null,null,null,null,null,null,null,null,null,null,null,null,null,null,null,null,null,null,{"$f":"+CONCATENATE(B229,\".\",6)","v":"19.6"},{"$f":"+VLOOKUP(U229,MatrizRequerimientos,6,FALSE)","v":0},{"$f":"+IF(A226=\"T\",Q224=V229,V223)","v":true},{"$f":"+W229*VLOOKUP(U229,MatrizRequerimientos,8,FALSE)","v":0},{"$f":"+W229*VLOOKUP(U229,MatrizRequerimientos,9,FALSE)","v":0}]
["T",19,null,null,null,"REQUERIMIENTO ADICIONAL",null,{"$f":"VLOOKUP(B230,'Resumen requerimientos'!$T$5:$AB$96,9,FALSE)","v":"si"},null,null,null,null,null,null,null,null,null,null,null,null,{"$f":"+CONCATENATE(B230,\".\",7)","v":"19.7"},{"$f":"+VLOOKUP(U230,MatrizRequerimientos,6,FALSE)","v":0},{"$f":"+IF(A227=\"T\",Q224=V230,V224)","v":true},{"$f":"+W230*VLOOKUP(U230,MatrizRequerimientos,8,FALSE)","v":0},{"$f":"+W230*VLOOKUP(U230,MatrizRequerimientos,9,FALSE)","v":0}]
["T",19,null,null,null,null,null,null,null,null,null,null,null,null,null,null,null,null,null,null,null,null,{"$f":"+IF(AND(A227=\"N\",H219=\"Voluntario\"),SUMIF(W227:W230,TRUE,IF(Uso_Edificio=\"Oficinas\",X227:X230,Y227:Y230)),IF(AND(A227=\"T\",H219=\"Obligatorio\"),VLOOKUP(Q224,V227:X230,3,FALSE)=1,W227))","v":false}]
["T",19]
["N",20]
["N",{"$f":"+B233","v":20},null,null,null,"Tipo requerimiento",null,{"$f":"+IF(VLOOKUP(B233,TablaResumen[],4)=\"C\",\"Voluntario\",\"Obligatorio\")","v":"Voluntario"},null,null,null,null,null,null,null,null,null,null,null,null,null,"Puntaje crédito numérico"]
["N",{"$f":"+B234","v":20},null,null,null,null,null,null,null,null,null,null,null,{"$f":"+IF(H234=\"Obligatorio\",\"Cumple Requisito\",\"Puntaje obtenido\")","v":"Puntaje obtenido"},null,null,{"$f":"+IF(H234=\"Obligatorio\",W246,IF(A236=\"N\",IF(Uso_Edificio=\"Oficinas\",SUM(W236:W239),SUM(X236:X239)),IF(Uso_Edificio=\"Oficinas\",SUM(X242:X245),SUM(Y242:Y245))))","v":0},null,null,null,null,"Calificación","Of. Y Serv.","Ed. Y Salud"]
["N",20,null,null,null,"Nombre Requerimiento",null,{"$f":"+VLOOKUP(B238,TablaResumen[],16,0)","v":"Acondicionamiento acústico"},null,null,null,null,null,null,null,null,{"$f":"+IF(H233=\"Requisito\",W245,IF(#REF!=\"N\",IF(Uso_Edificio=\"Oficinas\",SUM(W235:W238),SUM(X235:X238)),IF(Uso_Edificio=\"Oficinas\",SUM(X241:X244),SUM(Y241:Y244))))","v":{"$error":"#REF!"}},null,null,null,{"$f":"+CONCATENATE(B236,\".\",4)","v":"20.4"},{"$f":"+AND(Q239>VLOOKUP(U236,MatrizRequerimientos,10,FALSE),Q239<=VLOOKUP(U236,MatrizRequerimientos,11,FALSE))","v":false},{"$f":"+V236*VLOOKUP(U236,MatrizRequerimientos,8,FALSE)","v":0},{"$f":"+V236*VLOOKUP(U236,MatrizRequerimientos,9,FALSE)","v":0}]
["N",20,null,null,null,null,null,null,null,null,null,null,null,null,null,null,{"$f":"+IF(H234=\"Requisito\",W246,IF(A233=\"N\",IF(Uso_Edificio=\"Oficinas\",SUM(W236:W239),SUM(X236:X239)),IF(Uso_Edificio=\"Oficinas\",SUM(X242:X245),SUM(Y242:Y245))))","v":0},null,null,null,{"$f":"+CONCATENATE(B237,\".\",5)","v":"20.5"},{"$f":"+AND(Q239>VLOOKUP(U237,MatrizRequerimientos,10,FALSE),Q239<=VLOOKUP(U237,MatrizRequerimientos,11,FALSE))","v":false},{"$f":"+V237*VLOOKUP(U237,MatrizRequerimientos,8,FALSE)","v":0},{"$f":"+V237*VLOOKUP(U237,MatrizRequerimientos,9,FALSE)","v":0}]
["N",20,null,null,null,"Indicador",null,{"$f":"+VLOOKUP(B239,TablaResumen[],21,0)","v":"Material absorbente para Aulas y Auditorios"},null,null,null,null,null,null,null,null,null,null,null,null,{"$f":"+CONCATENATE(B238,\".\",6)","v":"20.6"},{"$f":"+AND(Q239>VLOOKUP(U238,MatrizRequerimientos,10,FALSE),Q239<=VLOOKUP(U238,MatrizRequerimientos,11,FALSE))","v":false},{"$f":"+V238*VLOOKUP(U238,MatrizRequerimientos,8,FALSE)","v":0},{"$f":"+V238*VLOOKUP(U238,MatrizRequerimientos,9,FALSE)","v":0}]
["N",20,null,null,null,null,null,null,null,null,null,null,null,{"$f":"+IF(A238=\"N\",CONCATENATE(\"Valor obtenido en proyecto para \",H238),\"Seleccione Nivel de Cumplimiento\")","v":"Valor obtenido en proyecto para Material absorbente para Aulas y Auditorios"},null,null,null,null,null,null,{"$f":"+CONCATENATE(B239,\".\",7)","v":"20.7"},{"$f":"+AND(Q239>VLOOKUP(U239,MatrizRequerimientos,10,FALSE),Q239<=VLOOKUP(U239,MatrizRequerimientos,11,FALSE))","v":false},{"$f":"+V239*VLOOKUP(U239,MatrizRequerimientos,8,FALSE)","v":0},{"$f":"+V239*VLOOKUP(U239,MatrizRequerimientos,9,FALSE)","v":0}]
["N",20]
["N",20,null,null,null,"OPCIÓN ",null,{"$f":"CONCATENATE(VLOOKUP(B241,'Resumen requerimientos'!$T$5:$AB$96,5,FALSE), \" de \",VLOOKUP(B241,'Resumen requerimientos'!$T$5:$AB$96,6,FALSE))","v":"2 de 2"},null,null,null,null,null,null,null,null,null,null,null,null,null,null,null,"Of. Y Serv.","Ed. Y Salud"]
["N",20,null,null,null,null,null,null,null,null,null,null,null,null,null,null,null,null,null,null,{"$f":"+CONCATENATE(B242,\".\",4)","v":"20.4"},{"$f":"+VLOOKUP(U242,MatrizRequerimientos,6,FALSE)","v":"0,5-1"},{"$f":"+IF(A239=\"T\",Q239=V242,V236)","v":false},{"$f":"+W242*VLOOKUP(U242,MatrizRequerimientos,8,FALSE)","v":0},{"$f":"+W242*VLOOKUP(U242,MatrizRequerimientos,9,FALSE)","v":0}]
["N",20,null,null,null,{"$f":"+IF(H243=\"No\",\"¿OTROS REQUERIMIENTOS SIMULTÁNEOS?\",\"REQUERIMIENTOS SIMULTANEOS PARA LA OPCION\")","v":"¿OTROS REQUERIMIENTOS SIMULTÁNEOS?"},null,{"$f":"IF(VLOOKUP(B243,'Resumen requerimientos'!$T$5:$AB$96,7,FALSE)=0,\"No\",CONCATENATE(VLOOKUP(B243,'Resumen requerimientos'!$T$5:$AB$96,7,FALSE), \" de \",VLOOKUP(B243,'Resumen requerimientos'!$T$5:$AB$96,8,FALSE)))","v":"No"},null,null,null,null,null,null,null,null,null,null,null,null,{"$f":"+CONCATENATE(B243,\".\",5)","v":"20.5"},{"$f":"+VLOOKUP(U243,MatrizRequerimientos,6,FALSE)","v":0},{"$f":"+IF(A240=\"T\",Q239=V243,V237)","v":false},{"$f":"+W243*VLOOKUP(U243,MatrizRequerimientos,8,FALSE)","v":0},{"$f":"+W243*VLOOKUP(U243,MatrizRequerimientos,9,FALSE)","v":0}]
["N",20,null,null,null,null,null,null,null,null,null,null,null,null,null,null,null,null,null,null,{"$f":"+CONCATENATE(B244,\".\",6)","v":"20.6"},{"$f":"+VLOOKUP(U244,MatrizRequerimientos,6,FALSE)","v":0},{"$f":"+IF(A241=\"T\",Q239=V244,V238)","v":false},{"$f":"+W244*VLOOKUP(U244,MatrizRequerimientos,8,FALSE)","v":0},{"$f":"+W244*VLOOKUP(U244,MatrizRequerimientos,9,FALSE)","v":0}]
["N",20,null,null,null,"REQUERIMIENTO ADICIONAL",null,{"$f":"VLOOKUP(B245,'Resumen requerimientos'!$T$5:$AB$96,9,FALSE)","v":"Si"},null,null,null,null,null,null,null,null,null,null,null,null,{"$f":"+CONCATENATE(B245,\".\",7)","v":"20.7"},{"$f":"+VLOOKUP(U245,MatrizRequerimientos,6,FALSE)","v":0},{"$f":"+IF(A242=\"T\",Q239=V245,V239)","v":false},{"$f":"+W245*VLOOKUP(U245,MatrizRequerimientos,8,FALSE)","v":0},{"$f":"+W245*VLOOKUP(U245,MatrizRequerimientos,9,FALSE)","v":0}]
["N",20,null,null,null,null,null,null,null,null,null,null,null,null,null,null,null,null,null,null,null,null,{"$f":"+IF(AND(A242=\"N\",H234=\"Voluntario\"),SUMIF(W242:W245,TRUE,IF(Uso_Edificio=\"Oficinas\",X242:X245,Y242:Y245)),IF(AND(A242=\"T\",H234=\"Obligatorio\"),VLOOKUP(Q239,V242:X245,3,FALSE)=1,W242))","v":0}]
["N",20]
["N",20,null,null,"Volver al índice"]

{"sheet":"Evaluacion ARQ.Energia Voluntar","index":15,"n_rows":259,"n_cols":26,"rows_kept":259,"cut":false,"hidden":false,"merged":[[152,21,152,23],[153,13,155,15],[153,16,155,16],[154,5,155,6],[154,7,155,11],[156,5,157,6],[156,7,157,11],[157,13,164,15],[157,16,164,16],[158,5,158,6],[158,7,158,11],[159,5,160,6],[159,7,160,11],[161,5,162,6],[161,7,162,11],[163,5,164,6],[163,7,164,11],[137,21,137,23],[138,13,140,15],[138,16,140,16],[139,5,140,6],[139,7,140,11],[141,5,142,6],[141,7,142,11],[142,13,149,15],[142,16,149,16],[143,5,143,6],[143,7,143,11],[144,5,145,6],[144,7,145,11],[146,5,147,6],[146,7,147,11],[148,5,149,6],[148,7,149,11],[137,5,138,6],[107,21,107,23],[108,13,110,15],[108,16,110,16],[109,5,110,6],[109,7,110,11],[111,5,112,6],[111,7,112,11],[112,13,119,15],[112,16,119,16],[113,5,113,6],[113,7,113,11],[114,5,115,6],[114,7,115,11],[116,5,117,6],[116,7,117,11],[118,5,119,6],[118,7,119,11],[92,21,92,23],[93,13,95,15],[93,16,95,16],[94,5,95,6],[94,7,95,11],[96,5,97,6],[96,7,97,11],[97,13,104,15],[97,16,104,16],[98,5,98,6],[98,7,98,11],[99,5,100,6],[99,7,100,11],[101,5,102,6],[101,7,102,11],[103,5,104,6],[103,7,104,11],[234,13,241,15],[234,16,241,16],[245,13,247,15],[245,16,247,16],[249,13,256,15],[249,16,256,16],[182,3,211,3],[182,18,211,18],[184,13,186,15],[184,16,186,16],[188,13,195,15],[188,16,195,16],[199,13,201,15],[199,16,201,16],[203,13,210,15],[203,16,210,16],[194,5,195,6],[194,7,195,11],[204,5,204,6],[204,7,204,11],[205,5,206,6],[205,7,206,11],[209,5,210,6],[209,7,210,11],[22,13,29,15],[22,16,29,16],[48,13,50,15],[48,16,50,16],[33,13,35,15],[33,16,35,16],[37,13,44,15],[37,16,44,16],[230,16,232,16],[67,13,74,15],[67,16,74,16],[82,13,89,15],[127,16,134,16],[11,5,12,6],[11,7,12,11],[17,21,17,23],[3,13,5,15],[3,16,5,16],[7,13,14,15],[7,16,14,16],[18,13,20,15],[18,16,20,16],[2,21,2,23],[4,5,5,6],[4,7,5,11],[21,5,22,6],[21,7,22,11],[23,5,23,6],[23,7,23,11],[24,5,25,6],[24,7,25,11],[19,5,20,6],[19,7,20,11],[13,5,14,6],[13,7,14,11],[15,5,15,11],[17,5,18,6],[17,7,18,11],[2,5,3,6],[2,7,3,11],[6,5,7,6],[6,7,7,11],[8,5,8,6],[8,7,8,11],[9,5,10,6],[9,7,10,11],[26,5,27,6],[26,7,27,11],[53,5,53,6],[53,7,53,11],[54,5,55,6],[47,21,47,23],[49,5,50,6],[49,7,50,11],[28,5,29,6],[28,7,29,11],[30,5,30,11],[47,5,48,6],[47,7,48,11],[51,5,52,6],[51,7,52,11],[52,13,59,15],[52,16,59,16],[54,7,55,11],[56,5,57,6],[56,7,57,11],[32,5,33,6],[32,7,33,11],[32,21,32,23],[34,5,35,6],[34,7,35,11],[36,5,37,6],[36,7,37,11],[38,5,38,6],[38,7,38,11],[62,21,62,23],[64,5,65,6],[64,7,65,11],[58,5,59,6],[58,7,59,11],[60,5,60,11],[62,5,63,6],[62,7,63,11],[63,13,65,15],[63,16,65,16],[39,5,40,6],[39,7,40,11],[41,5,42,6],[41,7,42,11],[43,5,44,6],[43,7,44,11],[45,5,45,11],[77,21,77,23],[79,5,80,6],[79,7,80,11],[73,5,74,6],[73,7,74,11],[75,5,75,11],[77,5,78,6],[77,7,78,11],[78,13,80,15],[78,16,80,16],[66,5,67,6],[66,7,67,11],[68,5,68,6],[68,7,68,11],[69,5,70,6],[69,7,70,11],[127,13,134,15],[82,16,89,16],[122,21,122,23],[124,5,125,6],[124,7,125,11],[88,5,89,6],[88,7,89,11],[90,5,90,11],[122,5,123,6],[122,7,123,11],[123,13,125,15],[123,16,125,16],[81,5,82,6],[81,7,82,11],[83,5,83,6],[83,7,83,11],[84,5,85,6],[84,7,85,11],[71,5,72,6],[71,7,72,11],[135,5,135,11],[189,7,189,11],[190,5,191,6],[190,7,191,11],[167,5,168,6],[167,7,168,11],[180,5,180,11],[92,5,93,6],[92,7,93,11],[120,5,120,11],[105,5,105,11],[107,5,108,6],[107,7,108,11],[137,7,138,11],[165,5,165,11],[150,5,150,11],[152,5,153,6],[152,7,153,11],[86,5,87,6],[133,5,134,6],[133,7,134,11],[183,5,184,6],[86,7,87,11],[211,5,211,11],[216,5,217,6],[216,7,217,11],[214,5,215,6],[214,7,215,11],[218,5,219,6],[218,7,219,11],[220,5,220,6],[220,7,220,11],[129,7,130,11],[131,5,132,6],[131,7,132,11],[192,5,193,6],[192,7,193,11],[183,7,184,11],[185,5,186,6],[185,7,186,11],[187,5,188,6],[187,7,188,11],[189,5,189,6],[126,7,127,11],[128,5,128,6],[128,7,128,11],[240,7,241,11],[221,5,222,6],[221,7,222,11],[223,5,224,6],[223,7,224,11],[231,5,232,6],[231,7,232,11],[225,5,226,6],[225,7,226,11],[229,5,230,6],[229,7,230,11],[198,21,198,23],[183,21,183,23],[213,3,257,3],[213,18,257,18],[214,21,214,23],[229,21,229,23],[227,5,227,11],[215,13,217,15],[215,16,217,16],[219,13,226,15],[219,16,226,16],[230,13,232,15],[244,21,244,23],[246,5,247,6],[246,7,247,11],[242,5,242,11],[244,5,245,6],[244,7,245,11],[255,5,256,6],[255,7,256,11],[257,5,257,11],[248,5,249,6],[248,7,249,11],[250,5,250,6],[129,5,130,6],[250,7,250,11],[251,5,252,6],[251,7,252,11],[253,5,254,6],[253,7,254,11],[196,5,196,11],[198,5,199,6],[198,7,199,11],[207,5,208,6],[207,7,208,11],[200,5,201,6],[200,7,201,11],[202,5,203,6],[202,7,203,11],[233,5,234,6],[233,7,234,11],[235,5,235,6],[235,7,235,11],[236,5,237,6],[236,7,237,11],[238,5,239,6],[238,7,239,11],[240,5,241,6],[0,4,0,5],[181,4,181,5],[212,4,212,5],[258,4,258,5],[1,3,180,3],[1,18,180,18],[167,21,167,23],[168,13,170,15],[168,16,170,16],[169,5,170,6],[169,7,170,11],[171,5,172,6],[171,7,172,11],[172,13,179,15],[172,16,179,16],[173,5,173,6],[173,7,173,11],[174,5,175,6],[174,7,175,11],[176,5,177,6],[176,7,177,11],[178,5,179,6],[178,7,179,11],[126,5,127,6]]}
["Texto /Número","Nº requisito",null,null,"Volver al índice"]
["N",27,null,"ARQ.ENERGIA 5 - DEMANDA DE ENERGÍA                                                            ARQ.ENERGIA 5 - DEMANDA DE ENERGÍA                                                            ARQ.ENERGIA 5 - DEMANDA DE ENERGÍA                                                            ARQ.ENERGIA 5 - DEMANDA DE ENERGÍA                                                            ARQ.ENERGIA 5 - DEMANDA DE ENERGÍA                                                            ARQ.ENERGIA 5 - DEMANDA DE ENERGÍA",null,null,null,null,null,null,null,null,null,null,null,null,null,null,"ARQ.ENERGIA 5 - DEMANDA DE ENERGÍA                                                            ARQ.ENERGIA 5 - DEMANDA DE ENERGÍA                                                            ARQ.ENERGIA 5 - DEMANDA DE ENERGÍA                                                            ARQ.ENERGIA 5 - DEMANDA DE ENERGÍA                                                            ARQ.ENERGIA 5 - DEMANDA DE ENERGÍA                                                            ARQ.ENERGIA 5 - DEMANDA DE ENERGÍA"]
["N",{"$f":"+B2","v":27},null,null,null,"Tipo requerimiento",null,{"$f":"+IF(VLOOKUP(B2,TablaResumen[],4)=\"C\",\"Voluntario\",\"Obligatorio\")","v":"Voluntario"},null,null,null,null,null,null,null,null,null,null,null,null,null,"Puntaje crédito numérico"]
["N",27,null,null,null,null,null,null,null,null,null,null,null,{"$f":"+IF(H3=\"Obligatorio\",\"Cumple Requisito\",\"Puntaje obtenido\")","v":"Puntaje obtenido"},null,null,{"$f":"IF(H3=\"Obligatorio\",W15,IF(A5=\"N\",IF(Uso_Edificio=\"Oficinas\",SUM(W5:W8),SUM(X5:X8)),IF(Uso_Edificio=\"Oficinas\",SUM(X11:X14),SUM(Y11:Y14))))","v":0},null,null,null,null,"Calificación","Of. Y Serv.","Ed. Y Salud"]
["N",27,null,null,null,"Nombre Requerimiento",null,{"$f":"+VLOOKUP(B7,TablaResumen[],16,0)","v":"Demanda de energía"},null,null,null,null,null,null,null,null,{"$f":"+IF(H2=\"Requisito\",W14,IF(#REF!=\"N\",IF(Uso_Edificio=\"Oficinas\",SUM(W4:W7),SUM(X4:X7)),IF(Uso_Edificio=\"Oficinas\",SUM(X10:X13),SUM(Y10:Y13))))","v":{"$error":"#REF!"}},null,null,null,{"$f":"+CONCATENATE(B5,\".\",4)","v":"27.4"},{"$f":"+AND(Q8>VLOOKUP(U5,MatrizRequerimientos,10,FALSE),Q8<=VLOOKUP(U5,MatrizRequerimientos,11,FALSE))","v":false},{"$f":"+V5*VLOOKUP(U5,MatrizRequerimientos,8,FALSE)","v":0},{"$f":"+V5*VLOOKUP(U5,MatrizRequerimientos,9,FALSE)","v":0}]
["N",27,null,null,null,null,null,null,null,null,null,null,null,null,null,null,{"$f":"+IF(H3=\"Requisito\",W15,IF(A2=\"N\",IF(Uso_Edificio=\"Oficinas\",SUM(W5:W8),SUM(X5:X8)),IF(Uso_Edificio=\"Oficinas\",SUM(X11:X14),SUM(Y11:Y14))))","v":0},null,null,null,{"$f":"+CONCATENATE(B6,\".\",5)","v":"27.5"},{"$f":"+AND(Q8>VLOOKUP(U6,MatrizRequerimientos,10,FALSE),Q8<=VLOOKUP(U6,MatrizRequerimientos,11,FALSE))","v":false},{"$f":"+V6*VLOOKUP(U6,MatrizRequerimientos,8,FALSE)","v":0},{"$f":"+V6*VLOOKUP(U6,MatrizRequerimientos,9,FALSE)","v":0}]
["N",27,null,null,null,"Indicador",null,{"$f":"+VLOOKUP(B8,TablaResumen[],21,0)","v":"Disminución demanda de energía [%]"},null,null,null,null,null,null,null,null,null,null,null,null,{"$f":"+CONCATENATE(B7,\".\",6)","v":"27.6"},{"$f":"+AND(Q8>VLOOKUP(U7,MatrizRequerimientos,10,FALSE),Q8<=VLOOKUP(U7,MatrizRequerimientos,11,FALSE))","v":false},{"$f":"+V7*VLOOKUP(U7,MatrizRequerimientos,8,FALSE)","v":0},{"$f":"+V7*VLOOKUP(U7,MatrizRequerimientos,9,FALSE)","v":0}]
["N",27,null,null,null,null,null,null,null,null,null,null,null,{"$f":"+CONCATENATE(\"Valor obtenido en proyecto para \",H7)","v":"Valor obtenido en proyecto para Disminución demanda de energía [%]"},null,null,null,null,null,null,{"$f":"+CONCATENATE(B8,\".\",7)","v":"27.7"},{"$f":"+AND(Q8>VLOOKUP(U8,MatrizRequerimientos,10,FALSE),Q8<=VLOOKUP(U8,MatrizRequerimientos,11,FALSE))","v":false},{"$f":"+V8*VLOOKUP(U8,MatrizRequerimientos,8,FALSE)","v":0},{"$f":"+V8*VLOOKUP(U8,MatrizRequerimientos,9,FALSE)","v":0}]
["N",27]
["N",27,null,null,null,"OPCIÓN ",null,{"$f":"CONCATENATE(VLOOKUP(B10,'Resumen requerimientos'!$T$5:$AB$104,5,FALSE), \" de \",VLOOKUP(B10,'Resumen requerimientos'!$T$5:$AB$104,6,FALSE))","v":"1 de 2"},null,null,null,null,null,null,null,null,null,null,null,null,null,null,null,"Of. Y Serv.","Ed. Y Salud"]
["N",27,null,null,null,null,null,null,null,null,null,null,null,null,null,null,null,null,null,null,{"$f":"+CONCATENATE(B11,\".\",4)","v":"27.4"},{"$f":"+VLOOKUP(U11,MatrizRequerimientos,6,FALSE)","v":"19,999%-100%"},{"$f":"+IF(A8=\"T\",Q8=V11,V5)","v":false},{"$f":"+W11*VLOOKUP(U11,MatrizRequerimientos,8,FALSE)","v":0},{"$f":"+W11*VLOOKUP(U11,MatrizRequerimientos,9,FALSE)","v":0}]
["N",27,null,null,null,{"$f":"+IF(H12=\"No\",\"¿OTROS REQUERIMIENTOS SIMULTÁNEOS?\",\"REQUERIMIENTOS SIMULTANEOS PARA LA OPCION\")","v":"¿OTROS REQUERIMIENTOS SIMULTÁNEOS?"},null,{"$f":"IF(VLOOKUP(B12,'Resumen requerimientos'!$T$5:$AB$104,7,FALSE)=0,\"No\",CONCATENATE(VLOOKUP(B12,'Resumen requerimientos'!$T$5:$AB$104,7,FALSE), \" de \",VLOOKUP(B12,'Resumen requerimientos'!$T$5:$AB$104,8,FALSE)))","v":"No"},null,null,null,null,null,null,null,null,null,null,null,null,{"$f":"+CONCATENATE(B12,\".\",5)","v":"27.5"},{"$f":"+VLOOKUP(U12,MatrizRequerimientos,6,FALSE)","v":"14,999%-19,999%"},{"$f":"+IF(A9=\"T\",Q8=V12,V6)","v":false},{"$f":"+W12*VLOOKUP(U12,MatrizRequerimientos,8,FALSE)","v":0},{"$f":"+W12*VLOOKUP(U12,MatrizRequerimientos,9,FALSE)","v":0}]
["N",27,null,null,null,null,null,null,null,null,null,null,null,null,null,null,null,null,null,null,{"$f":"+CONCATENATE(B13,\".\",6)","v":"27.6"},{"$f":"+VLOOKUP(U13,MatrizRequerimientos,6,FALSE)","v":"9,999%-14,999%"},{"$f":"+IF(A10=\"T\",Q8=V13,V7)","v":false},{"$f":"+W13*VLOOKUP(U13,MatrizRequerimientos,8,FALSE)","v":0},{"$f":"+W13*VLOOKUP(U13,MatrizRequerimientos,9,FALSE)","v":0}]
["N",27,null,null,null,"REQUERIMIENTO ADICIONAL",null,{"$f":"VLOOKUP(B14,'Resumen requerimientos'!$T$5:$AB$104,9,FALSE)","v":"No"},null,null,null,null,null,null,null,null,null,null,null,null,{"$f":"+CONCATENATE(B14,\".\",7)","v":"27.7"},{"$f":"+VLOOKUP(U14,MatrizRequerimientos,6,FALSE)","v":"4,999%-9,999%"},{"$f":"+IF(A11=\"T\",Q8=V14,V8)","v":false},{"$f":"+W14*VLOOKUP(U14,MatrizRequerimientos,8,FALSE)","v":0},{"$f":"+W14*VLOOKUP(U14,MatrizRequerimientos,9,FALSE)","v":0}]
["N",27,null,null,null,null,null,null,null,null,null,null,null,null,null,null,null,null,null,null,null,null,{"$f":"+IF(AND(A11=\"N\",H3=\"Voluntario\"),SUMIF(W11:W14,TRUE,IF(Uso_Edificio=\"Oficinas\",X11:X14,Y11:Y14)),IF(AND(A11=\"T\",H3=\"Obligatorio\"),VLOOKUP(Q8,V11:X14,3,FALSE)=1,W11))","v":0}]
["N",27]
["N",22]
["N",{"$f":"+B17","v":22},null,null,null,"Tipo requerimiento",null,{"$f":"+IF(VLOOKUP(B17,TablaResumen[],4)=\"C\",\"Voluntario\",\"Obligatorio\")","v":"Voluntario"},null,null,null,null,null,null,null,null,null,null,null,null,null,"Puntaje crédito numérico"]
["N",22,null,null,null,null,null,null,null,null,null,null,null,{"$f":"+IF(H18=\"Obligatorio\",\"Cumple Requisito\",\"Puntaje obtenido\")","v":"Puntaje obtenido"},null,null,{"$f":"IF(H18=\"Obligatorio\",W30,IF(A20=\"N\",IF(Uso_Edificio=\"Oficinas\",SUM(W20:W23),SUM(X20:X23)),IF(Uso_Edificio=\"Oficinas\",SUM(X26:X29),SUM(Y26:Y29))))","v":0},null,null,null,null,"Calificación","Of. Y Serv.","Ed. Y Salud"]
["N",22,null,null,null,"Nombre Requerimiento",null,{"$f":"+VLOOKUP(B22,TablaResumen[],16,0)","v":"Demanda de energía"},null,null,null,null,null,null,null,null,{"$f":"+IF(H17=\"Requisito\",W29,IF(#REF!=\"N\",IF(Uso_Edificio=\"Oficinas\",SUM(W19:W22),SUM(X19:X22)),IF(Uso_Edificio=\"Oficinas\",SUM(X25:X28),SUM(Y25:Y28))))","v":{"$error":"#REF!"}},null,null,null,{"$f":"+CONCATENATE(B20,\".\",4)","v":"22.4"},{"$f":"+AND(Q23>VLOOKUP(U20,MatrizRequerimientos,10,FALSE),Q23<=VLOOKUP(U20,MatrizRequerimientos,11,FALSE))","v":false},{"$f":"+V20*VLOOKUP(U20,MatrizRequerimientos,8,FALSE)","v":0},{"$f":"+V20*VLOOKUP(U20,MatrizRequerimientos,9,FALSE)","v":0}]
["N",22,null,null,null,null,null,null,null,null,null,null,null,null,null,null,{"$f":"+IF(H18=\"Requisito\",W30,IF(A17=\"N\",IF(Uso_Edificio=\"Oficinas\",SUM(W20:W23),SUM(X20:X23)),IF(Uso_Edificio=\"Oficinas\",SUM(X26:X29),SUM(Y26:Y29))))","v":0},null,null,null,{"$f":"+CONCATENATE(B21,\".\",5)","v":"22.5"},{"$f":"+AND(Q23>VLOOKUP(U21,MatrizRequerimientos,10,FALSE),Q23<=VLOOKUP(U21,MatrizRequerimientos,11,FALSE))","v":false},{"$f":"+V21*VLOOKUP(U21,MatrizRequerimientos,8,FALSE)","v":0},{"$f":"+V21*VLOOKUP(U21,MatrizRequerimientos,9,FALSE)","v":0}]
["N",22,null,null,null,"Indicador",null,{"$f":"+VLOOKUP(B23,TablaResumen[],21,0)","v":"Mejora de U en cubierta [W/m2K] "},null,null,null,null,null,null,null,null,null,null,null,null,{"$f":"+CONCATENATE(B22,\".\",6)","v":"22.6"},{"$f":"+AND(Q23>VLOOKUP(U22,MatrizRequerimientos,10,FALSE),Q23<=VLOOKUP(U22,MatrizRequerimientos,11,FALSE))","v":false},{"$f":"+V22*VLOOKUP(U22,MatrizRequerimientos,8,FALSE)","v":0},{"$f":"+V22*VLOOKUP(U22,MatrizRequerimientos,9,FALSE)","v":0}]
["N",22,null,null,null,null,null,null,null,null,null,null,null,{"$f":"+CONCATENATE(\"Valor obtenido en proyecto para \",H22)","v":"Valor obtenido en proyecto para Mejora de U en cubierta [W/m2K] "},null,null,null,null,null,null,{"$f":"+CONCATENATE(B23,\".\",7)","v":"22.7"},{"$f":"+AND(Q23>VLOOKUP(U23,MatrizRequerimientos,10,FALSE),Q23<=VLOOKUP(U23,MatrizRequerimientos,11,FALSE))","v":false},{"$f":"+V23*VLOOKUP(U23,MatrizRequerimientos,8,FALSE)","v":0},{"$f":"+V23*VLOOKUP(U23,MatrizRequerimientos,9,FALSE)","v":0}]
["N",22]
["N",22,null,null,null,"OPCIÓN ",null,{"$f":"CONCATENATE(VLOOKUP(B25,'Resumen requerimientos'!$T$5:$AB$104,5,FALSE), \" de \",VLOOKUP(B25,'Resumen requerimientos'!$T$5:$AB$104,6,FALSE))","v":"2 de 2"},null,null,null,null,null,null,null,null,null,null,null,null,null,null,null,"Of. Y Serv.","Ed. Y Salud"]
["N",22,null,null,null,null,null,null,null,null,null,null,null,null,null,null,null,null,null,null,{"$f":"+CONCATENATE(B26,\".\",4)","v":"22.4"},{"$f":"+VLOOKUP(U26,MatrizRequerimientos,6,FALSE)","v":"0-0,2"},{"$f":"+IF(A23=\"T\",Q23=V26,V20)","v":false},{"$f":"+W26*VLOOKUP(U26,MatrizRequerimientos,8,FALSE)","v":0},{"$f":"+W26*VLOOKUP(U26,MatrizRequerimientos,9,FALSE)","v":0}]
["N",22,null,null,null,{"$f":"+IF(H27=\"No\",\"¿OTROS REQUERIMIENTOS SIMULTÁNEOS?\",\"REQUERIMIENTOS SIMULTANEOS PARA LA OPCION\")","v":"REQUERIMIENTOS SIMULTANEOS PARA LA OPCION"},null,{"$f":"IF(VLOOKUP(B27,'Resumen requerimientos'!$T$5:$AB$104,7,FALSE)=0,\"No\",CONCATENATE(VLOOKUP(B27,'Resumen requerimientos'!$T$5:$AB$104,7,FALSE), \" de \",VLOOKUP(B27,'Resumen requerimientos'!$T$5:$AB$104,8,FALSE)))","v":"1 de 2"},null,null,null,null,null,null,null,null,null,null,null,null,{"$f":"+CONCATENATE(B27,\".\",5)","v":"22.5"},{"$f":"+VLOOKUP(U27,MatrizRequerimientos,6,FALSE)","v":"0,2-0,47"},{"$f":"+IF(A24=\"T\",Q23=V27,V21)","v":false},{"$f":"+W27*VLOOKUP(U27,MatrizRequerimientos,8,FALSE)","v":0},{"$f":"+W27*VLOOKUP(U27,MatrizRequerimientos,9,FALSE)","v":0}]
["N",22,null,null,null,null,null,null,null,null,null,null,null,null,null,null,null,null,null,null,{"$f":"+CONCATENATE(B28,\".\",6)","v":"22.6"},{"$f":"+VLOOKUP(U28,MatrizRequerimientos,6,FALSE)","v":"0,47-0,8"},{"$f":"+IF(A25=\"T\",Q23=V28,V22)","v":false},{"$f":"+W28*VLOOKUP(U28,MatrizRequerimientos,8,FALSE)","v":0},{"$f":"+W28*VLOOKUP(U28,MatrizRequerimientos,9,FALSE)","v":0}]
["N",22,null,null,null,"REQUERIMIENTO ADICIONAL",null,{"$f":"VLOOKUP(B29,'Resumen requerimientos'!$T$5:$AB$104,9,FALSE)","v":"si"},null,null,null,null,null,null,null,null,null,null,null,null,{"$f":"+CONCATENATE(B29,\".\",7)","v":"22.7"},{"$f":"+VLOOKUP(U29,MatrizRequerimientos,6,FALSE)","v":"0,8-1000000"},{"$f":"+IF(A26=\"T\",Q23=V29,V23)","v":false},{"$f":"+W29*VLOOKUP(U29,MatrizRequerimientos,8,FALSE)","v":0},{"$f":"+W29*VLOOKUP(U29,MatrizRequerimientos,9,FALSE)","v":0}]
["N",22,null,null,null,null,null,null,null,null,null,null,null,null,null,null,null,null,null,null,null,null,{"$f":"+IF(AND(A26=\"N\",H18=\"Voluntario\"),SUMIF(W26:W29,TRUE,IF(Uso_Edificio=\"Oficinas\",X26:X29,Y26:Y29)),IF(AND(A26=\"T\",H18=\"Obligatorio\"),VLOOKUP(Q23,V26:X29,3,FALSE)=1,W26))","v":0},null,null,{"$f":"+IF(V20,\"BUENO\",IF(V21,\"ACEPTABLE\",IF(V22,\"MINIMO\",\"NO CUMPLE MÍNIMO\")))","v":"NO CUMPLE MÍNIMO"}]
["N",22]
["N",93]
["N",{"$f":"+B32","v":93},null,null,null,"Tipo requerimiento",null,{"$f":"+IF(VLOOKUP(B32,TablaResumen[],4)=\"C\",\"Voluntario\",\"Obligatorio\")","v":"Voluntario"},null,null,null,null,null,null,null,null,null,null,null,null,null,"Puntaje crédito numérico"]
["N",93,null,null,null,null,null,null,null,null,null,null,null,{"$f":"+IF(H33=\"Obligatorio\",\"Cumple Requisito\",\"Puntaje obtenido\")","v":"Puntaje obtenido"},null,null,{"$f":"IF(H33=\"Obligatorio\",W45,IF(A35=\"N\",IF(Uso_Edificio=\"Oficinas\",SUM(W35:W38),SUM(X35:X38)),IF(Uso_Edificio=\"Oficinas\",SUM(X41:X44),SUM(Y41:Y44))))","v":0},null,null,null,null,"Calificación","Of. Y Serv.","Ed. Y Salud"]
["N",93,null,null,null,"Nombre Requerimiento",null,{"$f":"+VLOOKUP(B37,TablaResumen[],16,0)","v":"Demanda de energía"},null,null,null,null,null,null,null,null,{"$f":"+IF(H32=\"Requisito\",W44,IF(#REF!=\"N\",IF(Uso_Edificio=\"Oficinas\",SUM(W34:W37),SUM(X34:X37)),IF(Uso_Edificio=\"Oficinas\",SUM(X40:X43),SUM(Y40:Y43))))","v":{"$error":"#REF!"}},null,null,null,{"$f":"+CONCATENATE(B35,\".\",4)","v":"93.4"},{"$f":"+AND(Q38>VLOOKUP(U35,MatrizRequerimientos,10,FALSE),Q38<=VLOOKUP(U35,MatrizRequerimientos,11,FALSE))","v":false},{"$f":"+V35*VLOOKUP(U35,MatrizRequerimientos,8,FALSE)","v":0},{"$f":"+V35*VLOOKUP(U35,MatrizRequerimientos,9,FALSE)","v":0}]
["N",93,null,null,null,null,null,null,null,null,null,null,null,null,null,null,{"$f":"+IF(H33=\"Requisito\",W45,IF(A32=\"N\",IF(Uso_Edificio=\"Oficinas\",SUM(W35:W38),SUM(X35:X38)),IF(Uso_Edificio=\"Oficinas\",SUM(X41:X44),SUM(Y41:Y44))))","v":0},null,null,null,{"$f":"+CONCATENATE(B36,\".\",5)","v":"93.5"},{"$f":"+AND(Q38>VLOOKUP(U36,MatrizRequerimientos,10,FALSE),Q38<=VLOOKUP(U36,MatrizRequerimientos,11,FALSE))","v":false},{"$f":"+V36*VLOOKUP(U36,MatrizRequerimientos,8,FALSE)","v":0},{"$f":"+V36*VLOOKUP(U36,MatrizRequerimientos,9,FALSE)","v":0}]
["N",93,null,null,null,"Indicador",null,{"$f":"+VLOOKUP(B38,TablaResumen[],21,0)","v":"Mejora de U en pisos ventilados [W/m2K] "},null,null,null,null,null,null,null,null,null,null,null,null,{"$f":"+CONCATENATE(B37,\".\",6)","v":"93.6"},{"$f":"+AND(Q38>VLOOKUP(U37,MatrizRequerimientos,10,FALSE),Q38<=VLOOKUP(U37,MatrizRequerimientos,11,FALSE))","v":false},{"$f":"+V37*VLOOKUP(U37,MatrizRequerimientos,8,FALSE)","v":0},{"$f":"+V37*VLOOKUP(U37,MatrizRequerimientos,9,FALSE)","v":0}]
["N",93,null,null,null,null,null,null,null,null,null,null,null,{"$f":"+CONCATENATE(\"Valor obtenido en proyecto para \",H37)","v":"Valor obtenido en proyecto para Mejora de U en pisos ventilados [W/m2K] "},null,null,null,null,null,null,{"$f":"+CONCATENATE(B38,\".\",7)","v":"93.7"},{"$f":"+AND(Q38>VLOOKUP(U38,MatrizRequerimientos,10,FALSE),Q38<=VLOOKUP(U38,MatrizRequerimientos,11,FALSE))","v":false},{"$f":"+V38*VLOOKUP(U38,MatrizRequerimientos,8,FALSE)","v":0},{"$f":"+V38*VLOOKUP(U38,MatrizRequerimientos,9,FALSE)","v":0}]
["N",93]
["N",93,null,null,null,"OPCIÓN ",null,{"$f":"CONCATENATE(VLOOKUP(B40,'Resumen requerimientos'!$T$5:$AB$104,5,FALSE), \" de \",VLOOKUP(B40,'Resumen requerimientos'!$T$5:$AB$104,6,FALSE))","v":"2 de 2"},null,null,null,null,null,null,null,null,null,null,null,null,null,null,null,"Of. Y Serv.","Ed. Y Salud"]
["N",93,null,null,null,null,null,null,null,null,null,null,null,null,null,null,null,null,null,null,{"$f":"+CONCATENATE(B41,\".\",4)","v":"93.4"},{"$f":"+VLOOKUP(U41,MatrizRequerimientos,6,FALSE)","v":"0-0,2"},{"$f":"+IF(A38=\"T\",Q38=V41,V35)","v":false},{"$f":"+W41*VLOOKUP(U41,MatrizRequerimientos,8,FALSE)","v":0},{"$f":"+W41*VLOOKUP(U41,MatrizRequerimientos,9,FALSE)","v":0}]
["N",93,null,null,null,{"$f":"+IF(H42=\"No\",\"¿OTROS REQUERIMIENTOS SIMULTÁNEOS?\",\"REQUERIMIENTOS SIMULTANEOS PARA LA OPCION\")","v":"REQUERIMIENTOS SIMULTANEOS PARA LA OPCION"},null,{"$f":"IF(VLOOKUP(B42,'Resumen requerimientos'!$T$5:$AB$104,7,FALSE)=0,\"No\",CONCATENATE(VLOOKUP(B42,'Resumen requerimientos'!$T$5:$AB$104,7,FALSE), \" de \",VLOOKUP(B42,'Resumen requerimientos'!$T$5:$AB$104,8,FALSE)))","v":"2 de 2"},null,null,null,null,null,null,null,null,null,null,null,null,{"$f":"+CONCATENATE(B42,\".\",5)","v":"93.5"},{"$f":"+VLOOKUP(U42,MatrizRequerimientos,6,FALSE)","v":"0,2-0,47"},{"$f":"+IF(A39=\"T\",Q38=V42,V36)","v":false},{"$f":"+W42*VLOOKUP(U42,MatrizRequerimientos,8,FALSE)","v":0},{"$f":"+W42*VLOOKUP(U42,MatrizRequerimientos,9,FALSE)","v":0}]
["N",93,null,null,null,null,null,null,null,null,null,null,null,null,null,null,null,null,null,null,{"$f":"+CONCATENATE(B43,\".\",6)","v":"93.6"},{"$f":"+VLOOKUP(U43,MatrizRequerimientos,6,FALSE)","v":"0,47-0,8"},{"$f":"+IF(A40=\"T\",Q38=V43,V37)","v":false},{"$f":"+W43*VLOOKUP(U43,MatrizRequerimientos,8,FALSE)","v":0},{"$f":"+W43*VLOOKUP(U43,MatrizRequerimientos,9,FALSE)","v":0}]
["N",93,null,null,null,"REQUERIMIENTO ADICIONAL",null,{"$f":"VLOOKUP(B44,'Resumen requerimientos'!$T$5:$AB$104,9,FALSE)","v":"Si"},null,null,null,null,null,null,null,null,null,null,null,null,{"$f":"+CONCATENATE(B44,\".\",7)","v":"93.7"},{"$f":"+VLOOKUP(U44,MatrizRequerimientos,6,FALSE)","v":"0,8-1000000"},{"$f":"+IF(A41=\"T\",Q38=V44,V38)","v":false},{"$f":"+W44*VLOOKUP(U44,MatrizRequerimientos,8,FALSE)","v":0},{"$f":"+W44*VLOOKUP(U44,MatrizRequerimientos,9,FALSE)","v":0}]
["N",93,null,null,null,null,null,null,null,null,null,null,null,null,null,null,null,null,null,null,null,null,{"$f":"+IF(AND(A41=\"N\",H33=\"Voluntario\"),SUMIF(W41:W44,TRUE,IF(Uso_Edificio=\"Oficinas\",X41:X44,Y41:Y44)),IF(AND(A41=\"T\",H33=\"Obligatorio\"),VLOOKUP(Q38,V41:X44,3,FALSE)=1,W41))","v":0},null,null,{"$f":"+IF(V35,\"BUENO\",IF(V36,\"ACEPTABLE\",IF(V37,\"MINIMO\",\"NO CUMPLE MÍNIMO\")))","v":"NO CUMPLE MÍNIMO"}]
["N",93]
["N",23]
["N",{"$f":"+B47","v":23},null,null,null,"Tipo requerimiento",null,{"$f":"+IF(VLOOKUP(B47,TablaResumen[],4)=\"C\",\"Voluntario\",\"Obligatorio\")","v":"Voluntario"},null,null,null,null,null,null,null,null,null,null,null,null,null,"Puntaje crédito numérico"]
["N",23,null,null,null,null,null,null,null,null,null,null,null,{"$f":"+IF(H48=\"Obligatorio\",\"Cumple Requisito\",\"Puntaje obtenido\")","v":"Puntaje obtenido"},null,null,{"$f":"IF(H48=\"Obligatorio\",W60,IF(A50=\"N\",IF(Uso_Edificio=\"Oficinas\",SUM(W50:W53),SUM(X50:X53)),IF(Uso_Edificio=\"Oficinas\",SUM(X56:X59),SUM(Y56:Y59))))","v":0},null,null,null,null,"Calificación","Of. Y Serv.","Ed. Y Salud"]
["N",23,null,null,null,"Nombre Requerimiento",null,{"$f":"+VLOOKUP(B52,TablaResumen[],16,0)","v":"Demanda de energía"},null,null,null,null,null,null,null,null,{"$f":"+IF(H47=\"Requisito\",W59,IF(#REF!=\"N\",IF(Uso_Edificio=\"Oficinas\",SUM(W49:W52),SUM(X49:X52)),IF(Uso_Edificio=\"Oficinas\",SUM(X55:X58),SUM(Y55:Y58))))","v":{"$error":"#REF!"}},null,null,null,{"$f":"+CONCATENATE(B50,\".\",4)","v":"23.4"},{"$f":"+AND(Q53>VLOOKUP(U50,MatrizRequerimientos,10,FALSE),Q53<=VLOOKUP(U50,MatrizRequerimientos,11,FALSE))","v":false},{"$f":"+V50*VLOOKUP(U50,MatrizRequerimientos,8,FALSE)","v":0},{"$f":"+V50*VLOOKUP(U50,MatrizRequerimientos,9,FALSE)","v":0}]
["N",23,null,null,null,null,null,null,null,null,null,null,null,null,null,null,{"$f":"+IF(H48=\"Requisito\",W60,IF(A47=\"N\",IF(Uso_Edificio=\"Oficinas\",SUM(W50:W53),SUM(X50:X53)),IF(Uso_Edificio=\"Oficinas\",SUM(X56:X59),SUM(Y56:Y59))))","v":0},null,null,null,{"$f":"+CONCATENATE(B51,\".\",5)","v":"23.5"},{"$f":"+AND(Q53>VLOOKUP(U51,MatrizRequerimientos,10,FALSE),Q53<=VLOOKUP(U51,MatrizRequerimientos,11,FALSE))","v":false},{"$f":"+V51*VLOOKUP(U51,MatrizRequerimientos,8,FALSE)","v":0},{"$f":"+V51*VLOOKUP(U51,MatrizRequerimientos,9,FALSE)","v":0}]
["N",23,null,null,null,"Indicador",null,{"$f":"+VLOOKUP(B53,TablaResumen[],21,0)","v":"Mejora de U [W/m2K] en muros"},null,null,null,null,null,null,null,null,null,null,null,null,{"$f":"+CONCATENATE(B52,\".\",6)","v":"23.6"},{"$f":"+AND(Q53>VLOOKUP(U52,MatrizRequerimientos,10,FALSE),Q53<=VLOOKUP(U52,MatrizRequerimientos,11,FALSE))","v":false},{"$f":"+V52*VLOOKUP(U52,MatrizRequerimientos,8,FALSE)","v":0},{"$f":"+V52*VLOOKUP(U52,MatrizRequerimientos,9,FALSE)","v":0}]
["N",23,null,null,null,null,null,null,null,null,null,null,null,{"$f":"+CONCATENATE(\"Valor obtenido en proyecto para \",H52)","v":"Valor obtenido en proyecto para Mejora de U [W/m2K] en muros"},null,null,null,null,null,null,{"$f":"+CONCATENATE(B53,\".\",7)","v":"23.7"},{"$f":"+AND(Q53>VLOOKUP(U53,MatrizRequerimientos,10,FALSE),Q53<=VLOOKUP(U53,MatrizRequerimientos,11,FALSE))","v":false},{"$f":"+V53*VLOOKUP(U53,MatrizRequerimientos,8,FALSE)","v":0},{"$f":"+V53*VLOOKUP(U53,MatrizRequerimientos,9,FALSE)","v":0}]
["N",23]
["N",23,null,null,null,"OPCIÓN ",null,{"$f":"CONCATENATE(VLOOKUP(B55,'Resumen requerimientos'!$T$5:$AB$104,5,FALSE), \" de \",VLOOKUP(B55,'Resumen requerimientos'!$T$5:$AB$104,6,FALSE))","v":"2 de 2"},null,null,null,null,null,null,null,null,null,null,null,null,null,null,null,"Of. Y Serv.","Ed. Y Salud"]
["N",23,null,null,null,null,null,null,null,null,null,null,null,null,null,null,null,null,null,null,{"$f":"+CONCATENATE(B56,\".\",4)","v":"23.4"},{"$f":"+VLOOKUP(U56,MatrizRequerimientos,6,FALSE)","v":"0-0,8"},{"$f":"+IF(A53=\"T\",Q53=V56,V50)","v":false},{"$f":"+W56*VLOOKUP(U56,MatrizRequerimientos,8,FALSE)","v":0},{"$f":"+W56*VLOOKUP(U56,MatrizRequerimientos,9,FALSE)","v":0}]
["N",23,null,null,null,{"$f":"+IF(H57=\"No\",\"¿OTROS REQUERIMIENTOS SIMULTÁNEOS?\",\"REQUERIMIENTOS SIMULTANEOS PARA LA OPCION\")","v":"REQUERIMIENTOS SIMULTANEOS PARA LA OPCION"},null,{"$f":"IF(VLOOKUP(B57,'Resumen requerimientos'!$T$5:$AB$104,7,FALSE)=0,\"No\",CONCATENATE(VLOOKUP(B57,'Resumen requerimientos'!$T$5:$AB$104,7,FALSE), \" de \",VLOOKUP(B57,'Resumen requerimientos'!$T$5:$AB$104,8,FALSE)))","v":"1 de 8"},null,null,null,null,null,null,null,null,null,null,null,null,{"$f":"+CONCATENATE(B57,\".\",5)","v":"23.5"},{"$f":"+VLOOKUP(U57,MatrizRequerimientos,6,FALSE)","v":"0,8-2,9"},{"$f":"+IF(A54=\"T\",Q53=V57,V51)","v":false},{"$f":"+W57*VLOOKUP(U57,MatrizRequerimientos,8,FALSE)","v":0},{"$f":"+W57*VLOOKUP(U57,MatrizRequerimientos,9,FALSE)","v":0}]
["N",23,null,null,null,null,null,null,null,null,null,null,null,null,null,null,null,null,null,null,{"$f":"+CONCATENATE(B58,\".\",6)","v":"23.6"},{"$f":"+VLOOKUP(U58,MatrizRequerimientos,6,FALSE)","v":"2,9-1000000"},{"$f":"+IF(A55=\"T\",Q53=V58,V52)","v":false},{"$f":"+W58*VLOOKUP(U58,MatrizRequerimientos,8,FALSE)","v":0},{"$f":"+W58*VLOOKUP(U58,MatrizRequerimientos,9,FALSE)","v":0}]
["N",23,null,null,null,"REQUERIMIENTO ADICIONAL",null,{"$f":"VLOOKUP(B59,'Resumen requerimientos'!$T$5:$AB$104,9,FALSE)","v":"si"},null,null,null,null,null,null,null,null,null,null,null,null,{"$f":"+CONCATENATE(B59,\".\",7)","v":"23.7"},{"$f":"+VLOOKUP(U59,MatrizRequerimientos,6,FALSE)","v":0},{"$f":"+IF(A56=\"T\",Q53=V59,V53)","v":false},{"$f":"+W59*VLOOKUP(U59,MatrizRequerimientos,8,FALSE)","v":0},{"$f":"+W59*VLOOKUP(U59,MatrizRequerimientos,9,FALSE)","v":0}]
["N",23,null,null,null,null,null,null,null,null,null,null,null,null,null,null,null,null,null,null,null,null,{"$f":"+IF(AND(A56=\"N\",H48=\"Voluntario\"),SUMIF(W56:W59,TRUE,IF(Uso_Edificio=\"Oficinas\",X56:X59,Y56:Y59)),IF(AND(A56=\"T\",H48=\"Obligatorio\"),VLOOKUP(Q53,V56:X59,3,FALSE)=1,W56))","v":0},null,null,{"$f":"+IF(V50,\"BUENO\",IF(V51,\"MINIMO\",\"NO CUMPLE MÍNIMO\"))","v":"NO CUMPLE MÍNIMO"}]
["N",23]
["N",24]
["N",{"$f":"+B62","v":24},null,null,null,"Tipo requerimiento",null,{"$f":"+IF(VLOOKUP(B62,TablaResumen[],4)=\"C\",\"Voluntario\",\"Obligatorio\")","v":"Voluntario"},null,null,null,null,null,null,null,null,null,null,null,null,null,"Puntaje crédito numérico"]
["N",24,null,null,null,null,null,null,null,null,null,null,null,{"$f":"+IF(H63=\"Obligatorio\",\"Cumple Requisito\",\"Puntaje obtenido\")","v":"Puntaje obtenido"},null,null,{"$f":"IF(H63=\"Obligatorio\",W75,IF(A65=\"N\",IF(Uso_Edificio=\"Oficinas\",SUM(W65:W68),SUM(X65:X68)),IF(Uso_Edificio=\"Oficinas\",SUM(X71:X74),SUM(Y71:Y74))))","v":0},null,null,null,null,"Calificación","Of. Y Serv.","Ed. Y Salud"]
["N",24,null,null,null,"Nombre Requerimiento",null,{"$f":"+VLOOKUP(B67,TablaResumen[],16,0)","v":"Demanda de energía"},null,null,null,null,null,null,null,null,{"$f":"+IF(H62=\"Requisito\",W74,IF(#REF!=\"N\",IF(Uso_Edificio=\"Oficinas\",SUM(W64:W67),SUM(X64:X67)),IF(Uso_Edificio=\"Oficinas\",SUM(X70:X73),SUM(Y70:Y73))))","v":{"$error":"#REF!"}},null,null,null,{"$f":"+CONCATENATE(B65,\".\",4)","v":"24.4"},{"$f":"+AND(Q68>VLOOKUP(U65,MatrizRequerimientos,10,FALSE),Q68<=VLOOKUP(U65,MatrizRequerimientos,11,FALSE))","v":false},{"$f":"+V65*VLOOKUP(U65,MatrizRequerimientos,8,FALSE)","v":0},{"$f":"+V65*VLOOKUP(U65,MatrizRequerimientos,9,FALSE)","v":0}]
["N",24,null,null,null,null,null,null,null,null,null,null,null,null,null,null,{"$f":"+IF(H63=\"Requisito\",W75,IF(A62=\"N\",IF(Uso_Edificio=\"Oficinas\",SUM(W65:W68),SUM(X65:X68)),IF(Uso_Edificio=\"Oficinas\",SUM(X71:X74),SUM(Y71:Y74))))","v":0},null,null,null,{"$f":"+CONCATENATE(B66,\".\",5)","v":"24.5"},{"$f":"+AND(Q68>VLOOKUP(U66,MatrizRequerimientos,10,FALSE),Q68<=VLOOKUP(U66,MatrizRequerimientos,11,FALSE))","v":false},{"$f":"+V66*VLOOKUP(U66,MatrizRequerimientos,8,FALSE)","v":0},{"$f":"+V66*VLOOKUP(U66,MatrizRequerimientos,9,FALSE)","v":0}]
["N",24,null,null,null,"Indicador",null,{"$f":"+VLOOKUP(B68,TablaResumen[],21,0)","v":"Mejora de U [W/m2K] en ventanas"},null,null,null,null,null,null,null,null,null,null,null,null,{"$f":"+CONCATENATE(B67,\".\",6)","v":"24.6"},{"$f":"+AND(Q68>VLOOKUP(U67,MatrizRequerimientos,10,FALSE),Q68<=VLOOKUP(U67,MatrizRequerimientos,11,FALSE))","v":false},{"$f":"+V67*VLOOKUP(U67,MatrizRequerimientos,8,FALSE)","v":0},{"$f":"+V67*VLOOKUP(U67,MatrizRequerimientos,9,FALSE)","v":0}]
["N",24,null,null,null,null,null,null,null,null,null,null,null,{"$f":"+CONCATENATE(\"Valor obtenido en proyecto para \",H67)","v":"Valor obtenido en proyecto para Mejora de U [W/m2K] en ventanas"},null,null,null,null,null,null,{"$f":"+CONCATENATE(B68,\".\",7)","v":"24.7"},{"$f":"+AND(Q68>VLOOKUP(U68,MatrizRequerimientos,10,FALSE),Q68<=VLOOKUP(U68,MatrizRequerimientos,11,FALSE))","v":false},{"$f":"+V68*VLOOKUP(U68,MatrizRequerimientos,8,FALSE)","v":0},{"$f":"+V68*VLOOKUP(U68,MatrizRequerimientos,9,FALSE)","v":0}]
["N",24]
["N",24,null,null,null,"OPCIÓN ",null,{"$f":"CONCATENATE(VLOOKUP(B70,'Resumen requerimientos'!$T$5:$AB$104,5,FALSE), \" de \",VLOOKUP(B70,'Resumen requerimientos'!$T$5:$AB$104,6,FALSE))","v":"2 de 2"},null,null,null,null,null,null,null,null,null,null,null,null,null,null,null,"Of. Y Serv.","Ed. Y Salud"]
["N",24,null,null,null,null,null,null,null,null,null,null,null,null,null,null,null,null,null,null,{"$f":"+CONCATENATE(B71,\".\",4)","v":"24.4"},{"$f":"+VLOOKUP(U71,MatrizRequerimientos,6,FALSE)","v":"0-1,6"},{"$f":"+IF(A68=\"T\",Q68=V71,V65)","v":false},{"$f":"+W71*VLOOKUP(U71,MatrizRequerimientos,8,FALSE)","v":0},{"$f":"+W71*VLOOKUP(U71,MatrizRequerimientos,9,FALSE)","v":0}]
["N",24,null,null,null,{"$f":"+IF(H72=\"No\",\"¿OTROS REQUERIMIENTOS SIMULTÁNEOS?\",\"REQUERIMIENTOS SIMULTANEOS PARA LA OPCION\")","v":"REQUERIMIENTOS SIMULTANEOS PARA LA OPCION"},null,{"$f":"IF(VLOOKUP(B72,'Resumen requerimientos'!$T$5:$AB$104,7,FALSE)=0,\"No\",CONCATENATE(VLOOKUP(B72,'Resumen requerimientos'!$T$5:$AB$104,7,FALSE), \" de \",VLOOKUP(B72,'Resumen requerimientos'!$T$5:$AB$104,8,FALSE)))","v":"2 de 8"},null,null,null,null,null,null,null,null,null,null,null,null,{"$f":"+CONCATENATE(B72,\".\",5)","v":"24.5"},{"$f":"+VLOOKUP(U72,MatrizRequerimientos,6,FALSE)","v":"1,6-3"},{"$f":"+IF(A69=\"T\",Q68=V72,V66)","v":false},{"$f":"+W72*VLOOKUP(U72,MatrizRequerimientos,8,FALSE)","v":0},{"$f":"+W72*VLOOKUP(U72,MatrizRequerimientos,9,FALSE)","v":0}]
["N",24,null,null,null,null,null,null,null,null,null,null,null,null,null,null,null,null,null,null,{"$f":"+CONCATENATE(B73,\".\",6)","v":"24.6"},{"$f":"+VLOOKUP(U73,MatrizRequerimientos,6,FALSE)","v":"3-3,6"},{"$f":"+IF(A70=\"T\",Q68=V73,V67)","v":false},{"$f":"+W73*VLOOKUP(U73,MatrizRequerimientos,8,FALSE)","v":0},{"$f":"+W73*VLOOKUP(U73,MatrizRequerimientos,9,FALSE)","v":0}]
["N",24,null,null,null,"REQUERIMIENTO ADICIONAL",null,{"$f":"VLOOKUP(B74,'Resumen requerimientos'!$T$5:$AB$104,9,FALSE)","v":"si"},null,null,null,null,null,null,null,null,null,null,null,null,{"$f":"+CONCATENATE(B74,\".\",7)","v":"24.7"},{"$f":"+VLOOKUP(U74,MatrizRequerimientos,6,FALSE)","v":"3,6-1000000"},{"$f":"+IF(A71=\"T\",Q68=V74,V68)","v":false},{"$f":"+W74*VLOOKUP(U74,MatrizRequerimientos,8,FALSE)","v":0},{"$f":"+W74*VLOOKUP(U74,MatrizRequerimientos,9,FALSE)","v":0}]
["N",24,null,null,null,null,null,null,null,null,null,null,null,null,null,null,null,null,null,null,null,null,{"$f":"+IF(AND(A71=\"N\",H63=\"Voluntario\"),SUMIF(W71:W74,TRUE,IF(Uso_Edificio=\"Oficinas\",X71:X74,Y71:Y74)),IF(AND(A71=\"T\",H63=\"Obligatorio\"),VLOOKUP(Q68,V71:X74,3,FALSE)=1,W71))","v":0},null,null,{"$f":"+IF(V65,\"BUENO\",IF(V66,\"ACEPTABLE\",IF(V67,\"MINIMO\",\"NO CUMPLE MÍNIMO\")))","v":"NO CUMPLE MÍNIMO"}]
["N",24]
["N",25]
["N",{"$f":"+B77","v":25},null,null,null,"Tipo requerimiento",null,{"$f":"+IF(VLOOKUP(B77,TablaResumen[],4)=\"C\",\"Voluntario\",\"Obligatorio\")","v":"Voluntario"},null,null,null,null,null,null,null,null,null,null,null,null,null,"Puntaje crédito numérico"]
["N",25,null,null,null,null,null,null,null,null,null,null,null,{"$f":"+IF(H78=\"Obligatorio\",\"Cumple Requisito\",\"Puntaje obtenido\")","v":"Puntaje obtenido"},null,null,{"$f":"IF(H78=\"Obligatorio\",W90,IF(A80=\"N\",IF(Uso_Edificio=\"Oficinas\",SUM(W80:W83),SUM(X80:X83)),IF(Uso_Edificio=\"Oficinas\",SUM(X86:X89),SUM(Y86:Y89))))","v":0},null,null,null,null,"Calificación","Of. Y Serv.","Ed. Y Salud"]
["N",25,null,null,null,"Nombre Requerimiento",null,{"$f":"+VLOOKUP(B82,TablaResumen[],16,0)","v":"Demanda de energía"},null,null,null,null,null,null,null,null,{"$f":"+IF(H77=\"Requisito\",W89,IF(#REF!=\"N\",IF(Uso_Edificio=\"Oficinas\",SUM(W79:W82),SUM(X79:X82)),IF(Uso_Edificio=\"Oficinas\",SUM(X85:X88),SUM(Y85:Y88))))","v":{"$error":"#REF!"}},null,null,null,{"$f":"+CONCATENATE(B80,\".\",4)","v":"25.4"},{"$f":"+AND(Q83>VLOOKUP(U80,MatrizRequerimientos,10,FALSE),Q83<=VLOOKUP(U80,MatrizRequerimientos,11,FALSE))","v":false},{"$f":"+V80*VLOOKUP(U80,MatrizRequerimientos,8,FALSE)","v":0},{"$f":"+V80*VLOOKUP(U80,MatrizRequerimientos,9,FALSE)","v":0}]
["N",25,null,null,null,null,null,null,null,null,null,null,null,null,null,null,{"$f":"+IF(H78=\"Requisito\",W90,IF(A77=\"N\",IF(Uso_Edificio=\"Oficinas\",SUM(W80:W83),SUM(X80:X83)),IF(Uso_Edificio=\"Oficinas\",SUM(X86:X89),SUM(Y86:Y89))))","v":0},null,null,null,{"$f":"+CONCATENATE(B81,\".\",5)","v":"25.5"},{"$f":"+AND(Q83>VLOOKUP(U81,MatrizRequerimientos,10,FALSE),Q83<=VLOOKUP(U81,MatrizRequerimientos,11,FALSE))","v":false},{"$f":"+V81*VLOOKUP(U81,MatrizRequerimientos,8,FALSE)","v":0},{"$f":"+V81*VLOOKUP(U81,MatrizRequerimientos,9,FALSE)","v":0}]
["N",25,null,null,null,"Indicador",null,{"$f":"+VLOOKUP(B83,TablaResumen[],21,0)","v":"Mejora FSM - Norte"},null,null,null,null,null,null,null,null,null,null,null,null,{"$f":"+CONCATENATE(B82,\".\",6)","v":"25.6"},{"$f":"+AND(Q83>VLOOKUP(U82,MatrizRequerimientos,10,FALSE),Q83<=VLOOKUP(U82,MatrizRequerimientos,11,FALSE))","v":false},{"$f":"+V82*VLOOKUP(U82,MatrizRequerimientos,8,FALSE)","v":0},{"$f":"+V82*VLOOKUP(U82,MatrizRequerimientos,9,FALSE)","v":0}]
["N",25,null,null,null,null,null,null,null,null,null,null,null,{"$f":"+CONCATENATE(\"Valor obtenido en proyecto para \",H82)","v":"Valor obtenido en proyecto para Mejora FSM - Norte"},null,null,null,null,null,null,{"$f":"+CONCATENATE(B83,\".\",7)","v":"25.7"},{"$f":"+AND(Q83>VLOOKUP(U83,MatrizRequerimientos,10,FALSE),Q83<=VLOOKUP(U83,MatrizRequerimientos,11,FALSE))","v":false},{"$f":"+V83*VLOOKUP(U83,MatrizRequerimientos,8,FALSE)","v":0},{"$f":"+V83*VLOOKUP(U83,MatrizRequerimientos,9,FALSE)","v":0}]
["N",25]
["N",25,null,null,null,"OPCIÓN ",null,{"$f":"CONCATENATE(VLOOKUP(B85,'Resumen requerimientos'!$T$5:$AB$104,5,FALSE), \" de \",VLOOKUP(B85,'Resumen requerimientos'!$T$5:$AB$104,6,FALSE))","v":"2 de 2"},null,null,null,null,null,null,null,null,null,null,null,null,null,null,null,"Of. Y Serv.","Ed. Y Salud"]
["N",25,null,null,null,null,null,null,null,null,null,null,null,null,null,null,null,null,null,null,{"$f":"+CONCATENATE(B86,\".\",4)","v":"25.4"},{"$f":"+VLOOKUP(U86,MatrizRequerimientos,6,FALSE)","v":"0-0,5"},{"$f":"+IF(A83=\"T\",Q83=V86,V80)","v":false},{"$f":"+W86*VLOOKUP(U86,MatrizRequerimientos,8,FALSE)","v":0},{"$f":"+W86*VLOOKUP(U86,MatrizRequerimientos,9,FALSE)","v":0}]
["N",25,null,null,null,{"$f":"+IF(H87=\"No\",\"¿OTROS REQUERIMIENTOS SIMULTÁNEOS?\",\"REQUERIMIENTOS SIMULTANEOS PARA LA OPCION\")","v":"REQUERIMIENTOS SIMULTANEOS PARA LA OPCION"},null,{"$f":"IF(VLOOKUP(B87,'Resumen requerimientos'!$T$5:$AB$104,7,FALSE)=0,\"No\",CONCATENATE(VLOOKUP(B87,'Resumen requerimientos'!$T$5:$AB$104,7,FALSE), \" de \",VLOOKUP(B87,'Resumen requerimientos'!$T$5:$AB$104,8,FALSE)))","v":"3 de 8"},null,null,null,null,null,null,null,null,null,null,null,null,{"$f":"+CONCATENATE(B87,\".\",5)","v":"25.5"},{"$f":"+VLOOKUP(U87,MatrizRequerimientos,6,FALSE)","v":"0,5-0,6"},{"$f":"+IF(A84=\"T\",Q83=V87,V81)","v":false},{"$f":"+W87*VLOOKUP(U87,MatrizRequerimientos,8,FALSE)","v":0},{"$f":"+W87*VLOOKUP(U87,MatrizRequerimientos,9,FALSE)","v":0}]
["N",25,null,null,null,null,null,null,null,null,null,null,null,null,null,null,null,null,null,null,{"$f":"+CONCATENATE(B88,\".\",6)","v":"25.6"},{"$f":"+VLOOKUP(U88,MatrizRequerimientos,6,FALSE)","v":"0,6-0,75"},{"$f":"+IF(A85=\"T\",Q83=V88,V82)","v":false},{"$f":"+W88*VLOOKUP(U88,MatrizRequerimientos,8,FALSE)","v":0},{"$f":"+W88*VLOOKUP(U88,MatrizRequerimientos,9,FALSE)","v":0}]
["N",25,null,null,null,"REQUERIMIENTO ADICIONAL",null,{"$f":"VLOOKUP(B89,'Resumen requerimientos'!$T$5:$AB$104,9,FALSE)","v":"si"},null,null,null,null,null,null,null,null,null,null,null,null,{"$f":"+CONCATENATE(B89,\".\",7)","v":"25.7"},{"$f":"+VLOOKUP(U89,MatrizRequerimientos,6,FALSE)","v":"0,75-1000000"},{"$f":"+IF(A86=\"T\",Q83=V89,V83)","v":false},{"$f":"+W89*VLOOKUP(U89,MatrizRequerimientos,8,FALSE)","v":0},{"$f":"+W89*VLOOKUP(U89,MatrizRequerimientos,9,FALSE)","v":0}]
["N",25,null,null,null,null,null,null,null,null,null,null,null,null,null,null,null,null,null,null,null,null,{"$f":"+IF(AND(A86=\"N\",H78=\"Voluntario\"),SUMIF(W86:W89,TRUE,IF(Uso_Edificio=\"Oficinas\",X86:X89,Y86:Y89)),IF(AND(A86=\"T\",H78=\"Obligatorio\"),VLOOKUP(Q83,V86:X89,3,FALSE)=1,W86))","v":0},null,null,{"$f":"+IF(V80,\"BUENO\",IF(V81,\"ACEPTABLE\",IF(V82,\"MINIMO\",\"NO CUMPLE MÍNIMO\")))","v":"NO CUMPLE MÍNIMO"}]
["N",25]
["N",94]
["N",{"$f":"+B92","v":94},null,null,null,"Tipo requerimiento",null,{"$f":"+IF(VLOOKUP(B92,TablaResumen[],4)=\"C\",\"Voluntario\",\"Obligatorio\")","v":"Voluntario"},null,null,null,null,null,null,null,null,null,null,null,null,null,"Puntaje crédito numérico"]
["N",94,null,null,null,null,null,null,null,null,null,null,null,{"$f":"+IF(H93=\"Obligatorio\",\"Cumple Requisito\",\"Puntaje obtenido\")","v":"Puntaje obtenido"},null,null,{"$f":"+IF(H93=\"Obligatorio\",W105,IF(A95=\"N\",IF(Uso_Edificio=\"Oficinas\",SUM(W95:W98),SUM(X95:X98)),IF(Uso_Edificio=\"Oficinas\",SUM(X101:X104),SUM(Y101:Y104))))","v":0},null,null,null,null,"Calificación","Of. Y Serv.","Ed. Y Salud"]
["N",94,null,null,null,"Nombre Requerimiento",null,{"$f":"+VLOOKUP(B97,TablaResumen[],16,0)","v":"Demanda de energía"},null,null,null,null,null,null,null,null,{"$f":"+IF(H92=\"Requisito\",W104,IF(#REF!=\"N\",IF(Uso_Edificio=\"Oficinas\",SUM(W94:W97),SUM(X94:X97)),IF(Uso_Edificio=\"Oficinas\",SUM(X100:X103),SUM(Y100:Y103))))","v":{"$error":"#REF!"}},null,null,null,{"$f":"+CONCATENATE(B95,\".\",4)","v":"94.4"},{"$f":"+AND(Q98>VLOOKUP(U95,MatrizRequerimientos,10,FALSE),Q98<=VLOOKUP(U95,MatrizRequerimientos,11,FALSE))","v":false},{"$f":"+V95*VLOOKUP(U95,MatrizRequerimientos,8,FALSE)","v":0},{"$f":"+V95*VLOOKUP(U95,MatrizRequerimientos,9,FALSE)","v":0}]
["N",94,null,null,null,null,null,null,null,null,null,null,null,null,null,null,{"$f":"+IF(H93=\"Requisito\",W105,IF(A92=\"N\",IF(Uso_Edificio=\"Oficinas\",SUM(W95:W98),SUM(X95:X98)),IF(Uso_Edificio=\"Oficinas\",SUM(X101:X104),SUM(Y101:Y104))))","v":0},null,null,null,{"$f":"+CONCATENATE(B96,\".\",5)","v":"94.5"},{"$f":"+AND(Q98>VLOOKUP(U96,MatrizRequerimientos,10,FALSE),Q98<=VLOOKUP(U96,MatrizRequerimientos,11,FALSE))","v":false},{"$f":"+V96*VLOOKUP(U96,MatrizRequerimientos,8,FALSE)","v":0},{"$f":"+V96*VLOOKUP(U96,MatrizRequerimientos,9,FALSE)","v":0}]
["N",94,null,null,null,"Indicador",null,{"$f":"+VLOOKUP(B98,TablaResumen[],21,0)","v":"Mejora FSM - NorEste"},null,null,null,null,null,null,null,null,null,null,null,null,{"$f":"+CONCATENATE(B97,\".\",6)","v":"94.6"},{"$f":"+AND(Q98>VLOOKUP(U97,MatrizRequerimientos,10,FALSE),Q98<=VLOOKUP(U97,MatrizRequerimientos,11,FALSE))","v":false},{"$f":"+V97*VLOOKUP(U97,MatrizRequerimientos,8,FALSE)","v":0},{"$f":"+V97*VLOOKUP(U97,MatrizRequerimientos,9,FALSE)","v":0}]
["N",94,null,null,null,null,null,null,null,null,null,null,null,{"$f":"+IF(A97=\"N\",CONCATENATE(\"Valor obtenido en proyecto para \",H97),\"Seleccione Nivel de Cumplimiento\")","v":"Valor obtenido en proyecto para Mejora FSM - NorEste"},null,null,null,null,null,null,{"$f":"+CONCATENATE(B98,\".\",7)","v":"94.7"},{"$f":"+AND(Q98>VLOOKUP(U98,MatrizRequerimientos,10,FALSE),Q98<=VLOOKUP(U98,MatrizRequerimientos,11,FALSE))","v":false},{"$f":"+V98*VLOOKUP(U98,MatrizRequerimientos,8,FALSE)","v":0},{"$f":"+V98*VLOOKUP(U98,MatrizRequerimientos,9,FALSE)","v":0}]
["N",94]
["N",94,null,null,null,"OPCIÓN ",null,{"$f":"CONCATENATE(VLOOKUP(B100,'Resumen requerimientos'!$T$5:$AB$104,5,FALSE), \" de \",VLOOKUP(B100,'Resumen requerimientos'!$T$5:$AB$104,6,FALSE))","v":"2 de 2"},null,null,null,null,null,null,null,null,null,null,null,null,null,null,null,"Of. Y Serv.","Ed. Y Salud"]
["N",94,null,null,null,null,null,null,null,null,null,null,null,null,null,null,null,null,null,null,{"$f":"+CONCATENATE(B101,\".\",4)","v":"94.4"},{"$f":"+VLOOKUP(U101,MatrizRequerimientos,6,FALSE)","v":"0-0,5"},{"$f":"+IF(A98=\"T\",Q98=V101,V95)","v":false},{"$f":"+W101*VLOOKUP(U101,MatrizRequerimientos,8,FALSE)","v":0},{"$f":"+W101*VLOOKUP(U101,MatrizRequerimientos,9,FALSE)","v":0}]
["N",94,null,null,null,{"$f":"+IF(H102=\"No\",\"¿OTROS REQUERIMIENTOS SIMULTÁNEOS?\",\"REQUERIMIENTOS SIMULTANEOS PARA LA OPCION\")","v":"REQUERIMIENTOS SIMULTANEOS PARA LA OPCION"},null,{"$f":"IF(VLOOKUP(B102,'Resumen requerimientos'!$T$5:$AB$104,7,FALSE)=0,\"No\",CONCATENATE(VLOOKUP(B102,'Resumen requerimientos'!$T$5:$AB$104,7,FALSE), \" de \",VLOOKUP(B102,'Resumen requerimientos'!$T$5:$AB$104,8,FALSE)))","v":"4 de 8"},null,null,null,null,null,null,null,null,null,null,null,null,{"$f":"+CONCATENATE(B102,\".\",5)","v":"94.5"},{"$f":"+VLOOKUP(U102,MatrizRequerimientos,6,FALSE)","v":"0,5-0,6"},{"$f":"+IF(A99=\"T\",Q98=V102,V96)","v":false},{"$f":"+W102*VLOOKUP(U102,MatrizRequerimientos,8,FALSE)","v":0},{"$f":"+W102*VLOOKUP(U102,MatrizRequerimientos,9,FALSE)","v":0}]
["N",94,null,null,null,null,null,null,null,null,null,null,null,null,null,null,null,null,null,null,{"$f":"+CONCATENATE(B103,\".\",6)","v":"94.6"},{"$f":"+VLOOKUP(U103,MatrizRequerimientos,6,FALSE)","v":"0,6-0,75"},{"$f":"+IF(A100=\"T\",Q98=V103,V97)","v":false},{"$f":"+W103*VLOOKUP(U103,MatrizRequerimientos,8,FALSE)","v":0},{"$f":"+W103*VLOOKUP(U103,MatrizRequerimientos,9,FALSE)","v":0}]
["N",94,null,null,null,"REQUERIMIENTO ADICIONAL",null,{"$f":"VLOOKUP(B104,'Resumen requerimientos'!$T$5:$AB$104,9,FALSE)","v":"Si"},null,null,null,null,null,null,null,null,null,null,null,null,{"$f":"+CONCATENATE(B104,\".\",7)","v":"94.7"},{"$f":"+VLOOKUP(U104,MatrizRequerimientos,6,FALSE)","v":"0,75-1000000"},{"$f":"+IF(A101=\"T\",Q98=V104,V98)","v":false},{"$f":"+W104*VLOOKUP(U104,MatrizRequerimientos,8,FALSE)","v":0},{"$f":"+W104*VLOOKUP(U104,MatrizRequerimientos,9,FALSE)","v":0}]
["N",94,null,null,null,null,null,null,null,null,null,null,null,null,null,null,null,null,null,null,null,null,{"$f":"+IF(AND(A101=\"N\",H93=\"Voluntario\"),SUMIF(W101:W104,TRUE,IF(Uso_Edificio=\"Oficinas\",X101:X104,Y101:Y104)),IF(AND(A101=\"T\",H93=\"Obligatorio\"),VLOOKUP(Q98,V101:X104,3,FALSE)=1,W101))","v":0},null,null,{"$f":"+IF(V95,\"BUENO\",IF(V96,\"ACEPTABLE\",IF(V97,\"MINIMO\",\"NO CUMPLE MÍNIMO\")))","v":"NO CUMPLE MÍNIMO"}]
["N",94]
["N",95]
["N",95,null,null,null,"Tipo requerimiento",null,{"$f":"+IF(VLOOKUP(B107,TablaResumen[],4)=\"C\",\"Voluntario\",\"Obligatorio\")","v":"Voluntario"},null,null,null,null,null,null,null,null,null,null,null,null,null,"Puntaje crédito numérico"]
["N",95,null,null,null,null,null,null,null,null,null,null,null,{"$f":"+IF(H108=\"Obligatorio\",\"Cumple Requisito\",\"Puntaje obtenido\")","v":"Puntaje obtenido"},null,null,{"$f":"+IF(H108=\"Obligatorio\",W120,IF(A110=\"N\",IF(Uso_Edificio=\"Oficinas\",SUM(W110:W113),SUM(X110:X113)),IF(Uso_Edificio=\"Oficinas\",SUM(X116:X119),SUM(Y116:Y119))))","v":0},null,null,null,null,"Calificación","Of. Y Serv.","Ed. Y Salud"]
["N",95,null,null,null,"Nombre Requerimiento",null,{"$f":"+VLOOKUP(B112,TablaResumen[],16,0)","v":"Demanda de energía"},null,null,null,null,null,null,null,null,{"$f":"+IF(H107=\"Requisito\",W119,IF(#REF!=\"N\",IF(Uso_Edificio=\"Oficinas\",SUM(W109:W112),SUM(X109:X112)),IF(Uso_Edificio=\"Oficinas\",SUM(X115:X118),SUM(Y115:Y118))))","v":{"$error":"#REF!"}},null,null,null,{"$f":"+CONCATENATE(B110,\".\",4)","v":"95.4"},{"$f":"+AND(Q113>VLOOKUP(U110,MatrizRequerimientos,10,FALSE),Q113<=VLOOKUP(U110,MatrizRequerimientos,11,FALSE))","v":false},{"$f":"+V110*VLOOKUP(U110,MatrizRequerimientos,8,FALSE)","v":0},{"$f":"+V110*VLOOKUP(U110,MatrizRequerimientos,9,FALSE)","v":0}]
["N",95,null,null,null,null,null,null,null,null,null,null,null,null,null,null,{"$f":"+IF(H108=\"Requisito\",W120,IF(A107=\"N\",IF(Uso_Edificio=\"Oficinas\",SUM(W110:W113),SUM(X110:X113)),IF(Uso_Edificio=\"Oficinas\",SUM(X116:X119),SUM(Y116:Y119))))","v":0},null,null,null,{"$f":"+CONCATENATE(B111,\".\",5)","v":"95.5"},{"$f":"+AND(Q113>VLOOKUP(U111,MatrizRequerimientos,10,FALSE),Q113<=VLOOKUP(U111,MatrizRequerimientos,11,FALSE))","v":false},{"$f":"+V111*VLOOKUP(U111,MatrizRequerimientos,8,FALSE)","v":0},{"$f":"+V111*VLOOKUP(U111,MatrizRequerimientos,9,FALSE)","v":0}]
["N",95,null,null,null,"Indicador",null,{"$f":"+VLOOKUP(B113,TablaResumen[],21,0)","v":"Mejora FSM - NorOeste"},null,null,null,null,null,null,null,null,null,null,null,null,{"$f":"+CONCATENATE(B112,\".\",6)","v":"95.6"},{"$f":"+AND(Q113>VLOOKUP(U112,MatrizRequerimientos,10,FALSE),Q113<=VLOOKUP(U112,MatrizRequerimientos,11,FALSE))","v":false},{"$f":"+V112*VLOOKUP(U112,MatrizRequerimientos,8,FALSE)","v":0},{"$f":"+V112*VLOOKUP(U112,MatrizRequerimientos,9,FALSE)","v":0}]
["N",95,null,null,null,null,null,null,null,null,null,null,null,{"$f":"+IF(A112=\"N\",CONCATENATE(\"Valor obtenido en proyecto para \",H112),\"Seleccione Nivel de Cumplimiento\")","v":"Valor obtenido en proyecto para Mejora FSM - NorOeste"},null,null,null,null,null,null,{"$f":"+CONCATENATE(B113,\".\",7)","v":"95.7"},{"$f":"+AND(Q113>VLOOKUP(U113,MatrizRequerimientos,10,FALSE),Q113<=VLOOKUP(U113,MatrizRequerimientos,11,FALSE))","v":false},{"$f":"+V113*VLOOKUP(U113,MatrizRequerimientos,8,FALSE)","v":0},{"$f":"+V113*VLOOKUP(U113,MatrizRequerimientos,9,FALSE)","v":0}]
["N",95]
["N",95,null,null,null,"OPCIÓN ",null,{"$f":"CONCATENATE(VLOOKUP(B115,'Resumen requerimientos'!$T$5:$AB$104,5,FALSE), \" de \",VLOOKUP(B115,'Resumen requerimientos'!$T$5:$AB$104,6,FALSE))","v":"2 de 2"},null,null,null,null,null,null,null,null,null,null,null,null,null,null,null,"Of. Y Serv.","Ed. Y Salud"]
["N",95,null,null,null,null,null,null,null,null,null,null,null,null,null,null,null,null,null,null,{"$f":"+CONCATENATE(B116,\".\",4)","v":"95.4"},{"$f":"+VLOOKUP(U116,MatrizRequerimientos,6,FALSE)","v":"0-0,5"},{"$f":"+IF(A113=\"T\",Q113=V116,V110)","v":false},{"$f":"+W116*VLOOKUP(U116,MatrizRequerimientos,8,FALSE)","v":0},{"$f":"+W116*VLOOKUP(U116,MatrizRequerimientos,9,FALSE)","v":0}]
["N",95,null,null,null,{"$f":"+IF(H117=\"No\",\"¿OTROS REQUERIMIENTOS SIMULTÁNEOS?\",\"REQUERIMIENTOS SIMULTANEOS PARA LA OPCION\")","v":"REQUERIMIENTOS SIMULTANEOS PARA LA OPCION"},null,{"$f":"IF(VLOOKUP(B117,'Resumen requerimientos'!$T$5:$AB$104,7,FALSE)=0,\"No\",CONCATENATE(VLOOKUP(B117,'Resumen requerimientos'!$T$5:$AB$104,7,FALSE), \" de \",VLOOKUP(B117,'Resumen requerimientos'!$T$5:$AB$104,8,FALSE)))","v":"5 de 8"},null,null,null,null,null,null,null,null,null,null,null,null,{"$f":"+CONCATENATE(B117,\".\",5)","v":"95.5"},{"$f":"+VLOOKUP(U117,MatrizRequerimientos,6,FALSE)","v":"0,5-0,6"},{"$f":"+IF(A114=\"T\",Q113=V117,V111)","v":false},{"$f":"+W117*VLOOKUP(U117,MatrizRequerimientos,8,FALSE)","v":0},{"$f":"+W117*VLOOKUP(U117,MatrizRequerimientos,9,FALSE)","v":0}]
["N",95,null,null,null,null,null,null,null,null,null,null,null,null,null,null,null,null,null,null,{"$f":"+CONCATENATE(B118,\".\",6)","v":"95.6"},{"$f":"+VLOOKUP(U118,MatrizRequerimientos,6,FALSE)","v":"0,6-0,75"},{"$f":"+IF(A115=\"T\",Q113=V118,V112)","v":false},{"$f":"+W118*VLOOKUP(U118,MatrizRequerimientos,8,FALSE)","v":0},{"$f":"+W118*VLOOKUP(U118,MatrizRequerimientos,9,FALSE)","v":0}]
["N",95,null,null,null,"REQUERIMIENTO ADICIONAL",null,{"$f":"VLOOKUP(B119,'Resumen requerimientos'!$T$5:$AB$104,9,FALSE)","v":"Si"},null,null,null,null,null,null,null,null,null,null,null,null,{"$f":"+CONCATENATE(B119,\".\",7)","v":"95.7"},{"$f":"+VLOOKUP(U119,MatrizRequerimientos,6,FALSE)","v":"0,75-1000000"},{"$f":"+IF(A116=\"T\",Q113=V119,V113)","v":false},{"$f":"+W119*VLOOKUP(U119,MatrizRequerimientos,8,FALSE)","v":0},{"$f":"+W119*VLOOKUP(U119,MatrizRequerimientos,9,FALSE)","v":0}]
["N",95,null,null,null,null,null,null,null,null,null,null,null,null,null,null,null,null,null,null,null,null,{"$f":"+IF(AND(A116=\"N\",H108=\"Voluntario\"),SUMIF(W116:W119,TRUE,IF(Uso_Edificio=\"Oficinas\",X116:X119,Y116:Y119)),IF(AND(A116=\"T\",H108=\"Obligatorio\"),VLOOKUP(Q113,V116:X119,3,FALSE)=1,W116))","v":0},null,null,{"$f":"+IF(V110,\"BUENO\",IF(V111,\"ACEPTABLE\",IF(V112,\"MINIMO\",\"NO CUMPLE MÍNIMO\")))","v":"NO CUMPLE MÍNIMO"}]
["N",95]
["N",26]
["N",{"$f":"+B122","v":26},null,null,null,"Tipo requerimiento",null,{"$f":"+IF(VLOOKUP(B122,TablaResumen[],4)=\"C\",\"Voluntario\",\"Obligatorio\")","v":"Voluntario"},null,null,null,null,null,null,null,null,null,null,null,null,null,"Puntaje crédito numérico"]
["N",26,null,null,null,null,null,null,null,null,null,null,null,{"$f":"+IF(H123=\"Obligatorio\",\"Cumple Requisito\",\"Puntaje obtenido\")","v":"Puntaje obtenido"},null,null,{"$f":"+IF(H123=\"Obligatorio\",W135,IF(A125=\"N\",IF(Uso_Edificio=\"Oficinas\",SUM(W125:W128),SUM(X125:X128)),IF(Uso_Edificio=\"Oficinas\",SUM(X131:X134),SUM(Y131:Y134))))","v":0},null,null,null,null,"Calificación","Of. Y Serv.","Ed. Y Salud"]
["N",26,null,null,null,"Nombre Requerimiento",null,{"$f":"+VLOOKUP(B127,TablaResumen[],16,0)","v":"Demanda de energía"},null,null,null,null,null,null,null,null,null,null,null,null,{"$f":"+CONCATENATE(B125,\".\",4)","v":"26.4"},{"$f":"+AND(Q128>VLOOKUP(U125,MatrizRequerimientos,10,FALSE),Q128<=VLOOKUP(U125,MatrizRequerimientos,11,FALSE))","v":false},{"$f":"+V125*VLOOKUP(U125,MatrizRequerimientos,8,FALSE)","v":0},{"$f":"+V125*VLOOKUP(U125,MatrizRequerimientos,9,FALSE)","v":0}]
["N",26,null,null,null,null,null,null,null,null,null,null,null,null,null,null,null,null,null,null,{"$f":"+CONCATENATE(B126,\".\",5)","v":"26.5"},{"$f":"+AND(Q128>VLOOKUP(U126,MatrizRequerimientos,10,FALSE),Q128<=VLOOKUP(U126,MatrizRequerimientos,11,FALSE))","v":false},{"$f":"+V126*VLOOKUP(U126,MatrizRequerimientos,8,FALSE)","v":0},{"$f":"+V126*VLOOKUP(U126,MatrizRequerimientos,9,FALSE)","v":0}]
["N",26,null,null,null,"Indicador",null,{"$f":"+VLOOKUP(B128,TablaResumen[],21,0)","v":"Mejora FSM - Este"},null,null,null,null,null,null,null,null,null,null,null,null,{"$f":"+CONCATENATE(B127,\".\",6)","v":"26.6"},{"$f":"+AND(Q128>VLOOKUP(U127,MatrizRequerimientos,10,FALSE),Q128<=VLOOKUP(U127,MatrizRequerimientos,11,FALSE))","v":false},{"$f":"+V127*VLOOKUP(U127,MatrizRequerimientos,8,FALSE)","v":0},{"$f":"+V127*VLOOKUP(U127,MatrizRequerimientos,9,FALSE)","v":0}]
["N",26,null,null,null,null,null,null,null,null,null,null,null,{"$f":"+IF(A127=\"N\",CONCATENATE(\"Valor obtenido en proyecto para \",H127),\"Seleccione Nivel de Cumplimiento\")","v":"Valor obtenido en proyecto para Mejora FSM - Este"},null,null,null,null,null,null,{"$f":"+CONCATENATE(B128,\".\",7)","v":"26.7"},{"$f":"+AND(Q128>VLOOKUP(U128,MatrizRequerimientos,10,FALSE),Q128<=VLOOKUP(U128,MatrizRequerimientos,11,FALSE))","v":false},{"$f":"+V128*VLOOKUP(U128,MatrizRequerimientos,8,FALSE)","v":0},{"$f":"+V128*VLOOKUP(U128,MatrizRequerimientos,9,FALSE)","v":0}]
["N",26]
["N",26,null,null,null,"OPCIÓN ",null,{"$f":"CONCATENATE(VLOOKUP(B130,'Resumen requerimientos'!$T$5:$AB$104,5,FALSE), \" de \",VLOOKUP(B130,'Resumen requerimientos'!$T$5:$AB$104,6,FALSE))","v":"2 de 2"},null,null,null,null,null,null,null,null,null,null,null,null,null,null,null,"Of. Y Serv.","Ed. Y Salud"]
["N",26,null,null,null,null,null,null,null,null,null,null,null,null,null,null,null,null,null,null,{"$f":"+CONCATENATE(B131,\".\",4)","v":"26.4"},{"$f":"+VLOOKUP(U131,MatrizRequerimientos,6,FALSE)","v":"0-0,4"},{"$f":"+IF(A128=\"T\",Q128=V131,V125)","v":false},{"$f":"+W131*VLOOKUP(U131,MatrizRequerimientos,8,FALSE)","v":0},{"$f":"+W131*VLOOKUP(U131,MatrizRequerimientos,9,FALSE)","v":0}]
["N",26,null,null,null,{"$f":"+IF(H132=\"No\",\"¿OTROS REQUERIMIENTOS SIMULTÁNEOS?\",\"REQUERIMIENTOS SIMULTANEOS PARA LA OPCION\")","v":"REQUERIMIENTOS SIMULTANEOS PARA LA OPCION"},null,{"$f":"IF(VLOOKUP(B132,'Resumen requerimientos'!$T$5:$AB$104,7,FALSE)=0,\"No\",CONCATENATE(VLOOKUP(B132,'Resumen requerimientos'!$T$5:$AB$104,7,FALSE), \" de \",VLOOKUP(B132,'Resumen requerimientos'!$T$5:$AB$104,8,FALSE)))","v":"6 de 8"},null,null,null,null,null,null,null,null,null,null,null,null,{"$f":"+CONCATENATE(B132,\".\",5)","v":"26.5"},{"$f":"+VLOOKUP(U132,MatrizRequerimientos,6,FALSE)","v":"0,4-0,5"},{"$f":"+IF(A129=\"T\",Q128=V132,V126)","v":false},{"$f":"+W132*VLOOKUP(U132,MatrizRequerimientos,8,FALSE)","v":0},{"$f":"+W132*VLOOKUP(U132,MatrizRequerimientos,9,FALSE)","v":0}]
["N",26,null,null,null,null,null,null,null,null,null,null,null,null,null,null,null,null,null,null,{"$f":"+CONCATENATE(B133,\".\",6)","v":"26.6"},{"$f":"+VLOOKUP(U133,MatrizRequerimientos,6,FALSE)","v":"0,5-0,6"},{"$f":"+IF(A130=\"T\",Q128=V133,V127)","v":false},{"$f":"+W133*VLOOKUP(U133,MatrizRequerimientos,8,FALSE)","v":0},{"$f":"+W133*VLOOKUP(U133,MatrizRequerimientos,9,FALSE)","v":0}]
["N",26,null,null,null,"REQUERIMIENTO ADICIONAL",null,{"$f":"VLOOKUP(B134,'Resumen requerimientos'!$T$5:$AB$104,9,FALSE)","v":"si"},null,null,null,null,null,null,null,null,null,null,null,null,{"$f":"+CONCATENATE(B134,\".\",7)","v":"26.7"},{"$f":"+VLOOKUP(U134,MatrizRequerimientos,6,FALSE)","v":"0,6-1000000"},{"$f":"+IF(A131=\"T\",Q128=V134,V128)","v":false},{"$f":"+W134*VLOOKUP(U134,MatrizRequerimientos,8,FALSE)","v":0},{"$f":"+W134*VLOOKUP(U134,MatrizRequerimientos,9,FALSE)","v":0}]
["N",26,null,null,null,null,null,null,null,null,null,null,null,null,null,null,null,null,null,null,null,null,{"$f":"+IF(AND(A131=\"N\",H123=\"Voluntario\"),SUMIF(W131:W134,TRUE,IF(Uso_Edificio=\"Oficinas\",X131:X134,Y131:Y134)),IF(AND(A131=\"T\",H123=\"Obligatorio\"),VLOOKUP(Q128,V131:X134,3,FALSE)=1,W131))","v":0},null,null,{"$f":"+IF(V125,\"BUENO\",IF(V126,\"ACEPTABLE\",IF(V127,\"MINIMO\",\"NO CUMPLE MÍNIMO\")))","v":"NO CUMPLE MÍNIMO"}]
["N",26]
["N",96]
["N",{"$f":"+B137","v":96},null,null,null,"Tipo requerimiento",null,{"$f":"+IF(VLOOKUP(B137,TablaResumen[],4)=\"C\",\"Voluntario\",\"Obligatorio\")","v":"Voluntario"},null,null,null,null,null,null,null,null,null,null,null,null,null,"Puntaje crédito numérico"]
["N",96,null,null,null,null,null,null,null,null,null,null,null,{"$f":"+IF(H138=\"Obligatorio\",\"Cumple Requisito\",\"Puntaje obtenido\")","v":"Puntaje obtenido"},null,null,{"$f":"+IF(H138=\"Obligatorio\",W150,IF(A140=\"N\",IF(Uso_Edificio=\"Oficinas\",SUM(W140:W143),SUM(X140:X143)),IF(Uso_Edificio=\"Oficinas\",SUM(X146:X149),SUM(Y146:Y149))))","v":0},null,null,null,null,"Calificación","Of. Y Serv.","Ed. Y Salud"]
["N",96,null,null,null,"Nombre Requerimiento",null,{"$f":"+VLOOKUP(B142,TablaResumen[],16,0)","v":"Demanda de energía"},null,null,null,null,null,null,null,null,{"$f":"+IF(H137=\"Requisito\",W149,IF(#REF!=\"N\",IF(Uso_Edificio=\"Oficinas\",SUM(W139:W142),SUM(X139:X142)),IF(Uso_Edificio=\"Oficinas\",SUM(X145:X148),SUM(Y145:Y148))))","v":{"$error":"#REF!"}},null,null,null,{"$f":"+CONCATENATE(B140,\".\",4)","v":"96.4"},{"$f":"+AND(Q143>VLOOKUP(U140,MatrizRequerimientos,10,FALSE),Q143<=VLOOKUP(U140,MatrizRequerimientos,11,FALSE))","v":false},{"$f":"+V140*VLOOKUP(U140,MatrizRequerimientos,8,FALSE)","v":0},{"$f":"+V140*VLOOKUP(U140,MatrizRequerimientos,9,FALSE)","v":0}]
["N",96,null,null,null,null,null,null,null,null,null,null,null,null,null,null,{"$f":"+IF(H138=\"Requisito\",W150,IF(A137=\"N\",IF(Uso_Edificio=\"Oficinas\",SUM(W140:W143),SUM(X140:X143)),IF(Uso_Edificio=\"Oficinas\",SUM(X146:X149),SUM(Y146:Y149))))","v":0},null,null,null,{"$f":"+CONCATENATE(B141,\".\",5)","v":"96.5"},{"$f":"+AND(Q143>VLOOKUP(U141,MatrizRequerimientos,10,FALSE),Q143<=VLOOKUP(U141,MatrizRequerimientos,11,FALSE))","v":false},{"$f":"+V141*VLOOKUP(U141,MatrizRequerimientos,8,FALSE)","v":0},{"$f":"+V141*VLOOKUP(U141,MatrizRequerimientos,9,FALSE)","v":0}]
["N",96,null,null,null,"Indicador",null,{"$f":"+VLOOKUP(B143,TablaResumen[],21,0)","v":"Mejora FSM - Oeste"},null,null,null,null,null,null,null,null,null,null,null,null,{"$f":"+CONCATENATE(B142,\".\",6)","v":"96.6"},{"$f":"+AND(Q143>VLOOKUP(U142,MatrizRequerimientos,10,FALSE),Q143<=VLOOKUP(U142,MatrizRequerimientos,11,FALSE))","v":false},{"$f":"+V142*VLOOKUP(U142,MatrizRequerimientos,8,FALSE)","v":0},{"$f":"+V142*VLOOKUP(U142,MatrizRequerimientos,9,FALSE)","v":0}]
["N",96,null,null,null,null,null,null,null,null,null,null,null,{"$f":"+IF(A142=\"N\",CONCATENATE(\"Valor obtenido en proyecto para \",H142),\"Seleccione Nivel de Cumplimiento\")","v":"Valor obtenido en proyecto para Mejora FSM - Oeste"},null,null,null,null,null,null,{"$f":"+CONCATENATE(B143,\".\",7)","v":"96.7"},{"$f":"+AND(Q143>VLOOKUP(U143,MatrizRequerimientos,10,FALSE),Q143<=VLOOKUP(U143,MatrizRequerimientos,11,FALSE))","v":false},{"$f":"+V143*VLOOKUP(U143,MatrizRequerimientos,8,FALSE)","v":0},{"$f":"+V143*VLOOKUP(U143,MatrizRequerimientos,9,FALSE)","v":0}]
["N",96]
["N",96,null,null,null,"OPCIÓN ",null,{"$f":"CONCATENATE(VLOOKUP(B145,'Resumen requerimientos'!$T$5:$AB$104,5,FALSE), \" de \",VLOOKUP(B145,'Resumen requerimientos'!$T$5:$AB$104,6,FALSE))","v":"2 de 2"},null,null,null,null,null,null,null,null,null,null,null,null,null,null,null,"Of. Y Serv.","Ed. Y Salud"]
["N",96,null,null,null,null,null,null,null,null,null,null,null,null,null,null,null,null,null,null,{"$f":"+CONCATENATE(B146,\".\",4)","v":"96.4"},{"$f":"+VLOOKUP(U146,MatrizRequerimientos,6,FALSE)","v":"0-0,4"},{"$f":"+IF(A143=\"T\",Q143=V146,V140)","v":false},{"$f":"+W146*VLOOKUP(U146,MatrizRequerimientos,8,FALSE)","v":0},{"$f":"+W146*VLOOKUP(U146,MatrizRequerimientos,9,FALSE)","v":0}]
["N",96,null,null,null,{"$f":"+IF(H147=\"No\",\"¿OTROS REQUERIMIENTOS SIMULTÁNEOS?\",\"REQUERIMIENTOS SIMULTANEOS PARA LA OPCION\")","v":"REQUERIMIENTOS SIMULTANEOS PARA LA OPCION"},null,{"$f":"IF(VLOOKUP(B147,'Resumen requerimientos'!$T$5:$AB$104,7,FALSE)=0,\"No\",CONCATENATE(VLOOKUP(B147,'Resumen requerimientos'!$T$5:$AB$104,7,FALSE), \" de \",VLOOKUP(B147,'Resumen requerimientos'!$T$5:$AB$104,8,FALSE)))","v":"7 de 8"},null,null,null,null,null,null,null,null,null,null,null,null,{"$f":"+CONCATENATE(B147,\".\",5)","v":"96.5"},{"$f":"+VLOOKUP(U147,MatrizRequerimientos,6,FALSE)","v":"0,4-0,5"},{"$f":"+IF(A144=\"T\",Q143=V147,V141)","v":false},{"$f":"+W147*VLOOKUP(U147,MatrizRequerimientos,8,FALSE)","v":0},{"$f":"+W147*VLOOKUP(U147,MatrizRequerimientos,9,FALSE)","v":0}]
["N",96,null,null,null,null,null,null,null,null,null,null,null,null,null,null,null,null,null,null,{"$f":"+CONCATENATE(B148,\".\",6)","v":"96.6"},{"$f":"+VLOOKUP(U148,MatrizRequerimientos,6,FALSE)","v":"0,5-0,6"},{"$f":"+IF(A145=\"T\",Q143=V148,V142)","v":false},{"$f":"+W148*VLOOKUP(U148,MatrizRequerimientos,8,FALSE)","v":0},{"$f":"+W148*VLOOKUP(U148,MatrizRequerimientos,9,FALSE)","v":0}]
["N",96,null,null,null,"REQUERIMIENTO ADICIONAL",null,{"$f":"VLOOKUP(B149,'Resumen requerimientos'!$T$5:$AB$104,9,FALSE)","v":"Si"},null,null,null,null,null,null,null,null,null,null,null,null,{"$f":"+CONCATENATE(B149,\".\",7)","v":"96.7"},{"$f":"+VLOOKUP(U149,MatrizRequerimientos,6,FALSE)","v":"0,6-1000000"},{"$f":"+IF(A146=\"T\",Q143=V149,V143)","v":false},{"$f":"+W149*VLOOKUP(U149,MatrizRequerimientos,8,FALSE)","v":0},{"$f":"+W149*VLOOKUP(U149,MatrizRequerimientos,9,FALSE)","v":0}]
["N",96,null,null,null,null,null,null,null,null,null,null,null,null,null,null,null,null,null,null,null,null,{"$f":"+IF(AND(A146=\"N\",H138=\"Voluntario\"),SUMIF(W146:W149,TRUE,IF(Uso_Edificio=\"Oficinas\",X146:X149,Y146:Y149)),IF(AND(A146=\"T\",H138=\"Obligatorio\"),VLOOKUP(Q143,V146:X149,3,FALSE)=1,W146))","v":0},null,null,{"$f":"+IF(V140,\"BUENO\",IF(V141,\"ACEPTABLE\",IF(V142,\"MINIMO\",\"NO CUMPLE MÍNIMO\")))","v":"NO CUMPLE MÍNIMO"}]
["N",96]
["N",97]
["N",97,null,null,null,"Tipo requerimiento",null,{"$f":"+IF(VLOOKUP(B152,TablaResumen[],4)=\"C\",\"Voluntario\",\"Obligatorio\")","v":"Voluntario"},null,null,null,null,null,null,null,null,null,null,null,null,null,"Puntaje crédito numérico"]
["N",97,null,null,null,null,null,null,null,null,null,null,null,{"$f":"+IF(H153=\"Obligatorio\",\"Cumple Requisito\",\"Puntaje obtenido\")","v":"Puntaje obtenido"},null,null,{"$f":"+IF(H153=\"Obligatorio\",W165,IF(A155=\"N\",IF(Uso_Edificio=\"Oficinas\",SUM(W155:W158),SUM(X155:X158)),IF(Uso_Edificio=\"Oficinas\",SUM(X161:X164),SUM(Y161:Y164))))","v":0},null,null,null,null,"Calificación","Of. Y Serv.","Ed. Y Salud"]
["N",97,null,null,null,"Nombre Requerimiento",null,{"$f":"+VLOOKUP(B157,TablaResumen[],16,0)","v":"Demanda de energía"},null,null,null,null,null,null,null,null,{"$f":"+IF(H152=\"Requisito\",W164,IF(#REF!=\"N\",IF(Uso_Edificio=\"Oficinas\",SUM(W154:W157),SUM(X154:X157)),IF(Uso_Edificio=\"Oficinas\",SUM(X160:X163),SUM(Y160:Y163))))","v":{"$error":"#REF!"}},null,null,null,{"$f":"+CONCATENATE(B155,\".\",4)","v":"97.4"},{"$f":"+AND(Q158>VLOOKUP(U155,MatrizRequerimientos,10,FALSE),Q158<=VLOOKUP(U155,MatrizRequerimientos,11,FALSE))","v":false},{"$f":"+V155*VLOOKUP(U155,MatrizRequerimientos,8,FALSE)","v":0},{"$f":"+V155*VLOOKUP(U155,MatrizRequerimientos,9,FALSE)","v":0}]
["N",97,null,null,null,null,null,null,null,null,null,null,null,null,null,null,{"$f":"+IF(H153=\"Requisito\",W165,IF(A152=\"N\",IF(Uso_Edificio=\"Oficinas\",SUM(W155:W158),SUM(X155:X158)),IF(Uso_Edificio=\"Oficinas\",SUM(X161:X164),SUM(Y161:Y164))))","v":0},null,null,null,{"$f":"+CONCATENATE(B156,\".\",5)","v":"97.5"},{"$f":"+AND(Q158>VLOOKUP(U156,MatrizRequerimientos,10,FALSE),Q158<=VLOOKUP(U156,MatrizRequerimientos,11,FALSE))","v":false},{"$f":"+V156*VLOOKUP(U156,MatrizRequerimientos,8,FALSE)","v":0},{"$f":"+V156*VLOOKUP(U156,MatrizRequerimientos,9,FALSE)","v":0}]
["N",97,null,null,null,"Indicador",null,{"$f":"+VLOOKUP(B158,TablaResumen[],21,0)","v":"Mejora FSM - Lucernarios"},null,null,null,null,null,null,null,null,null,null,null,null,{"$f":"+CONCATENATE(B157,\".\",6)","v":"97.6"},{"$f":"+AND(Q158>VLOOKUP(U157,MatrizRequerimientos,10,FALSE),Q158<=VLOOKUP(U157,MatrizRequerimientos,11,FALSE))","v":false},{"$f":"+V157*VLOOKUP(U157,MatrizRequerimientos,8,FALSE)","v":0},{"$f":"+V157*VLOOKUP(U157,MatrizRequerimientos,9,FALSE)","v":0}]
["N",97,null,null,null,null,null,null,null,null,null,null,null,{"$f":"+IF(A157=\"N\",CONCATENATE(\"Valor obtenido en proyecto para \",H157),\"Seleccione Nivel de Cumplimiento\")","v":"Valor obtenido en proyecto para Mejora FSM - Lucernarios"},null,null,null,null,null,null,{"$f":"+CONCATENATE(B158,\".\",7)","v":"97.7"},{"$f":"+AND(Q158>VLOOKUP(U158,MatrizRequerimientos,10,FALSE),Q158<=VLOOKUP(U158,MatrizRequerimientos,11,FALSE))","v":false},{"$f":"+V158*VLOOKUP(U158,MatrizRequerimientos,8,FALSE)","v":0},{"$f":"+V158*VLOOKUP(U158,MatrizRequerimientos,9,FALSE)","v":0}]
["N",97]
["N",97,null,null,null,"OPCIÓN ",null,{"$f":"CONCATENATE(VLOOKUP(B160,'Resumen requerimientos'!$T$5:$AB$104,5,FALSE), \" de \",VLOOKUP(B160,'Resumen requerimientos'!$T$5:$AB$104,6,FALSE))","v":"2 de 2"},null,null,null,null,null,null,null,null,null,null,null,null,null,null,null,"Of. Y Serv.","Ed. Y Salud"]
["N",97,null,null,null,null,null,null,null,null,null,null,null,null,null,null,null,null,null,null,{"$f":"+CONCATENATE(B161,\".\",4)","v":"97.4"},{"$f":"+VLOOKUP(U161,MatrizRequerimientos,6,FALSE)","v":"0-0,2999"},{"$f":"+IF(A158=\"T\",Q158=V161,V155)","v":false},{"$f":"+W161*VLOOKUP(U161,MatrizRequerimientos,8,FALSE)","v":0},{"$f":"+W161*VLOOKUP(U161,MatrizRequerimientos,9,FALSE)","v":0}]
["N",97,null,null,null,{"$f":"+IF(H162=\"No\",\"¿OTROS REQUERIMIENTOS SIMULTÁNEOS?\",\"REQUERIMIENTOS SIMULTANEOS PARA LA OPCION\")","v":"REQUERIMIENTOS SIMULTANEOS PARA LA OPCION"},null,{"$f":"IF(VLOOKUP(B162,'Resumen requerimientos'!$T$5:$AB$104,7,FALSE)=0,\"No\",CONCATENATE(VLOOKUP(B162,'Resumen requerimientos'!$T$5:$AB$104,7,FALSE), \" de \",VLOOKUP(B162,'Resumen requerimientos'!$T$5:$AB$104,8,FALSE)))","v":"8 de 8"},null,null,null,null,null,null,null,null,null,null,null,null,{"$f":"+CONCATENATE(B162,\".\",5)","v":"97.5"},{"$f":"+VLOOKUP(U162,MatrizRequerimientos,6,FALSE)","v":"0,2999-0,3"},{"$f":"+IF(A159=\"T\",Q158=V162,V156)","v":false},{"$f":"+W162*VLOOKUP(U162,MatrizRequerimientos,8,FALSE)","v":0},{"$f":"+W162*VLOOKUP(U162,MatrizRequerimientos,9,FALSE)","v":0}]
["N",97,null,null,null,null,null,null,null,null,null,null,null,null,null,null,null,null,null,null,{"$f":"+CONCATENATE(B163,\".\",6)","v":"97.6"},{"$f":"+VLOOKUP(U163,MatrizRequerimientos,6,FALSE)","v":"0,3-1000000"},{"$f":"+IF(A160=\"T\",Q158=V163,V157)","v":false},{"$f":"+W163*VLOOKUP(U163,MatrizRequerimientos,8,FALSE)","v":0},{"$f":"+W163*VLOOKUP(U163,MatrizRequerimientos,9,FALSE)","v":0}]
["N",97,null,null,null,"REQUERIMIENTO ADICIONAL",null,{"$f":"VLOOKUP(B164,'Resumen requerimientos'!$T$5:$AB$104,9,FALSE)","v":"Si"},null,null,null,null,null,null,null,null,null,null,null,null,{"$f":"+CONCATENATE(B164,\".\",7)","v":"97.7"},{"$f":"+VLOOKUP(U164,MatrizRequerimientos,6,FALSE)","v":0},{"$f":"+IF(A161=\"T\",Q158=V164,V158)","v":false},{"$f":"+W164*VLOOKUP(U164,MatrizRequerimientos,8,FALSE)","v":0},{"$f":"+W164*VLOOKUP(U164,MatrizRequerimientos,9,FALSE)","v":0}]
["N",97,null,null,null,null,null,null,null,null,null,null,null,null,null,null,null,null,null,null,null,null,{"$f":"+IF(AND(A161=\"N\",H153=\"Voluntario\"),SUMIF(W161:W164,TRUE,IF(Uso_Edificio=\"Oficinas\",X161:X164,Y161:Y164)),IF(AND(A161=\"T\",H153=\"Obligatorio\"),VLOOKUP(Q158,V161:X164,3,FALSE)=1,W161))","v":0},null,null,{"$f":"+IF(V155,\"BUENO\",IF(V156,\"ACEPTABLE\",\"NO CUMPLE MÍNIMO\"))","v":"NO CUMPLE MÍNIMO"}]
["N",97]
["T",98]
["T",98,null,null,null,"Tipo requerimiento",null,{"$f":"+IF(VLOOKUP(B167,TablaResumen[],4)=\"C\",\"Voluntario\",\"Obligatorio\")","v":"Voluntario"},null,null,null,null,null,null,null,null,null,null,null,null,null,"Puntaje crédito numérico"]
["T",98,null,null,null,null,null,null,null,null,null,null,null,{"$f":"+IF(H168=\"Obligatorio\",\"Cumple Requisito\",\"Puntaje obtenido\")","v":"Puntaje obtenido"},null,null,{"$f":"+IF(H168=\"Obligatorio\",W180,IF(A170=\"N\",IF(Uso_Edificio=\"Oficinas\",SUM(W170:W173),SUM(X170:X173)),IF(Uso_Edificio=\"Oficinas\",SUM(X176:X179),SUM(Y176:Y179))))","v":0},null,null,null,null,"Calificación","Of. Y Serv.","Ed. Y Salud"]
["T",98,null,null,null,"Nombre Requerimiento",null,{"$f":"+VLOOKUP(B172,TablaResumen[],16,0)","v":"Demanda de energía"},null,null,null,null,null,null,null,null,{"$f":"+IF(H167=\"Requisito\",W179,IF(#REF!=\"N\",IF(Uso_Edificio=\"Oficinas\",SUM(W169:W172),SUM(X169:X172)),IF(Uso_Edificio=\"Oficinas\",SUM(X175:X178),SUM(Y175:Y178))))","v":{"$error":"#REF!"}},null,null,null,{"$f":"+CONCATENATE(B170,\".\",4)","v":"98.4"},{"$f":"+AND(Q173>VLOOKUP(U170,MatrizRequerimientos,10,FALSE),Q173<=VLOOKUP(U170,MatrizRequerimientos,11,FALSE))","v":false},{"$f":"+V170*VLOOKUP(U170,MatrizRequerimientos,8,FALSE)","v":0},{"$f":"+V170*VLOOKUP(U170,MatrizRequerimientos,9,FALSE)","v":0}]
["T",98,null,null,null,null,null,null,null,null,null,null,null,null,null,null,{"$f":"+IF(H168=\"Requisito\",W180,IF(A167=\"N\",IF(Uso_Edificio=\"Oficinas\",SUM(W170:W173),SUM(X170:X173)),IF(Uso_Edificio=\"Oficinas\",SUM(X176:X179),SUM(Y176:Y179))))","v":0},null,null,null,{"$f":"+CONCATENATE(B171,\".\",5)","v":"98.5"},{"$f":"+AND(Q173>VLOOKUP(U171,MatrizRequerimientos,10,FALSE),Q173<=VLOOKUP(U171,MatrizRequerimientos,11,FALSE))","v":false},{"$f":"+V171*VLOOKUP(U171,MatrizRequerimientos,8,FALSE)","v":0},{"$f":"+V171*VLOOKUP(U171,MatrizRequerimientos,9,FALSE)","v":0}]
["T",98,null,null,null,"Indicador",null,{"$f":"+VLOOKUP(B173,TablaResumen[],21,0)","v":"Mejora de U en pisos en contacto con el terreno [W/m2K] "},null,null,null,null,null,null,null,null,null,null,null,null,{"$f":"+CONCATENATE(B172,\".\",6)","v":"98.6"},{"$f":"+AND(Q173>VLOOKUP(U172,MatrizRequerimientos,10,FALSE),Q173<=VLOOKUP(U172,MatrizRequerimientos,11,FALSE))","v":false},{"$f":"+V172*VLOOKUP(U172,MatrizRequerimientos,8,FALSE)","v":0},{"$f":"+V172*VLOOKUP(U172,MatrizRequerimientos,9,FALSE)","v":0}]
["T",98,null,null,null,null,null,null,null,null,null,null,null,{"$f":"+IF(A172=\"N\",CONCATENATE(\"Valor obtenido en proyecto para \",H172),\"Seleccione Nivel de Cumplimiento\")","v":"Seleccione Nivel de Cumplimiento"},null,null,null,null,null,null,{"$f":"+CONCATENATE(B173,\".\",7)","v":"98.7"},{"$f":"+AND(Q173>VLOOKUP(U173,MatrizRequerimientos,10,FALSE),Q173<=VLOOKUP(U173,MatrizRequerimientos,11,FALSE))","v":false},{"$f":"+V173*VLOOKUP(U173,MatrizRequerimientos,8,FALSE)","v":0},{"$f":"+V173*VLOOKUP(U173,MatrizRequerimientos,9,FALSE)","v":0}]
["T",98]
["T",98,null,null,null,"OPCIÓN ",null,{"$f":"CONCATENATE(VLOOKUP(B175,'Resumen requerimientos'!$T$5:$AB$102,5,FALSE), \" de \",VLOOKUP(B175,'Resumen requerimientos'!$T$5:$AB$102,6,FALSE))","v":"2 de 2"},null,null,null,null,null,null,null,null,null,null,null,null,null,null,null,"Of. Y Serv.","Ed. Y Salud"]
["T",98,null,null,null,null,null,null,null,null,null,null,null,null,null,null,null,null,null,null,{"$f":"+CONCATENATE(B176,\".\",4)","v":"98.4"},{"$f":"+VLOOKUP(U176,MatrizRequerimientos,6,FALSE)","v":"Cumple con los requerimientos de transmitancia térmica"},{"$f":"+IF(A173=\"T\",Q173=V176,V170)","v":false},{"$f":"+W176*VLOOKUP(U176,MatrizRequerimientos,8,FALSE)","v":0},{"$f":"+W176*VLOOKUP(U176,MatrizRequerimientos,9,FALSE)","v":0}]
["T",98,null,null,null,{"$f":"+IF(H177=\"No\",\"¿OTROS REQUERIMIENTOS SIMULTÁNEOS?\",\"REQUERIMIENTOS SIMULTANEOS PARA LA OPCION\")","v":"¿OTROS REQUERIMIENTOS SIMULTÁNEOS?"},null,{"$f":"IF(VLOOKUP(B177,'Resumen requerimientos'!$T$5:$AB$102,7,FALSE)=0,\"No\",CONCATENATE(VLOOKUP(B177,'Resumen requerimientos'!$T$5:$AB$102,7,FALSE), \" de \",VLOOKUP(B177,'Resumen requerimientos'!$T$5:$AB$102,8,FALSE)))","v":"No"},null,null,null,null,null,null,null,null,null,null,null,null,{"$f":"+CONCATENATE(B177,\".\",5)","v":"98.5"},{"$f":"+VLOOKUP(U177,MatrizRequerimientos,6,FALSE)","v":"No cumple con los requerimientos de transmitancia térmica."},{"$f":"+IF(A174=\"T\",Q173=V177,V171)","v":false},{"$f":"+W177*VLOOKUP(U177,MatrizRequerimientos,8,FALSE)","v":0},{"$f":"+W177*VLOOKUP(U177,MatrizRequerimientos,9,FALSE)","v":0}]
["T",98,null,null,null,null,null,null,null,null,null,null,null,null,null,null,null,null,null,null,{"$f":"+CONCATENATE(B178,\".\",6)","v":"98.6"},{"$f":"+VLOOKUP(U178,MatrizRequerimientos,6,FALSE)","v":0},{"$f":"+IF(A175=\"T\",Q173=V178,V172)","v":true},{"$f":"+W178*VLOOKUP(U178,MatrizRequerimientos,8,FALSE)","v":0},{"$f":"+W178*VLOOKUP(U178,MatrizRequerimientos,9,FALSE)","v":0}]
["T",98,null,null,null,"REQUERIMIENTO ADICIONAL",null,{"$f":"VLOOKUP(B179,'Resumen requerimientos'!$T$5:$AB$102,9,FALSE)","v":"Si"},null,null,null,null,null,null,null,null,null,null,null,null,{"$f":"+CONCATENATE(B179,\".\",7)","v":"98.7"},{"$f":"+VLOOKUP(U179,MatrizRequerimientos,6,FALSE)","v":0},{"$f":"+IF(A176=\"T\",Q173=V179,V173)","v":true},{"$f":"+W179*VLOOKUP(U179,MatrizRequerimientos,8,FALSE)","v":0},{"$f":"+W179*VLOOKUP(U179,MatrizRequerimientos,9,FALSE)","v":0}]
["T",98,null,null,null,null,null,null,null,null,null,null,null,null,null,null,null,null,null,null,null,null,{"$f":"+IF(AND(A176=\"N\",H168=\"Voluntario\"),SUMIF(W176:W179,TRUE,IF(Uso_Edificio=\"Oficinas\",X176:X179,Y176:Y179)),IF(AND(A176=\"T\",H168=\"Obligatorio\"),VLOOKUP(Q173,V176:X179,3,FALSE)=1,W176))","v":false}]
["T",98]
["T",98,null,null,"Volver al índice"]
["T",33,null,"ARQ-ENERGIA 6 - HERMETICIDAD DE LA ENVOLVENTE",null,null,null,null,null,null,null,null,null,null,null,null,null,null,"ARQ-ENERGIA 6 - HERMETICIDAD DE LA ENVOLVENTE"]
["T",{"$f":"+B183","v":33},null,null,null,"Tipo requerimiento",null,{"$f":"+IF(VLOOKUP(B183,TablaResumen[],4)=\"C\",\"Voluntario\",\"Obligatorio\")","v":"Voluntario"},null,null,null,null,null,null,null,null,null,null,null,null,null,"Puntaje crédito numérico"]
["T",33,null,null,null,null,null,null,null,null,null,null,null,{"$f":"+IF(H184=\"Obligatorio\",\"Cumple Requisito\",\"Puntaje obtenido\")","v":"Puntaje obtenido"},null,null,{"$f":"+IF(H184=\"Obligatorio\",W196,IF(A186=\"N\",IF(Uso_Edificio=\"Oficinas\",SUM(W186:W189),SUM(X186:X189)),IF(Uso_Edificio=\"Oficinas\",SUM(X192:X195),SUM(Y192:Y195))))","v":0},null,null,null,null,"Calificación","Of. Y Serv.","Ed. Y Salud"]
["T",33,null,null,null,"Nombre Requerimiento",null,{"$f":"+VLOOKUP(B188,TablaResumen[],16,0)","v":"Hermeticidad de la envolvente"},null,null,null,null,null,null,null,null,{"$f":"+IF(H183=\"Requisito\",W195,IF(#REF!=\"N\",IF(Uso_Edificio=\"Oficinas\",SUM(W185:W188),SUM(X185:X188)),IF(Uso_Edificio=\"Oficinas\",SUM(X191:X194),SUM(Y191:Y194))))","v":{"$error":"#REF!"}},null,null,null,{"$f":"+CONCATENATE(B186,\".\",4)","v":"33.4"},{"$f":"+AND(Q189>VLOOKUP(U186,MatrizRequerimientos,10,FALSE),Q189<=VLOOKUP(U186,MatrizRequerimientos,11,FALSE))","v":false},{"$f":"+V186*VLOOKUP(U186,MatrizRequerimientos,8,FALSE)","v":0},{"$f":"+V186*VLOOKUP(U186,MatrizRequerimientos,9,FALSE)","v":0}]
["T",33,null,null,null,null,null,null,null,null,null,null,null,null,null,null,{"$f":"+IF(H184=\"Requisito\",W196,IF(A183=\"N\",IF(Uso_Edificio=\"Oficinas\",SUM(W186:W189),SUM(X186:X189)),IF(Uso_Edificio=\"Oficinas\",SUM(X192:X195),SUM(Y192:Y195))))","v":0},null,null,null,{"$f":"+CONCATENATE(B187,\".\",5)","v":"33.5"},{"$f":"+AND(Q189>VLOOKUP(U187,MatrizRequerimientos,10,FALSE),Q189<=VLOOKUP(U187,MatrizRequerimientos,11,FALSE))","v":false},{"$f":"+V187*VLOOKUP(U187,MatrizRequerimientos,8,FALSE)","v":0},{"$f":"+V187*VLOOKUP(U187,MatrizRequerimientos,9,FALSE)","v":0}]
["T",33,null,null,null,"Indicador",null,{"$f":"+VLOOKUP(B189,TablaResumen[],21,0)","v":"Infiltración de aire por la envolvente [RAH]"},null,null,null,null,null,null,null,null,null,null,null,null,{"$f":"+CONCATENATE(B188,\".\",6)","v":"33.6"},{"$f":"+AND(Q189>VLOOKUP(U188,MatrizRequerimientos,10,FALSE),Q189<=VLOOKUP(U188,MatrizRequerimientos,11,FALSE))","v":false},{"$f":"+V188*VLOOKUP(U188,MatrizRequerimientos,8,FALSE)","v":0},{"$f":"+V188*VLOOKUP(U188,MatrizRequerimientos,9,FALSE)","v":0}]
["T",33,null,null,null,null,null,null,null,null,null,null,null,{"$f":"+IF(A188=\"N\",CONCATENATE(\"Valor obtenido en proyecto para \",H188),\"Seleccione Nivel de Cumplimiento\")","v":"Seleccione Nivel de Cumplimiento"},null,null,null,null,null,null,{"$f":"+CONCATENATE(B189,\".\",7)","v":"33.7"},{"$f":"+AND(Q189>VLOOKUP(U189,MatrizRequerimientos,10,FALSE),Q189<=VLOOKUP(U189,MatrizRequerimientos,11,FALSE))","v":false},{"$f":"+V189*VLOOKUP(U189,MatrizRequerimientos,8,FALSE)","v":0},{"$f":"+V189*VLOOKUP(U189,MatrizRequerimientos,9,FALSE)","v":0}]
["T",33]
["T",33,null,null,null,"OPCIÓN ",null,{"$f":"CONCATENATE(VLOOKUP(B191,'Resumen requerimientos'!$T$5:$AB$104,5,FALSE), \" de \",VLOOKUP(B191,'Resumen requerimientos'!$T$5:$AB$104,6,FALSE))","v":"1 de 2"},null,null,null,null,null,null,null,null,null,null,null,null,null,null,null,"Of. Y Serv.","Ed. Y Salud"]
["T",33,null,null,null,null,null,null,null,null,null,null,null,null,null,null,null,null,null,null,{"$f":"+CONCATENATE(B192,\".\",4)","v":"33.4"},{"$f":"+VLOOKUP(U192,MatrizRequerimientos,6,FALSE)","v":"Test de Infiltración por la envolvente n50 (1/h), con RAH  iguales o menores a las indicadas en la Tabla 14"},{"$f":"+IF(A189=\"T\",Q189=V192,V186)","v":false},{"$f":"+W192*VLOOKUP(U192,MatrizRequerimientos,8,FALSE)","v":0},{"$f":"+W192*VLOOKUP(U192,MatrizRequerimientos,9,FALSE)","v":0}]
["T",33,null,null,null,{"$f":"+IF(H193=\"No\",\"¿OTROS REQUERIMIENTOS SIMULTÁNEOS?\",\"REQUERIMIENTOS SIMULTANEOS PARA LA OPCION\")","v":"¿OTROS REQUERIMIENTOS SIMULTÁNEOS?"},null,{"$f":"IF(VLOOKUP(B193,'Resumen requerimientos'!$T$5:$AB$104,7,FALSE)=0,\"No\",CONCATENATE(VLOOKUP(B193,'Resumen requerimientos'!$T$5:$AB$104,7,FALSE), \" de \",VLOOKUP(B193,'Resumen requerimientos'!$T$5:$AB$104,8,FALSE)))","v":"No"},null,null,null,null,null,null,null,null,null,null,null,null,{"$f":"+CONCATENATE(B193,\".\",5)","v":"33.5"},{"$f":"+VLOOKUP(U193,MatrizRequerimientos,6,FALSE)","v":"Test de Infiltración por la envolvente n50 (1/h), con RAH no mayores a 1,5 veces las indicadas en la Tabla 14"},{"$f":"+IF(A190=\"T\",Q189=V193,V187)","v":false},{"$f":"+W193*VLOOKUP(U193,MatrizRequerimientos,8,FALSE)","v":0},{"$f":"+W193*VLOOKUP(U193,MatrizRequerimientos,9,FALSE)","v":0}]
["T",33,null,null,null,null,null,null,null,null,null,null,null,null,null,null,null,null,null,null,{"$f":"+CONCATENATE(B194,\".\",6)","v":"33.6"},{"$f":"+VLOOKUP(U194,MatrizRequerimientos,6,FALSE)","v":"Test de Infiltración por la envolvente n50 (1/h), con RAH no mayor a 2 veces las indicadas en la Tabla 14"},{"$f":"+IF(A191=\"T\",Q189=V194,V188)","v":false},{"$f":"+W194*VLOOKUP(U194,MatrizRequerimientos,8,FALSE)","v":0},{"$f":"+W194*VLOOKUP(U194,MatrizRequerimientos,9,FALSE)","v":0}]
["T",33,null,null,null,"REQUERIMIENTO ADICIONAL",null,{"$f":"VLOOKUP(B195,'Resumen requerimientos'!$T$5:$AB$104,9,FALSE)","v":"No"},null,null,null,null,null,null,null,null,null,null,null,null,{"$f":"+CONCATENATE(B195,\".\",7)","v":"33.7"},{"$f":"+VLOOKUP(U195,MatrizRequerimientos,6,FALSE)","v":0},{"$f":"+IF(A192=\"T\",Q189=V195,V189)","v":true},{"$f":"+W195*VLOOKUP(U195,MatrizRequerimientos,8,FALSE)","v":0},{"$f":"+W195*VLOOKUP(U195,MatrizRequerimientos,9,FALSE)","v":0}]
["T",33,null,null,null,null,null,null,null,null,null,null,null,null,null,null,null,null,null,null,null,null,{"$f":"+IF(AND(A192=\"N\",H184=\"Voluntario\"),SUMIF(W192:W195,TRUE,IF(Uso_Edificio=\"Oficinas\",X192:X195,Y192:Y195)),IF(AND(A192=\"T\",H184=\"Obligatorio\"),VLOOKUP(Q189,V192:X195,3,FALSE)=1,W192))","v":false}]
["T",33]
["T",34]
["T",{"$f":"+B198","v":34},null,null,null,"Tipo requerimiento",null,{"$f":"+IF(VLOOKUP(B198,TablaResumen[],4)=\"C\",\"Voluntario\",\"Obligatorio\")","v":"Voluntario"},null,null,null,null,null,null,null,null,null,null,null,null,null,"Puntaje crédito numérico"]
["T",34,null,null,null,null,null,null,null,null,null,null,null,{"$f":"+IF(H199=\"Obligatorio\",\"Cumple Requisito\",\"Puntaje obtenido\")","v":"Puntaje obtenido"},null,null,{"$f":"+IF(H199=\"Obligatorio\",W211,IF(A201=\"N\",IF(Uso_Edificio=\"Oficinas\",SUM(W201:W204),SUM(X201:X204)),IF(Uso_Edificio=\"Oficinas\",SUM(X207:X210),SUM(Y207:Y210))))","v":0},null,null,null,null,"Calificación","Of. Y Serv.","Ed. Y Salud"]
["T",34,null,null,null,"Nombre Requerimiento",null,{"$f":"+VLOOKUP(B203,TablaResumen[],16,0)","v":"Hermeticidad de la envolvente"},null,null,null,null,null,null,null,null,{"$f":"+IF(H198=\"Requisito\",W210,IF(#REF!=\"N\",IF(Uso_Edificio=\"Oficinas\",SUM(W200:W203),SUM(X200:X203)),IF(Uso_Edificio=\"Oficinas\",SUM(X206:X209),SUM(Y206:Y209))))","v":{"$error":"#REF!"}},null,null,null,{"$f":"+CONCATENATE(B201,\".\",4)","v":"34.4"},{"$f":"+AND(Q204>VLOOKUP(U201,MatrizRequerimientos,10,FALSE),Q204<=VLOOKUP(U201,MatrizRequerimientos,11,FALSE))","v":false},{"$f":"+V201*VLOOKUP(U201,MatrizRequerimientos,8,FALSE)","v":0},{"$f":"+V201*VLOOKUP(U201,MatrizRequerimientos,9,FALSE)","v":0}]
["T",34,null,null,null,null,null,null,null,null,null,null,null,null,null,null,{"$f":"+IF(H199=\"Requisito\",W211,IF(A198=\"N\",IF(Uso_Edificio=\"Oficinas\",SUM(W201:W204),SUM(X201:X204)),IF(Uso_Edificio=\"Oficinas\",SUM(X207:X210),SUM(Y207:Y210))))","v":0},null,null,null,{"$f":"+CONCATENATE(B202,\".\",5)","v":"34.5"},{"$f":"+AND(Q204>VLOOKUP(U202,MatrizRequerimientos,10,FALSE),Q204<=VLOOKUP(U202,MatrizRequerimientos,11,FALSE))","v":false},{"$f":"+V202*VLOOKUP(U202,MatrizRequerimientos,8,FALSE)","v":0},{"$f":"+V202*VLOOKUP(U202,MatrizRequerimientos,9,FALSE)","v":0}]
["T",34,null,null,null,"Indicador",null,{"$f":"+VLOOKUP(B204,TablaResumen[],21,0)","v":"Permeabilidad al aire de carpintería de ventanas"},null,null,null,null,null,null,null,null,null,null,null,null,{"$f":"+CONCATENATE(B203,\".\",6)","v":"34.6"},{"$f":"+AND(Q204>VLOOKUP(U203,MatrizRequerimientos,10,FALSE),Q204<=VLOOKUP(U203,MatrizRequerimientos,11,FALSE))","v":false},{"$f":"+V203*VLOOKUP(U203,MatrizRequerimientos,8,FALSE)","v":0},{"$f":"+V203*VLOOKUP(U203,MatrizRequerimientos,9,FALSE)","v":0}]
["T",34,null,null,null,null,null,null,null,null,null,null,null,{"$f":"+IF(A203=\"N\",CONCATENATE(\"Valor obtenido en proyecto para \",H203),\"Seleccione Nivel de Cumplimiento\")","v":"Seleccione Nivel de Cumplimiento"},null,null,null,null,null,null,{"$f":"+CONCATENATE(B204,\".\",7)","v":"34.7"},{"$f":"+AND(Q204>VLOOKUP(U204,MatrizRequerimientos,10,FALSE),Q204<=VLOOKUP(U204,MatrizRequerimientos,11,FALSE))","v":false},{"$f":"+V204*VLOOKUP(U204,MatrizRequerimientos,8,FALSE)","v":0},{"$f":"+V204*VLOOKUP(U204,MatrizRequerimientos,9,FALSE)","v":0}]
["T",34]
["T",34,null,null,null,"OPCIÓN ",null,{"$f":"CONCATENATE(VLOOKUP(B206,'Resumen requerimientos'!$T$5:$AB$104,5,FALSE), \" de \",VLOOKUP(B206,'Resumen requerimientos'!$T$5:$AB$104,6,FALSE))","v":"2 de 2"},null,null,null,null,null,null,null,null,null,null,null,null,null,null,null,"Of. Y Serv.","Ed. Y Salud"]
["T",34,null,null,null,null,null,null,null,null,null,null,null,null,null,null,null,null,null,null,{"$f":"+CONCATENATE(B207,\".\",4)","v":"34.4"},{"$f":"+VLOOKUP(U207,MatrizRequerimientos,6,FALSE)","v":"Uso de carpintería de ventana con ensayo de permeabilidad al aire, con clase inferior a la indicada para la zona de presión de viento medio del edificio indicada en la Tabla 10"},{"$f":"+IF(A204=\"T\",Q204=V207,V201)","v":false},{"$f":"+W207*VLOOKUP(U207,MatrizRequerimientos,8,FALSE)","v":0},{"$f":"+W207*VLOOKUP(U207,MatrizRequerimientos,9,FALSE)","v":0}]
["T",34,null,null,null,{"$f":"+IF(H208=\"No\",\"¿OTROS REQUERIMIENTOS SIMULTÁNEOS?\",\"REQUERIMIENTOS SIMULTANEOS PARA LA OPCION\")","v":"¿OTROS REQUERIMIENTOS SIMULTÁNEOS?"},null,{"$f":"IF(VLOOKUP(B208,'Resumen requerimientos'!$T$5:$AB$104,7,FALSE)=0,\"No\",CONCATENATE(VLOOKUP(B208,'Resumen requerimientos'!$T$5:$AB$104,7,FALSE), \" de \",VLOOKUP(B208,'Resumen requerimientos'!$T$5:$AB$104,8,FALSE)))","v":"No"},null,null,null,null,null,null,null,null,null,null,null,null,{"$f":"+CONCATENATE(B208,\".\",5)","v":"34.5"},{"$f":"+VLOOKUP(U208,MatrizRequerimientos,6,FALSE)","v":"Uso de carpintería de ventana con ensayo de permeabilidad, con clase igual a la indicada para la zona de presión de viento medio del edificio indicada en la Tabla 10"},{"$f":"+IF(A205=\"T\",Q204=V208,V202)","v":false},{"$f":"+W208*VLOOKUP(U208,MatrizRequerimientos,8,FALSE)","v":0},{"$f":"+W208*VLOOKUP(U208,MatrizRequerimientos,9,FALSE)","v":0}]
["T",34,null,null,null,null,null,null,null,null,null,null,null,null,null,null,null,null,null,null,{"$f":"+CONCATENATE(B209,\".\",6)","v":"34.6"},{"$f":"+VLOOKUP(U209,MatrizRequerimientos,6,FALSE)","v":"Uso de carpintería de ventana con tipo de abertura de permeabilidad igual o menor a la indicada en la Tabla 12 para la zona de presión de viento medio del edificio indicada en la Tabla 10"},{"$f":"+IF(A206=\"T\",Q204=V209,V203)","v":false},{"$f":"+W209*VLOOKUP(U209,MatrizRequerimientos,8,FALSE)","v":0},{"$f":"+W209*VLOOKUP(U209,MatrizRequerimientos,9,FALSE)","v":0}]
["T",34,null,null,null,"REQUERIMIENTO ADICIONAL",null,{"$f":"VLOOKUP(B210,'Resumen requerimientos'!$T$5:$AB$104,9,FALSE)","v":"No"},null,null,null,null,null,null,null,null,null,null,null,null,{"$f":"+CONCATENATE(B210,\".\",7)","v":"34.7"},{"$f":"+VLOOKUP(U210,MatrizRequerimientos,6,FALSE)","v":0},{"$f":"+IF(A207=\"T\",Q204=V210,V204)","v":true},{"$f":"+W210*VLOOKUP(U210,MatrizRequerimientos,8,FALSE)","v":0},{"$f":"+W210*VLOOKUP(U210,MatrizRequerimientos,9,FALSE)","v":0}]
["T",34,null,null,null,null,null,null,null,null,null,null,null,null,null,null,null,null,null,null,null,null,{"$f":"+IF(AND(A207=\"N\",H199=\"Voluntario\"),SUMIF(W207:W210,TRUE,IF(Uso_Edificio=\"Oficinas\",X207:X210,Y207:Y210)),IF(AND(A207=\"T\",H199=\"Obligatorio\"),VLOOKUP(Q204,V207:X210,3,FALSE)=1,W207))","v":false}]
["T",34]
["T",34,null,null,"Volver al índice"]
["N",37,null,"ARQ.ENERGIA 7 - ENERGIA INCORPORADA EN LOS MATERIALES ESTRUCTURALES DEL EDIFICIO",null,null,null,null,null,null,null,null,null,null,null,null,null,null,"ARQ.ENERGIA 7 - ENERGIA INCORPORADA EN LOS MATERIALES ESTRUCTURALES DEL EDIFICIO"]
["N",{"$f":"+B214","v":37},null,null,null,"Tipo requerimiento",null,{"$f":"+IF(VLOOKUP(B214,TablaResumen[],4)=\"C\",\"Voluntario\",\"Obligatorio\")","v":"Voluntario"},null,null,null,null,null,null,null,null,null,null,null,null,null,"Puntaje crédito numérico"]
["N",37,null,null,null,null,null,null,null,null,null,null,null,{"$f":"+IF(H215=\"Obligatorio\",\"Cumple Requisito\",\"Puntaje obtenido\")","v":"Puntaje obtenido"},null,null,{"$f":"+IF(H215=\"Obligatorio\",W227,IF(A217=\"N\",IF(Uso_Edificio=\"Oficinas\",SUM(W217:W220),SUM(X217:X220)),IF(Uso_Edificio=\"Oficinas\",SUM(X223:X226),SUM(Y223:Y226))))","v":0},null,null,null,null,"Calificación","Of. Y Serv.","Ed. Y Salud"]
["N",37,null,null,null,"Nombre Requerimiento",null,{"$f":"+VLOOKUP(B219,TablaResumen[],16,0)","v":"Energía incorporada en los materiales estructurales del edificio"},null,null,null,null,null,null,null,null,{"$f":"+IF(H214=\"Requisito\",W226,IF(#REF!=\"N\",IF(Uso_Edificio=\"Oficinas\",SUM(W216:W219),SUM(X216:X219)),IF(Uso_Edificio=\"Oficinas\",SUM(X222:X225),SUM(Y222:Y225))))","v":{"$error":"#REF!"}},null,null,null,{"$f":"+CONCATENATE(B217,\".\",4)","v":"37.4"},{"$f":"+AND(Q220>VLOOKUP(U217,MatrizRequerimientos,10,FALSE),Q220<=VLOOKUP(U217,MatrizRequerimientos,11,FALSE))","v":false},{"$f":"+V217*VLOOKUP(U217,MatrizRequerimientos,8,FALSE)","v":0},{"$f":"+V217*VLOOKUP(U217,MatrizRequerimientos,9,FALSE)","v":0}]
["N",37,null,null,null,null,null,null,null,null,null,null,null,null,null,null,{"$f":"+IF(H215=\"Requisito\",W227,IF(A214=\"N\",IF(Uso_Edificio=\"Oficinas\",SUM(W217:W220),SUM(X217:X220)),IF(Uso_Edificio=\"Oficinas\",SUM(X223:X226),SUM(Y223:Y226))))","v":0},null,null,null,{"$f":"+CONCATENATE(B218,\".\",5)","v":"37.5"},{"$f":"+AND(Q220>VLOOKUP(U218,MatrizRequerimientos,10,FALSE),Q220<=VLOOKUP(U218,MatrizRequerimientos,11,FALSE))","v":false},{"$f":"+V218*VLOOKUP(U218,MatrizRequerimientos,8,FALSE)","v":0},{"$f":"+V218*VLOOKUP(U218,MatrizRequerimientos,9,FALSE)","v":0}]
["N",37,null,null,null,"Indicador",null,{"$f":"+VLOOKUP(B220,TablaResumen[],21,0)","v":"Energía incorporada en base a UNE-EN-ISO 14.024"},null,null,null,null,null,null,null,null,null,null,null,null,{"$f":"+CONCATENATE(B219,\".\",6)","v":"37.6"},{"$f":"+AND(Q220>VLOOKUP(U219,MatrizRequerimientos,10,FALSE),Q220<=VLOOKUP(U219,MatrizRequerimientos,11,FALSE))","v":false},{"$f":"+V219*VLOOKUP(U219,MatrizRequerimientos,8,FALSE)","v":0},{"$f":"+V219*VLOOKUP(U219,MatrizRequerimientos,9,FALSE)","v":0}]
["N",37,null,null,null,null,null,null,null,null,null,null,null,"Cantidad de categorías de materiales estructurales del edificio declaradas en base a UNE-EN-ISO 14.024",null,null,null,null,null,null,{"$f":"+CONCATENATE(B220,\".\",7)","v":"37.7"},{"$f":"+AND(Q220>VLOOKUP(U220,MatrizRequerimientos,10,FALSE),Q220<=VLOOKUP(U220,MatrizRequerimientos,11,FALSE))","v":false},{"$f":"+V220*VLOOKUP(U220,MatrizRequerimientos,8,FALSE)","v":0},{"$f":"+V220*VLOOKUP(U220,MatrizRequerimientos,9,FALSE)","v":0}]
["N",37]
["N",37,null,null,null,"OPCIÓN ",null,{"$f":"CONCATENATE(VLOOKUP(B222,'Resumen requerimientos'!$T$5:$AB$104,5,FALSE), \" de \",VLOOKUP(B222,'Resumen requerimientos'!$T$5:$AB$104,6,FALSE))","v":"1 de 3"},null,null,null,null,null,null,null,null,null,null,null,null,null,null,null,"Of. Y Serv.","Ed. Y Salud"]
["N",37,null,null,null,null,null,null,null,null,null,null,null,null,null,null,null,null,null,null,{"$f":"+CONCATENATE(B223,\".\",4)","v":"37.4"},{"$f":"+VLOOKUP(U223,MatrizRequerimientos,6,FALSE)","v":""},{"$f":"+IF(A220=\"T\",Q220=V223,V217)","v":false},{"$f":"+W223*VLOOKUP(U223,MatrizRequerimientos,8,FALSE)","v":0},{"$f":"+W223*VLOOKUP(U223,MatrizRequerimientos,9,FALSE)","v":0}]
["N",37,null,null,null,{"$f":"+IF(H224=\"No\",\"¿OTROS REQUERIMIENTOS SIMULTÁNEOS?\",\"REQUERIMIENTOS SIMULTANEOS PARA LA OPCION\")","v":"¿OTROS REQUERIMIENTOS SIMULTÁNEOS?"},null,{"$f":"IF(VLOOKUP(B224,'Resumen requerimientos'!$T$5:$AB$104,7,FALSE)=0,\"No\",CONCATENATE(VLOOKUP(B224,'Resumen requerimientos'!$T$5:$AB$104,7,FALSE), \" de \",VLOOKUP(B224,'Resumen requerimientos'!$T$5:$AB$104,8,FALSE)))","v":"No"},null,null,null,null,null,null,null,null,null,null,null,null,{"$f":"+CONCATENATE(B224,\".\",5)","v":"37.5"},{"$f":"+VLOOKUP(U224,MatrizRequerimientos,6,FALSE)","v":"1,99-2"},{"$f":"+IF(A221=\"T\",Q220=V224,V218)","v":false},{"$f":"+W224*VLOOKUP(U224,MatrizRequerimientos,8,FALSE)","v":0},{"$f":"+W224*VLOOKUP(U224,MatrizRequerimientos,9,FALSE)","v":0}]
["N",37,null,null,null,null,null,null,null,null,null,null,null,null,null,null,null,null,null,null,{"$f":"+CONCATENATE(B225,\".\",6)","v":"37.6"},{"$f":"+VLOOKUP(U225,MatrizRequerimientos,6,FALSE)","v":""},{"$f":"+IF(A222=\"T\",Q220=V225,V219)","v":false},{"$f":"+W225*VLOOKUP(U225,MatrizRequerimientos,8,FALSE)","v":0},{"$f":"+W225*VLOOKUP(U225,MatrizRequerimientos,9,FALSE)","v":0}]
["N",37,null,null,null,"REQUERIMIENTO ADICIONAL",null,{"$f":"VLOOKUP(B226,'Resumen requerimientos'!$T$5:$AB$104,9,FALSE)","v":"No"},null,null,null,null,null,null,null,null,null,null,null,null,{"$f":"+CONCATENATE(B226,\".\",7)","v":"37.7"},{"$f":"+VLOOKUP(U226,MatrizRequerimientos,6,FALSE)","v":0},{"$f":"+IF(A223=\"T\",Q220=V226,V220)","v":false},{"$f":"+W226*VLOOKUP(U226,MatrizRequerimientos,8,FALSE)","v":0},{"$f":"+W226*VLOOKUP(U226,MatrizRequerimientos,9,FALSE)","v":0}]
["N",37,null,null,null,null,null,null,null,null,null,null,null,null,null,null,null,null,null,null,null,null,{"$f":"+IF(AND(A223=\"N\",H215=\"Voluntario\"),SUMIF(W223:W226,TRUE,IF(Uso_Edificio=\"Oficinas\",X223:X226,Y223:Y226)),IF(AND(A223=\"T\",H215=\"Obligatorio\"),VLOOKUP(Q220,V223:X226,3,FALSE)=1,W223))","v":0}]
["N",37]
["N",38]
["N",{"$f":"+B229","v":38},null,null,null,"Tipo requerimiento",null,{"$f":"+IF(VLOOKUP(B229,TablaResumen[],4)=\"C\",\"Voluntario\",\"Obligatorio\")","v":"Voluntario"},null,null,null,null,null,null,null,null,null,null,null,null,null,"Puntaje crédito numérico"]
["N",38,null,null,null,null,null,null,null,null,null,null,null,{"$f":"+IF(H230=\"Obligatorio\",\"Cumple Requisito\",\"Puntaje obtenido\")","v":"Puntaje obtenido"},null,null,{"$f":"+IF(H230=\"Obligatorio\",W242,IF(A232=\"N\",IF(Uso_Edificio=\"Oficinas\",SUM(W232:W235),SUM(X232:X235)),IF(Uso_Edificio=\"Oficinas\",SUM(X238:X241),SUM(Y238:Y241))))","v":0},null,null,null,null,"Calificación","Of. Y Serv.","Ed. Y Salud"]
["N",38,null,null,null,"Nombre Requerimiento",null,{"$f":"+VLOOKUP(B234,TablaResumen[],16,0)","v":"Energía incorporada en los materiales estructurales del edificio"},null,null,null,null,null,null,null,null,{"$f":"+IF(H229=\"Requisito\",W241,IF(#REF!=\"N\",IF(Uso_Edificio=\"Oficinas\",SUM(W231:W234),SUM(X231:X234)),IF(Uso_Edificio=\"Oficinas\",SUM(X237:X240),SUM(Y237:Y240))))","v":{"$error":"#REF!"}},null,null,null,{"$f":"+CONCATENATE(B232,\".\",4)","v":"38.4"},{"$f":"+AND(Q235>VLOOKUP(U232,MatrizRequerimientos,10,FALSE),Q235<=VLOOKUP(U232,MatrizRequerimientos,11,FALSE))","v":false},{"$f":"+V232*VLOOKUP(U232,MatrizRequerimientos,8,FALSE)","v":0},{"$f":"+V232*VLOOKUP(U232,MatrizRequerimientos,9,FALSE)","v":0}]
["N",38,null,null,null,null,null,null,null,null,null,null,null,null,null,null,{"$f":"+IF(H230=\"Requisito\",W242,IF(A229=\"N\",IF(Uso_Edificio=\"Oficinas\",SUM(W232:W235),SUM(X232:X235)),IF(Uso_Edificio=\"Oficinas\",SUM(X238:X241),SUM(Y238:Y241))))","v":0},null,null,null,{"$f":"+CONCATENATE(B233,\".\",5)","v":"38.5"},{"$f":"+AND(Q235>VLOOKUP(U233,MatrizRequerimientos,10,FALSE),Q235<=VLOOKUP(U233,MatrizRequerimientos,11,FALSE))","v":false},{"$f":"+V233*VLOOKUP(U233,MatrizRequerimientos,8,FALSE)","v":0},{"$f":"+V233*VLOOKUP(U233,MatrizRequerimientos,9,FALSE)","v":0}]
["N",38,null,null,null,"Indicador",null,{"$f":"+VLOOKUP(B235,TablaResumen[],21,0)","v":"Energía incorporada en base a UNE-EN-ISO 14.025"},null,null,null,null,null,null,null,null,null,null,null,null,{"$f":"+CONCATENATE(B234,\".\",6)","v":"38.6"},{"$f":"+AND(Q235>VLOOKUP(U234,MatrizRequerimientos,10,FALSE),Q235<=VLOOKUP(U234,MatrizRequerimientos,11,FALSE))","v":false},{"$f":"+V234*VLOOKUP(U234,MatrizRequerimientos,8,FALSE)","v":0},{"$f":"+V234*VLOOKUP(U234,MatrizRequerimientos,9,FALSE)","v":0}]
["N",38,null,null,null,null,null,null,null,null,null,null,null,"Cantidad de categorías de materiales estructurales del edificio declaradas en base a UNE-EN-ISO 14.025",null,null,null,null,null,null,{"$f":"+CONCATENATE(B235,\".\",7)","v":"38.7"},{"$f":"+AND(Q235>VLOOKUP(U235,MatrizRequerimientos,10,FALSE),Q235<=VLOOKUP(U235,MatrizRequerimientos,11,FALSE))","v":false},{"$f":"+V235*VLOOKUP(U235,MatrizRequerimientos,8,FALSE)","v":0},{"$f":"+V235*VLOOKUP(U235,MatrizRequerimientos,9,FALSE)","v":0}]
["N",38]
["N",38,null,null,null,"OPCIÓN ",null,{"$f":"CONCATENATE(VLOOKUP(B237,'Resumen requerimientos'!$T$5:$AB$104,5,FALSE), \" de \",VLOOKUP(B237,'Resumen requerimientos'!$T$5:$AB$104,6,FALSE))","v":"2 de 3"},null,null,null,null,null,null,null,null,null,null,null,null,null,null,null,"Of. Y Serv.","Ed. Y Salud"]
["N",38,null,null,null,null,null,null,null,null,null,null,null,null,null,null,null,null,null,null,{"$f":"+CONCATENATE(B238,\".\",4)","v":"38.4"},{"$f":"+VLOOKUP(U238,MatrizRequerimientos,6,FALSE)","v":"1,99-2"},{"$f":"+IF(A235=\"T\",Q235=V238,V232)","v":false},{"$f":"+W238*VLOOKUP(U238,MatrizRequerimientos,8,FALSE)","v":0},{"$f":"+W238*VLOOKUP(U238,MatrizRequerimientos,9,FALSE)","v":0}]
["N",38,null,null,null,{"$f":"+IF(H239=\"No\",\"¿OTROS REQUERIMIENTOS SIMULTÁNEOS?\",\"REQUERIMIENTOS SIMULTANEOS PARA LA OPCION\")","v":"¿OTROS REQUERIMIENTOS SIMULTÁNEOS?"},null,{"$f":"IF(VLOOKUP(B239,'Resumen requerimientos'!$T$5:$AB$104,7,FALSE)=0,\"No\",CONCATENATE(VLOOKUP(B239,'Resumen requerimientos'!$T$5:$AB$104,7,FALSE), \" de \",VLOOKUP(B239,'Resumen requerimientos'!$T$5:$AB$104,8,FALSE)))","v":"No"},null,null,null,null,null,null,null,null,null,null,null,null,{"$f":"+CONCATENATE(B239,\".\",5)","v":"38.5"},{"$f":"+VLOOKUP(U239,MatrizRequerimientos,6,FALSE)","v":"0,99-1"},{"$f":"+IF(A236=\"T\",Q235=V239,V233)","v":false},{"$f":"+W239*VLOOKUP(U239,MatrizRequerimientos,8,FALSE)","v":0},{"$f":"+W239*VLOOKUP(U239,MatrizRequerimientos,9,FALSE)","v":0}]
["N",38,null,null,null,null,null,null,null,null,null,null,null,null,null,null,null,null,null,null,{"$f":"+CONCATENATE(B240,\".\",6)","v":"38.6"},{"$f":"+VLOOKUP(U240,MatrizRequerimientos,6,FALSE)","v":""},{"$f":"+IF(A237=\"T\",Q235=V240,V234)","v":false},{"$f":"+W240*VLOOKUP(U240,MatrizRequerimientos,8,FALSE)","v":0},{"$f":"+W240*VLOOKUP(U240,MatrizRequerimientos,9,FALSE)","v":0}]
["N",38,null,null,null,"REQUERIMIENTO ADICIONAL",null,{"$f":"VLOOKUP(B241,'Resumen requerimientos'!$T$5:$AB$104,9,FALSE)","v":"No"},null,null,null,null,null,null,null,null,null,null,null,null,{"$f":"+CONCATENATE(B241,\".\",7)","v":"38.7"},{"$f":"+VLOOKUP(U241,MatrizRequerimientos,6,FALSE)","v":0},{"$f":"+IF(A238=\"T\",Q235=V241,V235)","v":false},{"$f":"+W241*VLOOKUP(U241,MatrizRequerimientos,8,FALSE)","v":0},{"$f":"+W241*VLOOKUP(U241,MatrizRequerimientos,9,FALSE)","v":0}]
["N",38,null,null,null,null,null,null,null,null,null,null,null,null,null,null,null,null,null,null,null,null,{"$f":"+IF(AND(A238=\"N\",H230=\"Voluntario\"),SUMIF(W238:W241,TRUE,IF(Uso_Edificio=\"Oficinas\",X238:X241,Y238:Y241)),IF(AND(A238=\"T\",H230=\"Obligatorio\"),VLOOKUP(Q235,V238:X241,3,FALSE)=1,W238))","v":0}]
["N",38]
["N",39]
["N",{"$f":"+B244","v":39},null,null,null,"Tipo requerimiento",null,{"$f":"+IF(VLOOKUP(B244,TablaResumen[],4)=\"C\",\"Voluntario\",\"Obligatorio\")","v":"Voluntario"},null,null,null,null,null,null,null,null,null,null,null,null,null,"Puntaje crédito numérico"]
["N",39,null,null,null,null,null,null,null,null,null,null,null,{"$f":"+IF(H245=\"Obligatorio\",\"Cumple Requisito\",\"Puntaje obtenido\")","v":"Puntaje obtenido"},null,null,{"$f":"+IF(H245=\"Obligatorio\",W257,IF(A247=\"N\",IF(Uso_Edificio=\"Oficinas\",SUM(W247:W250),SUM(X247:X250)),IF(Uso_Edificio=\"Oficinas\",SUM(X253:X256),SUM(Y253:Y256))))","v":0},null,null,null,null,"Calificación","Of. Y Serv.","Ed. Y Salud"]
["N",39,null,null,null,"Nombre Requerimiento",null,{"$f":"+VLOOKUP(B249,TablaResumen[],16,0)","v":"Energía incorporada en los materiales estructurales del edificio"},null,null,null,null,null,null,null,null,{"$f":"+IF(H244=\"Requisito\",W256,IF(#REF!=\"N\",IF(Uso_Edificio=\"Oficinas\",SUM(W246:W249),SUM(X246:X249)),IF(Uso_Edificio=\"Oficinas\",SUM(X252:X255),SUM(Y252:Y255))))","v":{"$error":"#REF!"}},null,null,null,{"$f":"+CONCATENATE(B247,\".\",4)","v":"39.4"},{"$f":"+AND(Q250>VLOOKUP(U247,MatrizRequerimientos,10,FALSE),Q250<=VLOOKUP(U247,MatrizRequerimientos,11,FALSE))","v":false},{"$f":"+V247*VLOOKUP(U247,MatrizRequerimientos,8,FALSE)","v":0},{"$f":"+V247*VLOOKUP(U247,MatrizRequerimientos,9,FALSE)","v":0}]
["N",39,null,null,null,null,null,null,null,null,null,null,null,null,null,null,{"$f":"+IF(H245=\"Requisito\",W257,IF(A244=\"N\",IF(Uso_Edificio=\"Oficinas\",SUM(W247:W250),SUM(X247:X250)),IF(Uso_Edificio=\"Oficinas\",SUM(X253:X256),SUM(Y253:Y256))))","v":0},null,null,null,{"$f":"+CONCATENATE(B248,\".\",5)","v":"39.5"},{"$f":"+AND(Q250>VLOOKUP(U248,MatrizRequerimientos,10,FALSE),Q250<=VLOOKUP(U248,MatrizRequerimientos,11,FALSE))","v":false},{"$f":"+V248*VLOOKUP(U248,MatrizRequerimientos,8,FALSE)","v":0},{"$f":"+V248*VLOOKUP(U248,MatrizRequerimientos,9,FALSE)","v":0}]
["N",39,null,null,null,"Indicador",null,{"$f":"+VLOOKUP(B250,TablaResumen[],21,0)","v":"% de superficie de elementos estructurales mantenidos de edificios existentes"},null,null,null,null,null,null,null,null,null,null,null,null,{"$f":"+CONCATENATE(B249,\".\",6)","v":"39.6"},{"$f":"+AND(Q250>VLOOKUP(U249,MatrizRequerimientos,10,FALSE),Q250<=VLOOKUP(U249,MatrizRequerimientos,11,FALSE))","v":false},{"$f":"+V249*VLOOKUP(U249,MatrizRequerimientos,8,FALSE)","v":0},{"$f":"+V249*VLOOKUP(U249,MatrizRequerimientos,9,FALSE)","v":0}]
["N",39,null,null,null,null,null,null,null,null,null,null,null,{"$f":"+IF(A249=\"N\",CONCATENATE(\"Valor obtenido en proyecto para \",H249),\"Seleccione Nivel de Cumplimiento\")","v":"Valor obtenido en proyecto para % de superficie de elementos estructurales mantenidos de edificios existentes"},null,null,null,null,null,null,{"$f":"+CONCATENATE(B250,\".\",7)","v":"39.7"},{"$f":"+AND(Q250>VLOOKUP(U250,MatrizRequerimientos,10,FALSE),Q250<=VLOOKUP(U250,MatrizRequerimientos,11,FALSE))","v":false},{"$f":"+V250*VLOOKUP(U250,MatrizRequerimientos,8,FALSE)","v":0},{"$f":"+V250*VLOOKUP(U250,MatrizRequerimientos,9,FALSE)","v":0}]
["N",39]
["N",39,null,null,null,"OPCIÓN ",null,{"$f":"CONCATENATE(VLOOKUP(B252,'Resumen requerimientos'!$T$5:$AB$104,5,FALSE), \" de \",VLOOKUP(B252,'Resumen requerimientos'!$T$5:$AB$104,6,FALSE))","v":"3 de 3"},null,null,null,null,null,null,null,null,null,null,null,null,null,null,null,"Of. Y Serv.","Ed. Y Salud"]
["N",39,null,null,null,null,null,null,null,null,null,null,null,null,null,null,null,null,null,null,{"$f":"+CONCATENATE(B253,\".\",4)","v":"39.4"},{"$f":"+VLOOKUP(U253,MatrizRequerimientos,6,FALSE)","v":"99,999%-100%"},{"$f":"+IF(A250=\"T\",Q250=V253,V247)","v":false},{"$f":"+W253*VLOOKUP(U253,MatrizRequerimientos,8,FALSE)","v":0},{"$f":"+W253*VLOOKUP(U253,MatrizRequerimientos,9,FALSE)","v":0}]
["N",39,null,null,null,{"$f":"+IF(H254=\"No\",\"¿OTROS REQUERIMIENTOS SIMULTÁNEOS?\",\"REQUERIMIENTOS SIMULTANEOS PARA LA OPCION\")","v":"¿OTROS REQUERIMIENTOS SIMULTÁNEOS?"},null,{"$f":"IF(VLOOKUP(B254,'Resumen requerimientos'!$T$5:$AB$104,7,FALSE)=0,\"No\",CONCATENATE(VLOOKUP(B254,'Resumen requerimientos'!$T$5:$AB$104,7,FALSE), \" de \",VLOOKUP(B254,'Resumen requerimientos'!$T$5:$AB$104,8,FALSE)))","v":"No"},null,null,null,null,null,null,null,null,null,null,null,null,{"$f":"+CONCATENATE(B254,\".\",5)","v":"39.5"},{"$f":"+VLOOKUP(U254,MatrizRequerimientos,6,FALSE)","v":"49,999%-99,999%"},{"$f":"+IF(A251=\"T\",Q250=V254,V248)","v":false},{"$f":"+W254*VLOOKUP(U254,MatrizRequerimientos,8,FALSE)","v":0},{"$f":"+W254*VLOOKUP(U254,MatrizRequerimientos,9,FALSE)","v":0}]
["N",39,null,null,null,null,null,null,null,null,null,null,null,null,null,null,null,null,null,null,{"$f":"+CONCATENATE(B255,\".\",6)","v":"39.6"},{"$f":"+VLOOKUP(U255,MatrizRequerimientos,6,FALSE)","v":"24,999%-49,999%"},{"$f":"+IF(A252=\"T\",Q250=V255,V249)","v":false},{"$f":"+W255*VLOOKUP(U255,MatrizRequerimientos,8,FALSE)","v":0},{"$f":"+W255*VLOOKUP(U255,MatrizRequerimientos,9,FALSE)","v":0}]
["N",39,null,null,null,"REQUERIMIENTO ADICIONAL",null,{"$f":"VLOOKUP(B256,'Resumen requerimientos'!$T$5:$AB$104,9,FALSE)","v":"No"},null,null,null,null,null,null,null,null,null,null,null,null,{"$f":"+CONCATENATE(B256,\".\",7)","v":"39.7"},{"$f":"+VLOOKUP(U256,MatrizRequerimientos,6,FALSE)","v":0},{"$f":"+IF(A253=\"T\",Q250=V256,V250)","v":false},{"$f":"+W256*VLOOKUP(U256,MatrizRequerimientos,8,FALSE)","v":0},{"$f":"+W256*VLOOKUP(U256,MatrizRequerimientos,9,FALSE)","v":0}]
["N",39,null,null,null,null,null,null,null,null,null,null,null,null,null,null,null,null,null,null,null,null,{"$f":"+IF(AND(A253=\"N\",H245=\"Voluntario\"),SUMIF(W253:W256,TRUE,IF(Uso_Edificio=\"Oficinas\",X253:X256,Y253:Y256)),IF(AND(A253=\"T\",H245=\"Obligatorio\"),VLOOKUP(Q250,V253:X256,3,FALSE)=1,W253))","v":0}]
["N",39]
["N",39,null,null,"Volver al índice"]

{"sheet":"Evaluacion ARQ.Agua Voluntarios","index":16,"n_rows":63,"n_cols":25,"rows_kept":63,"cut":false,"hidden":false,"merged":[[4,5,5,6],[4,7,5,11],[6,5,7,6],[6,7,7,11],[2,21,2,23],[3,13,5,15],[3,16,5,16],[7,13,14,15],[7,16,14,16],[1,18,15,18],[19,13,21,15],[19,16,21,16],[1,3,15,3],[24,5,24,6],[13,5,14,6],[13,7,14,11],[15,5,15,11],[24,7,24,11],[8,5,8,6],[8,7,8,11],[9,5,10,6],[9,7,10,11],[11,5,12,6],[11,7,12,11],[2,5,3,6],[2,7,3,11],[18,22,18,24],[31,5,31,11],[23,16,30,16],[20,5,21,6],[20,7,21,11],[18,5,19,6],[18,7,19,11],[22,5,23,6],[22,7,23,11],[29,5,30,6],[29,7,30,11],[25,5,26,6],[25,7,26,11],[27,5,28,6],[27,7,28,11],[23,13,30,15],[37,5,38,6],[37,7,38,11],[38,13,45,15],[38,16,45,16],[39,5,39,6],[39,7,39,11],[40,5,41,6],[33,22,33,24],[34,13,36,15],[34,16,36,16],[35,5,36,6],[35,7,36,11],[17,18,61,18],[48,22,48,24],[49,13,51,15],[49,16,51,16],[50,5,51,6],[50,7,51,11],[46,5,46,11],[48,5,49,6],[48,7,49,11],[52,5,53,6],[52,7,53,11],[53,13,60,15],[53,16,60,16],[59,5,60,6],[40,7,41,11],[42,5,43,6],[54,5,54,6],[0,4,0,5],[16,4,16,5],[62,4,62,5],[61,5,61,11],[17,3,61,3],[42,7,43,11],[44,5,45,6],[44,7,45,11],[54,7,54,11],[55,5,56,6],[55,7,56,11],[57,5,58,6],[57,7,58,11],[59,7,60,11],[33,5,34,6],[33,7,34,11]]}
["Texto/Número","Nº requisito",null,null,"Volver al índice"]
["N",40,null,"ARQ.AGUA 8 - DISMINUCIÓN DE LA DEMANDA DE AGUA",null,null,null,null,null,null,null,null,null,null,null,null,null,null,"ARQ.AGUA 8 - DISMINUCIÓN DE LA DEMANDA DE AGUA"]
["N",{"$f":"+B2","v":40},null,null,null,"Tipo requerimiento",null,{"$f":"+IF(VLOOKUP(B2,TablaResumen[],4)=\"C\",\"Voluntario\",\"Obligatorio\")","v":"Voluntario"},null,null,null,null,null,null,null,null,null,null,null,null,null,"Puntaje crédito numérico"]
["N",40,null,null,null,null,null,null,null,null,null,null,null,{"$f":"+IF(H3=\"Obligatorio\",\"Cumple Requisito\",\"Puntaje obtenido\")","v":"Puntaje obtenido"},null,null,{"$f":"+IF(H3=\"Obligatorio\",W15,IF(A5=\"N\",IF(Uso_Edificio=\"Oficinas\",SUM(W5:W8),SUM(X5:X8)),IF(Uso_Edificio=\"Oficinas\",SUM(X11:X14),SUM(Y11:Y14))))","v":0},null,null,null,null,"Calificación","Of. Y Serv.","Ed. Y Salud"]
["N",40,null,null,null,"Nombre Requerimiento",null,{"$f":"+VLOOKUP(B7,TablaResumen[],16,0)","v":"Disminución de la demanda de agua"},null,null,null,null,null,null,null,null,{"$f":"+IF(H2=\"Requisito\",W14,IF(#REF!=\"N\",IF(Uso_Edificio=\"Oficinas\",SUM(W4:W7),SUM(X4:X7)),IF(Uso_Edificio=\"Oficinas\",SUM(X10:X13),SUM(Y10:Y13))))","v":{"$error":"#REF!"}},null,null,null,{"$f":"+CONCATENATE(B5,\".\",4)","v":"40.4"},{"$f":"+AND(Q8>VLOOKUP(U5,MatrizRequerimientos,10,FALSE),Q8<=VLOOKUP(U5,MatrizRequerimientos,11,FALSE))","v":false},{"$f":"+V5*VLOOKUP(U5,MatrizRequerimientos,8,FALSE)","v":0},{"$f":"+V5*VLOOKUP(U5,MatrizRequerimientos,9,FALSE)","v":0}]
["N",40,null,null,null,null,null,null,null,null,null,null,null,null,null,null,{"$f":"+IF(H3=\"Requisito\",W15,IF(A2=\"N\",IF(Uso_Edificio=\"Oficinas\",SUM(W5:W8),SUM(X5:X8)),IF(Uso_Edificio=\"Oficinas\",SUM(X11:X14),SUM(Y11:Y14))))","v":0},null,null,null,{"$f":"+CONCATENATE(B6,\".\",5)","v":"40.5"},{"$f":"+AND(Q8>VLOOKUP(U6,MatrizRequerimientos,10,FALSE),Q8<=VLOOKUP(U6,MatrizRequerimientos,11,FALSE))","v":false},{"$f":"+V6*VLOOKUP(U6,MatrizRequerimientos,8,FALSE)","v":0},{"$f":"+V6*VLOOKUP(U6,MatrizRequerimientos,9,FALSE)","v":0}]
["N",40,null,null,null,"Indicador",null,{"$f":"+VLOOKUP(B8,TablaResumen[],21,0)","v":"Porcentaje de disminución de la evapotranspiración"},null,null,null,null,null,null,null,null,null,null,null,null,{"$f":"+CONCATENATE(B7,\".\",6)","v":"40.6"},{"$f":"+AND(Q8>VLOOKUP(U7,MatrizRequerimientos,10,FALSE),Q8<=VLOOKUP(U7,MatrizRequerimientos,11,FALSE))","v":false},{"$f":"+V7*VLOOKUP(U7,MatrizRequerimientos,8,FALSE)","v":0},{"$f":"+V7*VLOOKUP(U7,MatrizRequerimientos,9,FALSE)","v":0}]
["N",40,null,null,null,null,null,null,null,null,null,null,null,{"$f":"+IF(A7=\"N\",CONCATENATE(\"Valor obtenido en proyecto para \",H7),\"Seleccione Nivel de Cumplimiento\")","v":"Valor obtenido en proyecto para Porcentaje de disminución de la evapotranspiración"},null,null,null,null,null,null,{"$f":"+CONCATENATE(B8,\".\",7)","v":"40.7"},{"$f":"+AND(Q8>VLOOKUP(U8,MatrizRequerimientos,10,FALSE),Q8<=VLOOKUP(U8,MatrizRequerimientos,11,FALSE))","v":false},{"$f":"+V8*VLOOKUP(U8,MatrizRequerimientos,8,FALSE)","v":0},{"$f":"+V8*VLOOKUP(U8,MatrizRequerimientos,9,FALSE)","v":0}]
["N",40]
["N",40,null,null,null,"OPCIÓN ",null,{"$f":"CONCATENATE(VLOOKUP(B10,'Resumen requerimientos'!$T$5:$AB$104,5,FALSE), \" de \",VLOOKUP(B10,'Resumen requerimientos'!$T$5:$AB$104,6,FALSE))","v":"1 de 1"},null,null,null,null,null,null,null,null,null,null,null,null,null,null,null,"Of. Y Serv.","Ed. Y Salud"]
["N",40,null,null,null,null,null,null,null,null,null,null,null,null,null,null,null,null,null,null,{"$f":"+CONCATENATE(B11,\".\",4)","v":"40.4"},{"$f":"+VLOOKUP(U11,MatrizRequerimientos,6,FALSE)","v":"69,999%-100%"},{"$f":"+IF(A8=\"T\",Q8=V11,V5)","v":false},{"$f":"+W11*VLOOKUP(U11,MatrizRequerimientos,8,FALSE)","v":0},{"$f":"+W11*VLOOKUP(U11,MatrizRequerimientos,9,FALSE)","v":0}]
["N",40,null,null,null,{"$f":"+IF(H12=\"No\",\"¿OTROS REQUERIMIENTOS SIMULTÁNEOS?\",\"REQUERIMIENTOS SIMULTANEOS PARA LA OPCION\")","v":"¿OTROS REQUERIMIENTOS SIMULTÁNEOS?"},null,{"$f":"IF(VLOOKUP(B12,'Resumen requerimientos'!$T$5:$AB$104,7,FALSE)=0,\"No\",CONCATENATE(VLOOKUP(B12,'Resumen requerimientos'!$T$5:$AB$104,7,FALSE), \" de \",VLOOKUP(B12,'Resumen requerimientos'!$T$5:$AB$104,8,FALSE)))","v":"No"},null,null,null,null,null,null,null,null,null,null,null,null,{"$f":"+CONCATENATE(B12,\".\",5)","v":"40.5"},{"$f":"+VLOOKUP(U12,MatrizRequerimientos,6,FALSE)","v":"49,999%-69,999%"},{"$f":"+IF(A9=\"T\",Q8=V12,V6)","v":false},{"$f":"+W12*VLOOKUP(U12,MatrizRequerimientos,8,FALSE)","v":0},{"$f":"+W12*VLOOKUP(U12,MatrizRequerimientos,9,FALSE)","v":0}]
["N",40,null,null,null,null,null,null,null,null,null,null,null,null,null,null,null,null,null,null,{"$f":"+CONCATENATE(B13,\".\",6)","v":"40.6"},{"$f":"+VLOOKUP(U13,MatrizRequerimientos,6,FALSE)","v":"19,999%-49,999%"},{"$f":"+IF(A10=\"T\",Q8=V13,V7)","v":false},{"$f":"+W13*VLOOKUP(U13,MatrizRequerimientos,8,FALSE)","v":0},{"$f":"+W13*VLOOKUP(U13,MatrizRequerimientos,9,FALSE)","v":0}]
["N",40,null,null,null,"REQUERIMIENTO ADICIONAL",null,{"$f":"VLOOKUP(B14,'Resumen requerimientos'!$T$5:$AB$104,9,FALSE)","v":"No"},null,null,null,null,null,null,null,null,null,null,null,null,{"$f":"+CONCATENATE(B14,\".\",7)","v":"40.7"},{"$f":"+VLOOKUP(U14,MatrizRequerimientos,6,FALSE)","v":0},{"$f":"+IF(A11=\"T\",Q8=V14,V8)","v":false},{"$f":"+W14*VLOOKUP(U14,MatrizRequerimientos,8,FALSE)","v":0},{"$f":"+W14*VLOOKUP(U14,MatrizRequerimientos,9,FALSE)","v":0}]
["N",40,null,null,null,null,null,null,null,null,null,null,null,null,null,null,null,null,null,null,null,null,{"$f":"+IF(AND(A11=\"N\",H3=\"Voluntario\"),SUMIF(W11:W14,TRUE,IF(Uso_Edificio=\"Oficinas\",X11:X14,Y11:Y14)),IF(AND(A11=\"T\",H3=\"Obligatorio\"),VLOOKUP(Q8,V11:X14,3,FALSE)=1,W11))","v":0}]
["N",40]
["N",40,null,null,"Volver al índice"]
["N",42,null,"ARQ.AGUA 9 - AGUA INCORPORADA EN LOS MATERIALES ESTRUCTURALES DEL EDIFICIO",null,null,null,null,null,null,null,null,null,null,null,null,null,null,"ARQ.AGUA 9 - AGUA INCORPORADA EN LOS MATERIALES ESTRUCTURALES DEL EDIFICIO"]
["N",{"$f":"+B18","v":42},null,null,null,"Tipo requerimiento",null,{"$f":"+IF(VLOOKUP(B18,TablaResumen[],4)=\"C\",\"Voluntario\",\"Obligatorio\")","v":"Voluntario"}]
["N",42,null,null,null,null,null,null,null,null,null,null,null,{"$f":"+IF(H19=\"Obligatorio\",\"Cumple Requisito\",\"Puntaje obtenido\")","v":"Puntaje obtenido"},null,null,{"$f":"+IF(H19=\"Obligatorio\",W31,IF(A21=\"N\",IF(Uso_Edificio=\"Oficinas\",SUM(W21:W24),SUM(X21:X24)),IF(Uso_Edificio=\"Oficinas\",SUM(X27:X30),SUM(Y27:Y30))))","v":0},null,null,null,null,"Calificación","Of. Y Serv.","Ed. Y Salud"]
["N",42,null,null,null,"Nombre Requerimiento",null,{"$f":"+VLOOKUP(B23,TablaResumen[],16,0)","v":"Agua incorporada en los materiales estructurales del edificio [%]"},null,null,null,null,null,null,null,null,{"$f":"+IF(H18=\"Requisito\",W30,IF(#REF!=\"N\",IF(Uso_Edificio=\"Oficinas\",SUM(W20:W23),SUM(X20:X23)),IF(Uso_Edificio=\"Oficinas\",SUM(X26:X29),SUM(Y26:Y29))))","v":{"$error":"#REF!"}},null,null,null,{"$f":"+CONCATENATE(B21,\".\",4)","v":"42.4"},{"$f":"+AND(Q24>VLOOKUP(U21,MatrizRequerimientos,10,FALSE),Q24<=VLOOKUP(U21,MatrizRequerimientos,11,FALSE))","v":false},{"$f":"+V21*VLOOKUP(U21,MatrizRequerimientos,8,FALSE)","v":0},{"$f":"+V21*VLOOKUP(U21,MatrizRequerimientos,9,FALSE)","v":0}]
["N",42,null,null,null,null,null,null,null,null,null,null,null,null,null,null,{"$f":"+IF(H19=\"Requisito\",W31,IF(A18=\"N\",IF(Uso_Edificio=\"Oficinas\",SUM(W21:W24),SUM(X21:X24)),IF(Uso_Edificio=\"Oficinas\",SUM(X27:X30),SUM(Y27:Y30))))","v":0},null,null,null,{"$f":"+CONCATENATE(B22,\".\",5)","v":"42.5"},{"$f":"+AND(Q24>VLOOKUP(U22,MatrizRequerimientos,10,FALSE),Q24<=VLOOKUP(U22,MatrizRequerimientos,11,FALSE))","v":false},{"$f":"+V22*VLOOKUP(U22,MatrizRequerimientos,8,FALSE)","v":0},{"$f":"+V22*VLOOKUP(U22,MatrizRequerimientos,9,FALSE)","v":0}]
["N",42,null,null,null,"Indicador",null,{"$f":"+VLOOKUP(B24,TablaResumen[],21,0)","v":"Cantidad de categorías de materiales en que se declara la información de agua incorporada según UNE-14024"},null,null,null,null,null,null,null,null,null,null,null,null,{"$f":"+CONCATENATE(B23,\".\",6)","v":"42.6"},{"$f":"+AND(Q24>VLOOKUP(U23,MatrizRequerimientos,10,FALSE),Q24<=VLOOKUP(U23,MatrizRequerimientos,11,FALSE))","v":false},{"$f":"+V23*VLOOKUP(U23,MatrizRequerimientos,8,FALSE)","v":0},{"$f":"+V23*VLOOKUP(U23,MatrizRequerimientos,9,FALSE)","v":0}]
["N",42,null,null,null,null,null,null,null,null,null,null,null,{"$f":"+IF(A23=\"N\",CONCATENATE(\"Valor obtenido en proyecto para \",H23),\"Seleccione Nivel de Cumplimiento\")","v":"Valor obtenido en proyecto para Cantidad de categorías de materiales en que se declara la información de agua incorporada según UNE-14024"},null,null,null,null,null,null,{"$f":"+CONCATENATE(B24,\".\",7)","v":"42.7"},{"$f":"+AND(Q24>VLOOKUP(U24,MatrizRequerimientos,10,FALSE),Q24<=VLOOKUP(U24,MatrizRequerimientos,11,FALSE))","v":false},{"$f":"+V24*VLOOKUP(U24,MatrizRequerimientos,8,FALSE)","v":0},{"$f":"+V24*VLOOKUP(U24,MatrizRequerimientos,9,FALSE)","v":0}]
["N",42]
["N",42,null,null,null,"OPCIÓN ",null,{"$f":"CONCATENATE(VLOOKUP(B26,'Resumen requerimientos'!$T$5:$AB$104,5,FALSE), \" de \",VLOOKUP(B26,'Resumen requerimientos'!$T$5:$AB$104,6,FALSE))","v":"1 de 3"},null,null,null,null,null,null,null,null,null,null,null,null,null,null,null,"Of. Y Serv.","Ed. Y Salud"]
["N",42,null,null,null,null,null,null,null,null,null,null,null,null,null,null,null,null,null,null,{"$f":"+CONCATENATE(B27,\".\",4)","v":"42.4"},{"$f":"+VLOOKUP(U27,MatrizRequerimientos,6,FALSE)","v":""},{"$f":"+IF(A24=\"T\",Q24=V27,V21)","v":false},{"$f":"+W27*VLOOKUP(U27,MatrizRequerimientos,8,FALSE)","v":0},{"$f":"+W27*VLOOKUP(U27,MatrizRequerimientos,9,FALSE)","v":0}]
["N",42,null,null,null,{"$f":"+IF(H28=\"No\",\"¿OTROS REQUERIMIENTOS SIMULTÁNEOS?\",\"REQUERIMIENTOS SIMULTANEOS PARA LA OPCION\")","v":"¿OTROS REQUERIMIENTOS SIMULTÁNEOS?"},null,{"$f":"IF(VLOOKUP(B28,'Resumen requerimientos'!$T$5:$AB$104,7,FALSE)=0,\"No\",CONCATENATE(VLOOKUP(B28,'Resumen requerimientos'!$T$5:$AB$104,7,FALSE), \" de \",VLOOKUP(B28,'Resumen requerimientos'!$T$5:$AB$104,8,FALSE)))","v":"No"},null,null,null,null,null,null,null,null,null,null,null,null,{"$f":"+CONCATENATE(B28,\".\",5)","v":"42.5"},{"$f":"+VLOOKUP(U28,MatrizRequerimientos,6,FALSE)","v":"1,99-2"},{"$f":"+IF(A25=\"T\",Q24=V28,V22)","v":false},{"$f":"+W28*VLOOKUP(U28,MatrizRequerimientos,8,FALSE)","v":0},{"$f":"+W28*VLOOKUP(U28,MatrizRequerimientos,9,FALSE)","v":0}]
["N",42,null,null,null,null,null,null,null,null,null,null,null,null,null,null,null,null,null,null,{"$f":"+CONCATENATE(B29,\".\",6)","v":"42.6"},{"$f":"+VLOOKUP(U29,MatrizRequerimientos,6,FALSE)","v":0},{"$f":"+IF(A26=\"T\",Q24=V29,V23)","v":false},{"$f":"+W29*VLOOKUP(U29,MatrizRequerimientos,8,FALSE)","v":0},{"$f":"+W29*VLOOKUP(U29,MatrizRequerimientos,9,FALSE)","v":0}]
["N",42,null,null,null,"REQUERIMIENTO ADICIONAL",null,{"$f":"VLOOKUP(B30,'Resumen requerimientos'!$T$5:$AB$104,9,FALSE)","v":"No"},null,null,null,null,null,null,null,null,null,null,null,null,{"$f":"+CONCATENATE(B30,\".\",7)","v":"42.7"},{"$f":"+VLOOKUP(U30,MatrizRequerimientos,6,FALSE)","v":0},{"$f":"+IF(A27=\"T\",Q24=V30,V24)","v":false},{"$f":"+W30*VLOOKUP(U30,MatrizRequerimientos,8,FALSE)","v":0},{"$f":"+W30*VLOOKUP(U30,MatrizRequerimientos,9,FALSE)","v":0}]
["N",42,null,null,null,null,null,null,null,null,null,null,null,null,null,null,null,null,null,null,null,null,{"$f":"+IF(AND(A27=\"N\",H19=\"Voluntario\"),SUMIF(W27:W30,TRUE,IF(Uso_Edificio=\"Oficinas\",X27:X30,Y27:Y30)),IF(AND(A27=\"T\",H19=\"Obligatorio\"),VLOOKUP(Q24,V27:X30,3,FALSE)=1,W27))","v":0}]
["N",42]
["N",99]
["N",99,null,null,null,"Tipo requerimiento",null,{"$f":"+IF(VLOOKUP(B33,TablaResumen[],4)=\"C\",\"Voluntario\",\"Obligatorio\")","v":"Voluntario"}]
["N",99,null,null,null,null,null,null,null,null,null,null,null,{"$f":"+IF(H34=\"Obligatorio\",\"Cumple Requisito\",\"Puntaje obtenido\")","v":"Puntaje obtenido"},null,null,{"$f":"+IF(H34=\"Obligatorio\",W46,IF(A36=\"N\",IF(Uso_Edificio=\"Oficinas\",SUM(W36:W39),SUM(X36:X39)),IF(Uso_Edificio=\"Oficinas\",SUM(X42:X45),SUM(Y42:Y45))))","v":0},null,null,null,null,"Calificación","Of. Y Serv.","Ed. Y Salud"]
["N",99,null,null,null,"Nombre Requerimiento",null,{"$f":"+VLOOKUP(B38,TablaResumen[],16,0)","v":"Agua incorporada en los materiales estructurales del edificio [%]"},null,null,null,null,null,null,null,null,{"$f":"+IF(H33=\"Requisito\",W45,IF(#REF!=\"N\",IF(Uso_Edificio=\"Oficinas\",SUM(W35:W38),SUM(X35:X38)),IF(Uso_Edificio=\"Oficinas\",SUM(X41:X44),SUM(Y41:Y44))))","v":{"$error":"#REF!"}},null,null,null,{"$f":"+CONCATENATE(B36,\".\",4)","v":"99.4"},{"$f":"+AND(Q39>VLOOKUP(U36,MatrizRequerimientos,10,FALSE),Q39<=VLOOKUP(U36,MatrizRequerimientos,11,FALSE))","v":false},{"$f":"+V36*VLOOKUP(U36,MatrizRequerimientos,8,FALSE)","v":0},{"$f":"+V36*VLOOKUP(U36,MatrizRequerimientos,9,FALSE)","v":0}]
["N",99,null,null,null,null,null,null,null,null,null,null,null,null,null,null,{"$f":"+IF(H34=\"Requisito\",W46,IF(A33=\"N\",IF(Uso_Edificio=\"Oficinas\",SUM(W36:W39),SUM(X36:X39)),IF(Uso_Edificio=\"Oficinas\",SUM(X42:X45),SUM(Y42:Y45))))","v":0},null,null,null,{"$f":"+CONCATENATE(B37,\".\",5)","v":"99.5"},{"$f":"+AND(Q39>VLOOKUP(U37,MatrizRequerimientos,10,FALSE),Q39<=VLOOKUP(U37,MatrizRequerimientos,11,FALSE))","v":false},{"$f":"+V37*VLOOKUP(U37,MatrizRequerimientos,8,FALSE)","v":0},{"$f":"+V37*VLOOKUP(U37,MatrizRequerimientos,9,FALSE)","v":0}]
["N",99,null,null,null,"Indicador",null,{"$f":"+VLOOKUP(B39,TablaResumen[],21,0)","v":"Cantidad de categorías de materiales en que se declara la información de agua incorporada según UNE-14025"},null,null,null,null,null,null,null,null,null,null,null,null,{"$f":"+CONCATENATE(B38,\".\",6)","v":"99.6"},{"$f":"+AND(Q39>VLOOKUP(U38,MatrizRequerimientos,10,FALSE),Q39<=VLOOKUP(U38,MatrizRequerimientos,11,FALSE))","v":false},{"$f":"+V38*VLOOKUP(U38,MatrizRequerimientos,8,FALSE)","v":0},{"$f":"+V38*VLOOKUP(U38,MatrizRequerimientos,9,FALSE)","v":0}]
["N",99,null,null,null,null,null,null,null,null,null,null,null,{"$f":"+IF(A38=\"N\",CONCATENATE(\"Valor obtenido en proyecto para \",H38),\"Seleccione Nivel de Cumplimiento\")","v":"Valor obtenido en proyecto para Cantidad de categorías de materiales en que se declara la información de agua incorporada según UNE-14025"},null,null,null,null,null,null,{"$f":"+CONCATENATE(B39,\".\",7)","v":"99.7"},{"$f":"+AND(Q39>VLOOKUP(U39,MatrizRequerimientos,10,FALSE),Q39<=VLOOKUP(U39,MatrizRequerimientos,11,FALSE))","v":false},{"$f":"+V39*VLOOKUP(U39,MatrizRequerimientos,8,FALSE)","v":0},{"$f":"+V39*VLOOKUP(U39,MatrizRequerimientos,9,FALSE)","v":0}]
["N",99]
["N",99,null,null,null,"OPCIÓN ",null,{"$f":"CONCATENATE(VLOOKUP(B41,'Resumen requerimientos'!$T$5:$AB$104,5,FALSE), \" de \",VLOOKUP(B41,'Resumen requerimientos'!$T$5:$AB$104,6,FALSE))","v":"2 de 3"},null,null,null,null,null,null,null,null,null,null,null,null,null,null,null,"Of. Y Serv.","Ed. Y Salud"]
["N",99,null,null,null,null,null,null,null,null,null,null,null,null,null,null,null,null,null,null,{"$f":"+CONCATENATE(B42,\".\",4)","v":"99.4"},{"$f":"+VLOOKUP(U42,MatrizRequerimientos,6,FALSE)","v":"1,99-2"},{"$f":"+IF(A39=\"T\",Q39=V42,V36)","v":false},{"$f":"+W42*VLOOKUP(U42,MatrizRequerimientos,8,FALSE)","v":0},{"$f":"+W42*VLOOKUP(U42,MatrizRequerimientos,9,FALSE)","v":0}]
["N",99,null,null,null,{"$f":"+IF(H43=\"No\",\"¿OTROS REQUERIMIENTOS SIMULTÁNEOS?\",\"REQUERIMIENTOS SIMULTANEOS PARA LA OPCION\")","v":"¿OTROS REQUERIMIENTOS SIMULTÁNEOS?"},null,{"$f":"IF(VLOOKUP(B43,'Resumen requerimientos'!$T$5:$AB$104,7,FALSE)=0,\"No\",CONCATENATE(VLOOKUP(B43,'Resumen requerimientos'!$T$5:$AB$104,7,FALSE), \" de \",VLOOKUP(B43,'Resumen requerimientos'!$T$5:$AB$104,8,FALSE)))","v":"No"},null,null,null,null,null,null,null,null,null,null,null,null,{"$f":"+CONCATENATE(B43,\".\",5)","v":"99.5"},{"$f":"+VLOOKUP(U43,MatrizRequerimientos,6,FALSE)","v":"0,99-1"},{"$f":"+IF(A40=\"T\",Q39=V43,V37)","v":false},{"$f":"+W43*VLOOKUP(U43,MatrizRequerimientos,8,FALSE)","v":0},{"$f":"+W43*VLOOKUP(U43,MatrizRequerimientos,9,FALSE)","v":0}]
["N",99,null,null,null,null,null,null,null,null,null,null,null,null,null,null,null,null,null,null,{"$f":"+CONCATENATE(B44,\".\",6)","v":"99.6"},{"$f":"+VLOOKUP(U44,MatrizRequerimientos,6,FALSE)","v":0},{"$f":"+IF(A41=\"T\",Q39=V44,V38)","v":false},{"$f":"+W44*VLOOKUP(U44,MatrizRequerimientos,8,FALSE)","v":0},{"$f":"+W44*VLOOKUP(U44,MatrizRequerimientos,9,FALSE)","v":0}]
["N",99,null,null,null,"REQUERIMIENTO ADICIONAL",null,{"$f":"VLOOKUP(B45,'Resumen requerimientos'!$T$5:$AB$104,9,FALSE)","v":"No"},null,null,null,null,null,null,null,null,null,null,null,null,{"$f":"+CONCATENATE(B45,\".\",7)","v":"99.7"},{"$f":"+VLOOKUP(U45,MatrizRequerimientos,6,FALSE)","v":0},{"$f":"+IF(A42=\"T\",Q39=V45,V39)","v":false},{"$f":"+W45*VLOOKUP(U45,MatrizRequerimientos,8,FALSE)","v":0},{"$f":"+W45*VLOOKUP(U45,MatrizRequerimientos,9,FALSE)","v":0}]
["N",99,null,null,null,null,null,null,null,null,null,null,null,null,null,null,null,null,null,null,null,null,{"$f":"+IF(AND(A42=\"N\",H34=\"Voluntario\"),SUMIF(W42:W45,TRUE,IF(Uso_Edificio=\"Oficinas\",X42:X45,Y42:Y45)),IF(AND(A42=\"T\",H34=\"Obligatorio\"),VLOOKUP(Q39,V42:X45,3,FALSE)=1,W42))","v":0}]
["N",99]
["N",100]
["N",100,null,null,null,"Tipo requerimiento",null,{"$f":"+IF(VLOOKUP(B48,TablaResumen[],4)=\"C\",\"Voluntario\",\"Obligatorio\")","v":"Voluntario"}]
["N",100,null,null,null,null,null,null,null,null,null,null,null,{"$f":"+IF(H49=\"Obligatorio\",\"Cumple Requisito\",\"Puntaje obtenido\")","v":"Puntaje obtenido"},null,null,{"$f":"+IF(H49=\"Obligatorio\",W61,IF(A51=\"N\",IF(Uso_Edificio=\"Oficinas\",SUM(W51:W54),SUM(X51:X54)),IF(Uso_Edificio=\"Oficinas\",SUM(X57:X60),SUM(Y57:Y60))))","v":0},null,null,null,null,"Calificación","Of. Y Serv.","Ed. Y Salud"]
["N",100,null,null,null,"Nombre Requerimiento",null,{"$f":"+VLOOKUP(B53,TablaResumen[],16,0)","v":"Agua incorporada en los materiales estructurales del edificio [%]"},null,null,null,null,null,null,null,null,{"$f":"+IF(H48=\"Requisito\",W60,IF(#REF!=\"N\",IF(Uso_Edificio=\"Oficinas\",SUM(W50:W53),SUM(X50:X53)),IF(Uso_Edificio=\"Oficinas\",SUM(X56:X59),SUM(Y56:Y59))))","v":{"$error":"#REF!"}},null,null,null,{"$f":"+CONCATENATE(B51,\".\",4)","v":"100.4"},{"$f":"+AND(Q54>VLOOKUP(U51,MatrizRequerimientos,10,FALSE),Q54<=VLOOKUP(U51,MatrizRequerimientos,11,FALSE))","v":false},{"$f":"+V51*VLOOKUP(U51,MatrizRequerimientos,8,FALSE)","v":0},{"$f":"+V51*VLOOKUP(U51,MatrizRequerimientos,9,FALSE)","v":0}]
["N",100,null,null,null,null,null,null,null,null,null,null,null,null,null,null,{"$f":"+IF(H49=\"Requisito\",W61,IF(A48=\"N\",IF(Uso_Edificio=\"Oficinas\",SUM(W51:W54),SUM(X51:X54)),IF(Uso_Edificio=\"Oficinas\",SUM(X57:X60),SUM(Y57:Y60))))","v":0},null,null,null,{"$f":"+CONCATENATE(B52,\".\",5)","v":"100.5"},{"$f":"+AND(Q54>VLOOKUP(U52,MatrizRequerimientos,10,FALSE),Q54<=VLOOKUP(U52,MatrizRequerimientos,11,FALSE))","v":false},{"$f":"+V52*VLOOKUP(U52,MatrizRequerimientos,8,FALSE)","v":0},{"$f":"+V52*VLOOKUP(U52,MatrizRequerimientos,9,FALSE)","v":0}]
["N",100,null,null,null,"Indicador",null,{"$f":"+VLOOKUP(B54,TablaResumen[],21,0)","v":"Porcentaje de la superficie de el sistema estructural principal que se mantiene"},null,null,null,null,null,null,null,null,null,null,null,null,{"$f":"+CONCATENATE(B53,\".\",6)","v":"100.6"},{"$f":"+AND(Q54>VLOOKUP(U53,MatrizRequerimientos,10,FALSE),Q54<=VLOOKUP(U53,MatrizRequerimientos,11,FALSE))","v":false},{"$f":"+V53*VLOOKUP(U53,MatrizRequerimientos,8,FALSE)","v":0},{"$f":"+V53*VLOOKUP(U53,MatrizRequerimientos,9,FALSE)","v":0}]
["N",100,null,null,null,null,null,null,null,null,null,null,null,{"$f":"+IF(A53=\"N\",CONCATENATE(\"Valor obtenido en proyecto para \",H53),\"Seleccione Nivel de Cumplimiento\")","v":"Valor obtenido en proyecto para Porcentaje de la superficie de el sistema estructural principal que se mantiene"},null,null,null,null,null,null,{"$f":"+CONCATENATE(B54,\".\",7)","v":"100.7"},{"$f":"+AND(Q54>VLOOKUP(U54,MatrizRequerimientos,10,FALSE),Q54<=VLOOKUP(U54,MatrizRequerimientos,11,FALSE))","v":false},{"$f":"+V54*VLOOKUP(U54,MatrizRequerimientos,8,FALSE)","v":0},{"$f":"+V54*VLOOKUP(U54,MatrizRequerimientos,9,FALSE)","v":0}]
["N",100]
["N",100,null,null,null,"OPCIÓN ",null,{"$f":"CONCATENATE(VLOOKUP(B56,'Resumen requerimientos'!$T$5:$AB$104,5,FALSE), \" de \",VLOOKUP(B56,'Resumen requerimientos'!$T$5:$AB$104,6,FALSE))","v":"3 de 3"},null,null,null,null,null,null,null,null,null,null,null,null,null,null,null,"Of. Y Serv.","Ed. Y Salud"]
["N",100,null,null,null,null,null,null,null,null,null,null,null,null,null,null,null,null,null,null,{"$f":"+CONCATENATE(B57,\".\",4)","v":"100.4"},{"$f":"+VLOOKUP(U57,MatrizRequerimientos,6,FALSE)","v":"99,999%-100%"},{"$f":"+IF(A54=\"T\",Q54=V57,V51)","v":false},{"$f":"+W57*VLOOKUP(U57,MatrizRequerimientos,8,FALSE)","v":0},{"$f":"+W57*VLOOKUP(U57,MatrizRequerimientos,9,FALSE)","v":0}]
["N",100,null,null,null,{"$f":"+IF(H58=\"No\",\"¿OTROS REQUERIMIENTOS SIMULTÁNEOS?\",\"REQUERIMIENTOS SIMULTANEOS PARA LA OPCION\")","v":"¿OTROS REQUERIMIENTOS SIMULTÁNEOS?"},null,{"$f":"IF(VLOOKUP(B58,'Resumen requerimientos'!$T$5:$AB$104,7,FALSE)=0,\"No\",CONCATENATE(VLOOKUP(B58,'Resumen requerimientos'!$T$5:$AB$104,7,FALSE), \" de \",VLOOKUP(B58,'Resumen requerimientos'!$T$5:$AB$104,8,FALSE)))","v":"No"},null,null,null,null,null,null,null,null,null,null,null,null,{"$f":"+CONCATENATE(B58,\".\",5)","v":"100.5"},{"$f":"+VLOOKUP(U58,MatrizRequerimientos,6,FALSE)","v":"49,999%-99,999%"},{"$f":"+IF(A55=\"T\",Q54=V58,V52)","v":false},{"$f":"+W58*VLOOKUP(U58,MatrizRequerimientos,8,FALSE)","v":0},{"$f":"+W58*VLOOKUP(U58,MatrizRequerimientos,9,FALSE)","v":0}]
["N",100,null,null,null,null,null,null,null,null,null,null,null,null,null,null,null,null,null,null,{"$f":"+CONCATENATE(B59,\".\",6)","v":"100.6"},{"$f":"+VLOOKUP(U59,MatrizRequerimientos,6,FALSE)","v":0},{"$f":"+IF(A56=\"T\",Q54=V59,V53)","v":false},{"$f":"+W59*VLOOKUP(U59,MatrizRequerimientos,8,FALSE)","v":0},{"$f":"+W59*VLOOKUP(U59,MatrizRequerimientos,9,FALSE)","v":0}]
["N",100,null,null,null,"REQUERIMIENTO ADICIONAL",null,{"$f":"VLOOKUP(B60,'Resumen requerimientos'!$T$5:$AB$104,9,FALSE)","v":"No"},null,null,null,null,null,null,null,null,null,null,null,null,{"$f":"+CONCATENATE(B60,\".\",7)","v":"100.7"},{"$f":"+VLOOKUP(U60,MatrizRequerimientos,6,FALSE)","v":0},{"$f":"+IF(A57=\"T\",Q54=V60,V54)","v":false},{"$f":"+W60*VLOOKUP(U60,MatrizRequerimientos,8,FALSE)","v":0},{"$f":"+W60*VLOOKUP(U60,MatrizRequerimientos,9,FALSE)","v":0}]
["N",100,null,null,null,null,null,null,null,null,null,null,null,null,null,null,null,null,null,null,null,null,{"$f":"+IF(AND(A57=\"N\",H49=\"Voluntario\"),SUMIF(W57:W60,TRUE,IF(Uso_Edificio=\"Oficinas\",X57:X60,Y57:Y60)),IF(AND(A57=\"T\",H49=\"Obligatorio\"),VLOOKUP(Q54,V57:X60,3,FALSE)=1,W57))","v":0}]
["N",100]
["N",100,null,null,"Volver al índice"]

{"sheet":"Evaluacion ARQ.Residuos Volunta","index":17,"n_rows":17,"n_cols":25,"rows_kept":17,"cut":false,"hidden":false,"merged":[[1,3,15,3],[1,18,15,18],[9,5,10,6],[9,7,10,11],[11,5,12,6],[11,7,12,11],[15,5,15,11],[13,5,14,6],[13,7,14,11],[2,5,3,6],[2,7,3,11],[0,4,0,5],[16,4,16,5],[2,21,2,23],[8,5,8,6],[8,7,8,11],[4,5,5,6],[4,7,5,11],[6,5,7,6],[6,7,7,11],[3,13,5,15],[3,16,5,16],[7,13,14,15],[7,16,14,16]]}
["Texto/Número","Nº requisito",null,null,"Volver al índice"]
["T",43,null,"ARQ.RESIDUOS 10 - EQUIPAMIENTO PARA EL MANEJO DE RESIDUOS DURANTE LA OPERACIÓN DEL EDIFICIO",null,null,null,null,null,null,null,null,null,null,null,null,null,null,"ARQ.RESIDUOS 10 - EQUIPAMIENTO PARA EL MANEJO DE RESIDUOS DURANTE LA OPERACIÓN DEL EDIFICIO"]
["T",{"$f":"+B2","v":43},null,null,null,"Tipo requerimiento",null,{"$f":"+IF(VLOOKUP(B2,TablaResumen[],4)=\"C\",\"Voluntario\",\"Obligatorio\")","v":"Voluntario"},null,null,null,null,null,null,null,null,null,null,null,null,null,"Puntaje crédito numérico"]
["T",43,null,null,null,null,null,null,null,null,null,null,null,{"$f":"+IF(H3=\"Obligatorio\",\"Cumple Requisito\",\"Puntaje obtenido\")","v":"Puntaje obtenido"},null,null,{"$f":"+IF(H3=\"Obligatorio\",W15,IF(A5=\"N\",IF(Uso_Edificio=\"Oficinas\",SUM(W5:W8),SUM(X5:X8)),IF(Uso_Edificio=\"Oficinas\",SUM(X11:X14),SUM(Y11:Y14))))","v":0},null,null,null,null,"Calificación","Of. Y Serv.","Ed. Y Salud"]
["T",43,null,null,null,"Nombre Requerimiento",null,{"$f":"+VLOOKUP(B7,TablaResumen[],16,0)","v":"Equipamiento para el Manejo de Residuos durante la operación del edificio"},null,null,null,null,null,null,null,null,null,null,null,null,{"$f":"+CONCATENATE(B5,\".\",4)","v":"43.4"},{"$f":"+AND(Q8>VLOOKUP(U5,MatrizRequerimientos,10,FALSE),Q8<=VLOOKUP(U5,MatrizRequerimientos,11,FALSE))","v":false},{"$f":"+V5*VLOOKUP(U5,MatrizRequerimientos,8,FALSE)","v":0},{"$f":"+V5*VLOOKUP(U5,MatrizRequerimientos,9,FALSE)","v":0}]
["T",43,null,null,null,null,null,null,null,null,null,null,null,null,null,null,null,null,null,null,{"$f":"+CONCATENATE(B6,\".\",5)","v":"43.5"},{"$f":"+AND(Q8>VLOOKUP(U6,MatrizRequerimientos,10,FALSE),Q8<=VLOOKUP(U6,MatrizRequerimientos,11,FALSE))","v":false},{"$f":"+V6*VLOOKUP(U6,MatrizRequerimientos,8,FALSE)","v":0},{"$f":"+V6*VLOOKUP(U6,MatrizRequerimientos,9,FALSE)","v":0}]
["T",43,null,null,null,"Indicador",null,{"$f":"+VLOOKUP(B8,TablaResumen[],21,0)","v":"Equipamiento para el manejo de residuos durante la operación del edificio"},null,null,null,null,null,null,null,null,null,null,null,null,{"$f":"+CONCATENATE(B7,\".\",6)","v":"43.6"},{"$f":"+AND(Q8>VLOOKUP(U7,MatrizRequerimientos,10,FALSE),Q8<=VLOOKUP(U7,MatrizRequerimientos,11,FALSE))","v":false},{"$f":"+V7*VLOOKUP(U7,MatrizRequerimientos,8,FALSE)","v":0},{"$f":"+V7*VLOOKUP(U7,MatrizRequerimientos,9,FALSE)","v":0}]
["T",43,null,null,null,null,null,null,null,null,null,null,null,{"$f":"+IF(A7=\"N\",CONCATENATE(\"Valor obtenido en proyecto para \",H7),\"Seleccione Nivel de Cumplimiento\")","v":"Seleccione Nivel de Cumplimiento"},null,null,null,null,null,null,{"$f":"+CONCATENATE(B8,\".\",7)","v":"43.7"},{"$f":"+AND(Q8>VLOOKUP(U8,MatrizRequerimientos,10,FALSE),Q8<=VLOOKUP(U8,MatrizRequerimientos,11,FALSE))","v":false},{"$f":"+V8*VLOOKUP(U8,MatrizRequerimientos,8,FALSE)","v":0},{"$f":"+V8*VLOOKUP(U8,MatrizRequerimientos,9,FALSE)","v":0}]
["T",43]
["T",43,null,null,null,"OPCIÓN ",null,{"$f":"CONCATENATE(VLOOKUP(B10,'Resumen requerimientos'!$T$5:$AB$96,5,FALSE), \" de \",VLOOKUP(B10,'Resumen requerimientos'!$T$5:$AB$96,6,FALSE))","v":"1 de 1"},null,null,null,null,null,null,null,null,null,null,null,null,null,null,null,"Of. Y Serv.","Ed. Y Salud"]
["T",43,null,null,null,null,null,null,null,null,null,null,null,null,null,null,null,null,null,null,{"$f":"+CONCATENATE(B11,\".\",4)","v":"43.4"},{"$f":"+VLOOKUP(U11,MatrizRequerimientos,6,FALSE)","v":"Cumple requisitos equipamiento"},{"$f":"+IF(A8=\"T\",Q8=V11,V5)","v":false},{"$f":"+W11*VLOOKUP(U11,MatrizRequerimientos,8,FALSE)","v":0},{"$f":"+W11*VLOOKUP(U11,MatrizRequerimientos,9,FALSE)","v":0}]
["T",43,null,null,null,{"$f":"+IF(H12=\"No\",\"¿OTROS REQUERIMIENTOS SIMULTÁNEOS?\",\"REQUERIMIENTOS SIMULTANEOS PARA LA OPCION\")","v":"¿OTROS REQUERIMIENTOS SIMULTÁNEOS?"},null,{"$f":"IF(VLOOKUP(B12,'Resumen requerimientos'!$T$5:$AB$96,7,FALSE)=0,\"No\",CONCATENATE(VLOOKUP(B12,'Resumen requerimientos'!$T$5:$AB$96,7,FALSE), \" de \",VLOOKUP(B12,'Resumen requerimientos'!$T$5:$AB$96,8,FALSE)))","v":"No"},null,null,null,null,null,null,null,null,null,null,null,null,{"$f":"+CONCATENATE(B12,\".\",5)","v":"43.5"},{"$f":"+VLOOKUP(U12,MatrizRequerimientos,6,FALSE)","v":"NO cumple requisitos equipamiento"},{"$f":"+IF(A9=\"T\",Q8=V12,V6)","v":false},{"$f":"+W12*VLOOKUP(U12,MatrizRequerimientos,8,FALSE)","v":0},{"$f":"+W12*VLOOKUP(U12,MatrizRequerimientos,9,FALSE)","v":0}]
["T",43,null,null,null,null,null,null,null,null,null,null,null,null,null,null,null,null,null,null,{"$f":"+CONCATENATE(B13,\".\",6)","v":"43.6"},{"$f":"+VLOOKUP(U13,MatrizRequerimientos,6,FALSE)","v":0},{"$f":"+IF(A10=\"T\",Q8=V13,V7)","v":true},{"$f":"+W13*VLOOKUP(U13,MatrizRequerimientos,8,FALSE)","v":0},{"$f":"+W13*VLOOKUP(U13,MatrizRequerimientos,9,FALSE)","v":0}]
["T",43,null,null,null,"REQUERIMIENTO ADICIONAL",null,{"$f":"VLOOKUP(B14,'Resumen requerimientos'!$T$5:$AB$96,9,FALSE)","v":"No"},null,null,null,null,null,null,null,null,null,null,null,null,{"$f":"+CONCATENATE(B14,\".\",7)","v":"43.7"},{"$f":"+VLOOKUP(U14,MatrizRequerimientos,6,FALSE)","v":0},{"$f":"+IF(A11=\"T\",Q8=V14,V8)","v":true},{"$f":"+W14*VLOOKUP(U14,MatrizRequerimientos,8,FALSE)","v":0},{"$f":"+W14*VLOOKUP(U14,MatrizRequerimientos,9,FALSE)","v":0}]
["T",43,null,null,null,null,null,null,null,null,null,null,null,null,null,null,null,null,null,null,null,null,{"$f":"+IF(AND(A11=\"N\",H3=\"Voluntario\"),SUMIF(W11:W14,TRUE,IF(Uso_Edificio=\"Oficinas\",X11:X14,Y11:Y14)),IF(AND(A11=\"T\",H3=\"Obligatorio\"),VLOOKUP(Q8,V11:X14,3,FALSE)=1,W11))","v":false}]
["T",43]
["T",43,null,null,"Volver al índice"]

{"sheet":"Evaluacion INST.CAI Voluntarios","index":18,"n_rows":157,"n_cols":25,"rows_kept":157,"cut":false,"hidden":false,"merged":[[70,13,77,15],[70,16,77,16],[82,13,84,15],[82,16,84,16],[86,13,93,15],[86,16,93,16],[97,13,99,15],[97,16,99,16],[101,13,108,15],[101,16,108,16],[2,21,2,23],[4,5,5,6],[4,7,5,11],[6,5,7,6],[6,7,7,11],[8,5,8,6],[8,7,8,11],[9,5,10,6],[9,7,10,11],[3,13,5,15],[3,16,5,16],[7,13,14,15],[7,16,14,16],[19,16,21,16],[23,13,30,15],[23,16,30,16],[22,7,23,11],[24,5,24,6],[1,3,15,3],[31,5,31,11],[17,3,31,3],[1,18,15,18],[2,5,3,6],[2,7,3,11],[11,5,12,6],[11,7,12,11],[13,5,14,6],[13,7,14,11],[15,5,15,11],[34,21,34,23],[36,5,37,6],[36,7,37,11],[38,5,39,6],[38,7,39,11],[40,5,40,6],[40,7,40,11],[24,7,24,11],[25,5,26,6],[25,7,26,11],[27,5,28,6],[27,7,28,11],[29,5,30,6],[29,7,30,11],[35,13,37,15],[35,16,37,16],[17,18,31,18],[18,5,19,6],[18,7,19,11],[18,21,18,23],[20,5,21,6],[20,7,21,11],[22,5,23,6],[19,13,21,15],[41,5,42,6],[41,7,42,11],[43,5,44,6],[43,7,44,11],[39,13,46,15],[39,16,46,16],[45,5,46,6],[45,7,46,11],[33,18,47,18],[34,5,35,6],[34,7,35,11],[47,5,47,11],[33,3,47,3],[49,3,78,3],[49,18,78,18],[50,5,51,6],[50,7,51,11],[54,5,55,6],[54,7,55,11],[56,5,56,6],[56,7,56,11],[57,5,58,6],[57,7,58,11],[59,5,60,6],[59,7,60,11],[69,5,70,6],[69,7,70,11],[71,5,71,6],[71,7,71,11],[72,5,73,6],[72,7,73,11],[74,5,75,6],[74,7,75,11],[76,5,77,6],[76,7,77,11],[78,5,78,11],[118,7,119,11],[120,5,121,6],[120,7,121,11],[50,21,50,23],[52,5,53,6],[52,7,53,11],[65,21,65,23],[67,5,68,6],[67,7,68,11],[61,5,62,6],[61,7,62,11],[63,5,63,11],[65,5,66,6],[65,7,66,11],[51,13,53,15],[51,16,53,16],[55,13,62,15],[55,16,62,16],[66,13,68,15],[66,16,68,16],[112,13,114,15],[112,16,114,16],[116,13,123,15],[116,16,123,16],[96,21,96,23],[87,7,87,11],[88,5,89,6],[88,7,89,11],[90,5,91,6],[90,7,91,11],[92,5,93,6],[92,7,93,11],[80,18,139,18],[81,5,82,6],[81,7,82,11],[81,21,81,23],[83,5,84,6],[83,7,84,11],[85,5,86,6],[102,5,102,6],[102,7,102,11],[103,5,104,6],[103,7,104,11],[111,21,111,23],[113,5,114,6],[113,7,114,11],[107,5,108,6],[107,7,108,11],[126,21,126,23],[128,5,129,6],[128,7,129,11],[122,5,123,6],[122,7,123,11],[124,5,124,11],[126,5,127,6],[126,7,127,11],[127,13,129,15],[127,16,129,16],[141,18,155,18],[142,5,143,6],[142,7,143,11],[155,5,155,11],[142,21,142,23],[144,5,145,6],[144,7,145,11],[146,5,147,6],[146,7,147,11],[148,5,148,6],[148,7,148,11],[149,5,150,6],[149,7,150,11],[147,16,154,16],[131,13,138,15],[137,5,138,6],[137,7,138,11],[130,5,131,6],[141,3,155,3],[151,5,152,6],[151,7,152,11],[143,13,145,15],[143,16,145,16],[147,13,154,15],[153,5,154,6],[153,7,154,11],[131,16,138,16],[80,3,139,3],[85,7,86,11],[87,5,87,6],[94,5,94,11],[96,5,97,6],[96,7,97,11],[105,5,106,6],[105,7,106,11],[98,5,99,6],[98,7,99,11],[100,5,101,6],[0,4,0,5],[16,4,16,5],[32,4,32,5],[48,4,48,5],[79,4,79,5],[140,4,140,5],[156,4,156,5],[139,5,139,11],[130,7,131,11],[132,5,132,6],[132,7,132,11],[133,5,134,6],[133,7,134,11],[135,5,136,6],[135,7,136,11],[100,7,101,11],[109,5,109,11],[111,5,112,6],[111,7,112,11],[115,5,116,6],[115,7,116,11],[117,5,117,6],[117,7,117,11],[118,5,119,6]]}
["Texto/Número","Nº requisito",null,null,"Volver al índice"]
["N",44,null,"INST.CAI 11.1 - VENTILACIÓN MECÁNICA:CAUDAL",null,null,null,null,null,null,null,null,null,null,null,null,null,null,"INST.CAI 11.1 - VENTILACIÓN MECÁNICA:CAUDAL"]
["N",{"$f":"+B2","v":44},null,null,null,"Tipo requerimiento",null,{"$f":"+IF(VLOOKUP(B2,TablaResumen[],4)=\"C\",\"Voluntario\",\"Obligatorio\")","v":"Voluntario"},null,null,null,null,null,null,null,null,null,null,null,null,null,"Puntaje crédito numérico"]
["N",44,null,null,null,null,null,null,null,null,null,null,null,{"$f":"+IF(H3=\"Obligatorio\",\"Cumple Requisito\",\"Puntaje obtenido\")","v":"Puntaje obtenido"},null,null,{"$f":"+IF(H3=\"Obligatorio\",W15,IF(A5=\"N\",IF(Uso_Edificio=\"Oficinas\",SUM(W5:W8),SUM(X5:X8)),IF(Uso_Edificio=\"Oficinas\",SUM(X11:X14),SUM(Y11:Y14))))","v":0},null,null,null,null,"Calificación","Of. Y Serv.","Ed. Y Salud"]
["N",44,null,null,null,"Nombre Requerimiento",null,{"$f":"+VLOOKUP(B7,TablaResumen[],16,0)","v":"Caudal"},null,null,null,null,null,null,null,null,null,null,null,null,{"$f":"+CONCATENATE(B5,\".\",4)","v":"44.4"},{"$f":"+AND(Q8>VLOOKUP(U5,MatrizRequerimientos,10,FALSE),Q8<=VLOOKUP(U5,MatrizRequerimientos,11,FALSE))","v":false},{"$f":"+V5*VLOOKUP(U5,MatrizRequerimientos,8,FALSE)","v":0},{"$f":"+V5*VLOOKUP(U5,MatrizRequerimientos,9,FALSE)","v":0}]
["N",44,null,null,null,null,null,null,null,null,null,null,null,null,null,null,null,null,null,null,{"$f":"+CONCATENATE(B6,\".\",5)","v":"44.5"},{"$f":"+AND(Q8>VLOOKUP(U6,MatrizRequerimientos,10,FALSE),Q8<=VLOOKUP(U6,MatrizRequerimientos,11,FALSE))","v":false},{"$f":"+V6*VLOOKUP(U6,MatrizRequerimientos,8,FALSE)","v":0},{"$f":"+V6*VLOOKUP(U6,MatrizRequerimientos,9,FALSE)","v":0}]
["N",44,null,null,null,"Indicador",null,{"$f":"+VLOOKUP(B8,TablaResumen[],21,0)","v":"Aumento del caudal de ventilación [litros/seg]"},null,null,null,null,null,null,null,null,null,null,null,null,{"$f":"+CONCATENATE(B7,\".\",6)","v":"44.6"},{"$f":"+AND(Q8>VLOOKUP(U7,MatrizRequerimientos,10,FALSE),Q8<=VLOOKUP(U7,MatrizRequerimientos,11,FALSE))","v":false},{"$f":"+V7*VLOOKUP(U7,MatrizRequerimientos,8,FALSE)","v":0},{"$f":"+V7*VLOOKUP(U7,MatrizRequerimientos,9,FALSE)","v":0}]
["N",44,null,null,null,null,null,null,null,null,null,null,null,{"$f":"+IF(A7=\"N\",CONCATENATE(\"Valor obtenido en proyecto para \",H7),\"Seleccione Nivel de Cumplimiento\")","v":"Valor obtenido en proyecto para Aumento del caudal de ventilación [litros/seg]"},null,null,"No Aplica",null,null,null,{"$f":"+CONCATENATE(B8,\".\",7)","v":"44.7"},{"$f":"+AND(Q8>VLOOKUP(U8,MatrizRequerimientos,10,FALSE),Q8<=VLOOKUP(U8,MatrizRequerimientos,11,FALSE))","v":false},{"$f":"+V8*VLOOKUP(U8,MatrizRequerimientos,8,FALSE)","v":0},{"$f":"+V8*VLOOKUP(U8,MatrizRequerimientos,9,FALSE)","v":0}]
["N",44]
["N",44,null,null,null,"OPCIÓN ",null,{"$f":"CONCATENATE(VLOOKUP(B10,'Resumen requerimientos'!$T$5:$AB$92,5,FALSE), \" de \",VLOOKUP(B10,'Resumen requerimientos'!$T$5:$AB$92,6,FALSE))","v":"1 de 1"},null,null,null,null,null,null,null,null,null,null,null,null,null,null,null,"Of. Y Serv.","Ed. Y Salud"]
["N",44,null,null,null,null,null,null,null,null,null,null,null,null,null,null,null,null,null,null,{"$f":"+CONCATENATE(B11,\".\",4)","v":"44.4"},{"$f":"+VLOOKUP(U11,MatrizRequerimientos,6,FALSE)","v":""},{"$f":"+IF(A8=\"T\",Q8=V11,V5)","v":false},{"$f":"+W11*VLOOKUP(U11,MatrizRequerimientos,8,FALSE)","v":0},{"$f":"+W11*VLOOKUP(U11,MatrizRequerimientos,9,FALSE)","v":0}]
["N",44,null,null,null,{"$f":"+IF(H12=\"No\",\"¿OTROS REQUERIMIENTOS SIMULTÁNEOS?\",\"REQUERIMIENTOS SIMULTANEOS PARA LA OPCION\")","v":"¿OTROS REQUERIMIENTOS SIMULTÁNEOS?"},null,{"$f":"IF(VLOOKUP(B12,'Resumen requerimientos'!$T$5:$AB$92,7,FALSE)=0,\"No\",CONCATENATE(VLOOKUP(B12,'Resumen requerimientos'!$T$5:$AB$92,7,FALSE), \" de \",VLOOKUP(B12,'Resumen requerimientos'!$T$5:$AB$92,8,FALSE)))","v":"No"},null,null,null,null,null,null,null,null,null,null,null,null,{"$f":"+CONCATENATE(B12,\".\",5)","v":"44.5"},{"$f":"+VLOOKUP(U12,MatrizRequerimientos,6,FALSE)","v":""},{"$f":"+IF(A9=\"T\",Q8=V12,V6)","v":false},{"$f":"+W12*VLOOKUP(U12,MatrizRequerimientos,8,FALSE)","v":0},{"$f":"+W12*VLOOKUP(U12,MatrizRequerimientos,9,FALSE)","v":0}]
["N",44,null,null,null,null,null,null,null,null,null,null,null,null,null,null,null,null,null,null,{"$f":"+CONCATENATE(B13,\".\",6)","v":"44.6"},{"$f":"+VLOOKUP(U13,MatrizRequerimientos,6,FALSE)","v":"No Aplica"},{"$f":"+IF(A10=\"T\",Q8=V13,V7)","v":false},{"$f":"+W13*VLOOKUP(U13,MatrizRequerimientos,8,FALSE)","v":0},{"$f":"+W13*VLOOKUP(U13,MatrizRequerimientos,9,FALSE)","v":0}]
["N",44,null,null,null,"REQUERIMIENTO ADICIONAL",null,{"$f":"VLOOKUP(B14,'Resumen requerimientos'!$T$5:$AB$92,9,FALSE)","v":"No"},null,null,null,null,null,null,null,null,null,null,null,null,{"$f":"+CONCATENATE(B14,\".\",7)","v":"44.7"},{"$f":"+VLOOKUP(U14,MatrizRequerimientos,6,FALSE)","v":0},{"$f":"+IF(A11=\"T\",Q8=V14,V8)","v":false},{"$f":"+W14*VLOOKUP(U14,MatrizRequerimientos,8,FALSE)","v":0},{"$f":"+W14*VLOOKUP(U14,MatrizRequerimientos,9,FALSE)","v":0}]
["N",44,null,null,null,null,null,null,null,null,null,null,null,null,null,null,null,null,null,null,null,null,{"$f":"+IF(AND(A11=\"N\",H3=\"Voluntario\"),SUMIF(W11:W14,TRUE,IF(Uso_Edificio=\"Oficinas\",X11:X14,Y11:Y14)),IF(AND(A11=\"T\",H3=\"Obligatorio\"),VLOOKUP(Q8,V11:X14,3,FALSE)=1,W11))","v":0}]
["N",44]
["N",44,null,null,"Volver al índice"]
["T",{"$f":"+IF(F17=\"\",B17+1,B17)","v":45},null,"INST.CAI 11.2 - FILTRAJE",null,null,null,null,null,null,null,null,null,null,null,null,null,null,"INST.CAI 11.2 - FILTRAJE"]
["T",{"$f":"+B18","v":45},null,null,null,"Tipo requerimiento",null,{"$f":"+IF(VLOOKUP(B18,TablaResumen[],4)=\"C\",\"Voluntario\",\"Obligatorio\")","v":"Voluntario"},null,null,null,null,null,null,null,null,null,null,null,null,null,"Puntaje crédito numérico"]
["T",45,null,null,null,null,null,null,null,null,null,null,null,{"$f":"+IF(H19=\"Obligatorio\",\"Cumple Requisito\",\"Puntaje obtenido\")","v":"Puntaje obtenido"},null,null,{"$f":"+IF(H19=\"Obligatorio\",W31,IF(A21=\"N\",IF(Uso_Edificio=\"Oficinas\",SUM(W21:W24),SUM(X21:X24)),IF(Uso_Edificio=\"Oficinas\",SUM(X27:X30),SUM(Y27:Y30))))","v":0},null,null,null,null,"Calificación","Of. Y Serv.","Ed. Y Salud"]
["T",45,null,null,null,"Nombre Requerimiento",null,{"$f":"+VLOOKUP(B23,TablaResumen[],16,0)","v":"Filtraje"},null,null,null,null,null,null,null,null,null,null,null,null,{"$f":"+CONCATENATE(B21,\".\",4)","v":"45.4"},{"$f":"+AND(Q24>VLOOKUP(U21,MatrizRequerimientos,10,FALSE),Q24<=VLOOKUP(U21,MatrizRequerimientos,11,FALSE))","v":false},{"$f":"+V21*VLOOKUP(U21,MatrizRequerimientos,8,FALSE)","v":0},{"$f":"+V21*VLOOKUP(U21,MatrizRequerimientos,9,FALSE)","v":0}]
["T",45,null,null,null,null,null,null,null,null,null,null,null,null,null,null,null,null,null,null,{"$f":"+CONCATENATE(B22,\".\",5)","v":"45.5"},{"$f":"+AND(Q24>VLOOKUP(U22,MatrizRequerimientos,10,FALSE),Q24<=VLOOKUP(U22,MatrizRequerimientos,11,FALSE))","v":false},{"$f":"+V22*VLOOKUP(U22,MatrizRequerimientos,8,FALSE)","v":0},{"$f":"+V22*VLOOKUP(U22,MatrizRequerimientos,9,FALSE)","v":0}]
["T",45,null,null,null,"Indicador",null,{"$f":"+VLOOKUP(B24,TablaResumen[],21,0)","v":"Eficiencia promedio filtraje [% ]"},null,null,null,null,null,null,null,null,null,null,null,null,{"$f":"+CONCATENATE(B23,\".\",6)","v":"45.6"},{"$f":"+AND(Q24>VLOOKUP(U23,MatrizRequerimientos,10,FALSE),Q24<=VLOOKUP(U23,MatrizRequerimientos,11,FALSE))","v":false},{"$f":"+V23*VLOOKUP(U23,MatrizRequerimientos,8,FALSE)","v":0},{"$f":"+V23*VLOOKUP(U23,MatrizRequerimientos,9,FALSE)","v":0}]
["T",45,null,null,null,null,null,null,null,null,null,null,null,{"$f":"+IF(A23=\"N\",CONCATENATE(\"Valor obtenido en proyecto para \",H23),\"Seleccione Nivel de Cumplimiento\")","v":"Seleccione Nivel de Cumplimiento"},null,null,"No Aplica",null,null,null,{"$f":"+CONCATENATE(B24,\".\",7)","v":"45.7"},{"$f":"+AND(Q24>VLOOKUP(U24,MatrizRequerimientos,10,FALSE),Q24<=VLOOKUP(U24,MatrizRequerimientos,11,FALSE))","v":false},{"$f":"+V24*VLOOKUP(U24,MatrizRequerimientos,8,FALSE)","v":0},{"$f":"+V24*VLOOKUP(U24,MatrizRequerimientos,9,FALSE)","v":0}]
["T",45]
["T",45,null,null,null,"OPCIÓN ",null,{"$f":"CONCATENATE(VLOOKUP(B26,'Resumen requerimientos'!$T$5:$AB$92,5,FALSE), \" de \",VLOOKUP(B26,'Resumen requerimientos'!$T$5:$AB$92,6,FALSE))","v":"1 de 1"},null,null,null,null,null,null,null,null,null,null,null,null,null,null,null,"Of. Y Serv.","Ed. Y Salud"]
["T",45,null,null,null,null,null,null,null,null,null,null,null,null,null,null,null,null,null,null,{"$f":"+CONCATENATE(B27,\".\",4)","v":"45.4"},{"$f":"+VLOOKUP(U27,MatrizRequerimientos,6,FALSE)","v":""},{"$f":"+IF(A24=\"T\",Q24=V27,V21)","v":false},{"$f":"+W27*VLOOKUP(U27,MatrizRequerimientos,8,FALSE)","v":0},{"$f":"+W27*VLOOKUP(U27,MatrizRequerimientos,9,FALSE)","v":0}]
["T",45,null,null,null,{"$f":"+IF(H28=\"No\",\"¿OTROS REQUERIMIENTOS SIMULTÁNEOS?\",\"REQUERIMIENTOS SIMULTANEOS PARA LA OPCION\")","v":"¿OTROS REQUERIMIENTOS SIMULTÁNEOS?"},null,{"$f":"IF(VLOOKUP(B28,'Resumen requerimientos'!$T$5:$AB$92,7,FALSE)=0,\"No\",CONCATENATE(VLOOKUP(B28,'Resumen requerimientos'!$T$5:$AB$92,7,FALSE), \" de \",VLOOKUP(B28,'Resumen requerimientos'!$T$5:$AB$92,8,FALSE)))","v":"No"},null,null,null,null,null,null,null,null,null,null,null,null,{"$f":"+CONCATENATE(B28,\".\",5)","v":"45.5"},{"$f":"+VLOOKUP(U28,MatrizRequerimientos,6,FALSE)","v":""},{"$f":"+IF(A25=\"T\",Q24=V28,V22)","v":false},{"$f":"+W28*VLOOKUP(U28,MatrizRequerimientos,8,FALSE)","v":0},{"$f":"+W28*VLOOKUP(U28,MatrizRequerimientos,9,FALSE)","v":0}]
["T",45,null,null,null,null,null,null,null,null,null,null,null,null,null,null,null,null,null,null,{"$f":"+CONCATENATE(B29,\".\",6)","v":"45.6"},{"$f":"+VLOOKUP(U29,MatrizRequerimientos,6,FALSE)","v":""},{"$f":"+IF(A26=\"T\",Q24=V29,V23)","v":false},{"$f":"+W29*VLOOKUP(U29,MatrizRequerimientos,8,FALSE)","v":0},{"$f":"+W29*VLOOKUP(U29,MatrizRequerimientos,9,FALSE)","v":0}]
["T",45,null,null,null,"REQUERIMIENTO ADICIONAL",null,{"$f":"VLOOKUP(B30,'Resumen requerimientos'!$T$5:$AB$92,9,FALSE)","v":"No"},null,null,null,null,null,null,null,null,null,null,null,null,{"$f":"+CONCATENATE(B30,\".\",7)","v":"45.7"},{"$f":"+VLOOKUP(U30,MatrizRequerimientos,6,FALSE)","v":"No Aplica"},{"$f":"+IF(A27=\"T\",Q24=V30,V24)","v":true},{"$f":"+W30*VLOOKUP(U30,MatrizRequerimientos,8,FALSE)","v":0},{"$f":"+W30*VLOOKUP(U30,MatrizRequerimientos,9,FALSE)","v":0}]
["T",45,null,null,null,null,null,null,null,null,null,null,null,null,null,null,null,null,null,null,null,null,{"$f":"+IF(AND(A27=\"N\",H19=\"Voluntario\"),SUMIF(W27:W30,TRUE,IF(Uso_Edificio=\"Oficinas\",X27:X30,Y27:Y30)),IF(AND(A27=\"T\",H19=\"Obligatorio\"),VLOOKUP(Q24,V27:X30,3,FALSE)=1,W27))","v":false}]
["T",45]
["T",45,null,null,"Volver al índice"]
["T",46,null,"INST.CAI 11.3 - MONITOREO CALIDAD DEL AIRE",null,null,null,null,null,null,null,null,null,null,null,null,null,null,"INST.CAI 11.3 - MONITOREO CALIDAD DEL AIRE"]
["T",{"$f":"+B34","v":46},null,null,null,"Tipo requerimiento",null,{"$f":"+IF(VLOOKUP(B34,TablaResumen[],4)=\"C\",\"Voluntario\",\"Obligatorio\")","v":"Voluntario"},null,null,null,null,null,null,null,null,null,null,null,null,null,"Puntaje crédito numérico"]
["T",46,null,null,null,null,null,null,null,null,null,null,null,{"$f":"+IF(H35=\"Obligatorio\",\"Cumple Requisito\",\"Puntaje obtenido\")","v":"Puntaje obtenido"},null,null,{"$f":"+IF(H35=\"Obligatorio\",W47,IF(A37=\"N\",IF(Uso_Edificio=\"Oficinas\",SUM(W37:W40),SUM(X37:X40)),IF(Uso_Edificio=\"Oficinas\",SUM(X43:X46),SUM(Y43:Y46))))","v":0},null,null,null,null,"Calificación","Of. Y Serv.","Ed. Y Salud"]
["T",46,null,null,null,"Nombre Requerimiento",null,{"$f":"+VLOOKUP(B39,TablaResumen[],16,0)","v":"Monitoreo Calidad del aire"},null,null,null,null,null,null,null,null,null,null,null,null,{"$f":"+CONCATENATE(B37,\".\",4)","v":"46.4"},{"$f":"+AND(Q40>VLOOKUP(U37,MatrizRequerimientos,10,FALSE),Q40<=VLOOKUP(U37,MatrizRequerimientos,11,FALSE))","v":false},{"$f":"+V37*VLOOKUP(U37,MatrizRequerimientos,8,FALSE)","v":0},{"$f":"+V37*VLOOKUP(U37,MatrizRequerimientos,9,FALSE)","v":0}]
["T",46,null,null,null,null,null,null,null,null,null,null,null,null,null,null,null,null,null,null,{"$f":"+CONCATENATE(B38,\".\",5)","v":"46.5"},{"$f":"+AND(Q40>VLOOKUP(U38,MatrizRequerimientos,10,FALSE),Q40<=VLOOKUP(U38,MatrizRequerimientos,11,FALSE))","v":false},{"$f":"+V38*VLOOKUP(U38,MatrizRequerimientos,8,FALSE)","v":0},{"$f":"+V38*VLOOKUP(U38,MatrizRequerimientos,9,FALSE)","v":0}]
["T",46,null,null,null,"Indicador",null,{"$f":"+VLOOKUP(B40,TablaResumen[],21,0)","v":"Sistema de monitoreo de concentración de CO2"},null,null,null,null,null,null,null,null,null,null,null,null,{"$f":"+CONCATENATE(B39,\".\",6)","v":"46.6"},{"$f":"+AND(Q40>VLOOKUP(U39,MatrizRequerimientos,10,FALSE),Q40<=VLOOKUP(U39,MatrizRequerimientos,11,FALSE))","v":false},{"$f":"+V39*VLOOKUP(U39,MatrizRequerimientos,8,FALSE)","v":0},{"$f":"+V39*VLOOKUP(U39,MatrizRequerimientos,9,FALSE)","v":0}]
["T",46,null,null,null,null,null,null,null,null,null,null,null,{"$f":"+IF(A39=\"N\",CONCATENATE(\"Valor obtenido en proyecto para \",H39),\"Seleccione Nivel de Cumplimiento\")","v":"Seleccione Nivel de Cumplimiento"},null,null,null,null,null,null,{"$f":"+CONCATENATE(B40,\".\",7)","v":"46.7"},{"$f":"+AND(Q40>VLOOKUP(U40,MatrizRequerimientos,10,FALSE),Q40<=VLOOKUP(U40,MatrizRequerimientos,11,FALSE))","v":false},{"$f":"+V40*VLOOKUP(U40,MatrizRequerimientos,8,FALSE)","v":0},{"$f":"+V40*VLOOKUP(U40,MatrizRequerimientos,9,FALSE)","v":0}]
["T",46]
["T",46,null,null,null,"OPCIÓN ",null,{"$f":"CONCATENATE(VLOOKUP(B42,'Resumen requerimientos'!$T$5:$AB$92,5,FALSE), \" de \",VLOOKUP(B42,'Resumen requerimientos'!$T$5:$AB$92,6,FALSE))","v":"1 de 1"},null,null,null,null,null,null,null,null,null,null,null,null,null,null,null,"Of. Y Serv.","Ed. Y Salud"]
["T",46,null,null,null,null,null,null,null,null,null,null,null,null,null,null,null,null,null,null,{"$f":"+CONCATENATE(B43,\".\",4)","v":"46.4"},{"$f":"+VLOOKUP(U43,MatrizRequerimientos,6,FALSE)","v":"Cumple con requisitos de monitoreo"},{"$f":"+IF(A40=\"T\",Q40=V43,V37)","v":false},{"$f":"+W43*VLOOKUP(U43,MatrizRequerimientos,8,FALSE)","v":0},{"$f":"+W43*VLOOKUP(U43,MatrizRequerimientos,9,FALSE)","v":0}]
["T",46,null,null,null,{"$f":"+IF(H44=\"No\",\"¿OTROS REQUERIMIENTOS SIMULTÁNEOS?\",\"REQUERIMIENTOS SIMULTANEOS PARA LA OPCION\")","v":"¿OTROS REQUERIMIENTOS SIMULTÁNEOS?"},null,{"$f":"IF(VLOOKUP(B44,'Resumen requerimientos'!$T$5:$AB$92,7,FALSE)=0,\"No\",CONCATENATE(VLOOKUP(B44,'Resumen requerimientos'!$T$5:$AB$92,7,FALSE), \" de \",VLOOKUP(B44,'Resumen requerimientos'!$T$5:$AB$92,8,FALSE)))","v":"No"},null,null,null,null,null,null,null,null,null,null,null,null,{"$f":"+CONCATENATE(B44,\".\",5)","v":"46.5"},{"$f":"+VLOOKUP(U44,MatrizRequerimientos,6,FALSE)","v":"NO cumple con requisitos de monitoreo"},{"$f":"+IF(A41=\"T\",Q40=V44,V38)","v":false},{"$f":"+W44*VLOOKUP(U44,MatrizRequerimientos,8,FALSE)","v":0},{"$f":"+W44*VLOOKUP(U44,MatrizRequerimientos,9,FALSE)","v":0}]
["T",46,null,null,null,null,null,null,null,null,null,null,null,null,null,null,null,null,null,null,{"$f":"+CONCATENATE(B45,\".\",6)","v":"46.6"},{"$f":"+VLOOKUP(U45,MatrizRequerimientos,6,FALSE)","v":0},{"$f":"+IF(A42=\"T\",Q40=V45,V39)","v":true},{"$f":"+W45*VLOOKUP(U45,MatrizRequerimientos,8,FALSE)","v":0},{"$f":"+W45*VLOOKUP(U45,MatrizRequerimientos,9,FALSE)","v":0}]
["T",46,null,null,null,"REQUERIMIENTO ADICIONAL",null,{"$f":"VLOOKUP(B46,'Resumen requerimientos'!$T$5:$AB$92,9,FALSE)","v":"No"},null,null,null,null,null,null,null,null,null,null,null,null,{"$f":"+CONCATENATE(B46,\".\",7)","v":"46.7"},{"$f":"+VLOOKUP(U46,MatrizRequerimientos,6,FALSE)","v":0},{"$f":"+IF(A43=\"T\",Q40=V46,V40)","v":true},{"$f":"+W46*VLOOKUP(U46,MatrizRequerimientos,8,FALSE)","v":0},{"$f":"+W46*VLOOKUP(U46,MatrizRequerimientos,9,FALSE)","v":0}]
["T",46,null,null,null,null,null,null,null,null,null,null,null,null,null,null,null,null,null,null,null,null,{"$f":"+IF(AND(A43=\"N\",H35=\"Voluntario\"),SUMIF(W43:W46,TRUE,IF(Uso_Edificio=\"Oficinas\",X43:X46,Y43:Y46)),IF(AND(A43=\"T\",H35=\"Obligatorio\"),VLOOKUP(Q40,V43:X46,3,FALSE)=1,W43))","v":false}]
["T",46]
["T",46,null,null,"Volver al índice"]
["N",51,null,"INST.CAI 12.1 - CONTROL DEL RUIDO Y VIBRACIONES PROVENIENTES DE EQUIPOS",null,null,null,null,null,null,null,null,null,null,null,null,null,null,"INST.CAI 12.1 - CONTROL DEL RUIDO Y VIBRACIONES PROVENIENTES DE EQUIPOS"]
["N",{"$f":"+B50","v":51},null,null,null,"Tipo requerimiento",null,{"$f":"+IF(VLOOKUP(B50,TablaResumen[],4)=\"C\",\"Voluntario\",\"Obligatorio\")","v":"Voluntario"},null,null,null,null,null,null,null,null,null,null,null,null,null,"Puntaje crédito numérico"]
["N",51,null,null,null,null,null,null,null,null,null,null,null,{"$f":"+IF(H51=\"Obligatorio\",\"Cumple Requisito\",\"Puntaje obtenido\")","v":"Puntaje obtenido"},null,null,{"$f":"+IF(H51=\"Obligatorio\",W63,IF(A53=\"N\",IF(Uso_Edificio=\"Oficinas\",SUM(W53:W56),SUM(X53:X56)),IF(Uso_Edificio=\"Oficinas\",SUM(X59:X62),SUM(Y59:Y62))))","v":0},null,null,null,null,"Calificación","Of. Y Serv.","Ed. Y Salud"]
["N",51,null,null,null,"Nombre Requerimiento",null,{"$f":"+VLOOKUP(B55,TablaResumen[],16,0)","v":"Control del ruido y vibraciones provenientes de equipos"},null,null,null,null,null,null,null,null,{"$f":"+IF(H50=\"Requisito\",W62,IF(#REF!=\"N\",IF(Uso_Edificio=\"Oficinas\",SUM(W52:W55),SUM(X52:X55)),IF(Uso_Edificio=\"Oficinas\",SUM(X58:X61),SUM(Y58:Y61))))","v":{"$error":"#REF!"}},null,null,null,{"$f":"+CONCATENATE(B53,\".\",4)","v":"51.4"},{"$f":"+AND(Q56>VLOOKUP(U53,MatrizRequerimientos,10,FALSE),Q56<=VLOOKUP(U53,MatrizRequerimientos,11,FALSE))","v":false},{"$f":"+V53*VLOOKUP(U53,MatrizRequerimientos,8,FALSE)","v":0},{"$f":"+V53*VLOOKUP(U53,MatrizRequerimientos,9,FALSE)","v":0}]
["N",51,null,null,null,null,null,null,null,null,null,null,null,null,null,null,{"$f":"+IF(H51=\"Requisito\",W63,IF(A50=\"N\",IF(Uso_Edificio=\"Oficinas\",SUM(W53:W56),SUM(X53:X56)),IF(Uso_Edificio=\"Oficinas\",SUM(X59:X62),SUM(Y59:Y62))))","v":0},null,null,null,{"$f":"+CONCATENATE(B54,\".\",5)","v":"51.5"},{"$f":"+AND(Q56>VLOOKUP(U54,MatrizRequerimientos,10,FALSE),Q56<=VLOOKUP(U54,MatrizRequerimientos,11,FALSE))","v":false},{"$f":"+V54*VLOOKUP(U54,MatrizRequerimientos,8,FALSE)","v":0},{"$f":"+V54*VLOOKUP(U54,MatrizRequerimientos,9,FALSE)","v":0}]
["N",51,null,null,null,"Indicador",null,{"$f":"+VLOOKUP(B56,TablaResumen[],21,0)","v":"Valores máximos del nivel sonoro"},null,null,null,null,null,null,null,null,null,null,null,null,{"$f":"+CONCATENATE(B55,\".\",6)","v":"51.6"},{"$f":"+AND(Q56>VLOOKUP(U55,MatrizRequerimientos,10,FALSE),Q56<=VLOOKUP(U55,MatrizRequerimientos,11,FALSE))","v":false},{"$f":"+V55*VLOOKUP(U55,MatrizRequerimientos,8,FALSE)","v":0},{"$f":"+V55*VLOOKUP(U55,MatrizRequerimientos,9,FALSE)","v":0}]
["N",51,null,null,null,null,null,null,null,null,null,null,null,{"$f":"+IF(A55=\"N\",CONCATENATE(\"Valor obtenido en proyecto para \",H55),\"Seleccione Nivel de Cumplimiento\")","v":"Valor obtenido en proyecto para Valores máximos del nivel sonoro"},null,null,null,null,null,null,{"$f":"+CONCATENATE(B56,\".\",7)","v":"51.7"},{"$f":"+AND(Q56>VLOOKUP(U56,MatrizRequerimientos,10,FALSE),Q56<=VLOOKUP(U56,MatrizRequerimientos,11,FALSE))","v":false},{"$f":"+V56*VLOOKUP(U56,MatrizRequerimientos,8,FALSE)","v":0},{"$f":"+V56*VLOOKUP(U56,MatrizRequerimientos,9,FALSE)","v":0}]
["N",51]
["N",51,null,null,null,"OPCIÓN ",null,{"$f":"CONCATENATE(VLOOKUP(B58,'Resumen requerimientos'!$T$5:$AB$92,5,FALSE), \" de \",VLOOKUP(B58,'Resumen requerimientos'!$T$5:$AB$92,6,FALSE))","v":"1 de 2"},null,null,null,null,null,null,null,null,null,null,null,null,null,null,null,"Of. Y Serv.","Ed. Y Salud"]
["N",51,null,null,null,null,null,null,null,null,null,null,null,null,null,null,null,null,null,null,{"$f":"+CONCATENATE(B59,\".\",4)","v":"51.4"},{"$f":"+VLOOKUP(U59,MatrizRequerimientos,6,FALSE)","v":"0-39,999"},{"$f":"+IF(A56=\"T\",Q56=V59,V53)","v":false},{"$f":"+W59*VLOOKUP(U59,MatrizRequerimientos,8,FALSE)","v":0},{"$f":"+W59*VLOOKUP(U59,MatrizRequerimientos,9,FALSE)","v":0}]
["N",51,null,null,null,{"$f":"+IF(H60=\"No\",\"¿OTROS REQUERIMIENTOS SIMULTÁNEOS?\",\"REQUERIMIENTOS SIMULTANEOS PARA LA OPCION\")","v":"¿OTROS REQUERIMIENTOS SIMULTÁNEOS?"},null,{"$f":"IF(VLOOKUP(B60,'Resumen requerimientos'!$T$5:$AB$92,7,FALSE)=0,\"No\",CONCATENATE(VLOOKUP(B60,'Resumen requerimientos'!$T$5:$AB$92,7,FALSE), \" de \",VLOOKUP(B60,'Resumen requerimientos'!$T$5:$AB$92,8,FALSE)))","v":"No"},null,null,null,null,null,null,null,null,null,null,null,null,{"$f":"+CONCATENATE(B60,\".\",5)","v":"51.5"},{"$f":"+VLOOKUP(U60,MatrizRequerimientos,6,FALSE)","v":0},{"$f":"+IF(A57=\"T\",Q56=V60,V54)","v":false},{"$f":"+W60*VLOOKUP(U60,MatrizRequerimientos,8,FALSE)","v":0},{"$f":"+W60*VLOOKUP(U60,MatrizRequerimientos,9,FALSE)","v":0}]
["N",51,null,null,null,null,null,null,null,null,null,null,null,null,null,null,null,null,null,null,{"$f":"+CONCATENATE(B61,\".\",6)","v":"51.6"},{"$f":"+VLOOKUP(U61,MatrizRequerimientos,6,FALSE)","v":0},{"$f":"+IF(A58=\"T\",Q56=V61,V55)","v":false},{"$f":"+W61*VLOOKUP(U61,MatrizRequerimientos,8,FALSE)","v":0},{"$f":"+W61*VLOOKUP(U61,MatrizRequerimientos,9,FALSE)","v":0}]
["N",51,null,null,null,"REQUERIMIENTO ADICIONAL",null,{"$f":"VLOOKUP(B62,'Resumen requerimientos'!$T$5:$AB$92,9,FALSE)","v":"No"},null,null,null,null,null,null,null,null,null,null,null,null,{"$f":"+CONCATENATE(B62,\".\",7)","v":"51.7"},{"$f":"+VLOOKUP(U62,MatrizRequerimientos,6,FALSE)","v":0},{"$f":"+IF(A59=\"T\",Q56=V62,V56)","v":false},{"$f":"+W62*VLOOKUP(U62,MatrizRequerimientos,8,FALSE)","v":0},{"$f":"+W62*VLOOKUP(U62,MatrizRequerimientos,9,FALSE)","v":0}]
["N",51,null,null,null,null,null,null,null,null,null,null,null,null,null,null,null,null,null,null,null,null,{"$f":"+IF(AND(A59=\"N\",H51=\"Voluntario\"),SUMIF(W59:W62,TRUE,IF(Uso_Edificio=\"Oficinas\",X59:X62,Y59:Y62)),IF(AND(A59=\"T\",H51=\"Obligatorio\"),VLOOKUP(Q56,V59:X62,3,FALSE)=1,W59))","v":0}]
["N",51]
["T",52]
["T",{"$f":"+B65","v":52},null,null,null,"Tipo requerimiento",null,{"$f":"+IF(VLOOKUP(B65,TablaResumen[],4)=\"C\",\"Voluntario\",\"Obligatorio\")","v":"Voluntario"},null,null,null,null,null,null,null,null,null,null,null,null,null,"Puntaje crédito numérico"]
["T",52,null,null,null,null,null,null,null,null,null,null,null,{"$f":"+IF(H66=\"Obligatorio\",\"Cumple Requisito\",\"Puntaje obtenido\")","v":"Puntaje obtenido"},null,null,{"$f":"+IF(H66=\"Obligatorio\",W78,IF(A68=\"N\",IF(Uso_Edificio=\"Oficinas\",SUM(W68:W71),SUM(X68:X71)),IF(Uso_Edificio=\"Oficinas\",SUM(X74:X77),SUM(Y74:Y77))))","v":0},null,null,null,null,"Calificación","Of. Y Serv.","Ed. Y Salud"]
["T",52,null,null,null,"Nombre Requerimiento",null,{"$f":"+VLOOKUP(B70,TablaResumen[],16,0)","v":"Control del ruido y vibraciones provenientes de equipos"},null,null,null,null,null,null,null,null,{"$f":"+IF(H65=\"Requisito\",W77,IF(#REF!=\"N\",IF(Uso_Edificio=\"Oficinas\",SUM(W67:W70),SUM(X67:X70)),IF(Uso_Edificio=\"Oficinas\",SUM(X73:X76),SUM(Y73:Y76))))","v":{"$error":"#REF!"}},null,null,null,{"$f":"+CONCATENATE(B68,\".\",4)","v":"52.4"},{"$f":"+AND(Q71>VLOOKUP(U68,MatrizRequerimientos,10,FALSE),Q71<=VLOOKUP(U68,MatrizRequerimientos,11,FALSE))","v":false},{"$f":"+V68*VLOOKUP(U68,MatrizRequerimientos,8,FALSE)","v":0},{"$f":"+V68*VLOOKUP(U68,MatrizRequerimientos,9,FALSE)","v":0}]
["T",52,null,null,null,null,null,null,null,null,null,null,null,null,null,null,{"$f":"+IF(H66=\"Requisito\",W78,IF(A65=\"N\",IF(Uso_Edificio=\"Oficinas\",SUM(W68:W71),SUM(X68:X71)),IF(Uso_Edificio=\"Oficinas\",SUM(X74:X77),SUM(Y74:Y77))))","v":0},null,null,null,{"$f":"+CONCATENATE(B69,\".\",5)","v":"52.5"},{"$f":"+AND(Q71>VLOOKUP(U69,MatrizRequerimientos,10,FALSE),Q71<=VLOOKUP(U69,MatrizRequerimientos,11,FALSE))","v":false},{"$f":"+V69*VLOOKUP(U69,MatrizRequerimientos,8,FALSE)","v":0},{"$f":"+V69*VLOOKUP(U69,MatrizRequerimientos,9,FALSE)","v":0}]
["T",52,null,null,null,"Indicador",null,{"$f":"+VLOOKUP(B71,TablaResumen[],21,0)","v":"Elección de equipos y diseño"},null,null,null,null,null,null,null,null,null,null,null,null,{"$f":"+CONCATENATE(B70,\".\",6)","v":"52.6"},{"$f":"+AND(Q71>VLOOKUP(U70,MatrizRequerimientos,10,FALSE),Q71<=VLOOKUP(U70,MatrizRequerimientos,11,FALSE))","v":false},{"$f":"+V70*VLOOKUP(U70,MatrizRequerimientos,8,FALSE)","v":0},{"$f":"+V70*VLOOKUP(U70,MatrizRequerimientos,9,FALSE)","v":0}]
["T",52,null,null,null,null,null,null,null,null,null,null,null,{"$f":"+IF(A70=\"N\",CONCATENATE(\"Valor obtenido en proyecto para \",H70),\"Seleccione Nivel de Cumplimiento\")","v":"Seleccione Nivel de Cumplimiento"},null,null,null,null,null,null,{"$f":"+CONCATENATE(B71,\".\",7)","v":"52.7"},{"$f":"+AND(Q71>VLOOKUP(U71,MatrizRequerimientos,10,FALSE),Q71<=VLOOKUP(U71,MatrizRequerimientos,11,FALSE))","v":false},{"$f":"+V71*VLOOKUP(U71,MatrizRequerimientos,8,FALSE)","v":0},{"$f":"+V71*VLOOKUP(U71,MatrizRequerimientos,9,FALSE)","v":0}]
["T",52]
["T",52,null,null,null,"OPCIÓN ",null,{"$f":"CONCATENATE(VLOOKUP(B73,'Resumen requerimientos'!$T$5:$AB$92,5,FALSE), \" de \",VLOOKUP(B73,'Resumen requerimientos'!$T$5:$AB$92,6,FALSE))","v":"2 de 2"},null,null,null,null,null,null,null,null,null,null,null,null,null,null,null,"Of. Y Serv.","Ed. Y Salud"]
["T",52,null,null,null,null,null,null,null,null,null,null,null,null,null,null,null,null,null,null,{"$f":"+CONCATENATE(B74,\".\",4)","v":"52.4"},{"$f":"+VLOOKUP(U74,MatrizRequerimientos,6,FALSE)","v":"Cumple criterio elección equipos"},{"$f":"+IF(A71=\"T\",Q71=V74,V68)","v":false},{"$f":"+W74*VLOOKUP(U74,MatrizRequerimientos,8,FALSE)","v":0},{"$f":"+W74*VLOOKUP(U74,MatrizRequerimientos,9,FALSE)","v":0}]
["T",52,null,null,null,{"$f":"+IF(H75=\"No\",\"¿OTROS REQUERIMIENTOS SIMULTÁNEOS?\",\"REQUERIMIENTOS SIMULTANEOS PARA LA OPCION\")","v":"¿OTROS REQUERIMIENTOS SIMULTÁNEOS?"},null,{"$f":"IF(VLOOKUP(B75,'Resumen requerimientos'!$T$5:$AB$92,7,FALSE)=0,\"No\",CONCATENATE(VLOOKUP(B75,'Resumen requerimientos'!$T$5:$AB$92,7,FALSE), \" de \",VLOOKUP(B75,'Resumen requerimientos'!$T$5:$AB$92,8,FALSE)))","v":"No"},null,null,null,null,null,null,null,null,null,null,null,null,{"$f":"+CONCATENATE(B75,\".\",5)","v":"52.5"},{"$f":"+VLOOKUP(U75,MatrizRequerimientos,6,FALSE)","v":"NO cumple criterio elección equipos"},{"$f":"+IF(A72=\"T\",Q71=V75,V69)","v":false},{"$f":"+W75*VLOOKUP(U75,MatrizRequerimientos,8,FALSE)","v":0},{"$f":"+W75*VLOOKUP(U75,MatrizRequerimientos,9,FALSE)","v":0}]
["T",52,null,null,null,null,null,null,null,null,null,null,null,null,null,null,null,null,null,null,{"$f":"+CONCATENATE(B76,\".\",6)","v":"52.6"},{"$f":"+VLOOKUP(U76,MatrizRequerimientos,6,FALSE)","v":0},{"$f":"+IF(A73=\"T\",Q71=V76,V70)","v":true},{"$f":"+W76*VLOOKUP(U76,MatrizRequerimientos,8,FALSE)","v":0},{"$f":"+W76*VLOOKUP(U76,MatrizRequerimientos,9,FALSE)","v":0}]
["T",52,null,null,null,"REQUERIMIENTO ADICIONAL",null,{"$f":"VLOOKUP(B77,'Resumen requerimientos'!$T$5:$AB$92,9,FALSE)","v":"No"},null,null,null,null,null,null,null,null,null,null,null,null,{"$f":"+CONCATENATE(B77,\".\",7)","v":"52.7"},{"$f":"+VLOOKUP(U77,MatrizRequerimientos,6,FALSE)","v":0},{"$f":"+IF(A74=\"T\",Q71=V77,V71)","v":true},{"$f":"+W77*VLOOKUP(U77,MatrizRequerimientos,8,FALSE)","v":0},{"$f":"+W77*VLOOKUP(U77,MatrizRequerimientos,9,FALSE)","v":0}]
["T",52,null,null,null,null,null,null,null,null,null,null,null,null,null,null,null,null,null,null,null,null,{"$f":"+IF(AND(A74=\"N\",H66=\"Voluntario\"),SUMIF(W74:W77,TRUE,IF(Uso_Edificio=\"Oficinas\",X74:X77,Y74:Y77)),IF(AND(A74=\"T\",H66=\"Obligatorio\"),VLOOKUP(Q71,V74:X77,3,FALSE)=1,W74))","v":false}]
["T",52]
["T",52,null,null,"Volver al índice"]
["T",{"$f":"+IF(F80=\"\",B80+1,B80)","v":53},null,"INST.CAI 13 - CONFORT VISUAL ACTIVO",null,null,null,null,null,null,null,null,null,null,null,null,null,null,"INST.CAI 13 - CONFORT VISUAL ACTIVO"]
["T",{"$f":"+B81","v":53},null,null,null,"Tipo requerimiento",null,{"$f":"+IF(VLOOKUP(B81,TablaResumen[],4)=\"C\",\"Voluntario\",\"Obligatorio\")","v":"Voluntario"},null,null,null,null,null,null,null,null,null,null,null,null,null,"Puntaje crédito numérico"]
["T",53,null,null,null,null,null,null,null,null,null,null,null,{"$f":"+IF(H82=\"Obligatorio\",\"Cumple Requisito\",\"Puntaje obtenido\")","v":"Puntaje obtenido"},null,null,{"$f":"+IF(H82=\"Obligatorio\",W94,IF(A84=\"N\",IF(Uso_Edificio=\"Oficinas\",SUM(W84:W87),SUM(X84:X87)),IF(Uso_Edificio=\"Oficinas\",SUM(X90:X93),SUM(Y90:Y93))))","v":0},null,null,null,null,"Calificación","Of. Y Serv.","Ed. Y Salud"]
["T",53,null,null,null,"Nombre Requerimiento",null,{"$f":"+VLOOKUP(B86,TablaResumen[],16,0)","v":"Confort visual activo"},null,null,null,null,null,null,null,null,{"$f":"+IF(H81=\"Requisito\",W93,IF(#REF!=\"N\",IF(Uso_Edificio=\"Oficinas\",SUM(W83:W86),SUM(X83:X86)),IF(Uso_Edificio=\"Oficinas\",SUM(X89:X92),SUM(Y89:Y92))))","v":{"$error":"#REF!"}},null,null,null,{"$f":"+CONCATENATE(B84,\".\",4)","v":"53.4"},{"$f":"+AND(Q87>VLOOKUP(U84,MatrizRequerimientos,10,FALSE),Q87<=VLOOKUP(U84,MatrizRequerimientos,11,FALSE))","v":false},{"$f":"+V84*VLOOKUP(U84,MatrizRequerimientos,8,FALSE)","v":0},{"$f":"+V84*VLOOKUP(U84,MatrizRequerimientos,9,FALSE)","v":0}]
["T",53,null,null,null,null,null,null,null,null,null,null,null,null,null,null,{"$f":"+IF(H82=\"Requisito\",W94,IF(A81=\"N\",IF(Uso_Edificio=\"Oficinas\",SUM(W84:W87),SUM(X84:X87)),IF(Uso_Edificio=\"Oficinas\",SUM(X90:X93),SUM(Y90:Y93))))","v":0},null,null,null,{"$f":"+CONCATENATE(B85,\".\",5)","v":"53.5"},{"$f":"+AND(Q87>VLOOKUP(U85,MatrizRequerimientos,10,FALSE),Q87<=VLOOKUP(U85,MatrizRequerimientos,11,FALSE))","v":false},{"$f":"+V85*VLOOKUP(U85,MatrizRequerimientos,8,FALSE)","v":0},{"$f":"+V85*VLOOKUP(U85,MatrizRequerimientos,9,FALSE)","v":0}]
["T",53,null,null,null,"Indicador",null,{"$f":"+VLOOKUP(B87,TablaResumen[],21,0)","v":"Iluminancia mínima"},null,null,null,null,null,null,null,null,null,null,null,null,{"$f":"+CONCATENATE(B86,\".\",6)","v":"53.6"},{"$f":"+AND(Q87>VLOOKUP(U86,MatrizRequerimientos,10,FALSE),Q87<=VLOOKUP(U86,MatrizRequerimientos,11,FALSE))","v":false},{"$f":"+V86*VLOOKUP(U86,MatrizRequerimientos,8,FALSE)","v":0},{"$f":"+V86*VLOOKUP(U86,MatrizRequerimientos,9,FALSE)","v":0}]
["T",53,null,null,null,null,null,null,null,null,null,null,null,{"$f":"+IF(A86=\"N\",CONCATENATE(\"Valor obtenido en proyecto para \",H86),\"Seleccione Nivel de Cumplimiento\")","v":"Seleccione Nivel de Cumplimiento"},null,null,null,null,null,null,{"$f":"+CONCATENATE(B87,\".\",7)","v":"53.7"},{"$f":"+AND(Q87>VLOOKUP(U87,MatrizRequerimientos,10,FALSE),Q87<=VLOOKUP(U87,MatrizRequerimientos,11,FALSE))","v":false},{"$f":"+V87*VLOOKUP(U87,MatrizRequerimientos,8,FALSE)","v":0},{"$f":"+V87*VLOOKUP(U87,MatrizRequerimientos,9,FALSE)","v":0}]
["T",53]
["T",53,null,null,null,"OPCIÓN ",null,{"$f":"CONCATENATE(VLOOKUP(B89,'Resumen requerimientos'!$T$5:$AB$92,5,FALSE), \" de \",VLOOKUP(B89,'Resumen requerimientos'!$T$5:$AB$92,6,FALSE))","v":"1 de 1"},null,null,null,null,null,null,null,null,null,null,null,null,null,null,null,"Of. Y Serv.","Ed. Y Salud"]
["T",53,null,null,null,null,null,null,null,null,null,null,null,null,null,null,null,null,null,null,{"$f":"+CONCATENATE(B90,\".\",4)","v":"53.4"},{"$f":"+VLOOKUP(U90,MatrizRequerimientos,6,FALSE)","v":"Cumple mínimo de lux para todos los recintos"},{"$f":"+IF(A87=\"T\",Q87=V90,V84)","v":false},{"$f":"+W90*VLOOKUP(U90,MatrizRequerimientos,8,FALSE)","v":0},{"$f":"+W90*VLOOKUP(U90,MatrizRequerimientos,9,FALSE)","v":0}]
["T",53,null,null,null,{"$f":"+IF(H91=\"No\",\"¿OTROS REQUERIMIENTOS SIMULTÁNEOS?\",\"REQUERIMIENTOS SIMULTANEOS PARA LA OPCION\")","v":"REQUERIMIENTOS SIMULTANEOS PARA LA OPCION"},null,{"$f":"IF(VLOOKUP(B91,'Resumen requerimientos'!$T$5:$AB$92,7,FALSE)=0,\"No\",CONCATENATE(VLOOKUP(B91,'Resumen requerimientos'!$T$5:$AB$92,7,FALSE), \" de \",VLOOKUP(B91,'Resumen requerimientos'!$T$5:$AB$92,8,FALSE)))","v":"1 de 4"},null,null,null,null,null,null,null,null,null,null,null,null,{"$f":"+CONCATENATE(B91,\".\",5)","v":"53.5"},{"$f":"+VLOOKUP(U91,MatrizRequerimientos,6,FALSE)","v":"NO cumple mínimo de lux para todos los recintos"},{"$f":"+IF(A88=\"T\",Q87=V91,V85)","v":false},{"$f":"+W91*VLOOKUP(U91,MatrizRequerimientos,8,FALSE)","v":0},{"$f":"+W91*VLOOKUP(U91,MatrizRequerimientos,9,FALSE)","v":0}]
["T",53,null,null,null,null,null,null,null,null,null,null,null,null,null,null,null,null,null,null,{"$f":"+CONCATENATE(B92,\".\",6)","v":"53.6"},{"$f":"+VLOOKUP(U92,MatrizRequerimientos,6,FALSE)","v":0},{"$f":"+IF(A89=\"T\",Q87=V92,V86)","v":true},{"$f":"+W92*VLOOKUP(U92,MatrizRequerimientos,8,FALSE)","v":0},{"$f":"+W92*VLOOKUP(U92,MatrizRequerimientos,9,FALSE)","v":0}]
["T",53,null,null,null,"REQUERIMIENTO ADICIONAL",null,{"$f":"VLOOKUP(B93,'Resumen requerimientos'!$T$5:$AB$92,9,FALSE)","v":"No"},null,null,null,null,null,null,null,null,null,null,null,null,{"$f":"+CONCATENATE(B93,\".\",7)","v":"53.7"},{"$f":"+VLOOKUP(U93,MatrizRequerimientos,6,FALSE)","v":0},{"$f":"+IF(A90=\"T\",Q87=V93,V87)","v":true},{"$f":"+W93*VLOOKUP(U93,MatrizRequerimientos,8,FALSE)","v":0},{"$f":"+W93*VLOOKUP(U93,MatrizRequerimientos,9,FALSE)","v":0}]
["T",53,null,null,null,null,null,null,null,null,null,null,null,null,null,null,null,null,null,null,null,null,{"$f":"+IF(AND(A90=\"N\",H82=\"Voluntario\"),SUMIF(W90:W93,TRUE,IF(Uso_Edificio=\"Oficinas\",X90:X93,Y90:Y93)),IF(AND(A90=\"T\",H82=\"Obligatorio\"),VLOOKUP(Q87,V90:X93,3,FALSE)=1,W90))","v":false}]
["T",53]
["N",54]
["N",{"$f":"+B96","v":54},null,null,null,"Tipo requerimiento",null,{"$f":"+IF(VLOOKUP(B96,TablaResumen[],4)=\"C\",\"Voluntario\",\"Obligatorio\")","v":"Voluntario"},null,null,null,null,null,null,null,null,null,null,null,null,null,"Puntaje crédito numérico"]
["N",54,null,null,null,null,null,null,null,null,null,null,null,{"$f":"+IF(H97=\"Obligatorio\",\"Cumple Requisito\",\"Puntaje obtenido\")","v":"Puntaje obtenido"},null,null,{"$f":"+IF(H97=\"Obligatorio\",W109,IF(A99=\"N\",IF(Uso_Edificio=\"Oficinas\",SUM(W99:W102),SUM(X99:X102)),IF(Uso_Edificio=\"Oficinas\",SUM(X105:X108),SUM(Y105:Y108))))","v":0},null,null,null,null,"Calificación","Of. Y Serv.","Ed. Y Salud"]
["N",54,null,null,null,"Nombre Requerimiento",null,{"$f":"+VLOOKUP(B101,TablaResumen[],16,0)","v":"Confort visual activo"},null,null,null,null,null,null,null,null,null,null,null,null,{"$f":"+CONCATENATE(B99,\".\",4)","v":"54.4"},{"$f":"+AND(Q102>VLOOKUP(U99,MatrizRequerimientos,10,FALSE),Q102<=VLOOKUP(U99,MatrizRequerimientos,11,FALSE))","v":false},{"$f":"+V99*VLOOKUP(U99,MatrizRequerimientos,8,FALSE)","v":0},{"$f":"+V99*VLOOKUP(U99,MatrizRequerimientos,9,FALSE)","v":0}]
["N",54,null,null,null,null,null,null,null,null,null,null,null,null,null,null,null,null,null,null,{"$f":"+CONCATENATE(B100,\".\",5)","v":"54.5"},{"$f":"+AND(Q102>VLOOKUP(U100,MatrizRequerimientos,10,FALSE),Q102<=VLOOKUP(U100,MatrizRequerimientos,11,FALSE))","v":false},{"$f":"+V100*VLOOKUP(U100,MatrizRequerimientos,8,FALSE)","v":0},{"$f":"+V100*VLOOKUP(U100,MatrizRequerimientos,9,FALSE)","v":0}]
["N",54,null,null,null,"Indicador",null,{"$f":"+VLOOKUP(B102,TablaResumen[],21,0)","v":"Uniformidad media"},null,null,null,null,null,null,null,null,null,null,null,null,{"$f":"+CONCATENATE(B101,\".\",6)","v":"54.6"},{"$f":"+AND(Q102>VLOOKUP(U101,MatrizRequerimientos,10,FALSE),Q102<=VLOOKUP(U101,MatrizRequerimientos,11,FALSE))","v":false},{"$f":"+V101*VLOOKUP(U101,MatrizRequerimientos,8,FALSE)","v":0},{"$f":"+V101*VLOOKUP(U101,MatrizRequerimientos,9,FALSE)","v":0}]
["N",54,null,null,null,null,null,null,null,null,null,null,null,{"$f":"+IF(A101=\"N\",CONCATENATE(\"Valor obtenido en proyecto para \",H101),\"Seleccione Nivel de Cumplimiento\")","v":"Valor obtenido en proyecto para Uniformidad media"},null,null,null,null,null,null,{"$f":"+CONCATENATE(B102,\".\",7)","v":"54.7"},{"$f":"+AND(Q102>VLOOKUP(U102,MatrizRequerimientos,10,FALSE),Q102<=VLOOKUP(U102,MatrizRequerimientos,11,FALSE))","v":false},{"$f":"+V102*VLOOKUP(U102,MatrizRequerimientos,8,FALSE)","v":0},{"$f":"+V102*VLOOKUP(U102,MatrizRequerimientos,9,FALSE)","v":0}]
["N",54]
["N",54,null,null,null,"OPCIÓN ",null,{"$f":"CONCATENATE(VLOOKUP(B104,'Resumen requerimientos'!$T$5:$AB$92,5,FALSE), \" de \",VLOOKUP(B104,'Resumen requerimientos'!$T$5:$AB$92,6,FALSE))","v":"1 de 1"},null,null,null,null,null,null,null,null,null,null,null,null,null,null,null,"Of. Y Serv.","Ed. Y Salud"]
["N",54,null,null,null,null,null,null,null,null,null,null,null,null,null,null,null,null,null,null,{"$f":"+CONCATENATE(B105,\".\",4)","v":"54.4"},{"$f":"+VLOOKUP(U105,MatrizRequerimientos,6,FALSE)","v":"0,49999-1"},{"$f":"+IF(A102=\"T\",Q102=V105,V99)","v":false},{"$f":"+W105*VLOOKUP(U105,MatrizRequerimientos,8,FALSE)","v":0},{"$f":"+W105*VLOOKUP(U105,MatrizRequerimientos,9,FALSE)","v":0}]
["N",54,null,null,null,{"$f":"+IF(H106=\"No\",\"¿OTROS REQUERIMIENTOS SIMULTÁNEOS?\",\"REQUERIMIENTOS SIMULTANEOS PARA LA OPCION\")","v":"REQUERIMIENTOS SIMULTANEOS PARA LA OPCION"},null,{"$f":"IF(VLOOKUP(B106,'Resumen requerimientos'!$T$5:$AB$92,7,FALSE)=0,\"No\",CONCATENATE(VLOOKUP(B106,'Resumen requerimientos'!$T$5:$AB$92,7,FALSE), \" de \",VLOOKUP(B106,'Resumen requerimientos'!$T$5:$AB$92,8,FALSE)))","v":"2 de 4"},null,null,null,null,null,null,null,null,null,null,null,null,{"$f":"+CONCATENATE(B106,\".\",5)","v":"54.5"},{"$f":"+VLOOKUP(U106,MatrizRequerimientos,6,FALSE)","v":0},{"$f":"+IF(A103=\"T\",Q102=V106,V100)","v":false},{"$f":"+W106*VLOOKUP(U106,MatrizRequerimientos,8,FALSE)","v":0},{"$f":"+W106*VLOOKUP(U106,MatrizRequerimientos,9,FALSE)","v":0}]
["N",54,null,null,null,null,null,null,null,null,null,null,null,null,null,null,null,null,null,null,{"$f":"+CONCATENATE(B107,\".\",6)","v":"54.6"},{"$f":"+VLOOKUP(U107,MatrizRequerimientos,6,FALSE)","v":0},{"$f":"+IF(A104=\"T\",Q102=V107,V101)","v":false},{"$f":"+W107*VLOOKUP(U107,MatrizRequerimientos,8,FALSE)","v":0},{"$f":"+W107*VLOOKUP(U107,MatrizRequerimientos,9,FALSE)","v":0}]
["N",54,null,null,null,"REQUERIMIENTO ADICIONAL",null,{"$f":"VLOOKUP(B108,'Resumen requerimientos'!$T$5:$AB$92,9,FALSE)","v":"No"},null,null,null,null,null,null,null,null,null,null,null,null,{"$f":"+CONCATENATE(B108,\".\",7)","v":"54.7"},{"$f":"+VLOOKUP(U108,MatrizRequerimientos,6,FALSE)","v":0},{"$f":"+IF(A105=\"T\",Q102=V108,V102)","v":false},{"$f":"+W108*VLOOKUP(U108,MatrizRequerimientos,8,FALSE)","v":0},{"$f":"+W108*VLOOKUP(U108,MatrizRequerimientos,9,FALSE)","v":0}]
["N",54,null,null,null,null,null,null,null,null,null,null,null,null,null,null,null,null,null,null,null,null,{"$f":"+IF(AND(A105=\"N\",H97=\"Voluntario\"),SUMIF(W105:W108,TRUE,IF(Uso_Edificio=\"Oficinas\",X105:X108,Y105:Y108)),IF(AND(A105=\"T\",H97=\"Obligatorio\"),VLOOKUP(Q102,V105:X108,3,FALSE)=1,W105))","v":0}]
["N",54]
["N",55]
["N",{"$f":"+B111","v":55},null,null,null,"Tipo requerimiento",null,{"$f":"+IF(VLOOKUP(B111,TablaResumen[],4)=\"C\",\"Voluntario\",\"Obligatorio\")","v":"Voluntario"},null,null,null,null,null,null,null,null,null,null,null,null,null,"Puntaje crédito numérico"]
["N",55,null,null,null,null,null,null,null,null,null,null,null,{"$f":"+IF(H112=\"Obligatorio\",\"Cumple Requisito\",\"Puntaje obtenido\")","v":"Puntaje obtenido"},null,null,{"$f":"+IF(H112=\"Obligatorio\",W124,IF(A114=\"N\",IF(Uso_Edificio=\"Oficinas\",SUM(W114:W117),SUM(X114:X117)),IF(Uso_Edificio=\"Oficinas\",SUM(X120:X123),SUM(Y120:Y123))))","v":0},null,null,null,null,"Calificación","Of. Y Serv.","Ed. Y Salud"]
["N",55,null,null,null,"Nombre Requerimiento",null,{"$f":"+VLOOKUP(B116,TablaResumen[],16,0)","v":"Confort visual activo"},null,null,null,null,null,null,null,null,{"$f":"+IF(H111=\"Requisito\",W123,IF(#REF!=\"N\",IF(Uso_Edificio=\"Oficinas\",SUM(W113:W116),SUM(X113:X116)),IF(Uso_Edificio=\"Oficinas\",SUM(X119:X122),SUM(Y119:Y122))))","v":{"$error":"#REF!"}},null,null,null,{"$f":"+CONCATENATE(B114,\".\",4)","v":"55.4"},{"$f":"+AND(Q117>VLOOKUP(U114,MatrizRequerimientos,10,FALSE),Q117<=VLOOKUP(U114,MatrizRequerimientos,11,FALSE))","v":false},{"$f":"+V114*VLOOKUP(U114,MatrizRequerimientos,8,FALSE)","v":0},{"$f":"+V114*VLOOKUP(U114,MatrizRequerimientos,9,FALSE)","v":0}]
["N",55,null,null,null,null,null,null,null,null,null,null,null,null,null,null,{"$f":"+IF(H112=\"Requisito\",W124,IF(A111=\"N\",IF(Uso_Edificio=\"Oficinas\",SUM(W114:W117),SUM(X114:X117)),IF(Uso_Edificio=\"Oficinas\",SUM(X120:X123),SUM(Y120:Y123))))","v":0},null,null,null,{"$f":"+CONCATENATE(B115,\".\",5)","v":"55.5"},{"$f":"+AND(Q117>VLOOKUP(U115,MatrizRequerimientos,10,FALSE),Q117<=VLOOKUP(U115,MatrizRequerimientos,11,FALSE))","v":false},{"$f":"+V115*VLOOKUP(U115,MatrizRequerimientos,8,FALSE)","v":0},{"$f":"+V115*VLOOKUP(U115,MatrizRequerimientos,9,FALSE)","v":0}]
["N",55,null,null,null,"Indicador",null,{"$f":"+VLOOKUP(B117,TablaResumen[],21,0)","v":"Rendimiento Cromático"},null,null,null,null,null,null,null,null,null,null,null,null,{"$f":"+CONCATENATE(B116,\".\",6)","v":"55.6"},{"$f":"+AND(Q117>VLOOKUP(U116,MatrizRequerimientos,10,FALSE),Q117<=VLOOKUP(U116,MatrizRequerimientos,11,FALSE))","v":false},{"$f":"+V116*VLOOKUP(U116,MatrizRequerimientos,8,FALSE)","v":0},{"$f":"+V116*VLOOKUP(U116,MatrizRequerimientos,9,FALSE)","v":0}]
["N",55,null,null,null,null,null,null,null,null,null,null,null,{"$f":"+IF(A116=\"N\",CONCATENATE(\"Valor obtenido en proyecto para \",H116),\"Seleccione Nivel de Cumplimiento\")","v":"Valor obtenido en proyecto para Rendimiento Cromático"},null,null,null,null,null,null,{"$f":"+CONCATENATE(B117,\".\",7)","v":"55.7"},{"$f":"+AND(Q117>VLOOKUP(U117,MatrizRequerimientos,10,FALSE),Q117<=VLOOKUP(U117,MatrizRequerimientos,11,FALSE))","v":false},{"$f":"+V117*VLOOKUP(U117,MatrizRequerimientos,8,FALSE)","v":0},{"$f":"+V117*VLOOKUP(U117,MatrizRequerimientos,9,FALSE)","v":0}]
["N",55]
["N",55,null,null,null,"OPCIÓN ",null,{"$f":"CONCATENATE(VLOOKUP(B119,'Resumen requerimientos'!$T$5:$AB$92,5,FALSE), \" de \",VLOOKUP(B119,'Resumen requerimientos'!$T$5:$AB$92,6,FALSE))","v":"1 de 1"},null,null,null,null,null,null,null,null,null,null,null,null,null,null,null,"Of. Y Serv.","Ed. Y Salud"]
["N",55,null,null,null,null,null,null,null,null,null,null,null,null,null,null,null,null,null,null,{"$f":"+CONCATENATE(B120,\".\",4)","v":"55.4"},{"$f":"+VLOOKUP(U120,MatrizRequerimientos,6,FALSE)","v":"80-100"},{"$f":"+IF(A117=\"T\",Q117=V120,V114)","v":false},{"$f":"+W120*VLOOKUP(U120,MatrizRequerimientos,8,FALSE)","v":0},{"$f":"+W120*VLOOKUP(U120,MatrizRequerimientos,9,FALSE)","v":0}]
["N",55,null,null,null,{"$f":"+IF(H121=\"No\",\"¿OTROS REQUERIMIENTOS SIMULTÁNEOS?\",\"REQUERIMIENTOS SIMULTANEOS PARA LA OPCION\")","v":"REQUERIMIENTOS SIMULTANEOS PARA LA OPCION"},null,{"$f":"IF(VLOOKUP(B121,'Resumen requerimientos'!$T$5:$AB$92,7,FALSE)=0,\"No\",CONCATENATE(VLOOKUP(B121,'Resumen requerimientos'!$T$5:$AB$92,7,FALSE), \" de \",VLOOKUP(B121,'Resumen requerimientos'!$T$5:$AB$92,8,FALSE)))","v":"3 de 4"},null,null,null,null,null,null,null,null,null,null,null,null,{"$f":"+CONCATENATE(B121,\".\",5)","v":"55.5"},{"$f":"+VLOOKUP(U121,MatrizRequerimientos,6,FALSE)","v":0},{"$f":"+IF(A118=\"T\",Q117=V121,V115)","v":false},{"$f":"+W121*VLOOKUP(U121,MatrizRequerimientos,8,FALSE)","v":0},{"$f":"+W121*VLOOKUP(U121,MatrizRequerimientos,9,FALSE)","v":0}]
["N",55,null,null,null,null,null,null,null,null,null,null,null,null,null,null,null,null,null,null,{"$f":"+CONCATENATE(B122,\".\",6)","v":"55.6"},{"$f":"+VLOOKUP(U122,MatrizRequerimientos,6,FALSE)","v":0},{"$f":"+IF(A119=\"T\",Q117=V122,V116)","v":false},{"$f":"+W122*VLOOKUP(U122,MatrizRequerimientos,8,FALSE)","v":0},{"$f":"+W122*VLOOKUP(U122,MatrizRequerimientos,9,FALSE)","v":0}]
["N",55,null,null,null,"REQUERIMIENTO ADICIONAL",null,{"$f":"VLOOKUP(B123,'Resumen requerimientos'!$T$5:$AB$92,9,FALSE)","v":"No"},null,null,null,null,null,null,null,null,null,null,null,null,{"$f":"+CONCATENATE(B123,\".\",7)","v":"55.7"},{"$f":"+VLOOKUP(U123,MatrizRequerimientos,6,FALSE)","v":0},{"$f":"+IF(A120=\"T\",Q117=V123,V117)","v":false},{"$f":"+W123*VLOOKUP(U123,MatrizRequerimientos,8,FALSE)","v":0},{"$f":"+W123*VLOOKUP(U123,MatrizRequerimientos,9,FALSE)","v":0}]
["N",55,null,null,null,null,null,null,null,null,null,null,null,null,null,null,null,null,null,null,null,null,{"$f":"+IF(AND(A120=\"N\",H112=\"Voluntario\"),SUMIF(W120:W123,TRUE,IF(Uso_Edificio=\"Oficinas\",X120:X123,Y120:Y123)),IF(AND(A120=\"T\",H112=\"Obligatorio\"),VLOOKUP(Q117,V120:X123,3,FALSE)=1,W120))","v":0}]
["N",55]
["N",56]
["N",{"$f":"+B126","v":56},null,null,null,"Tipo requerimiento",null,{"$f":"+IF(VLOOKUP(B126,TablaResumen[],4)=\"C\",\"Voluntario\",\"Obligatorio\")","v":"Voluntario"},null,null,null,null,null,null,null,null,null,null,null,null,null,"Puntaje crédito numérico"]
["N",56,null,null,null,null,null,null,null,null,null,null,null,{"$f":"+IF(H127=\"Obligatorio\",\"Cumple Requisito\",\"Puntaje obtenido\")","v":"Puntaje obtenido"},null,null,{"$f":"+IF(H127=\"Obligatorio\",W139,IF(A129=\"N\",IF(Uso_Edificio=\"Oficinas\",SUM(W129:W132),SUM(X129:X132)),IF(Uso_Edificio=\"Oficinas\",SUM(X135:X138),SUM(Y135:Y138))))","v":0},null,null,null,null,"Calificación","Of. Y Serv.","Ed. Y Salud"]
["N",56,null,null,null,"Nombre Requerimiento",null,{"$f":"+VLOOKUP(B131,TablaResumen[],16,0)","v":"Confort visual activo"},null,null,null,null,null,null,null,null,{"$f":"+IF(H126=\"Requisito\",W138,IF(#REF!=\"N\",IF(Uso_Edificio=\"Oficinas\",SUM(W128:W131),SUM(X128:X131)),IF(Uso_Edificio=\"Oficinas\",SUM(X134:X137),SUM(Y134:Y137))))","v":{"$error":"#REF!"}},null,null,null,{"$f":"+CONCATENATE(B129,\".\",4)","v":"56.4"},{"$f":"+AND(Q132>VLOOKUP(U129,MatrizRequerimientos,10,FALSE),Q132<=VLOOKUP(U129,MatrizRequerimientos,11,FALSE))","v":false},{"$f":"+V129*VLOOKUP(U129,MatrizRequerimientos,8,FALSE)","v":0},{"$f":"+V129*VLOOKUP(U129,MatrizRequerimientos,9,FALSE)","v":0}]
["N",56,null,null,null,null,null,null,null,null,null,null,null,null,null,null,{"$f":"+IF(H127=\"Requisito\",W139,IF(A126=\"N\",IF(Uso_Edificio=\"Oficinas\",SUM(W129:W132),SUM(X129:X132)),IF(Uso_Edificio=\"Oficinas\",SUM(X135:X138),SUM(Y135:Y138))))","v":0},null,null,null,{"$f":"+CONCATENATE(B130,\".\",5)","v":"56.5"},{"$f":"+AND(Q132>VLOOKUP(U130,MatrizRequerimientos,10,FALSE),Q132<=VLOOKUP(U130,MatrizRequerimientos,11,FALSE))","v":false},{"$f":"+V130*VLOOKUP(U130,MatrizRequerimientos,8,FALSE)","v":0},{"$f":"+V130*VLOOKUP(U130,MatrizRequerimientos,9,FALSE)","v":0}]
["N",56,null,null,null,"Indicador",null,{"$f":"+VLOOKUP(B132,TablaResumen[],21,0)","v":"Deslumbramiento"},null,null,null,null,null,null,null,null,null,null,null,null,{"$f":"+CONCATENATE(B131,\".\",6)","v":"56.6"},{"$f":"+AND(Q132>VLOOKUP(U131,MatrizRequerimientos,10,FALSE),Q132<=VLOOKUP(U131,MatrizRequerimientos,11,FALSE))","v":false},{"$f":"+V131*VLOOKUP(U131,MatrizRequerimientos,8,FALSE)","v":0},{"$f":"+V131*VLOOKUP(U131,MatrizRequerimientos,9,FALSE)","v":0}]
["N",56,null,null,null,null,null,null,null,null,null,null,null,{"$f":"+IF(A131=\"N\",CONCATENATE(\"Valor obtenido en proyecto para \",H131),\"Seleccione Nivel de Cumplimiento\")","v":"Valor obtenido en proyecto para Deslumbramiento"},null,null,null,null,null,null,{"$f":"+CONCATENATE(B132,\".\",7)","v":"56.7"},{"$f":"+AND(Q132>VLOOKUP(U132,MatrizRequerimientos,10,FALSE),Q132<=VLOOKUP(U132,MatrizRequerimientos,11,FALSE))","v":false},{"$f":"+V132*VLOOKUP(U132,MatrizRequerimientos,8,FALSE)","v":0},{"$f":"+V132*VLOOKUP(U132,MatrizRequerimientos,9,FALSE)","v":0}]
["N",56]
["N",56,null,null,null,"OPCIÓN ",null,{"$f":"CONCATENATE(VLOOKUP(B134,'Resumen requerimientos'!$T$5:$AB$92,5,FALSE), \" de \",VLOOKUP(B134,'Resumen requerimientos'!$T$5:$AB$92,6,FALSE))","v":"1 de 1"},null,null,null,null,null,null,null,null,null,null,null,null,null,null,null,"Of. Y Serv.","Ed. Y Salud"]
["N",56,null,null,null,null,null,null,null,null,null,null,null,null,null,null,null,null,null,null,{"$f":"+CONCATENATE(B135,\".\",4)","v":"56.4"},{"$f":"+VLOOKUP(U135,MatrizRequerimientos,6,FALSE)","v":"0-22"},{"$f":"+IF(A132=\"T\",Q132=V135,V129)","v":false},{"$f":"+W135*VLOOKUP(U135,MatrizRequerimientos,8,FALSE)","v":0},{"$f":"+W135*VLOOKUP(U135,MatrizRequerimientos,9,FALSE)","v":0}]
["N",56,null,null,null,{"$f":"+IF(H136=\"No\",\"¿OTROS REQUERIMIENTOS SIMULTÁNEOS?\",\"REQUERIMIENTOS SIMULTANEOS PARA LA OPCION\")","v":"REQUERIMIENTOS SIMULTANEOS PARA LA OPCION"},null,{"$f":"IF(VLOOKUP(B136,'Resumen requerimientos'!$T$5:$AB$92,7,FALSE)=0,\"No\",CONCATENATE(VLOOKUP(B136,'Resumen requerimientos'!$T$5:$AB$92,7,FALSE), \" de \",VLOOKUP(B136,'Resumen requerimientos'!$T$5:$AB$92,8,FALSE)))","v":"4 de 4"},null,null,null,null,null,null,null,null,null,null,null,null,{"$f":"+CONCATENATE(B136,\".\",5)","v":"56.5"},{"$f":"+VLOOKUP(U136,MatrizRequerimientos,6,FALSE)","v":0},{"$f":"+IF(A133=\"T\",Q132=V136,V130)","v":false},{"$f":"+W136*VLOOKUP(U136,MatrizRequerimientos,8,FALSE)","v":0},{"$f":"+W136*VLOOKUP(U136,MatrizRequerimientos,9,FALSE)","v":0}]
["N",56,null,null,null,null,null,null,null,null,null,null,null,null,null,null,null,null,null,null,{"$f":"+CONCATENATE(B137,\".\",6)","v":"56.6"},{"$f":"+VLOOKUP(U137,MatrizRequerimientos,6,FALSE)","v":0},{"$f":"+IF(A134=\"T\",Q132=V137,V131)","v":false},{"$f":"+W137*VLOOKUP(U137,MatrizRequerimientos,8,FALSE)","v":0},{"$f":"+W137*VLOOKUP(U137,MatrizRequerimientos,9,FALSE)","v":0}]
["N",56,null,null,null,"REQUERIMIENTO ADICIONAL",null,{"$f":"VLOOKUP(B138,'Resumen requerimientos'!$T$5:$AB$92,9,FALSE)","v":"No"},null,null,null,null,null,null,null,null,null,null,null,null,{"$f":"+CONCATENATE(B138,\".\",7)","v":"56.7"},{"$f":"+VLOOKUP(U138,MatrizRequerimientos,6,FALSE)","v":0},{"$f":"+IF(A135=\"T\",Q132=V138,V132)","v":false},{"$f":"+W138*VLOOKUP(U138,MatrizRequerimientos,8,FALSE)","v":0},{"$f":"+W138*VLOOKUP(U138,MatrizRequerimientos,9,FALSE)","v":0}]
["N",56,null,null,null,null,null,null,null,null,null,null,null,null,null,null,null,null,null,null,null,null,{"$f":"+IF(AND(A135=\"N\",H127=\"Voluntario\"),SUMIF(W135:W138,TRUE,IF(Uso_Edificio=\"Oficinas\",X135:X138,Y135:Y138)),IF(AND(A135=\"T\",H127=\"Obligatorio\"),VLOOKUP(Q132,V135:X138,3,FALSE)=1,W135))","v":0}]
["N",56]
["N",56,null,null,"Volver al índice"]
["T",60,null,"INST.CAI 14- DISEÑO Y CONTROL DEL SISTEMA",null,null,null,null,null,null,null,null,null,null,null,null,null,null,"INST.CAI 14- DISEÑO Y CONTROL DEL SISTEMA"]
["T",{"$f":"+B142","v":60},null,null,null,"Tipo requerimiento",null,{"$f":"+IF(VLOOKUP(B142,TablaResumen[],4)=\"C\",\"Voluntario\",\"Obligatorio\")","v":"Voluntario"},null,null,null,null,null,null,null,null,null,null,null,null,null,"Puntaje crédito numérico"]
["T",60,null,null,null,null,null,null,null,null,null,null,null,{"$f":"+IF(H143=\"Obligatorio\",\"Cumple Requisito\",\"Puntaje obtenido\")","v":"Puntaje obtenido"},null,null,{"$f":"+IF(H143=\"Obligatorio\",W155,IF(A145=\"N\",IF(Uso_Edificio=\"Oficinas\",SUM(W145:W148),SUM(X145:X148)),IF(Uso_Edificio=\"Oficinas\",SUM(X151:X154),SUM(Y151:Y154))))","v":0},null,null,null,null,"Calificación","Of. Y Serv.","Ed. Y Salud"]
["T",60,null,null,null,"Nombre Requerimiento",null,{"$f":"+VLOOKUP(B147,TablaResumen[],16,0)","v":"Diseño y control del sistema"},null,null,null,null,null,null,null,null,{"$f":"+IF(H142=\"Requisito\",W154,IF(#REF!=\"N\",IF(Uso_Edificio=\"Oficinas\",SUM(W144:W147),SUM(X144:X147)),IF(Uso_Edificio=\"Oficinas\",SUM(X150:X153),SUM(Y150:Y153))))","v":{"$error":"#REF!"}},null,null,null,{"$f":"+CONCATENATE(B145,\".\",4)","v":"60.4"},{"$f":"+AND(Q148>VLOOKUP(U145,MatrizRequerimientos,10,FALSE),Q148<=VLOOKUP(U145,MatrizRequerimientos,11,FALSE))","v":false},{"$f":"+V145*VLOOKUP(U145,MatrizRequerimientos,8,FALSE)","v":0},{"$f":"+V145*VLOOKUP(U145,MatrizRequerimientos,9,FALSE)","v":0}]
["T",60,null,null,null,null,null,null,null,null,null,null,null,null,null,null,{"$f":"+IF(H143=\"Requisito\",W155,IF(A142=\"N\",IF(Uso_Edificio=\"Oficinas\",SUM(W145:W148),SUM(X145:X148)),IF(Uso_Edificio=\"Oficinas\",SUM(X151:X154),SUM(Y151:Y154))))","v":0},null,null,null,{"$f":"+CONCATENATE(B146,\".\",5)","v":"60.5"},{"$f":"+AND(Q148>VLOOKUP(U146,MatrizRequerimientos,10,FALSE),Q148<=VLOOKUP(U146,MatrizRequerimientos,11,FALSE))","v":false},{"$f":"+V146*VLOOKUP(U146,MatrizRequerimientos,8,FALSE)","v":0},{"$f":"+V146*VLOOKUP(U146,MatrizRequerimientos,9,FALSE)","v":0}]
["T",60,null,null,null,"Indicador",null,{"$f":"+VLOOKUP(B148,TablaResumen[],21,0)","v":"Cantidad y distribución de los controles del sistema de climatización"},null,null,null,null,null,null,null,null,null,null,null,null,{"$f":"+CONCATENATE(B147,\".\",6)","v":"60.6"},{"$f":"+AND(Q148>VLOOKUP(U147,MatrizRequerimientos,10,FALSE),Q148<=VLOOKUP(U147,MatrizRequerimientos,11,FALSE))","v":false},{"$f":"+V147*VLOOKUP(U147,MatrizRequerimientos,8,FALSE)","v":0},{"$f":"+V147*VLOOKUP(U147,MatrizRequerimientos,9,FALSE)","v":0}]
["T",60,null,null,null,null,null,null,null,null,null,null,null,{"$f":"+IF(A147=\"N\",CONCATENATE(\"Valor obtenido en proyecto para \",H147),\"Seleccione Nivel de Cumplimiento\")","v":"Seleccione Nivel de Cumplimiento"},null,null,null,null,null,null,{"$f":"+CONCATENATE(B148,\".\",7)","v":"60.7"},{"$f":"+AND(Q148>VLOOKUP(U148,MatrizRequerimientos,10,FALSE),Q148<=VLOOKUP(U148,MatrizRequerimientos,11,FALSE))","v":false},{"$f":"+V148*VLOOKUP(U148,MatrizRequerimientos,8,FALSE)","v":0},{"$f":"+V148*VLOOKUP(U148,MatrizRequerimientos,9,FALSE)","v":0}]
["T",60]
["T",60,null,null,null,"OPCIÓN ",null,{"$f":"CONCATENATE(VLOOKUP(B150,'Resumen requerimientos'!$T$5:$AB$92,5,FALSE), \" de \",VLOOKUP(B150,'Resumen requerimientos'!$T$5:$AB$92,6,FALSE))","v":"1 de 1"},null,null,null,null,null,null,null,null,null,null,null,null,null,null,null,"Of. Y Serv.","Ed. Y Salud"]
["T",60,null,null,null,null,null,null,null,null,null,null,null,null,null,null,null,null,null,null,{"$f":"+CONCATENATE(B151,\".\",4)","v":"60.4"},{"$f":"+VLOOKUP(U151,MatrizRequerimientos,6,FALSE)","v":"Un control por recinto"},{"$f":"+IF(A148=\"T\",Q148=V151,V145)","v":false},{"$f":"+W151*VLOOKUP(U151,MatrizRequerimientos,8,FALSE)","v":0},{"$f":"+W151*VLOOKUP(U151,MatrizRequerimientos,9,FALSE)","v":0}]
["T",60,null,null,null,{"$f":"+IF(H152=\"No\",\"¿OTROS REQUERIMIENTOS SIMULTÁNEOS?\",\"REQUERIMIENTOS SIMULTANEOS PARA LA OPCION\")","v":"¿OTROS REQUERIMIENTOS SIMULTÁNEOS?"},null,{"$f":"IF(VLOOKUP(B152,'Resumen requerimientos'!$T$5:$AB$92,7,FALSE)=0,\"No\",CONCATENATE(VLOOKUP(B152,'Resumen requerimientos'!$T$5:$AB$92,7,FALSE), \" de \",VLOOKUP(B152,'Resumen requerimientos'!$T$5:$AB$92,8,FALSE)))","v":"No"},null,null,null,null,null,null,null,null,null,null,null,null,{"$f":"+CONCATENATE(B152,\".\",5)","v":"60.5"},{"$f":"+VLOOKUP(U152,MatrizRequerimientos,6,FALSE)","v":"Un control por bloque térmico"},{"$f":"+IF(A149=\"T\",Q148=V152,V146)","v":false},{"$f":"+W152*VLOOKUP(U152,MatrizRequerimientos,8,FALSE)","v":0},{"$f":"+W152*VLOOKUP(U152,MatrizRequerimientos,9,FALSE)","v":0}]
["T",60,null,null,null,null,null,null,null,null,null,null,null,null,null,null,null,null,null,null,{"$f":"+CONCATENATE(B153,\".\",6)","v":"60.6"},{"$f":"+VLOOKUP(U153,MatrizRequerimientos,6,FALSE)","v":0},{"$f":"+IF(A150=\"T\",Q148=V153,V147)","v":true},{"$f":"+W153*VLOOKUP(U153,MatrizRequerimientos,8,FALSE)","v":0},{"$f":"+W153*VLOOKUP(U153,MatrizRequerimientos,9,FALSE)","v":0}]
["T",60,null,null,null,"REQUERIMIENTO ADICIONAL",null,{"$f":"VLOOKUP(B154,'Resumen requerimientos'!$T$5:$AB$92,9,FALSE)","v":"No"},null,null,null,null,null,null,null,null,null,null,null,null,{"$f":"+CONCATENATE(B154,\".\",7)","v":"60.7"},{"$f":"+VLOOKUP(U154,MatrizRequerimientos,6,FALSE)","v":0},{"$f":"+IF(A151=\"T\",Q148=V154,V148)","v":true},{"$f":"+W154*VLOOKUP(U154,MatrizRequerimientos,8,FALSE)","v":0},{"$f":"+W154*VLOOKUP(U154,MatrizRequerimientos,9,FALSE)","v":0}]
["T",60,null,null,null,null,null,null,null,null,null,null,null,null,null,null,null,null,null,null,null,null,{"$f":"+IF(AND(A151=\"N\",H143=\"Voluntario\"),SUMIF(W151:W154,TRUE,IF(Uso_Edificio=\"Oficinas\",X151:X154,Y151:Y154)),IF(AND(A151=\"T\",H143=\"Obligatorio\"),VLOOKUP(Q148,V151:X154,3,FALSE)=1,W151))","v":false}]
["T",60]
["T",60,null,null,"Volver al índice"]

{"sheet":"Evaluacion INST.Energia Volunta","index":19,"n_rows":158,"n_cols":25,"rows_kept":158,"cut":false,"hidden":false,"merged":[[1,18,15,18],[15,5,15,11],[2,21,2,23],[2,5,3,6],[2,7,3,11],[3,13,5,15],[3,16,5,16],[4,5,5,6],[4,7,5,11],[6,5,7,6],[6,7,7,11],[7,13,14,15],[7,16,14,16],[8,5,8,6],[8,7,8,11],[9,5,10,6],[9,7,10,11],[11,5,12,6],[11,7,12,11],[13,5,14,6],[13,7,14,11],[1,3,15,3],[66,13,68,15],[66,16,68,16],[70,13,77,15],[70,16,77,16],[81,13,83,15],[81,16,83,16],[85,13,92,15],[85,16,92,16],[17,3,31,3],[34,7,35,11],[87,7,88,11],[89,5,90,6],[89,7,90,11],[91,5,92,6],[51,13,53,15],[51,16,53,16],[55,13,62,15],[55,16,62,16],[82,5,83,6],[82,7,83,11],[76,5,77,6],[76,7,77,11],[49,3,93,3],[97,16,99,16],[19,13,21,15],[19,16,21,16],[23,13,30,15],[23,16,30,16],[17,18,31,18],[18,21,18,23],[20,5,21,6],[20,7,21,11],[29,5,30,6],[29,7,30,11],[31,5,31,11],[18,5,19,6],[18,7,19,11],[22,5,23,6],[22,7,23,11],[24,5,24,6],[24,7,24,11],[25,5,26,6],[25,7,26,11],[27,5,28,6],[27,7,28,11],[34,5,35,6],[59,5,60,6],[59,7,60,11],[61,5,62,6],[61,7,62,11],[34,21,34,23],[36,5,37,6],[36,7,37,11],[38,5,39,6],[38,7,39,11],[40,5,40,6],[47,5,47,11],[35,13,37,15],[35,16,37,16],[39,13,46,15],[39,16,46,16],[40,7,40,11],[41,5,42,6],[41,7,42,11],[43,5,44,6],[43,7,44,11],[45,5,46,6],[45,7,46,11],[33,18,47,18],[65,21,65,23],[49,18,93,18],[50,5,51,6],[50,7,51,11],[50,21,50,23],[52,5,53,6],[52,7,53,11],[54,5,55,6],[71,5,71,6],[71,7,71,11],[72,5,73,6],[72,7,73,11],[80,21,80,23],[91,7,92,11],[93,5,93,11],[54,7,55,11],[56,5,56,6],[63,5,63,11],[65,5,66,6],[65,7,66,11],[74,5,75,6],[74,7,75,11],[67,5,68,6],[67,7,68,11],[127,21,127,23],[127,5,128,6],[127,7,128,11],[128,13,130,15],[128,16,130,16],[113,7,114,11],[115,5,116,6],[115,7,116,11],[96,5,97,6],[96,7,97,11],[96,21,96,23],[98,5,99,6],[98,7,99,11],[100,5,101,6],[117,5,117,6],[117,7,117,11],[118,5,119,6],[118,7,119,11],[101,13,108,15],[101,16,108,16],[112,13,114,15],[112,16,114,16],[116,13,123,15],[116,16,123,16],[111,21,111,23],[102,7,102,11],[103,5,104,6],[103,7,104,11],[105,5,106,6],[105,7,106,11],[107,5,108,6],[107,7,108,11],[122,5,123,6],[122,7,123,11],[102,5,102,6],[109,5,109,11],[111,5,112,6],[111,7,112,11],[120,5,121,6],[120,7,121,11],[113,5,114,6],[143,21,143,23],[145,5,146,6],[145,7,146,11],[147,5,148,6],[156,5,156,11],[149,7,149,11],[150,5,151,6],[150,7,151,11],[152,5,153,6],[152,7,153,11],[154,5,155,6],[154,7,155,11],[147,7,148,11],[149,5,149,6],[144,13,146,15],[144,16,146,16],[148,13,155,15],[148,16,155,16],[95,3,124,3],[95,18,124,18],[126,3,140,3],[126,18,140,18],[142,18,156,18],[143,5,144,6],[143,7,144,11],[142,3,156,3],[132,13,139,15],[132,16,139,16],[133,5,133,6],[133,7,133,11],[134,5,135,6],[134,7,135,11],[138,5,139,6],[138,7,139,11],[140,5,140,11],[136,5,137,6],[136,7,137,11],[129,5,130,6],[129,7,130,11],[131,5,132,6],[131,7,132,11],[97,13,99,15],[0,4,0,5],[16,4,16,5],[32,4,32,5],[48,4,48,5],[94,4,94,5],[125,4,125,5],[141,4,141,5],[157,4,157,5],[33,3,47,3],[124,5,124,11],[100,7,101,11],[84,5,85,6],[84,7,85,11],[78,5,78,11],[80,5,81,6],[80,7,81,11],[86,5,86,6],[86,7,86,11],[87,5,88,6],[69,5,70,6],[69,7,70,11],[56,7,56,11],[57,5,58,6],[57,7,58,11]]}
["Texto/Número","Nº requisito",null,null,"Volver al índice"]
["N",88,null,"INST.ENERGÍA 15 A 18",null,null,null,null,null,null,null,null,null,null,null,null,null,null,"INST.ENERGÍA 15 A 18"]
["N",88,null,null,null,"Tipo requerimiento",null,{"$f":"+IF(VLOOKUP(B2,TablaResumen[],4)=\"C\",\"Voluntario\",\"Obligatorio\")","v":"Voluntario"},null,null,null,null,null,null,null,null,null,null,null,null,null,"Puntaje crédito numérico"]
["N",88,null,null,null,null,null,null,null,null,null,null,null,{"$f":"+IF(H3=\"Obligatorio\",\"Cumple Requisito\",\"Puntaje obtenido\")","v":"Puntaje obtenido"},null,null,{"$f":"+IF(H3=\"Obligatorio\",W15,IF(A5=\"N\",IF(Uso_Edificio=\"Oficinas\",SUM(W5:W8),SUM(X5:X8)),IF(Uso_Edificio=\"Oficinas\",SUM(X11:X14),SUM(Y11:Y14))))","v":0},null,null,null,null,"Calificación","Of. Y Serv.","Ed. Y Salud"]
["N",88,null,null,null,"Nombre Requerimiento",null,{"$f":"+VLOOKUP(B7,TablaResumen[],16,0)","v":"Consumo de Energía"},null,null,null,null,null,null,null,null,null,null,null,null,{"$f":"+CONCATENATE(B5,\".\",4)","v":"88.4"},{"$f":"+AND(Q8>VLOOKUP(U5,MatrizRequerimientos,10,FALSE),Q8<=VLOOKUP(U5,MatrizRequerimientos,11,FALSE))","v":false},{"$f":"+V5*VLOOKUP(U5,MatrizRequerimientos,8,FALSE)","v":0},{"$f":"+V5*VLOOKUP(U5,MatrizRequerimientos,9,FALSE)","v":0}]
["N",88,null,null,null,null,null,null,null,null,null,null,null,null,null,null,null,null,null,null,{"$f":"+CONCATENATE(B6,\".\",5)","v":"88.5"},{"$f":"+AND(Q8>VLOOKUP(U6,MatrizRequerimientos,10,FALSE),Q8<=VLOOKUP(U6,MatrizRequerimientos,11,FALSE))","v":false},{"$f":"+V6*VLOOKUP(U6,MatrizRequerimientos,8,FALSE)","v":0},{"$f":"+V6*VLOOKUP(U6,MatrizRequerimientos,9,FALSE)","v":0}]
["N",88,null,null,null,"Indicador",null,{"$f":"+VLOOKUP(B8,TablaResumen[],21,0)","v":"Reducción del consumo anual de energía [kWh/m2] para todo el edificio"},null,null,null,null,null,null,null,null,null,null,null,null,{"$f":"+CONCATENATE(B7,\".\",6)","v":"88.6"},{"$f":"+AND(Q8>VLOOKUP(U7,MatrizRequerimientos,10,FALSE),Q8<=VLOOKUP(U7,MatrizRequerimientos,11,FALSE))","v":false},{"$f":"+V7*VLOOKUP(U7,MatrizRequerimientos,8,FALSE)","v":0},{"$f":"+V7*VLOOKUP(U7,MatrizRequerimientos,9,FALSE)","v":0}]
["N",88,null,null,null,null,null,null,null,null,null,null,null,{"$f":"+IF(A7=\"N\",CONCATENATE(\"Valor obtenido en proyecto para \",H7),\"Seleccione Nivel de Cumplimiento\")","v":"Valor obtenido en proyecto para Reducción del consumo anual de energía [kWh/m2] para todo el edificio"},null,null,null,null,null,null,{"$f":"+CONCATENATE(B8,\".\",7)","v":"88.7"},{"$f":"+AND(Q8>VLOOKUP(U8,MatrizRequerimientos,10,FALSE),Q8<=VLOOKUP(U8,MatrizRequerimientos,11,FALSE))","v":false},{"$f":"+V8*VLOOKUP(U8,MatrizRequerimientos,8,FALSE)","v":0},{"$f":"+V8*VLOOKUP(U8,MatrizRequerimientos,9,FALSE)","v":0}]
["N",88]
["N",88,null,null,null,"OPCIÓN ",null,{"$f":"CONCATENATE(VLOOKUP(B10,'Resumen requerimientos'!$T$5:$AB$96,5,FALSE), \" de \",VLOOKUP(B10,'Resumen requerimientos'!$T$5:$AB$96,6,FALSE))","v":"1 de 1"},null,null,null,null,null,null,null,null,null,null,null,null,null,null,null,"Of. Y Serv.","Ed. Y Salud"]
["N",88,null,null,null,null,null,null,null,null,null,null,null,null,null,null,null,null,null,null,{"$f":"+CONCATENATE(B11,\".\",4)","v":"88.4"},{"$f":"+VLOOKUP(U11,MatrizRequerimientos,6,FALSE)","v":"40%-1000%"},{"$f":"+IF(A8=\"T\",Q8=V11,V5)","v":false},{"$f":"+W11*VLOOKUP(U11,MatrizRequerimientos,8,FALSE)","v":0},{"$f":"+W11*VLOOKUP(U11,MatrizRequerimientos,9,FALSE)","v":0}]
["N",88,null,null,null,{"$f":"+IF(H12=\"No\",\"¿OTROS REQUERIMIENTOS SIMULTÁNEOS?\",\"REQUERIMIENTOS SIMULTANEOS PARA LA OPCION\")","v":"¿OTROS REQUERIMIENTOS SIMULTÁNEOS?"},null,{"$f":"IF(VLOOKUP(B12,'Resumen requerimientos'!$T$5:$AB$96,7,FALSE)=0,\"No\",CONCATENATE(VLOOKUP(B12,'Resumen requerimientos'!$T$5:$AB$96,7,FALSE), \" de \",VLOOKUP(B12,'Resumen requerimientos'!$T$5:$AB$96,8,FALSE)))","v":"No"},null,null,null,null,null,null,null,null,null,null,null,null,{"$f":"+CONCATENATE(B12,\".\",5)","v":"88.5"},{"$f":"+VLOOKUP(U12,MatrizRequerimientos,6,FALSE)","v":"30%-40%"},{"$f":"+IF(A9=\"T\",Q8=V12,V6)","v":false},{"$f":"+W12*VLOOKUP(U12,MatrizRequerimientos,8,FALSE)","v":0},{"$f":"+W12*VLOOKUP(U12,MatrizRequerimientos,9,FALSE)","v":0}]
["N",88,null,null,null,null,null,null,null,null,null,null,null,null,null,null,null,null,null,null,{"$f":"+CONCATENATE(B13,\".\",6)","v":"88.6"},{"$f":"+VLOOKUP(U13,MatrizRequerimientos,6,FALSE)","v":"20%-30%"},{"$f":"+IF(A10=\"T\",Q8=V13,V7)","v":false},{"$f":"+W13*VLOOKUP(U13,MatrizRequerimientos,8,FALSE)","v":0},{"$f":"+W13*VLOOKUP(U13,MatrizRequerimientos,9,FALSE)","v":0}]
["N",88,null,null,null,"REQUERIMIENTO ADICIONAL",null,{"$f":"VLOOKUP(B14,'Resumen requerimientos'!$T$5:$AB$96,9,FALSE)","v":"no"},null,null,null,null,null,null,null,null,null,null,null,null,{"$f":"+CONCATENATE(B14,\".\",7)","v":"88.7"},{"$f":"+VLOOKUP(U14,MatrizRequerimientos,6,FALSE)","v":"10%-20%"},{"$f":"+IF(A11=\"T\",Q8=V14,V8)","v":false},{"$f":"+W14*VLOOKUP(U14,MatrizRequerimientos,8,FALSE)","v":0},{"$f":"+W14*VLOOKUP(U14,MatrizRequerimientos,9,FALSE)","v":0}]
["N",88,null,null,null,null,null,null,null,null,null,null,null,null,null,null,null,null,null,null,null,null,{"$f":"+IF(AND(A11=\"N\",H3=\"Voluntario\"),SUMIF(W11:W14,TRUE,IF(Uso_Edificio=\"Oficinas\",X11:X14,Y11:Y14)),IF(AND(A11=\"T\",H3=\"Obligatorio\"),VLOOKUP(Q8,V11:X14,3,FALSE)=1,W11))","v":0}]
["N",88]
["N",88,null,null,"Volver al índice"]
["N",62,null,"INST.ENERGIA 15.1 - ILUMINACIÓN ARTIFICIAL",null,null,null,null,null,null,null,null,null,null,null,null,null,null,"INST.ENERGIA 15.1 - ILUMINACIÓN ARTIFICIAL"]
["N",{"$f":"+B18","v":62},null,null,null,"Tipo requerimiento",null,{"$f":"+IF(VLOOKUP(B18,TablaResumen[],4)=\"C\",\"Voluntario\",\"Obligatorio\")","v":"Voluntario"},null,null,null,null,null,null,null,null,null,null,null,null,null,"Puntaje crédito numérico"]
["N",62,null,null,null,null,null,null,null,null,null,null,null,{"$f":"+IF(H19=\"Obligatorio\",\"Cumple Requisito\",\"Puntaje obtenido\")","v":"Puntaje obtenido"},null,null,{"$f":"+IF(H19=\"Obligatorio\",W31,IF(A21=\"N\",IF(Uso_Edificio=\"Oficinas\",SUM(W21:W24),SUM(X21:X24)),IF(Uso_Edificio=\"Oficinas\",SUM(X27:X30),SUM(Y27:Y30))))","v":0},null,null,null,null,"Calificación","Of. Y Serv.","Ed. Y Salud"]
["N",62,null,null,null,"Nombre Requerimiento",null,{"$f":"+VLOOKUP(B23,TablaResumen[],16,0)","v":"Potencia Instalada"},null,null,null,null,null,null,null,null,{"$f":"+IF(H18=\"Requisito\",W30,IF(#REF!=\"N\",IF(Uso_Edificio=\"Oficinas\",SUM(W20:W23),SUM(X20:X23)),IF(Uso_Edificio=\"Oficinas\",SUM(X26:X29),SUM(Y26:Y29))))","v":{"$error":"#REF!"}},null,null,null,{"$f":"+CONCATENATE(B21,\".\",4)","v":"62.4"},{"$f":"+AND(Q24>VLOOKUP(U21,MatrizRequerimientos,10,FALSE),Q24<=VLOOKUP(U21,MatrizRequerimientos,11,FALSE))","v":false},{"$f":"+V21*VLOOKUP(U21,MatrizRequerimientos,8,FALSE)","v":0},{"$f":"+V21*VLOOKUP(U21,MatrizRequerimientos,9,FALSE)","v":0}]
["N",62,null,null,null,null,null,null,null,null,null,null,null,null,null,null,{"$f":"+IF(H19=\"Requisito\",W31,IF(A18=\"N\",IF(Uso_Edificio=\"Oficinas\",SUM(W21:W24),SUM(X21:X24)),IF(Uso_Edificio=\"Oficinas\",SUM(X27:X30),SUM(Y27:Y30))))","v":0},null,null,null,{"$f":"+CONCATENATE(B22,\".\",5)","v":"62.5"},{"$f":"+AND(Q24>VLOOKUP(U22,MatrizRequerimientos,10,FALSE),Q24<=VLOOKUP(U22,MatrizRequerimientos,11,FALSE))","v":false},{"$f":"+V22*VLOOKUP(U22,MatrizRequerimientos,8,FALSE)","v":0},{"$f":"+V22*VLOOKUP(U22,MatrizRequerimientos,9,FALSE)","v":0}]
["N",62,null,null,null,"Indicador",null,{"$f":"+VLOOKUP(B24,TablaResumen[],21,0)","v":"Reducción de potencia instalada de iluminación artificial [%]"},null,null,null,null,null,null,null,null,null,null,null,null,{"$f":"+CONCATENATE(B23,\".\",6)","v":"62.6"},{"$f":"+AND(Q24>VLOOKUP(U23,MatrizRequerimientos,10,FALSE),Q24<=VLOOKUP(U23,MatrizRequerimientos,11,FALSE))","v":false},{"$f":"+V23*VLOOKUP(U23,MatrizRequerimientos,8,FALSE)","v":0},{"$f":"+V23*VLOOKUP(U23,MatrizRequerimientos,9,FALSE)","v":0}]
["N",62,null,null,null,null,null,null,null,null,null,null,null,{"$f":"+IF(A23=\"N\",CONCATENATE(\"Valor obtenido en proyecto para \",H23),\"Seleccione Nivel de Cumplimiento\")","v":"Valor obtenido en proyecto para Reducción de potencia instalada de iluminación artificial [%]"},null,null,null,null,null,null,{"$f":"+CONCATENATE(B24,\".\",7)","v":"62.7"},{"$f":"+AND(Q24>VLOOKUP(U24,MatrizRequerimientos,10,FALSE),Q24<=VLOOKUP(U24,MatrizRequerimientos,11,FALSE))","v":false},{"$f":"+V24*VLOOKUP(U24,MatrizRequerimientos,8,FALSE)","v":0},{"$f":"+V24*VLOOKUP(U24,MatrizRequerimientos,9,FALSE)","v":0}]
["N",62]
["N",62,null,null,null,"OPCIÓN ",null,{"$f":"CONCATENATE(VLOOKUP(B26,'Resumen requerimientos'!$T$5:$AB$92,5,FALSE), \" de \",VLOOKUP(B26,'Resumen requerimientos'!$T$5:$AB$92,6,FALSE))","v":"1 de 2"},null,null,null,null,null,null,null,null,null,null,null,null,null,null,null,"Of. Y Serv.","Ed. Y Salud"]
["N",62,null,null,null,null,null,null,null,null,null,null,null,null,null,null,null,null,null,null,{"$f":"+CONCATENATE(B27,\".\",4)","v":"62.4"},{"$f":"+VLOOKUP(U27,MatrizRequerimientos,6,FALSE)","v":"30%-100%"},{"$f":"+IF(A24=\"T\",Q24=V27,V21)","v":false},{"$f":"+W27*VLOOKUP(U27,MatrizRequerimientos,8,FALSE)","v":0},{"$f":"+W27*VLOOKUP(U27,MatrizRequerimientos,9,FALSE)","v":0}]
["N",62,null,null,null,{"$f":"+IF(H28=\"No\",\"¿OTROS REQUERIMIENTOS SIMULTÁNEOS?\",\"REQUERIMIENTOS SIMULTANEOS PARA LA OPCION\")","v":"¿OTROS REQUERIMIENTOS SIMULTÁNEOS?"},null,{"$f":"IF(VLOOKUP(B28,'Resumen requerimientos'!$T$5:$AB$92,7,FALSE)=0,\"No\",CONCATENATE(VLOOKUP(B28,'Resumen requerimientos'!$T$5:$AB$92,7,FALSE), \" de \",VLOOKUP(B28,'Resumen requerimientos'!$T$5:$AB$92,8,FALSE)))","v":"No"},null,null,null,null,null,null,null,null,null,null,null,null,{"$f":"+CONCATENATE(B28,\".\",5)","v":"62.5"},{"$f":"+VLOOKUP(U28,MatrizRequerimientos,6,FALSE)","v":"20%-30%"},{"$f":"+IF(A25=\"T\",Q24=V28,V22)","v":false},{"$f":"+W28*VLOOKUP(U28,MatrizRequerimientos,8,FALSE)","v":0},{"$f":"+W28*VLOOKUP(U28,MatrizRequerimientos,9,FALSE)","v":0}]
["N",62,null,null,null,null,null,null,null,null,null,null,null,null,null,null,null,null,null,null,{"$f":"+CONCATENATE(B29,\".\",6)","v":"62.6"},{"$f":"+VLOOKUP(U29,MatrizRequerimientos,6,FALSE)","v":"10%-20%"},{"$f":"+IF(A26=\"T\",Q24=V29,V23)","v":false},{"$f":"+W29*VLOOKUP(U29,MatrizRequerimientos,8,FALSE)","v":0},{"$f":"+W29*VLOOKUP(U29,MatrizRequerimientos,9,FALSE)","v":0}]
["N",62,null,null,null,"REQUERIMIENTO ADICIONAL",null,{"$f":"VLOOKUP(B30,'Resumen requerimientos'!$T$5:$AB$92,9,FALSE)","v":"No"},null,null,null,null,null,null,null,null,null,null,null,null,{"$f":"+CONCATENATE(B30,\".\",7)","v":"62.7"},{"$f":"+VLOOKUP(U30,MatrizRequerimientos,6,FALSE)","v":0},{"$f":"+IF(A27=\"T\",Q24=V30,V24)","v":false},{"$f":"+W30*VLOOKUP(U30,MatrizRequerimientos,8,FALSE)","v":0},{"$f":"+W30*VLOOKUP(U30,MatrizRequerimientos,9,FALSE)","v":0}]
["N",62,null,null,null,null,null,null,null,null,null,null,null,null,null,null,null,null,null,null,null,null,{"$f":"+IF(AND(A27=\"N\",H19=\"Voluntario\"),SUMIF(W27:W30,TRUE,IF(Uso_Edificio=\"Oficinas\",X27:X30,Y27:Y30)),IF(AND(A27=\"T\",H19=\"Obligatorio\"),VLOOKUP(Q24,V27:X30,3,FALSE)=1,W27))","v":0}]
["N",62]
["N",62,null,null,"Volver al índice"]
["T",64,null,"INST.ENERGIA 15.2 - SISTEMAS DE CONTROL",null,null,null,null,null,null,null,null,null,null,null,null,null,null,"INST.ENERGIA 15.2 - SISTEMAS DE CONTROL"]
["T",{"$f":"+B34","v":64},null,null,null,"Tipo requerimiento",null,{"$f":"+IF(VLOOKUP(B34,TablaResumen[],4)=\"C\",\"Voluntario\",\"Obligatorio\")","v":"Voluntario"},null,null,null,null,null,null,null,null,null,null,null,null,null,"Puntaje crédito numérico"]
["T",64,null,null,null,null,null,null,null,null,null,null,null,{"$f":"+IF(H35=\"Obligatorio\",\"Cumple Requisito\",\"Puntaje obtenido\")","v":"Puntaje obtenido"},null,null,{"$f":"+IF(H35=\"Obligatorio\",W47,IF(A37=\"N\",IF(Uso_Edificio=\"Oficinas\",SUM(W37:W40),SUM(X37:X40)),IF(Uso_Edificio=\"Oficinas\",SUM(X43:X46),SUM(Y43:Y46))))","v":0},null,null,null,null,"Calificación","Of. Y Serv.","Ed. Y Salud"]
["T",64,null,null,null,"Nombre Requerimiento",null,{"$f":"+VLOOKUP(B39,TablaResumen[],16,0)","v":"Sistemas de control"},null,null,null,null,null,null,null,null,{"$f":"+IF(H34=\"Requisito\",W46,IF(#REF!=\"N\",IF(Uso_Edificio=\"Oficinas\",SUM(W36:W39),SUM(X36:X39)),IF(Uso_Edificio=\"Oficinas\",SUM(X42:X45),SUM(Y42:Y45))))","v":{"$error":"#REF!"}},null,null,null,{"$f":"+CONCATENATE(B37,\".\",4)","v":"64.4"},{"$f":"+AND(Q40>VLOOKUP(U37,MatrizRequerimientos,10,FALSE),Q40<=VLOOKUP(U37,MatrizRequerimientos,11,FALSE))","v":false},{"$f":"+V37*VLOOKUP(U37,MatrizRequerimientos,8,FALSE)","v":0},{"$f":"+V37*VLOOKUP(U37,MatrizRequerimientos,9,FALSE)","v":0}]
["T",64,null,null,null,null,null,null,null,null,null,null,null,null,null,null,{"$f":"+IF(H35=\"Requisito\",W47,IF(A34=\"N\",IF(Uso_Edificio=\"Oficinas\",SUM(W37:W40),SUM(X37:X40)),IF(Uso_Edificio=\"Oficinas\",SUM(X43:X46),SUM(Y43:Y46))))","v":0},null,null,null,{"$f":"+CONCATENATE(B38,\".\",5)","v":"64.5"},{"$f":"+AND(Q40>VLOOKUP(U38,MatrizRequerimientos,10,FALSE),Q40<=VLOOKUP(U38,MatrizRequerimientos,11,FALSE))","v":false},{"$f":"+V38*VLOOKUP(U38,MatrizRequerimientos,8,FALSE)","v":0},{"$f":"+V38*VLOOKUP(U38,MatrizRequerimientos,9,FALSE)","v":0}]
["T",64,null,null,null,"Indicador",null,{"$f":"+VLOOKUP(B40,TablaResumen[],21,0)","v":"Incorporación de sistemas de control"},null,null,null,null,null,null,null,null,null,null,null,null,{"$f":"+CONCATENATE(B39,\".\",6)","v":"64.6"},{"$f":"+AND(Q40>VLOOKUP(U39,MatrizRequerimientos,10,FALSE),Q40<=VLOOKUP(U39,MatrizRequerimientos,11,FALSE))","v":false},{"$f":"+V39*VLOOKUP(U39,MatrizRequerimientos,8,FALSE)","v":0},{"$f":"+V39*VLOOKUP(U39,MatrizRequerimientos,9,FALSE)","v":0}]
["T",64,null,null,null,null,null,null,null,null,null,null,null,{"$f":"+IF(A39=\"N\",CONCATENATE(\"Valor obtenido en proyecto para \",H39),\"Seleccione Nivel de Cumplimiento\")","v":"Seleccione Nivel de Cumplimiento"},null,null,null,null,null,null,{"$f":"+CONCATENATE(B40,\".\",7)","v":"64.7"},{"$f":"+AND(Q40>VLOOKUP(U40,MatrizRequerimientos,10,FALSE),Q40<=VLOOKUP(U40,MatrizRequerimientos,11,FALSE))","v":false},{"$f":"+V40*VLOOKUP(U40,MatrizRequerimientos,8,FALSE)","v":0},{"$f":"+V40*VLOOKUP(U40,MatrizRequerimientos,9,FALSE)","v":0}]
["T",64]
["T",64,null,null,null,"OPCIÓN ",null,{"$f":"CONCATENATE(VLOOKUP(B42,'Resumen requerimientos'!$T$5:$AB$92,5,FALSE), \" de \",VLOOKUP(B42,'Resumen requerimientos'!$T$5:$AB$92,6,FALSE))","v":"1 de 2"},null,null,null,null,null,null,null,null,null,null,null,null,null,null,null,"Of. Y Serv.","Ed. Y Salud"]
["T",64,null,null,null,null,null,null,null,null,null,null,null,null,null,null,null,null,null,null,{"$f":"+CONCATENATE(B43,\".\",4)","v":"64.4"},{"$f":"+VLOOKUP(U43,MatrizRequerimientos,6,FALSE)","v":"AA / AB"},{"$f":"+IF(A40=\"T\",Q40=V43,V37)","v":false},{"$f":"+W43*VLOOKUP(U43,MatrizRequerimientos,8,FALSE)","v":0},{"$f":"+W43*VLOOKUP(U43,MatrizRequerimientos,9,FALSE)","v":0}]
["T",64,null,null,null,{"$f":"+IF(H44=\"No\",\"¿OTROS REQUERIMIENTOS SIMULTÁNEOS?\",\"REQUERIMIENTOS SIMULTANEOS PARA LA OPCION\")","v":"¿OTROS REQUERIMIENTOS SIMULTÁNEOS?"},null,{"$f":"IF(VLOOKUP(B44,'Resumen requerimientos'!$T$5:$AB$92,7,FALSE)=0,\"No\",CONCATENATE(VLOOKUP(B44,'Resumen requerimientos'!$T$5:$AB$92,7,FALSE), \" de \",VLOOKUP(B44,'Resumen requerimientos'!$T$5:$AB$92,8,FALSE)))","v":"No"},null,null,null,null,null,null,null,null,null,null,null,null,{"$f":"+CONCATENATE(B44,\".\",5)","v":"64.5"},{"$f":"+VLOOKUP(U44,MatrizRequerimientos,6,FALSE)","v":"AC / BB / BC"},{"$f":"+IF(A41=\"T\",Q40=V44,V38)","v":false},{"$f":"+W44*VLOOKUP(U44,MatrizRequerimientos,8,FALSE)","v":0},{"$f":"+W44*VLOOKUP(U44,MatrizRequerimientos,9,FALSE)","v":0}]
["T",64,null,null,null,null,null,null,null,null,null,null,null,null,null,null,null,null,null,null,{"$f":"+CONCATENATE(B45,\".\",6)","v":"64.6"},{"$f":"+VLOOKUP(U45,MatrizRequerimientos,6,FALSE)","v":"CC"},{"$f":"+IF(A42=\"T\",Q40=V45,V39)","v":false},{"$f":"+W45*VLOOKUP(U45,MatrizRequerimientos,8,FALSE)","v":0},{"$f":"+W45*VLOOKUP(U45,MatrizRequerimientos,9,FALSE)","v":0}]
["T",64,null,null,null,"REQUERIMIENTO ADICIONAL",null,{"$f":"VLOOKUP(B46,'Resumen requerimientos'!$T$5:$AB$92,9,FALSE)","v":"No"},null,null,null,null,null,null,null,null,null,null,null,null,{"$f":"+CONCATENATE(B46,\".\",7)","v":"64.7"},{"$f":"+VLOOKUP(U46,MatrizRequerimientos,6,FALSE)","v":0},{"$f":"+IF(A43=\"T\",Q40=V46,V40)","v":true},{"$f":"+W46*VLOOKUP(U46,MatrizRequerimientos,8,FALSE)","v":0},{"$f":"+W46*VLOOKUP(U46,MatrizRequerimientos,9,FALSE)","v":0}]
["T",64,null,null,null,null,null,null,null,null,null,null,null,null,null,null,null,null,null,null,null,null,{"$f":"+IF(AND(A43=\"N\",H35=\"Voluntario\"),SUMIF(W43:W46,TRUE,IF(Uso_Edificio=\"Oficinas\",X43:X46,Y43:Y46)),IF(AND(A43=\"T\",H35=\"Obligatorio\"),VLOOKUP(Q40,V43:X46,3,FALSE)=1,W43))","v":false}]
["T",64]
["T",64,null,null,"Volver al índice"]
["T",66,null,"INST. ENERGIA 16.1 - RELACIÓN DE LA POTENCIA REQUERIDA E INSTAALADA",null,null,null,null,null,null,null,null,null,null,null,null,null,null,"INST. ENERGIA 16.1 - RELACIÓN DE LA POTENCIA REQUERIDA E INSTAALADA"]
["T",{"$f":"+B50","v":66},null,null,null,"Tipo requerimiento",null,{"$f":"+IF(VLOOKUP(B50,TablaResumen[],4)=\"C\",\"Voluntario\",\"Obligatorio\")","v":"Voluntario"},null,null,null,null,null,null,null,null,null,null,null,null,null,"Puntaje crédito numérico"]
["T",66,null,null,null,null,null,null,null,null,null,null,null,{"$f":"+IF(H51=\"Obligatorio\",\"Cumple Requisito\",\"Puntaje obtenido\")","v":"Puntaje obtenido"},null,null,{"$f":"+IF(H51=\"Obligatorio\",W63,IF(A53=\"N\",IF(Uso_Edificio=\"Oficinas\",SUM(W53:W56),SUM(X53:X56)),IF(Uso_Edificio=\"Oficinas\",SUM(X59:X62),SUM(Y59:Y62))))","v":0},null,null,null,null,"Calificación","Of. Y Serv.","Ed. Y Salud"]
["T",66,null,null,null,"Nombre Requerimiento",null,{"$f":"+VLOOKUP(B55,TablaResumen[],16,0)","v":"Relación de la potencia requerida e instalada"},null,null,null,null,null,null,null,null,{"$f":"+IF(H50=\"Requisito\",W62,IF(#REF!=\"N\",IF(Uso_Edificio=\"Oficinas\",SUM(W52:W55),SUM(X52:X55)),IF(Uso_Edificio=\"Oficinas\",SUM(X58:X61),SUM(Y58:Y61))))","v":{"$error":"#REF!"}},null,null,null,{"$f":"+CONCATENATE(B53,\".\",4)","v":"66.4"},{"$f":"+AND(Q56>VLOOKUP(U53,MatrizRequerimientos,10,FALSE),Q56<=VLOOKUP(U53,MatrizRequerimientos,11,FALSE))","v":false},{"$f":"+V53*VLOOKUP(U53,MatrizRequerimientos,8,FALSE)","v":0},{"$f":"+V53*VLOOKUP(U53,MatrizRequerimientos,9,FALSE)","v":0}]
["T",66,null,null,null,null,null,null,null,null,null,null,null,null,null,null,{"$f":"+IF(H51=\"Requisito\",W63,IF(A50=\"N\",IF(Uso_Edificio=\"Oficinas\",SUM(W53:W56),SUM(X53:X56)),IF(Uso_Edificio=\"Oficinas\",SUM(X59:X62),SUM(Y59:Y62))))","v":0},null,null,null,{"$f":"+CONCATENATE(B54,\".\",5)","v":"66.5"},{"$f":"+AND(Q56>VLOOKUP(U54,MatrizRequerimientos,10,FALSE),Q56<=VLOOKUP(U54,MatrizRequerimientos,11,FALSE))","v":false},{"$f":"+V54*VLOOKUP(U54,MatrizRequerimientos,8,FALSE)","v":0},{"$f":"+V54*VLOOKUP(U54,MatrizRequerimientos,9,FALSE)","v":0}]
["T",66,null,null,null,"Indicador",null,{"$f":"+VLOOKUP(B56,TablaResumen[],21,0)","v":"Cobertura de Potencia requerida en climatización y ACS"},null,null,null,null,null,null,null,null,null,null,null,null,{"$f":"+CONCATENATE(B55,\".\",6)","v":"66.6"},{"$f":"+AND(Q56>VLOOKUP(U55,MatrizRequerimientos,10,FALSE),Q56<=VLOOKUP(U55,MatrizRequerimientos,11,FALSE))","v":false},{"$f":"+V55*VLOOKUP(U55,MatrizRequerimientos,8,FALSE)","v":0},{"$f":"+V55*VLOOKUP(U55,MatrizRequerimientos,9,FALSE)","v":0}]
["T",66,null,null,null,null,null,null,null,null,null,null,null,{"$f":"+IF(A55=\"N\",CONCATENATE(\"Valor obtenido en proyecto para \",H55),\"Seleccione Nivel de Cumplimiento\")","v":"Seleccione Nivel de Cumplimiento"},null,null,null,null,null,null,{"$f":"+CONCATENATE(B56,\".\",7)","v":"66.7"},{"$f":"+AND(Q56>VLOOKUP(U56,MatrizRequerimientos,10,FALSE),Q56<=VLOOKUP(U56,MatrizRequerimientos,11,FALSE))","v":false},{"$f":"+V56*VLOOKUP(U56,MatrizRequerimientos,8,FALSE)","v":0},{"$f":"+V56*VLOOKUP(U56,MatrizRequerimientos,9,FALSE)","v":0}]
["T",66]
["T",66,null,null,null,"OPCIÓN ",null,{"$f":"CONCATENATE(VLOOKUP(B58,'Resumen requerimientos'!$T$5:$AB$92,5,FALSE), \" de \",VLOOKUP(B58,'Resumen requerimientos'!$T$5:$AB$92,6,FALSE))","v":"1 de 2"},null,null,null,null,null,null,null,null,null,null,null,null,null,null,null,"Of. Y Serv.","Ed. Y Salud"]
["T",66,null,null,null,null,null,null,null,null,null,null,null,null,null,null,null,null,null,null,{"$f":"+CONCATENATE(B59,\".\",4)","v":"66.4"},{"$f":"+VLOOKUP(U59,MatrizRequerimientos,6,FALSE)","v":"Cubre la potencia requerida"},{"$f":"+IF(A56=\"T\",Q56=V59,V53)","v":false},{"$f":"+W59*VLOOKUP(U59,MatrizRequerimientos,8,FALSE)","v":0},{"$f":"+W59*VLOOKUP(U59,MatrizRequerimientos,9,FALSE)","v":0}]
["T",66,null,null,null,{"$f":"+IF(H60=\"No\",\"¿OTROS REQUERIMIENTOS SIMULTÁNEOS?\",\"REQUERIMIENTOS SIMULTANEOS PARA LA OPCION\")","v":"¿OTROS REQUERIMIENTOS SIMULTÁNEOS?"},null,{"$f":"IF(VLOOKUP(B60,'Resumen requerimientos'!$T$5:$AB$92,7,FALSE)=0,\"No\",CONCATENATE(VLOOKUP(B60,'Resumen requerimientos'!$T$5:$AB$92,7,FALSE), \" de \",VLOOKUP(B60,'Resumen requerimientos'!$T$5:$AB$92,8,FALSE)))","v":"No"},null,null,null,null,null,null,null,null,null,null,null,null,{"$f":"+CONCATENATE(B60,\".\",5)","v":"66.5"},{"$f":"+VLOOKUP(U60,MatrizRequerimientos,6,FALSE)","v":"NO Cubre la potencia requerdia"},{"$f":"+IF(A57=\"T\",Q56=V60,V54)","v":false},{"$f":"+W60*VLOOKUP(U60,MatrizRequerimientos,8,FALSE)","v":0},{"$f":"+W60*VLOOKUP(U60,MatrizRequerimientos,9,FALSE)","v":0}]
["T",66,null,null,null,null,null,null,null,null,null,null,null,null,null,null,null,null,null,null,{"$f":"+CONCATENATE(B61,\".\",6)","v":"66.6"},{"$f":"+VLOOKUP(U61,MatrizRequerimientos,6,FALSE)","v":0},{"$f":"+IF(A58=\"T\",Q56=V61,V55)","v":true},{"$f":"+W61*VLOOKUP(U61,MatrizRequerimientos,8,FALSE)","v":0},{"$f":"+W61*VLOOKUP(U61,MatrizRequerimientos,9,FALSE)","v":0}]
["T",66,null,null,null,"REQUERIMIENTO ADICIONAL",null,{"$f":"VLOOKUP(B62,'Resumen requerimientos'!$T$5:$AB$92,9,FALSE)","v":"No"},null,null,null,null,null,null,null,null,null,null,null,null,{"$f":"+CONCATENATE(B62,\".\",7)","v":"66.7"},{"$f":"+VLOOKUP(U62,MatrizRequerimientos,6,FALSE)","v":0},{"$f":"+IF(A59=\"T\",Q56=V62,V56)","v":true},{"$f":"+W62*VLOOKUP(U62,MatrizRequerimientos,8,FALSE)","v":0},{"$f":"+W62*VLOOKUP(U62,MatrizRequerimientos,9,FALSE)","v":0}]
["T",66,null,null,null,null,null,null,null,null,null,null,null,null,null,null,null,null,null,null,null,null,{"$f":"+IF(AND(A59=\"N\",H51=\"Voluntario\"),SUMIF(W59:W62,TRUE,IF(Uso_Edificio=\"Oficinas\",X59:X62,Y59:Y62)),IF(AND(A59=\"T\",H51=\"Obligatorio\"),VLOOKUP(Q56,V59:X62,3,FALSE)=1,W59))","v":false}]
["T",66]
["N",67]
["N",{"$f":"+B65","v":67},null,null,null,"Tipo requerimiento",null,{"$f":"+IF(VLOOKUP(B65,TablaResumen[],4)=\"C\",\"Voluntario\",\"Obligatorio\")","v":"Voluntario"},null,null,null,null,null,null,null,null,null,null,null,null,null,"Puntaje crédito numérico"]
["N",67,null,null,null,null,null,null,null,null,null,null,null,{"$f":"+IF(H66=\"Obligatorio\",\"Cumple Requisito\",\"Puntaje obtenido\")","v":"Puntaje obtenido"},null,null,{"$f":"+IF(H66=\"Obligatorio\",W78,IF(A68=\"N\",IF(Uso_Edificio=\"Oficinas\",SUM(W68:W71),SUM(X68:X71)),IF(Uso_Edificio=\"Oficinas\",SUM(X74:X77),SUM(Y74:Y77))))","v":0},null,null,null,null,"Calificación","Of. Y Serv.","Ed. Y Salud"]
["N",67,null,null,null,"Nombre Requerimiento",null,{"$f":"+VLOOKUP(B70,TablaResumen[],16,0)","v":"Relación de la potencia requerida e instalada"},null,null,null,null,null,null,null,null,{"$f":"+IF(H65=\"Requisito\",W77,IF(#REF!=\"N\",IF(Uso_Edificio=\"Oficinas\",SUM(W67:W70),SUM(X67:X70)),IF(Uso_Edificio=\"Oficinas\",SUM(X73:X76),SUM(Y73:Y76))))","v":{"$error":"#REF!"}},null,null,null,{"$f":"+CONCATENATE(B68,\".\",4)","v":"67.4"},{"$f":"+AND(Q71>VLOOKUP(U68,MatrizRequerimientos,10,FALSE),Q71<=VLOOKUP(U68,MatrizRequerimientos,11,FALSE))","v":false},{"$f":"+V68*VLOOKUP(U68,MatrizRequerimientos,8,FALSE)","v":0},{"$f":"+V68*VLOOKUP(U68,MatrizRequerimientos,9,FALSE)","v":0}]
["N",67,null,null,null,null,null,null,null,null,null,null,null,null,null,null,{"$f":"+IF(H66=\"Requisito\",W78,IF(A65=\"N\",IF(Uso_Edificio=\"Oficinas\",SUM(W68:W71),SUM(X68:X71)),IF(Uso_Edificio=\"Oficinas\",SUM(X74:X77),SUM(Y74:Y77))))","v":0},null,null,null,{"$f":"+CONCATENATE(B69,\".\",5)","v":"67.5"},{"$f":"+AND(Q71>VLOOKUP(U69,MatrizRequerimientos,10,FALSE),Q71<=VLOOKUP(U69,MatrizRequerimientos,11,FALSE))","v":false},{"$f":"+V69*VLOOKUP(U69,MatrizRequerimientos,8,FALSE)","v":0},{"$f":"+V69*VLOOKUP(U69,MatrizRequerimientos,9,FALSE)","v":0}]
["N",67,null,null,null,"Indicador",null,{"$f":"+VLOOKUP(B71,TablaResumen[],21,0)","v":"Sobredimensionamiento de Potencia requerida en calefacción"},null,null,null,null,null,null,null,null,null,null,null,null,{"$f":"+CONCATENATE(B70,\".\",6)","v":"67.6"},{"$f":"+AND(Q71>VLOOKUP(U70,MatrizRequerimientos,10,FALSE),Q71<=VLOOKUP(U70,MatrizRequerimientos,11,FALSE))","v":false},{"$f":"+V70*VLOOKUP(U70,MatrizRequerimientos,8,FALSE)","v":0},{"$f":"+V70*VLOOKUP(U70,MatrizRequerimientos,9,FALSE)","v":0}]
["N",67,null,null,null,null,null,null,null,null,null,null,null,{"$f":"+IF(A70=\"N\",CONCATENATE(\"Valor obtenido en proyecto para \",H70),\"Seleccione Nivel de Cumplimiento\")","v":"Valor obtenido en proyecto para Sobredimensionamiento de Potencia requerida en calefacción"},null,null,null,null,null,null,{"$f":"+CONCATENATE(B71,\".\",7)","v":"67.7"},{"$f":"+AND(Q71>VLOOKUP(U71,MatrizRequerimientos,10,FALSE),Q71<=VLOOKUP(U71,MatrizRequerimientos,11,FALSE))","v":false},{"$f":"+V71*VLOOKUP(U71,MatrizRequerimientos,8,FALSE)","v":0},{"$f":"+V71*VLOOKUP(U71,MatrizRequerimientos,9,FALSE)","v":0}]
["N",67]
["N",67,null,null,null,"OPCIÓN ",null,{"$f":"CONCATENATE(VLOOKUP(B73,'Resumen requerimientos'!$T$5:$AB$92,5,FALSE), \" de \",VLOOKUP(B73,'Resumen requerimientos'!$T$5:$AB$92,6,FALSE))","v":"2 de 2"},null,null,null,null,null,null,null,null,null,null,null,null,null,null,null,"Of. Y Serv.","Ed. Y Salud"]
["N",67,null,null,null,null,null,null,null,null,null,null,null,null,null,null,null,null,null,null,{"$f":"+CONCATENATE(B74,\".\",4)","v":"67.4"},{"$f":"+VLOOKUP(U74,MatrizRequerimientos,6,FALSE)","v":"0%-25%"},{"$f":"+IF(A71=\"T\",Q71=V74,V68)","v":false},{"$f":"+W74*VLOOKUP(U74,MatrizRequerimientos,8,FALSE)","v":0},{"$f":"+W74*VLOOKUP(U74,MatrizRequerimientos,9,FALSE)","v":0}]
["N",67,null,null,null,{"$f":"+IF(H75=\"No\",\"¿OTROS REQUERIMIENTOS SIMULTÁNEOS?\",\"REQUERIMIENTOS SIMULTANEOS PARA LA OPCION\")","v":"REQUERIMIENTOS SIMULTANEOS PARA LA OPCION"},null,{"$f":"IF(VLOOKUP(B75,'Resumen requerimientos'!$T$5:$AB$92,7,FALSE)=0,\"No\",CONCATENATE(VLOOKUP(B75,'Resumen requerimientos'!$T$5:$AB$92,7,FALSE), \" de \",VLOOKUP(B75,'Resumen requerimientos'!$T$5:$AB$92,8,FALSE)))","v":"1 de 2"},null,null,null,null,null,null,null,null,null,null,null,null,{"$f":"+CONCATENATE(B75,\".\",5)","v":"67.5"},{"$f":"+VLOOKUP(U75,MatrizRequerimientos,6,FALSE)","v":"25%-1000%"},{"$f":"+IF(A72=\"T\",Q71=V75,V69)","v":false},{"$f":"+W75*VLOOKUP(U75,MatrizRequerimientos,8,FALSE)","v":0},{"$f":"+W75*VLOOKUP(U75,MatrizRequerimientos,9,FALSE)","v":0}]
["N",67,null,null,null,null,null,null,null,null,null,null,null,null,null,null,null,null,null,null,{"$f":"+CONCATENATE(B76,\".\",6)","v":"67.6"},{"$f":"+VLOOKUP(U76,MatrizRequerimientos,6,FALSE)","v":0},{"$f":"+IF(A73=\"T\",Q71=V76,V70)","v":false},{"$f":"+W76*VLOOKUP(U76,MatrizRequerimientos,8,FALSE)","v":0},{"$f":"+W76*VLOOKUP(U76,MatrizRequerimientos,9,FALSE)","v":0}]
["N",67,null,null,null,"REQUERIMIENTO ADICIONAL",null,{"$f":"VLOOKUP(B77,'Resumen requerimientos'!$T$5:$AB$92,9,FALSE)","v":"Si"},null,null,null,null,null,null,null,null,null,null,null,null,{"$f":"+CONCATENATE(B77,\".\",7)","v":"67.7"},{"$f":"+VLOOKUP(U77,MatrizRequerimientos,6,FALSE)","v":0},{"$f":"+IF(A74=\"T\",Q71=V77,V71)","v":false},{"$f":"+W77*VLOOKUP(U77,MatrizRequerimientos,8,FALSE)","v":0},{"$f":"+W77*VLOOKUP(U77,MatrizRequerimientos,9,FALSE)","v":0}]
["N",67,null,null,null,null,null,null,null,null,null,null,null,null,null,null,null,null,null,null,null,null,{"$f":"+IF(AND(A74=\"N\",H66=\"Voluntario\"),SUMIF(W74:W77,TRUE,IF(Uso_Edificio=\"Oficinas\",X74:X77,Y74:Y77)),IF(AND(A74=\"T\",H66=\"Obligatorio\"),VLOOKUP(Q71,V74:X77,3,FALSE)=1,W74))","v":0}]
["N",67]
["N",68]
["N",{"$f":"+B80","v":68},null,null,null,"Tipo requerimiento",null,{"$f":"+IF(VLOOKUP(B80,TablaResumen[],4)=\"C\",\"Voluntario\",\"Obligatorio\")","v":"Voluntario"},null,null,null,null,null,null,null,null,null,null,null,null,null,"Puntaje crédito numérico"]
["N",68,null,null,null,null,null,null,null,null,null,null,null,{"$f":"+IF(H81=\"Obligatorio\",\"Cumple Requisito\",\"Puntaje obtenido\")","v":"Puntaje obtenido"},null,null,{"$f":"+IF(H81=\"Obligatorio\",W93,IF(A83=\"N\",IF(Uso_Edificio=\"Oficinas\",SUM(W83:W86),SUM(X83:X86)),IF(Uso_Edificio=\"Oficinas\",SUM(X89:X92),SUM(Y89:Y92))))","v":0},null,null,null,null,"Calificación","Of. Y Serv.","Ed. Y Salud"]
["N",68,null,null,null,"Nombre Requerimiento",null,{"$f":"+VLOOKUP(B85,TablaResumen[],16,0)","v":"Relación de la potencia requerida e instalada"},null,null,null,null,null,null,null,null,{"$f":"+IF(H80=\"Requisito\",W92,IF(#REF!=\"N\",IF(Uso_Edificio=\"Oficinas\",SUM(W82:W85),SUM(X82:X85)),IF(Uso_Edificio=\"Oficinas\",SUM(X88:X91),SUM(Y88:Y91))))","v":{"$error":"#REF!"}},null,null,null,{"$f":"+CONCATENATE(B83,\".\",4)","v":"68.4"},{"$f":"+AND(Q86>VLOOKUP(U83,MatrizRequerimientos,10,FALSE),Q86<=VLOOKUP(U83,MatrizRequerimientos,11,FALSE))","v":false},{"$f":"+V83*VLOOKUP(U83,MatrizRequerimientos,8,FALSE)","v":0},{"$f":"+V83*VLOOKUP(U83,MatrizRequerimientos,9,FALSE)","v":0}]
["N",68,null,null,null,null,null,null,null,null,null,null,null,null,null,null,{"$f":"+IF(H81=\"Requisito\",W93,IF(A80=\"N\",IF(Uso_Edificio=\"Oficinas\",SUM(W83:W86),SUM(X83:X86)),IF(Uso_Edificio=\"Oficinas\",SUM(X89:X92),SUM(Y89:Y92))))","v":0},null,null,null,{"$f":"+CONCATENATE(B84,\".\",5)","v":"68.5"},{"$f":"+AND(Q86>VLOOKUP(U84,MatrizRequerimientos,10,FALSE),Q86<=VLOOKUP(U84,MatrizRequerimientos,11,FALSE))","v":false},{"$f":"+V84*VLOOKUP(U84,MatrizRequerimientos,8,FALSE)","v":0},{"$f":"+V84*VLOOKUP(U84,MatrizRequerimientos,9,FALSE)","v":0}]
["N",68,null,null,null,"Indicador",null,{"$f":"+VLOOKUP(B86,TablaResumen[],21,0)","v":"Sobredimensionamiento de Potencia requerida en refrigeración"},null,null,null,null,null,null,null,null,null,null,null,null,{"$f":"+CONCATENATE(B85,\".\",6)","v":"68.6"},{"$f":"+AND(Q86>VLOOKUP(U85,MatrizRequerimientos,10,FALSE),Q86<=VLOOKUP(U85,MatrizRequerimientos,11,FALSE))","v":false},{"$f":"+V85*VLOOKUP(U85,MatrizRequerimientos,8,FALSE)","v":0},{"$f":"+V85*VLOOKUP(U85,MatrizRequerimientos,9,FALSE)","v":0}]
["N",68,null,null,null,null,null,null,null,null,null,null,null,{"$f":"+IF(A85=\"N\",CONCATENATE(\"Valor obtenido en proyecto para \",H85),\"Seleccione Nivel de Cumplimiento\")","v":"Valor obtenido en proyecto para Sobredimensionamiento de Potencia requerida en refrigeración"},null,null,null,null,null,null,{"$f":"+CONCATENATE(B86,\".\",7)","v":"68.7"},{"$f":"+AND(Q86>VLOOKUP(U86,MatrizRequerimientos,10,FALSE),Q86<=VLOOKUP(U86,MatrizRequerimientos,11,FALSE))","v":false},{"$f":"+V86*VLOOKUP(U86,MatrizRequerimientos,8,FALSE)","v":0},{"$f":"+V86*VLOOKUP(U86,MatrizRequerimientos,9,FALSE)","v":0}]
["N",68]
["N",68,null,null,null,"OPCIÓN ",null,{"$f":"CONCATENATE(VLOOKUP(B88,'Resumen requerimientos'!$T$5:$AB$92,5,FALSE), \" de \",VLOOKUP(B88,'Resumen requerimientos'!$T$5:$AB$92,6,FALSE))","v":"2 de 2"},null,null,null,null,null,null,null,null,null,null,null,null,null,null,null,"Of. Y Serv.","Ed. Y Salud"]
["N",68,null,null,null,null,null,null,null,null,null,null,null,null,null,null,null,null,null,null,{"$f":"+CONCATENATE(B89,\".\",4)","v":"68.4"},{"$f":"+VLOOKUP(U89,MatrizRequerimientos,6,FALSE)","v":"0%-15%"},{"$f":"+IF(A86=\"T\",Q86=V89,V83)","v":false},{"$f":"+W89*VLOOKUP(U89,MatrizRequerimientos,8,FALSE)","v":0},{"$f":"+W89*VLOOKUP(U89,MatrizRequerimientos,9,FALSE)","v":0}]
["N",68,null,null,null,{"$f":"+IF(H90=\"No\",\"¿OTROS REQUERIMIENTOS SIMULTÁNEOS?\",\"REQUERIMIENTOS SIMULTANEOS PARA LA OPCION\")","v":"REQUERIMIENTOS SIMULTANEOS PARA LA OPCION"},null,{"$f":"IF(VLOOKUP(B90,'Resumen requerimientos'!$T$5:$AB$92,7,FALSE)=0,\"No\",CONCATENATE(VLOOKUP(B90,'Resumen requerimientos'!$T$5:$AB$92,7,FALSE), \" de \",VLOOKUP(B90,'Resumen requerimientos'!$T$5:$AB$92,8,FALSE)))","v":"2 de 2"},null,null,null,null,null,null,null,null,null,null,null,null,{"$f":"+CONCATENATE(B90,\".\",5)","v":"68.5"},{"$f":"+VLOOKUP(U90,MatrizRequerimientos,6,FALSE)","v":"15%-1000%"},{"$f":"+IF(A87=\"T\",Q86=V90,V84)","v":false},{"$f":"+W90*VLOOKUP(U90,MatrizRequerimientos,8,FALSE)","v":0},{"$f":"+W90*VLOOKUP(U90,MatrizRequerimientos,9,FALSE)","v":0}]
["N",68,null,null,null,null,null,null,null,null,null,null,null,null,null,null,null,null,null,null,{"$f":"+CONCATENATE(B91,\".\",6)","v":"68.6"},{"$f":"+VLOOKUP(U91,MatrizRequerimientos,6,FALSE)","v":0},{"$f":"+IF(A88=\"T\",Q86=V91,V85)","v":false},{"$f":"+W91*VLOOKUP(U91,MatrizRequerimientos,8,FALSE)","v":0},{"$f":"+W91*VLOOKUP(U91,MatrizRequerimientos,9,FALSE)","v":0}]
["N",68,null,null,null,"REQUERIMIENTO ADICIONAL",null,{"$f":"VLOOKUP(B92,'Resumen requerimientos'!$T$5:$AB$92,9,FALSE)","v":"Si"},null,null,null,null,null,null,null,null,null,null,null,null,{"$f":"+CONCATENATE(B92,\".\",7)","v":"68.7"},{"$f":"+VLOOKUP(U92,MatrizRequerimientos,6,FALSE)","v":0},{"$f":"+IF(A89=\"T\",Q86=V92,V86)","v":false},{"$f":"+W92*VLOOKUP(U92,MatrizRequerimientos,8,FALSE)","v":0},{"$f":"+W92*VLOOKUP(U92,MatrizRequerimientos,9,FALSE)","v":0}]
["N",68,null,null,null,null,null,null,null,null,null,null,null,null,null,null,null,null,null,null,null,null,{"$f":"+IF(AND(A89=\"N\",H81=\"Voluntario\"),SUMIF(W89:W92,TRUE,IF(Uso_Edificio=\"Oficinas\",X89:X92,Y89:Y92)),IF(AND(A89=\"T\",H81=\"Obligatorio\"),VLOOKUP(Q86,V89:X92,3,FALSE)=1,W89))","v":0}]
["N",68]
["N",68,null,null,"Volver al índice"]
["N",{"$f":"+IF(F95=\"\",B95+1,B95)","v":69},null,"INST. ENERGIA 16.2 - RENDIMIENTO NOMINAL",null,null,null,null,null,null,null,null,null,null,null,null,null,null,"INST. ENERGIA 16.2 - RENDIMIENTO NOMINAL"]
["N",{"$f":"+B96","v":69},null,null,null,"Tipo requerimiento",null,{"$f":"+IF(VLOOKUP(B96,TablaResumen[],4)=\"C\",\"Voluntario\",\"Obligatorio\")","v":"Voluntario"},null,null,null,null,null,null,null,null,null,null,null,null,null,"Puntaje crédito numérico"]
["N",69,null,null,null,null,null,null,null,null,null,null,null,{"$f":"+IF(H97=\"Obligatorio\",\"Cumple Requisito\",\"Puntaje obtenido\")","v":"Puntaje obtenido"},null,null,{"$f":"+IF(H97=\"Obligatorio\",W109,IF(A99=\"N\",IF(Uso_Edificio=\"Oficinas\",SUM(W99:W102),SUM(X99:X102)),IF(Uso_Edificio=\"Oficinas\",SUM(X105:X108),SUM(Y105:Y108))))","v":0},null,null,null,null,"Calificación","Of. Y Serv.","Ed. Y Salud"]
["N",69,null,null,null,"Nombre Requerimiento",null,{"$f":"+VLOOKUP(B101,TablaResumen[],16,0)","v":"Rendimiento Nominal"},null,null,null,null,null,null,null,null,{"$f":"+IF(H96=\"Requisito\",W108,IF(#REF!=\"N\",IF(Uso_Edificio=\"Oficinas\",SUM(W98:W101),SUM(X98:X101)),IF(Uso_Edificio=\"Oficinas\",SUM(X104:X107),SUM(Y104:Y107))))","v":{"$error":"#REF!"}},null,null,null,{"$f":"+CONCATENATE(B99,\".\",4)","v":"69.4"},{"$f":"+AND(Q102>VLOOKUP(U99,MatrizRequerimientos,10,FALSE),Q102<=VLOOKUP(U99,MatrizRequerimientos,11,FALSE))","v":false},{"$f":"+V99*VLOOKUP(U99,MatrizRequerimientos,8,FALSE)","v":0},{"$f":"+V99*VLOOKUP(U99,MatrizRequerimientos,9,FALSE)","v":0}]
["N",69,null,null,null,null,null,null,null,null,null,null,null,null,null,null,{"$f":"+IF(H97=\"Requisito\",W109,IF(A96=\"N\",IF(Uso_Edificio=\"Oficinas\",SUM(W99:W102),SUM(X99:X102)),IF(Uso_Edificio=\"Oficinas\",SUM(X105:X108),SUM(Y105:Y108))))","v":0},null,null,null,{"$f":"+CONCATENATE(B100,\".\",5)","v":"69.5"},{"$f":"+AND(Q102>VLOOKUP(U100,MatrizRequerimientos,10,FALSE),Q102<=VLOOKUP(U100,MatrizRequerimientos,11,FALSE))","v":false},{"$f":"+V100*VLOOKUP(U100,MatrizRequerimientos,8,FALSE)","v":0},{"$f":"+V100*VLOOKUP(U100,MatrizRequerimientos,9,FALSE)","v":0}]
["N",69,null,null,null,"Indicador",null,{"$f":"+VLOOKUP(B102,TablaResumen[],21,0)","v":"Rendimiento nominal del sistema de calefacción por combustión"},null,null,null,null,null,null,null,null,null,null,null,null,{"$f":"+CONCATENATE(B101,\".\",6)","v":"69.6"},{"$f":"+AND(Q102>VLOOKUP(U101,MatrizRequerimientos,10,FALSE),Q102<=VLOOKUP(U101,MatrizRequerimientos,11,FALSE))","v":false},{"$f":"+V101*VLOOKUP(U101,MatrizRequerimientos,8,FALSE)","v":0},{"$f":"+V101*VLOOKUP(U101,MatrizRequerimientos,9,FALSE)","v":0}]
["N",69,null,null,null,null,null,null,null,null,null,null,null,{"$f":"+IF(A101=\"N\",CONCATENATE(\"Valor obtenido en proyecto para \",H101),\"Seleccione Nivel de Cumplimiento\")","v":"Valor obtenido en proyecto para Rendimiento nominal del sistema de calefacción por combustión"},null,null,null,null,null,null,{"$f":"+CONCATENATE(B102,\".\",7)","v":"69.7"},{"$f":"+AND(Q102>VLOOKUP(U102,MatrizRequerimientos,10,FALSE),Q102<=VLOOKUP(U102,MatrizRequerimientos,11,FALSE))","v":false},{"$f":"+V102*VLOOKUP(U102,MatrizRequerimientos,8,FALSE)","v":0},{"$f":"+V102*VLOOKUP(U102,MatrizRequerimientos,9,FALSE)","v":0}]
["N",69]
["N",69,null,null,null,"OPCIÓN ",null,{"$f":"CONCATENATE(VLOOKUP(B104,'Resumen requerimientos'!$T$5:$AB$92,5,FALSE), \" de \",VLOOKUP(B104,'Resumen requerimientos'!$T$5:$AB$92,6,FALSE))","v":"2 de 3"},null,null,null,null,null,null,null,null,null,null,null,null,null,null,null,"Of. Y Serv.","Ed. Y Salud"]
["N",69,null,null,null,null,null,null,null,null,null,null,null,null,null,null,null,null,null,null,{"$f":"+CONCATENATE(B105,\".\",4)","v":"69.4"},{"$f":"+VLOOKUP(U105,MatrizRequerimientos,6,FALSE)","v":"0,91-1"},{"$f":"+IF(A102=\"T\",Q102=V105,V99)","v":false},{"$f":"+W105*VLOOKUP(U105,MatrizRequerimientos,8,FALSE)","v":0},{"$f":"+W105*VLOOKUP(U105,MatrizRequerimientos,9,FALSE)","v":0}]
["N",69,null,null,null,{"$f":"+IF(H106=\"No\",\"¿OTROS REQUERIMIENTOS SIMULTÁNEOS?\",\"REQUERIMIENTOS SIMULTANEOS PARA LA OPCION\")","v":"¿OTROS REQUERIMIENTOS SIMULTÁNEOS?"},null,{"$f":"IF(VLOOKUP(B106,'Resumen requerimientos'!$T$5:$AB$92,7,FALSE)=0,\"No\",CONCATENATE(VLOOKUP(B106,'Resumen requerimientos'!$T$5:$AB$92,7,FALSE), \" de \",VLOOKUP(B106,'Resumen requerimientos'!$T$5:$AB$92,8,FALSE)))","v":"No"},null,null,null,null,null,null,null,null,null,null,null,null,{"$f":"+CONCATENATE(B106,\".\",5)","v":"69.5"},{"$f":"+VLOOKUP(U106,MatrizRequerimientos,6,FALSE)","v":"0,88-0,91"},{"$f":"+IF(A103=\"T\",Q102=V106,V100)","v":false},{"$f":"+W106*VLOOKUP(U106,MatrizRequerimientos,8,FALSE)","v":0},{"$f":"+W106*VLOOKUP(U106,MatrizRequerimientos,9,FALSE)","v":0}]
["N",69,null,null,null,null,null,null,null,null,null,null,null,null,null,null,null,null,null,null,{"$f":"+CONCATENATE(B107,\".\",6)","v":"69.6"},{"$f":"+VLOOKUP(U107,MatrizRequerimientos,6,FALSE)","v":"0,85-0,88"},{"$f":"+IF(A104=\"T\",Q102=V107,V101)","v":false},{"$f":"+W107*VLOOKUP(U107,MatrizRequerimientos,8,FALSE)","v":0},{"$f":"+W107*VLOOKUP(U107,MatrizRequerimientos,9,FALSE)","v":0}]
["N",69,null,null,null,"REQUERIMIENTO ADICIONAL",null,{"$f":"VLOOKUP(B108,'Resumen requerimientos'!$T$5:$AB$92,9,FALSE)","v":"No"},null,null,null,null,null,null,null,null,null,null,null,null,{"$f":"+CONCATENATE(B108,\".\",7)","v":"69.7"},{"$f":"+VLOOKUP(U108,MatrizRequerimientos,6,FALSE)","v":0},{"$f":"+IF(A105=\"T\",Q102=V108,V102)","v":false},{"$f":"+W108*VLOOKUP(U108,MatrizRequerimientos,8,FALSE)","v":0},{"$f":"+W108*VLOOKUP(U108,MatrizRequerimientos,9,FALSE)","v":0}]
["N",69,null,null,null,null,null,null,null,null,null,null,null,null,null,null,null,null,null,null,null,null,{"$f":"+IF(AND(A105=\"N\",H97=\"Voluntario\"),SUMIF(W105:W108,TRUE,IF(Uso_Edificio=\"Oficinas\",X105:X108,Y105:Y108)),IF(AND(A105=\"T\",H97=\"Obligatorio\"),VLOOKUP(Q102,V105:X108,3,FALSE)=1,W105))","v":0}]
["N",69]
["T",70]
["T",{"$f":"+B111","v":70},null,null,null,"Tipo requerimiento",null,{"$f":"+IF(VLOOKUP(B111,TablaResumen[],4)=\"C\",\"Voluntario\",\"Obligatorio\")","v":"Voluntario"},null,null,null,null,null,null,null,null,null,null,null,null,null,"Puntaje crédito numérico"]
["T",70,null,null,null,null,null,null,null,null,null,null,null,{"$f":"+IF(H112=\"Obligatorio\",\"Cumple Requisito\",\"Puntaje obtenido\")","v":"Puntaje obtenido"},null,null,{"$f":"+IF(H112=\"Obligatorio\",W124,IF(A114=\"N\",IF(Uso_Edificio=\"Oficinas\",SUM(W114:W117),SUM(X114:X117)),IF(Uso_Edificio=\"Oficinas\",SUM(X120:X123),SUM(Y120:Y123))))","v":0},null,null,null,null,"Calificación","Of. Y Serv.","Ed. Y Salud"]
["T",70,null,null,null,"Nombre Requerimiento",null,{"$f":"+VLOOKUP(B116,TablaResumen[],16,0)","v":"Rendimiento Nominal"},null,null,null,null,null,null,null,null,{"$f":"+IF(H111=\"Requisito\",W123,IF(#REF!=\"N\",IF(Uso_Edificio=\"Oficinas\",SUM(W113:W116),SUM(X113:X116)),IF(Uso_Edificio=\"Oficinas\",SUM(X119:X122),SUM(Y119:Y122))))","v":{"$error":"#REF!"}},null,null,null,{"$f":"+CONCATENATE(B114,\".\",4)","v":"70.4"},{"$f":"+AND(Q117>VLOOKUP(U114,MatrizRequerimientos,10,FALSE),Q117<=VLOOKUP(U114,MatrizRequerimientos,11,FALSE))","v":false},{"$f":"+V114*VLOOKUP(U114,MatrizRequerimientos,8,FALSE)","v":0},{"$f":"+V114*VLOOKUP(U114,MatrizRequerimientos,9,FALSE)","v":0}]
["T",70,null,null,null,null,null,null,null,null,null,null,null,null,null,null,{"$f":"+IF(H112=\"Requisito\",W124,IF(A111=\"N\",IF(Uso_Edificio=\"Oficinas\",SUM(W114:W117),SUM(X114:X117)),IF(Uso_Edificio=\"Oficinas\",SUM(X120:X123),SUM(Y120:Y123))))","v":0},null,null,null,{"$f":"+CONCATENATE(B115,\".\",5)","v":"70.5"},{"$f":"+AND(Q117>VLOOKUP(U115,MatrizRequerimientos,10,FALSE),Q117<=VLOOKUP(U115,MatrizRequerimientos,11,FALSE))","v":false},{"$f":"+V115*VLOOKUP(U115,MatrizRequerimientos,8,FALSE)","v":0},{"$f":"+V115*VLOOKUP(U115,MatrizRequerimientos,9,FALSE)","v":0}]
["T",70,null,null,null,"Indicador",null,{"$f":"+VLOOKUP(B117,TablaResumen[],21,0)","v":"Rendimiento nominal del sistema de calefacción y enfriamiento por electricidad"},null,null,null,null,null,null,null,null,null,null,null,null,{"$f":"+CONCATENATE(B116,\".\",6)","v":"70.6"},{"$f":"+AND(Q117>VLOOKUP(U116,MatrizRequerimientos,10,FALSE),Q117<=VLOOKUP(U116,MatrizRequerimientos,11,FALSE))","v":false},{"$f":"+V116*VLOOKUP(U116,MatrizRequerimientos,8,FALSE)","v":0},{"$f":"+V116*VLOOKUP(U116,MatrizRequerimientos,9,FALSE)","v":0}]
["T",70,null,null,null,null,null,null,null,null,null,null,null,{"$f":"+IF(A116=\"N\",CONCATENATE(\"Valor obtenido en proyecto para \",H116),\"Seleccione Nivel de Cumplimiento\")","v":"Seleccione Nivel de Cumplimiento"},null,null,null,null,null,null,{"$f":"+CONCATENATE(B117,\".\",7)","v":"70.7"},{"$f":"+AND(Q117>VLOOKUP(U117,MatrizRequerimientos,10,FALSE),Q117<=VLOOKUP(U117,MatrizRequerimientos,11,FALSE))","v":false},{"$f":"+V117*VLOOKUP(U117,MatrizRequerimientos,8,FALSE)","v":0},{"$f":"+V117*VLOOKUP(U117,MatrizRequerimientos,9,FALSE)","v":0}]
["T",70]
["T",70,null,null,null,"OPCIÓN ",null,{"$f":"CONCATENATE(VLOOKUP(B119,'Resumen requerimientos'!$T$5:$AB$92,5,FALSE), \" de \",VLOOKUP(B119,'Resumen requerimientos'!$T$5:$AB$92,6,FALSE))","v":"3 de 3"},null,null,null,null,null,null,null,null,null,null,null,null,null,null,null,"Of. Y Serv.","Ed. Y Salud"]
["T",70,null,null,null,null,null,null,null,null,null,null,null,null,null,null,null,null,null,null,{"$f":"+CONCATENATE(B120,\".\",4)","v":"70.4"},{"$f":"+VLOOKUP(U120,MatrizRequerimientos,6,FALSE)","v":"Supera en 25% la tabla 14"},{"$f":"+IF(A117=\"T\",Q117=V120,V114)","v":false},{"$f":"+W120*VLOOKUP(U120,MatrizRequerimientos,8,FALSE)","v":0},{"$f":"+W120*VLOOKUP(U120,MatrizRequerimientos,9,FALSE)","v":0}]
["T",70,null,null,null,{"$f":"+IF(H121=\"No\",\"¿OTROS REQUERIMIENTOS SIMULTÁNEOS?\",\"REQUERIMIENTOS SIMULTANEOS PARA LA OPCION\")","v":"¿OTROS REQUERIMIENTOS SIMULTÁNEOS?"},null,{"$f":"IF(VLOOKUP(B121,'Resumen requerimientos'!$T$5:$AB$92,7,FALSE)=0,\"No\",CONCATENATE(VLOOKUP(B121,'Resumen requerimientos'!$T$5:$AB$92,7,FALSE), \" de \",VLOOKUP(B121,'Resumen requerimientos'!$T$5:$AB$92,8,FALSE)))","v":"No"},null,null,null,null,null,null,null,null,null,null,null,null,{"$f":"+CONCATENATE(B121,\".\",5)","v":"70.5"},{"$f":"+VLOOKUP(U121,MatrizRequerimientos,6,FALSE)","v":"Igual o superior la tabla 14"},{"$f":"+IF(A118=\"T\",Q117=V121,V115)","v":false},{"$f":"+W121*VLOOKUP(U121,MatrizRequerimientos,8,FALSE)","v":0},{"$f":"+W121*VLOOKUP(U121,MatrizRequerimientos,9,FALSE)","v":0}]
["T",70,null,null,null,null,null,null,null,null,null,null,null,null,null,null,null,null,null,null,{"$f":"+CONCATENATE(B122,\".\",6)","v":"70.6"},{"$f":"+VLOOKUP(U122,MatrizRequerimientos,6,FALSE)","v":"≥ 2,8 y < a la tabla 14"},{"$f":"+IF(A119=\"T\",Q117=V122,V116)","v":false},{"$f":"+W122*VLOOKUP(U122,MatrizRequerimientos,8,FALSE)","v":0},{"$f":"+W122*VLOOKUP(U122,MatrizRequerimientos,9,FALSE)","v":0}]
["T",70,null,null,null,"REQUERIMIENTO ADICIONAL",null,{"$f":"VLOOKUP(B123,'Resumen requerimientos'!$T$5:$AB$92,9,FALSE)","v":"No"},null,null,null,null,null,null,null,null,null,null,null,null,{"$f":"+CONCATENATE(B123,\".\",7)","v":"70.7"},{"$f":"+VLOOKUP(U123,MatrizRequerimientos,6,FALSE)","v":0},{"$f":"+IF(A120=\"T\",Q117=V123,V117)","v":true},{"$f":"+W123*VLOOKUP(U123,MatrizRequerimientos,8,FALSE)","v":0},{"$f":"+W123*VLOOKUP(U123,MatrizRequerimientos,9,FALSE)","v":0}]
["T",70,null,null,null,null,null,null,null,null,null,null,null,null,null,null,null,null,null,null,null,null,{"$f":"+IF(AND(A120=\"N\",H112=\"Voluntario\"),SUMIF(W120:W123,TRUE,IF(Uso_Edificio=\"Oficinas\",X120:X123,Y120:Y123)),IF(AND(A120=\"T\",H112=\"Obligatorio\"),VLOOKUP(Q117,V120:X123,3,FALSE)=1,W120))","v":false}]
["T",70]
["T",70,null,null,"Volver al índice"]
["N",76,null,"INST.ENERGIA 17 - OTROS CONSUMOS DE ENERGÍA",null,null,null,null,null,null,null,null,null,null,null,null,null,null,"INST.ENERGIA 17 - OTROS CONSUMOS DE ENERGÍA"]
["N",{"$f":"+B127","v":76},null,null,null,"Tipo requerimiento",null,{"$f":"+IF(VLOOKUP(B127,TablaResumen[],4)=\"C\",\"Voluntario\",\"Obligatorio\")","v":"Voluntario"},null,null,null,null,null,null,null,null,null,null,null,null,null,"Puntaje crédito numérico"]
["N",76,null,null,null,null,null,null,null,null,null,null,null,{"$f":"+IF(H128=\"Obligatorio\",\"Cumple Requisito\",\"Puntaje obtenido\")","v":"Puntaje obtenido"},null,null,{"$f":"+IF(H128=\"Obligatorio\",W140,IF(A130=\"N\",IF(Uso_Edificio=\"Oficinas\",SUM(W130:W133),SUM(X130:X133)),IF(Uso_Edificio=\"Oficinas\",SUM(X136:X139),SUM(Y136:Y139))))","v":0},null,null,null,null,"Calificación","Of. Y Serv.","Ed. Y Salud"]
["N",76,null,null,null,"Nombre Requerimiento",null,{"$f":"+VLOOKUP(B132,TablaResumen[],16,0)","v":"Otros consumos de energía"},null,null,null,null,null,null,null,null,{"$f":"+IF(H127=\"Requisito\",W139,IF(#REF!=\"N\",IF(Uso_Edificio=\"Oficinas\",SUM(W129:W132),SUM(X129:X132)),IF(Uso_Edificio=\"Oficinas\",SUM(X135:X138),SUM(Y135:Y138))))","v":{"$error":"#REF!"}},null,null,null,{"$f":"+CONCATENATE(B130,\".\",4)","v":"76.4"},{"$f":"+AND(Q133>VLOOKUP(U130,MatrizRequerimientos,10,FALSE),Q133<=VLOOKUP(U130,MatrizRequerimientos,11,FALSE))","v":false},{"$f":"+V130*VLOOKUP(U130,MatrizRequerimientos,8,FALSE)","v":0},{"$f":"+V130*VLOOKUP(U130,MatrizRequerimientos,9,FALSE)","v":0}]
["N",76,null,null,null,null,null,null,null,null,null,null,null,null,null,null,{"$f":"+IF(H128=\"Requisito\",W140,IF(A127=\"N\",IF(Uso_Edificio=\"Oficinas\",SUM(W130:W133),SUM(X130:X133)),IF(Uso_Edificio=\"Oficinas\",SUM(X136:X139),SUM(Y136:Y139))))","v":0},null,null,null,{"$f":"+CONCATENATE(B131,\".\",5)","v":"76.5"},{"$f":"+AND(Q133>VLOOKUP(U131,MatrizRequerimientos,10,FALSE),Q133<=VLOOKUP(U131,MatrizRequerimientos,11,FALSE))","v":false},{"$f":"+V131*VLOOKUP(U131,MatrizRequerimientos,8,FALSE)","v":0},{"$f":"+V131*VLOOKUP(U131,MatrizRequerimientos,9,FALSE)","v":0}]
["N",76,null,null,null,"Indicador",null,{"$f":"+VLOOKUP(B133,TablaResumen[],21,0)","v":"% de reducción del consumo estimado de energía de equipos y artefactos"},null,null,null,null,null,null,null,null,null,null,null,null,{"$f":"+CONCATENATE(B132,\".\",6)","v":"76.6"},{"$f":"+AND(Q133>VLOOKUP(U132,MatrizRequerimientos,10,FALSE),Q133<=VLOOKUP(U132,MatrizRequerimientos,11,FALSE))","v":false},{"$f":"+V132*VLOOKUP(U132,MatrizRequerimientos,8,FALSE)","v":0},{"$f":"+V132*VLOOKUP(U132,MatrizRequerimientos,9,FALSE)","v":0}]
["N",76,null,null,null,null,null,null,null,null,null,null,null,{"$f":"+IF(A132=\"N\",CONCATENATE(\"Valor obtenido en proyecto para \",H132),\"Seleccione Nivel de Cumplimiento\")","v":"Valor obtenido en proyecto para % de reducción del consumo estimado de energía de equipos y artefactos"},null,null,null,null,null,null,{"$f":"+CONCATENATE(B133,\".\",7)","v":"76.7"},{"$f":"+AND(Q133>VLOOKUP(U133,MatrizRequerimientos,10,FALSE),Q133<=VLOOKUP(U133,MatrizRequerimientos,11,FALSE))","v":false},{"$f":"+V133*VLOOKUP(U133,MatrizRequerimientos,8,FALSE)","v":0},{"$f":"+V133*VLOOKUP(U133,MatrizRequerimientos,9,FALSE)","v":0}]
["N",76]
["N",76,null,null,null,"OPCIÓN ",null,{"$f":"CONCATENATE(VLOOKUP(B135,'Resumen requerimientos'!$T$5:$AB$92,5,FALSE), \" de \",VLOOKUP(B135,'Resumen requerimientos'!$T$5:$AB$92,6,FALSE))","v":"2 de 2"},null,null,null,null,null,null,null,null,null,null,null,null,null,null,null,"Of. Y Serv.","Ed. Y Salud"]
["N",76,null,null,null,null,null,null,null,null,null,null,null,null,null,null,null,null,null,null,{"$f":"+CONCATENATE(B136,\".\",4)","v":"76.4"},{"$f":"+VLOOKUP(U136,MatrizRequerimientos,6,FALSE)","v":"29,999%-100%"},{"$f":"+IF(A133=\"T\",Q133=V136,V130)","v":false},{"$f":"+W136*VLOOKUP(U136,MatrizRequerimientos,8,FALSE)","v":0},{"$f":"+W136*VLOOKUP(U136,MatrizRequerimientos,9,FALSE)","v":0}]
["N",76,null,null,null,{"$f":"+IF(H137=\"No\",\"¿OTROS REQUERIMIENTOS SIMULTÁNEOS?\",\"REQUERIMIENTOS SIMULTANEOS PARA LA OPCION\")","v":"¿OTROS REQUERIMIENTOS SIMULTÁNEOS?"},null,{"$f":"IF(VLOOKUP(B137,'Resumen requerimientos'!$T$5:$AB$92,7,FALSE)=0,\"No\",CONCATENATE(VLOOKUP(B137,'Resumen requerimientos'!$T$5:$AB$92,7,FALSE), \" de \",VLOOKUP(B137,'Resumen requerimientos'!$T$5:$AB$92,8,FALSE)))","v":"No"},null,null,null,null,null,null,null,null,null,null,null,null,{"$f":"+CONCATENATE(B137,\".\",5)","v":"76.5"},{"$f":"+VLOOKUP(U137,MatrizRequerimientos,6,FALSE)","v":"14,999%-29,999%"},{"$f":"+IF(A134=\"T\",Q133=V137,V131)","v":false},{"$f":"+W137*VLOOKUP(U137,MatrizRequerimientos,8,FALSE)","v":0},{"$f":"+W137*VLOOKUP(U137,MatrizRequerimientos,9,FALSE)","v":0}]
["N",76,null,null,null,null,null,null,null,null,null,null,null,null,null,null,null,null,null,null,{"$f":"+CONCATENATE(B138,\".\",6)","v":"76.6"},{"$f":"+VLOOKUP(U138,MatrizRequerimientos,6,FALSE)","v":0},{"$f":"+IF(A135=\"T\",Q133=V138,V132)","v":false},{"$f":"+W138*VLOOKUP(U138,MatrizRequerimientos,8,FALSE)","v":0},{"$f":"+W138*VLOOKUP(U138,MatrizRequerimientos,9,FALSE)","v":0}]
["N",76,null,null,null,"REQUERIMIENTO ADICIONAL",null,{"$f":"VLOOKUP(B139,'Resumen requerimientos'!$T$5:$AB$92,9,FALSE)","v":"No"},null,null,null,null,null,null,null,null,null,null,null,null,{"$f":"+CONCATENATE(B139,\".\",7)","v":"76.7"},{"$f":"+VLOOKUP(U139,MatrizRequerimientos,6,FALSE)","v":0},{"$f":"+IF(A136=\"T\",Q133=V139,V133)","v":false},{"$f":"+W139*VLOOKUP(U139,MatrizRequerimientos,8,FALSE)","v":0},{"$f":"+W139*VLOOKUP(U139,MatrizRequerimientos,9,FALSE)","v":0}]
["N",76,null,null,null,null,null,null,null,null,null,null,null,null,null,null,null,null,null,null,null,null,{"$f":"+IF(AND(A136=\"N\",H128=\"Voluntario\"),SUMIF(W136:W139,TRUE,IF(Uso_Edificio=\"Oficinas\",X136:X139,Y136:Y139)),IF(AND(A136=\"T\",H128=\"Obligatorio\"),VLOOKUP(Q133,V136:X139,3,FALSE)=1,W136))","v":0}]
["N",76]
["N",76,null,null,"Volver al índice"]
["N",78,null,"INST.ENERGIA 18 - ENERGÍA RENOVABLE NO CONVENCIONAL",null,null,null,null,null,null,null,null,null,null,null,null,null,null,"INST.ENERGIA 18 - ENERGÍA RENOVABLE NO CONVENCIONAL"]
["N",{"$f":"+B143","v":78},null,null,null,"Tipo requerimiento",null,{"$f":"+IF(VLOOKUP(B143,TablaResumen[],4)=\"C\",\"Voluntario\",\"Obligatorio\")","v":"Voluntario"},null,null,null,null,null,null,null,null,null,null,null,null,null,"Puntaje crédito numérico"]
["N",78,null,null,null,null,null,null,null,null,null,null,null,{"$f":"+IF(H144=\"Obligatorio\",\"Cumple Requisito\",\"Puntaje obtenido\")","v":"Puntaje obtenido"},null,null,{"$f":"+IF(H144=\"Obligatorio\",W156,IF(A146=\"N\",IF(Uso_Edificio=\"Oficinas\",SUM(W146:W149),SUM(X146:X149)),IF(Uso_Edificio=\"Oficinas\",SUM(X152:X155),SUM(Y152:Y155))))","v":0},null,null,null,null,"Calificación","Of. Y Serv.","Ed. Y Salud"]
["N",78,null,null,null,"Nombre Requerimiento",null,{"$f":"+VLOOKUP(B148,TablaResumen[],16,0)","v":"Energía renovable no convencional"},null,null,null,null,null,null,null,null,{"$f":"+IF(H143=\"Requisito\",W155,IF(#REF!=\"N\",IF(Uso_Edificio=\"Oficinas\",SUM(W145:W148),SUM(X145:X148)),IF(Uso_Edificio=\"Oficinas\",SUM(X151:X154),SUM(Y151:Y154))))","v":{"$error":"#REF!"}},null,null,null,{"$f":"+CONCATENATE(B146,\".\",4)","v":"78.4"},{"$f":"+AND(Q149>VLOOKUP(U146,MatrizRequerimientos,10,FALSE),Q149<=VLOOKUP(U146,MatrizRequerimientos,11,FALSE))","v":false},{"$f":"+V146*VLOOKUP(U146,MatrizRequerimientos,8,FALSE)","v":0},{"$f":"+V146*VLOOKUP(U146,MatrizRequerimientos,9,FALSE)","v":0}]
["N",78,null,null,null,null,null,null,null,null,null,null,null,null,null,null,{"$f":"+IF(H144=\"Requisito\",W156,IF(A143=\"N\",IF(Uso_Edificio=\"Oficinas\",SUM(W146:W149),SUM(X146:X149)),IF(Uso_Edificio=\"Oficinas\",SUM(X152:X155),SUM(Y152:Y155))))","v":0},null,null,null,{"$f":"+CONCATENATE(B147,\".\",5)","v":"78.5"},{"$f":"+AND(Q149>VLOOKUP(U147,MatrizRequerimientos,10,FALSE),Q149<=VLOOKUP(U147,MatrizRequerimientos,11,FALSE))","v":false},{"$f":"+V147*VLOOKUP(U147,MatrizRequerimientos,8,FALSE)","v":0},{"$f":"+V147*VLOOKUP(U147,MatrizRequerimientos,9,FALSE)","v":0}]
["N",78,null,null,null,"Indicador",null,{"$f":"+VLOOKUP(B149,TablaResumen[],21,0)","v":"Cobertura de demanda de energía primaria del edificio"},null,null,null,null,null,null,null,null,null,null,null,null,{"$f":"+CONCATENATE(B148,\".\",6)","v":"78.6"},{"$f":"+AND(Q149>VLOOKUP(U148,MatrizRequerimientos,10,FALSE),Q149<=VLOOKUP(U148,MatrizRequerimientos,11,FALSE))","v":false},{"$f":"+V148*VLOOKUP(U148,MatrizRequerimientos,8,FALSE)","v":0},{"$f":"+V148*VLOOKUP(U148,MatrizRequerimientos,9,FALSE)","v":0}]
["N",78,null,null,null,null,null,null,null,null,null,null,null,{"$f":"+IF(A148=\"N\",CONCATENATE(\"Valor obtenido en proyecto para \",H148),\"Seleccione Nivel de Cumplimiento\")","v":"Valor obtenido en proyecto para Cobertura de demanda de energía primaria del edificio"},null,null,null,null,null,null,{"$f":"+CONCATENATE(B149,\".\",7)","v":"78.7"},{"$f":"+AND(Q149>VLOOKUP(U149,MatrizRequerimientos,10,FALSE),Q149<=VLOOKUP(U149,MatrizRequerimientos,11,FALSE))","v":false},{"$f":"+V149*VLOOKUP(U149,MatrizRequerimientos,8,FALSE)","v":0},{"$f":"+V149*VLOOKUP(U149,MatrizRequerimientos,9,FALSE)","v":0}]
["N",78]
["N",78,null,null,null,"OPCIÓN ",null,{"$f":"CONCATENATE(VLOOKUP(B151,'Resumen requerimientos'!$T$5:$AB$92,5,FALSE), \" de \",VLOOKUP(B151,'Resumen requerimientos'!$T$5:$AB$92,6,FALSE))","v":"1 de 1"},null,null,null,null,null,null,null,null,null,null,null,null,null,null,null,"Of. Y Serv.","Ed. Y Salud"]
["N",78,null,null,null,null,null,null,null,null,null,null,null,null,null,null,null,null,null,null,{"$f":"+CONCATENATE(B152,\".\",4)","v":"78.4"},{"$f":"+VLOOKUP(U152,MatrizRequerimientos,6,FALSE)","v":"9,999%-100%"},{"$f":"+IF(A149=\"T\",Q149=V152,V146)","v":false},{"$f":"+W152*VLOOKUP(U152,MatrizRequerimientos,8,FALSE)","v":0},{"$f":"+W152*VLOOKUP(U152,MatrizRequerimientos,9,FALSE)","v":0}]
["N",78,null,null,null,{"$f":"+IF(H153=\"No\",\"¿OTROS REQUERIMIENTOS SIMULTÁNEOS?\",\"REQUERIMIENTOS SIMULTANEOS PARA LA OPCION\")","v":"¿OTROS REQUERIMIENTOS SIMULTÁNEOS?"},null,{"$f":"IF(VLOOKUP(B153,'Resumen requerimientos'!$T$5:$AB$92,7,FALSE)=0,\"No\",CONCATENATE(VLOOKUP(B153,'Resumen requerimientos'!$T$5:$AB$92,7,FALSE), \" de \",VLOOKUP(B153,'Resumen requerimientos'!$T$5:$AB$92,8,FALSE)))","v":"No"},null,null,null,null,null,null,null,null,null,null,null,null,{"$f":"+CONCATENATE(B153,\".\",5)","v":"78.5"},{"$f":"+VLOOKUP(U153,MatrizRequerimientos,6,FALSE)","v":"4,999%-9,999%"},{"$f":"+IF(A150=\"T\",Q149=V153,V147)","v":false},{"$f":"+W153*VLOOKUP(U153,MatrizRequerimientos,8,FALSE)","v":0},{"$f":"+W153*VLOOKUP(U153,MatrizRequerimientos,9,FALSE)","v":0}]
["N",78,null,null,null,null,null,null,null,null,null,null,null,null,null,null,null,null,null,null,{"$f":"+CONCATENATE(B154,\".\",6)","v":"78.6"},{"$f":"+VLOOKUP(U154,MatrizRequerimientos,6,FALSE)","v":"1,999%-4,999%"},{"$f":"+IF(A151=\"T\",Q149=V154,V148)","v":false},{"$f":"+W154*VLOOKUP(U154,MatrizRequerimientos,8,FALSE)","v":0},{"$f":"+W154*VLOOKUP(U154,MatrizRequerimientos,9,FALSE)","v":0}]
["N",78,null,null,null,"REQUERIMIENTO ADICIONAL",null,{"$f":"VLOOKUP(B155,'Resumen requerimientos'!$T$5:$AB$92,9,FALSE)","v":"No"},null,null,null,null,null,null,null,null,null,null,null,null,{"$f":"+CONCATENATE(B155,\".\",7)","v":"78.7"},{"$f":"+VLOOKUP(U155,MatrizRequerimientos,6,FALSE)","v":"0%-1,999%"},{"$f":"+IF(A152=\"T\",Q149=V155,V149)","v":false},{"$f":"+W155*VLOOKUP(U155,MatrizRequerimientos,8,FALSE)","v":0},{"$f":"+W155*VLOOKUP(U155,MatrizRequerimientos,9,FALSE)","v":0}]
["N",78,null,null,null,null,null,null,null,null,null,null,null,null,null,null,null,null,null,null,null,null,{"$f":"+IF(AND(A152=\"N\",H144=\"Voluntario\"),SUMIF(W152:W155,TRUE,IF(Uso_Edificio=\"Oficinas\",X152:X155,Y152:Y155)),IF(AND(A152=\"T\",H144=\"Obligatorio\"),VLOOKUP(Q149,V152:X155,3,FALSE)=1,W152))","v":0}]
["N",78]
["N",78,null,null,"Volver al índice"]

{"sheet":"Evaluacion INST.AGUA Voluntario","index":20,"n_rows":49,"n_cols":25,"rows_kept":49,"cut":false,"hidden":false,"merged":[[18,21,18,23],[20,5,21,6],[20,7,21,11],[19,13,21,15],[19,16,21,16],[17,18,31,18],[18,5,19,6],[18,7,19,11],[31,5,31,11],[24,5,24,6],[24,7,24,11],[25,5,26,6],[25,7,26,11],[27,5,28,6],[27,7,28,11],[22,5,23,6],[1,18,15,18],[2,5,3,6],[2,7,3,11],[2,21,2,23],[4,5,5,6],[4,7,5,11],[6,5,7,6],[6,7,7,11],[3,13,5,15],[13,7,14,11],[3,16,5,16],[7,13,14,15],[7,16,14,16],[23,16,30,16],[23,13,30,15],[29,5,30,6],[22,7,23,11],[34,21,34,23],[35,13,37,15],[35,16,37,16],[33,18,47,18],[34,5,35,6],[34,7,35,11],[38,5,39,6],[47,5,47,11],[38,7,39,11],[39,13,46,15],[39,16,46,16],[45,7,46,11],[40,5,40,6],[40,7,40,11],[41,7,42,11],[43,7,44,11],[36,5,37,6],[0,4,0,5],[16,4,16,5],[32,4,32,5],[29,7,30,11],[15,5,15,11],[8,5,8,6],[8,7,8,11],[9,5,10,6],[9,7,10,11],[11,5,12,6],[11,7,12,11],[13,5,14,6],[1,3,15,3],[41,5,42,6],[43,5,44,6],[36,7,37,11],[48,4,48,5],[33,3,47,3],[45,5,46,6],[17,3,31,3]]}
["Texto/Número","Nº requisito",null,null,"Volver al índice"]
["N",79,null,"INST.AGUA 19.1 - SISTEMAS EFICIENTES",null,null,null,null,null,null,null,null,null,null,null,null,null,null,"INST.AGUA 19.1 - SISTEMAS EFICIENTES"]
["N",{"$f":"+B2","v":79},null,null,null,"Tipo requerimiento",null,{"$f":"+IF(VLOOKUP(B2,TablaResumen[],4)=\"C\",\"Voluntario\",\"Obligatorio\")","v":"Voluntario"},null,null,null,null,null,null,null,null,null,null,null,null,null,"Puntaje crédito numérico"]
["N",79,null,null,null,null,null,null,null,null,null,null,null,{"$f":"+IF(H3=\"Obligatorio\",\"Cumple Requisito\",\"Puntaje obtenido\")","v":"Puntaje obtenido"},null,null,{"$f":"+IF(H3=\"Obligatorio\",W15,IF(A5=\"N\",IF(Uso_Edificio=\"Oficinas\",SUM(W5:W8),SUM(X5:X8)),IF(Uso_Edificio=\"Oficinas\",SUM(X11:X14),SUM(Y11:Y14))))","v":0},null,null,null,null,"Calificación","Of. Y Serv.","Ed. Y Salud"]
["N",79,null,null,null,"Nombre Requerimiento",null,{"$f":"+VLOOKUP(B7,TablaResumen[],16,0)","v":"Sistemas eficientes"},null,null,null,null,null,null,null,null,{"$f":"+IF(H2=\"Requisito\",W14,IF(#REF!=\"N\",IF(Uso_Edificio=\"Oficinas\",SUM(W4:W7),SUM(X4:X7)),IF(Uso_Edificio=\"Oficinas\",SUM(X10:X13),SUM(Y10:Y13))))","v":{"$error":"#REF!"}},null,null,null,{"$f":"+CONCATENATE(B5,\".\",4)","v":"79.4"},{"$f":"+AND(Q8>VLOOKUP(U5,MatrizRequerimientos,10,FALSE),Q8<=VLOOKUP(U5,MatrizRequerimientos,11,FALSE))","v":false},{"$f":"+V5*VLOOKUP(U5,MatrizRequerimientos,8,FALSE)","v":0},{"$f":"+V5*VLOOKUP(U5,MatrizRequerimientos,9,FALSE)","v":0}]
["N",79,null,null,null,null,null,null,null,null,null,null,null,null,null,null,{"$f":"+IF(H3=\"Requisito\",W15,IF(A2=\"N\",IF(Uso_Edificio=\"Oficinas\",SUM(W5:W8),SUM(X5:X8)),IF(Uso_Edificio=\"Oficinas\",SUM(X11:X14),SUM(Y11:Y14))))","v":0},null,null,null,{"$f":"+CONCATENATE(B6,\".\",5)","v":"79.5"},{"$f":"+AND(Q8>VLOOKUP(U6,MatrizRequerimientos,10,FALSE),Q8<=VLOOKUP(U6,MatrizRequerimientos,11,FALSE))","v":false},{"$f":"+V6*VLOOKUP(U6,MatrizRequerimientos,8,FALSE)","v":0},{"$f":"+V6*VLOOKUP(U6,MatrizRequerimientos,9,FALSE)","v":0}]
["N",79,null,null,null,"Indicador",null,{"$f":"+VLOOKUP(B8,TablaResumen[],21,0)","v":"Disminución de consumo de agua potable [%]"},null,null,null,null,null,null,null,null,null,null,null,null,{"$f":"+CONCATENATE(B7,\".\",6)","v":"79.6"},{"$f":"+AND(Q8>VLOOKUP(U7,MatrizRequerimientos,10,FALSE),Q8<=VLOOKUP(U7,MatrizRequerimientos,11,FALSE))","v":false},{"$f":"+V7*VLOOKUP(U7,MatrizRequerimientos,8,FALSE)","v":0},{"$f":"+V7*VLOOKUP(U7,MatrizRequerimientos,9,FALSE)","v":0}]
["N",79,null,null,null,null,null,null,null,null,null,null,null,{"$f":"+IF(A7=\"N\",CONCATENATE(\"Valor obtenido en proyecto para \",H7),\"Seleccione Nivel de Cumplimiento\")","v":"Valor obtenido en proyecto para Disminución de consumo de agua potable [%]"},null,null,null,null,null,null,{"$f":"+CONCATENATE(B8,\".\",7)","v":"79.7"},{"$f":"+AND(Q8>VLOOKUP(U8,MatrizRequerimientos,10,FALSE),Q8<=VLOOKUP(U8,MatrizRequerimientos,11,FALSE))","v":false},{"$f":"+V8*VLOOKUP(U8,MatrizRequerimientos,8,FALSE)","v":0},{"$f":"+V8*VLOOKUP(U8,MatrizRequerimientos,9,FALSE)","v":0}]
["N",79]
["N",79,null,null,null,"OPCIÓN ",null,{"$f":"CONCATENATE(VLOOKUP(B10,'Resumen requerimientos'!$T$5:$AB$92,5,FALSE), \" de \",VLOOKUP(B10,'Resumen requerimientos'!$T$5:$AB$92,6,FALSE))","v":"1 de 1"},null,null,null,null,null,null,null,null,null,null,null,null,null,null,null,"Of. Y Serv.","Ed. Y Salud"]
["N",79,null,null,null,null,null,null,null,null,null,null,null,null,null,null,null,null,null,null,{"$f":"+CONCATENATE(B11,\".\",4)","v":"79.4"},{"$f":"+VLOOKUP(U11,MatrizRequerimientos,6,FALSE)","v":"39,999%-100%"},{"$f":"+IF(A8=\"T\",Q8=V11,V5)","v":false},{"$f":"+W11*VLOOKUP(U11,MatrizRequerimientos,8,FALSE)","v":0},{"$f":"+W11*VLOOKUP(U11,MatrizRequerimientos,9,FALSE)","v":0}]
["N",79,null,null,null,{"$f":"+IF(H12=\"No\",\"¿OTROS REQUERIMIENTOS SIMULTÁNEOS?\",\"REQUERIMIENTOS SIMULTANEOS PARA LA OPCION\")","v":"¿OTROS REQUERIMIENTOS SIMULTÁNEOS?"},null,{"$f":"IF(VLOOKUP(B12,'Resumen requerimientos'!$T$5:$AB$92,7,FALSE)=0,\"No\",CONCATENATE(VLOOKUP(B12,'Resumen requerimientos'!$T$5:$AB$92,7,FALSE), \" de \",VLOOKUP(B12,'Resumen requerimientos'!$T$5:$AB$92,8,FALSE)))","v":"No"},null,null,null,null,null,null,null,null,null,null,null,null,{"$f":"+CONCATENATE(B12,\".\",5)","v":"79.5"},{"$f":"+VLOOKUP(U12,MatrizRequerimientos,6,FALSE)","v":"29,999%-39,999%"},{"$f":"+IF(A9=\"T\",Q8=V12,V6)","v":false},{"$f":"+W12*VLOOKUP(U12,MatrizRequerimientos,8,FALSE)","v":0},{"$f":"+W12*VLOOKUP(U12,MatrizRequerimientos,9,FALSE)","v":0}]
["N",79,null,null,null,null,null,null,null,null,null,null,null,null,null,null,null,null,null,null,{"$f":"+CONCATENATE(B13,\".\",6)","v":"79.6"},{"$f":"+VLOOKUP(U13,MatrizRequerimientos,6,FALSE)","v":"19,999%-29,999%"},{"$f":"+IF(A10=\"T\",Q8=V13,V7)","v":false},{"$f":"+W13*VLOOKUP(U13,MatrizRequerimientos,8,FALSE)","v":0},{"$f":"+W13*VLOOKUP(U13,MatrizRequerimientos,9,FALSE)","v":0}]
["N",79,null,null,null,"REQUERIMIENTO ADICIONAL",null,{"$f":"VLOOKUP(B14,'Resumen requerimientos'!$T$5:$AB$92,9,FALSE)","v":"No"},null,null,null,null,null,null,null,null,null,null,null,null,{"$f":"+CONCATENATE(B14,\".\",7)","v":"79.7"},{"$f":"+VLOOKUP(U14,MatrizRequerimientos,6,FALSE)","v":0},{"$f":"+IF(A11=\"T\",Q8=V14,V8)","v":false},{"$f":"+W14*VLOOKUP(U14,MatrizRequerimientos,8,FALSE)","v":0},{"$f":"+W14*VLOOKUP(U14,MatrizRequerimientos,9,FALSE)","v":0}]
["N",79,null,null,null,null,null,null,null,null,null,null,null,null,null,null,null,null,null,null,null,null,{"$f":"+IF(AND(A11=\"N\",H3=\"Voluntario\"),SUMIF(W11:W14,TRUE,IF(Uso_Edificio=\"Oficinas\",X11:X14,Y11:Y14)),IF(AND(A11=\"T\",H3=\"Obligatorio\"),VLOOKUP(Q8,V11:X14,3,FALSE)=1,W11))","v":0}]
["N",79]
["N",79,null,null,"Volver al índice"]
["T",{"$f":"+IF(F17=\"\",B17+1,B17)","v":80},null,"INST.AGUA 19.2 - DUREZA DEL AGUA",null,null,null,null,null,null,null,null,null,null,null,null,null,null,"INST.AGUA 19.2 - DUREZA DEL AGUA"]
["T",{"$f":"+B18","v":80},null,null,null,"Tipo requerimiento",null,{"$f":"+IF(VLOOKUP(B18,TablaResumen[],4)=\"C\",\"Voluntario\",\"Obligatorio\")","v":"Voluntario"},null,null,null,null,null,null,null,null,null,null,null,null,null,"Puntaje crédito numérico"]
["T",80,null,null,null,null,null,null,null,null,null,null,null,{"$f":"+IF(H19=\"Obligatorio\",\"Cumple Requisito\",\"Puntaje obtenido\")","v":"Puntaje obtenido"},null,null,{"$f":"+IF(H19=\"Obligatorio\",W31,IF(A21=\"N\",IF(Uso_Edificio=\"Oficinas\",SUM(W21:W24),SUM(X21:X24)),IF(Uso_Edificio=\"Oficinas\",SUM(X27:X30),SUM(Y27:Y30))))","v":0},null,null,null,null,"Calificación","Of. Y Serv.","Ed. Y Salud"]
["T",80,null,null,null,"Nombre Requerimiento",null,{"$f":"+VLOOKUP(B23,TablaResumen[],16,0)","v":"Dureza del agua"},null,null,null,null,null,null,null,null,{"$f":"+IF(H18=\"Requisito\",W30,IF(#REF!=\"N\",IF(Uso_Edificio=\"Oficinas\",SUM(W20:W23),SUM(X20:X23)),IF(Uso_Edificio=\"Oficinas\",SUM(X26:X29),SUM(Y26:Y29))))","v":{"$error":"#REF!"}},null,null,null,{"$f":"+CONCATENATE(B21,\".\",4)","v":"80.4"},{"$f":"+AND(Q24>VLOOKUP(U21,MatrizRequerimientos,10,FALSE),Q24<=VLOOKUP(U21,MatrizRequerimientos,11,FALSE))","v":false},{"$f":"+V21*VLOOKUP(U21,MatrizRequerimientos,8,FALSE)","v":0},{"$f":"+V21*VLOOKUP(U21,MatrizRequerimientos,9,FALSE)","v":0}]
["T",80,null,null,null,null,null,null,null,null,null,null,null,null,null,null,{"$f":"+IF(H19=\"Requisito\",W31,IF(A18=\"N\",IF(Uso_Edificio=\"Oficinas\",SUM(W21:W24),SUM(X21:X24)),IF(Uso_Edificio=\"Oficinas\",SUM(X27:X30),SUM(Y27:Y30))))","v":0},null,null,null,{"$f":"+CONCATENATE(B22,\".\",5)","v":"80.5"},{"$f":"+AND(Q24>VLOOKUP(U22,MatrizRequerimientos,10,FALSE),Q24<=VLOOKUP(U22,MatrizRequerimientos,11,FALSE))","v":false},{"$f":"+V22*VLOOKUP(U22,MatrizRequerimientos,8,FALSE)","v":0},{"$f":"+V22*VLOOKUP(U22,MatrizRequerimientos,9,FALSE)","v":0}]
["T",80,null,null,null,"Indicador",null,{"$f":"+VLOOKUP(B24,TablaResumen[],21,0)","v":"Tratamiento para la remoción de dureza de agua"},null,null,null,null,null,null,null,null,null,null,null,null,{"$f":"+CONCATENATE(B23,\".\",6)","v":"80.6"},{"$f":"+AND(Q24>VLOOKUP(U23,MatrizRequerimientos,10,FALSE),Q24<=VLOOKUP(U23,MatrizRequerimientos,11,FALSE))","v":false},{"$f":"+V23*VLOOKUP(U23,MatrizRequerimientos,8,FALSE)","v":0},{"$f":"+V23*VLOOKUP(U23,MatrizRequerimientos,9,FALSE)","v":0}]
["T",80,null,null,null,null,null,null,null,null,null,null,null,{"$f":"+IF(A23=\"N\",CONCATENATE(\"Valor obtenido en proyecto para \",H23),\"Seleccione Nivel de Cumplimiento\")","v":"Seleccione Nivel de Cumplimiento"},null,null,null,null,null,null,{"$f":"+CONCATENATE(B24,\".\",7)","v":"80.7"},{"$f":"+AND(Q24>VLOOKUP(U24,MatrizRequerimientos,10,FALSE),Q24<=VLOOKUP(U24,MatrizRequerimientos,11,FALSE))","v":false},{"$f":"+V24*VLOOKUP(U24,MatrizRequerimientos,8,FALSE)","v":0},{"$f":"+V24*VLOOKUP(U24,MatrizRequerimientos,9,FALSE)","v":0}]
["T",80]
["T",80,null,null,null,"OPCIÓN ",null,{"$f":"CONCATENATE(VLOOKUP(B26,'Resumen requerimientos'!$T$5:$AB$92,5,FALSE), \" de \",VLOOKUP(B26,'Resumen requerimientos'!$T$5:$AB$92,6,FALSE))","v":"1 de 1"},null,null,null,null,null,null,null,null,null,null,null,null,null,null,null,"Of. Y Serv.","Ed. Y Salud"]
["T",80,null,null,null,null,null,null,null,null,null,null,null,null,null,null,null,null,null,null,{"$f":"+CONCATENATE(B27,\".\",4)","v":"80.4"},{"$f":"+VLOOKUP(U27,MatrizRequerimientos,6,FALSE)","v":"Posee sistema de tratamiento de dureza del agua"},{"$f":"+IF(A24=\"T\",Q24=V27,V21)","v":false},{"$f":"+W27*VLOOKUP(U27,MatrizRequerimientos,8,FALSE)","v":0},{"$f":"+W27*VLOOKUP(U27,MatrizRequerimientos,9,FALSE)","v":0}]
["T",80,null,null,null,{"$f":"+IF(H28=\"No\",\"¿OTROS REQUERIMIENTOS SIMULTÁNEOS?\",\"REQUERIMIENTOS SIMULTANEOS PARA LA OPCION\")","v":"¿OTROS REQUERIMIENTOS SIMULTÁNEOS?"},null,{"$f":"IF(VLOOKUP(B28,'Resumen requerimientos'!$T$5:$AB$92,7,FALSE)=0,\"No\",CONCATENATE(VLOOKUP(B28,'Resumen requerimientos'!$T$5:$AB$92,7,FALSE), \" de \",VLOOKUP(B28,'Resumen requerimientos'!$T$5:$AB$92,8,FALSE)))","v":"No"},null,null,null,null,null,null,null,null,null,null,null,null,{"$f":"+CONCATENATE(B28,\".\",5)","v":"80.5"},{"$f":"+VLOOKUP(U28,MatrizRequerimientos,6,FALSE)","v":"NO posee sistema de tratamiento de dureza del agua"},{"$f":"+IF(A25=\"T\",Q24=V28,V22)","v":false},{"$f":"+W28*VLOOKUP(U28,MatrizRequerimientos,8,FALSE)","v":0},{"$f":"+W28*VLOOKUP(U28,MatrizRequerimientos,9,FALSE)","v":0}]
["T",80,null,null,null,null,null,null,null,null,null,null,null,null,null,null,null,null,null,null,{"$f":"+CONCATENATE(B29,\".\",6)","v":"80.6"},{"$f":"+VLOOKUP(U29,MatrizRequerimientos,6,FALSE)","v":0},{"$f":"+IF(A26=\"T\",Q24=V29,V23)","v":true},{"$f":"+W29*VLOOKUP(U29,MatrizRequerimientos,8,FALSE)","v":0},{"$f":"+W29*VLOOKUP(U29,MatrizRequerimientos,9,FALSE)","v":0}]
["T",80,null,null,null,"REQUERIMIENTO ADICIONAL",null,{"$f":"VLOOKUP(B30,'Resumen requerimientos'!$T$5:$AB$92,9,FALSE)","v":"No"},null,null,null,null,null,null,null,null,null,null,null,null,{"$f":"+CONCATENATE(B30,\".\",7)","v":"80.7"},{"$f":"+VLOOKUP(U30,MatrizRequerimientos,6,FALSE)","v":0},{"$f":"+IF(A27=\"T\",Q24=V30,V24)","v":true},{"$f":"+W30*VLOOKUP(U30,MatrizRequerimientos,8,FALSE)","v":0},{"$f":"+W30*VLOOKUP(U30,MatrizRequerimientos,9,FALSE)","v":0}]
["T",80,null,null,null,null,null,null,null,null,null,null,null,null,null,null,null,null,null,null,null,null,{"$f":"+IF(AND(A27=\"N\",H19=\"Voluntario\"),SUMIF(W27:W30,TRUE,IF(Uso_Edificio=\"Oficinas\",X27:X30,Y27:Y30)),IF(AND(A27=\"T\",H19=\"Obligatorio\"),VLOOKUP(Q24,V27:X30,3,FALSE)=1,W27))","v":false}]
["T",80]
["T",80,null,null,"Volver al índice"]
["N",82,null,"INST.AGUA 20 - INSTALACIÓN DE RIEGO: SISTEMAS EFICIENTES",null,null,null,null,null,null,null,null,null,null,null,null,null,null,"INST.AGUA 20 - INSTALACIÓN DE RIEGO: SISTEMAS EFICIENTES"]
["N",{"$f":"+B34","v":82},null,null,null,"Tipo requerimiento",null,{"$f":"+IF(VLOOKUP(B34,TablaResumen[],4)=\"C\",\"Voluntario\",\"Obligatorio\")","v":"Voluntario"},null,null,null,null,null,null,null,null,null,null,null,null,null,"Puntaje crédito numérico"]
["N",82,null,null,null,null,null,null,null,null,null,null,null,{"$f":"+IF(H35=\"Obligatorio\",\"Cumple Requisito\",\"Puntaje obtenido\")","v":"Puntaje obtenido"},null,null,{"$f":"+IF(H35=\"Obligatorio\",W47,IF(A37=\"N\",IF(Uso_Edificio=\"Oficinas\",SUM(W37:W40),SUM(X37:X40)),IF(Uso_Edificio=\"Oficinas\",SUM(X43:X46),SUM(Y43:Y46))))","v":0},null,null,null,null,"Calificación","Of. Y Serv.","Ed. Y Salud"]
["N",82,null,null,null,"Nombre Requerimiento",null,{"$f":"+VLOOKUP(B39,TablaResumen[],16,0)","v":"Sistemas eficientes"},null,null,null,null,null,null,null,null,{"$f":"+IF(H34=\"Requisito\",W46,IF(#REF!=\"N\",IF(Uso_Edificio=\"Oficinas\",SUM(W36:W39),SUM(X36:X39)),IF(Uso_Edificio=\"Oficinas\",SUM(X42:X45),SUM(Y42:Y45))))","v":{"$error":"#REF!"}},null,null,null,{"$f":"+CONCATENATE(B37,\".\",4)","v":"82.4"},{"$f":"+AND(Q40>VLOOKUP(U37,MatrizRequerimientos,10,FALSE),Q40<=VLOOKUP(U37,MatrizRequerimientos,11,FALSE))","v":false},{"$f":"+V37*VLOOKUP(U37,MatrizRequerimientos,8,FALSE)","v":0},{"$f":"+V37*VLOOKUP(U37,MatrizRequerimientos,9,FALSE)","v":0}]
["N",82,null,null,null,null,null,null,null,null,null,null,null,null,null,null,{"$f":"+IF(H35=\"Requisito\",W47,IF(A34=\"N\",IF(Uso_Edificio=\"Oficinas\",SUM(W37:W40),SUM(X37:X40)),IF(Uso_Edificio=\"Oficinas\",SUM(X43:X46),SUM(Y43:Y46))))","v":0},null,null,null,{"$f":"+CONCATENATE(B38,\".\",5)","v":"82.5"},{"$f":"+AND(Q40>VLOOKUP(U38,MatrizRequerimientos,10,FALSE),Q40<=VLOOKUP(U38,MatrizRequerimientos,11,FALSE))","v":false},{"$f":"+V38*VLOOKUP(U38,MatrizRequerimientos,8,FALSE)","v":0},{"$f":"+V38*VLOOKUP(U38,MatrizRequerimientos,9,FALSE)","v":0}]
["N",82,null,null,null,"Indicador",null,{"$f":"+VLOOKUP(B40,TablaResumen[],21,0)","v":"Disminución del consumo de agua para riego [%]"},null,null,null,null,null,null,null,null,null,null,null,null,{"$f":"+CONCATENATE(B39,\".\",6)","v":"82.6"},{"$f":"+AND(Q40>VLOOKUP(U39,MatrizRequerimientos,10,FALSE),Q40<=VLOOKUP(U39,MatrizRequerimientos,11,FALSE))","v":false},{"$f":"+V39*VLOOKUP(U39,MatrizRequerimientos,8,FALSE)","v":0},{"$f":"+V39*VLOOKUP(U39,MatrizRequerimientos,9,FALSE)","v":0}]
["N",82,null,null,null,null,null,null,null,null,null,null,null,{"$f":"+IF(A39=\"N\",CONCATENATE(\"Valor obtenido en proyecto para \",H39),\"Seleccione Nivel de Cumplimiento\")","v":"Valor obtenido en proyecto para Disminución del consumo de agua para riego [%]"},null,null,null,null,null,null,{"$f":"+CONCATENATE(B40,\".\",7)","v":"82.7"},{"$f":"+AND(Q40>VLOOKUP(U40,MatrizRequerimientos,10,FALSE),Q40<=VLOOKUP(U40,MatrizRequerimientos,11,FALSE))","v":false},{"$f":"+V40*VLOOKUP(U40,MatrizRequerimientos,8,FALSE)","v":0},{"$f":"+V40*VLOOKUP(U40,MatrizRequerimientos,9,FALSE)","v":0}]
["N",82]
["N",82,null,null,null,"OPCIÓN ",null,{"$f":"CONCATENATE(VLOOKUP(B42,'Resumen requerimientos'!$T$5:$AB$92,5,FALSE), \" de \",VLOOKUP(B42,'Resumen requerimientos'!$T$5:$AB$92,6,FALSE))","v":"1 de 1"},null,null,null,null,null,null,null,null,null,null,null,null,null,null,null,"Of. Y Serv.","Ed. Y Salud"]
["N",82,null,null,null,null,null,null,null,null,null,null,null,null,null,null,null,null,null,null,{"$f":"+CONCATENATE(B43,\".\",4)","v":"82.4"},{"$f":"+VLOOKUP(U43,MatrizRequerimientos,6,FALSE)","v":"59,999%-100%"},{"$f":"+IF(A40=\"T\",Q40=V43,V37)","v":false},{"$f":"+W43*VLOOKUP(U43,MatrizRequerimientos,8,FALSE)","v":0},{"$f":"+W43*VLOOKUP(U43,MatrizRequerimientos,9,FALSE)","v":0}]
["N",82,null,null,null,{"$f":"+IF(H44=\"No\",\"¿OTROS REQUERIMIENTOS SIMULTÁNEOS?\",\"REQUERIMIENTOS SIMULTANEOS PARA LA OPCION\")","v":"¿OTROS REQUERIMIENTOS SIMULTÁNEOS?"},null,{"$f":"IF(VLOOKUP(B44,'Resumen requerimientos'!$T$5:$AB$92,7,FALSE)=0,\"No\",CONCATENATE(VLOOKUP(B44,'Resumen requerimientos'!$T$5:$AB$92,7,FALSE), \" de \",VLOOKUP(B44,'Resumen requerimientos'!$T$5:$AB$92,8,FALSE)))","v":"No"},null,null,null,null,null,null,null,null,null,null,null,null,{"$f":"+CONCATENATE(B44,\".\",5)","v":"82.5"},{"$f":"+VLOOKUP(U44,MatrizRequerimientos,6,FALSE)","v":"39,999%-59,999%"},{"$f":"+IF(A41=\"T\",Q40=V44,V38)","v":false},{"$f":"+W44*VLOOKUP(U44,MatrizRequerimientos,8,FALSE)","v":0},{"$f":"+W44*VLOOKUP(U44,MatrizRequerimientos,9,FALSE)","v":0}]
["N",82,null,null,null,null,null,null,null,null,null,null,null,null,null,null,null,null,null,null,{"$f":"+CONCATENATE(B45,\".\",6)","v":"82.6"},{"$f":"+VLOOKUP(U45,MatrizRequerimientos,6,FALSE)","v":"19,999%-39,999%"},{"$f":"+IF(A42=\"T\",Q40=V45,V39)","v":false},{"$f":"+W45*VLOOKUP(U45,MatrizRequerimientos,8,FALSE)","v":0},{"$f":"+W45*VLOOKUP(U45,MatrizRequerimientos,9,FALSE)","v":0}]
["N",82,null,null,null,"REQUERIMIENTO ADICIONAL",null,{"$f":"VLOOKUP(B46,'Resumen requerimientos'!$T$5:$AB$92,9,FALSE)","v":"No"},null,null,null,null,null,null,null,null,null,null,null,null,{"$f":"+CONCATENATE(B46,\".\",7)","v":"82.7"},{"$f":"+VLOOKUP(U46,MatrizRequerimientos,6,FALSE)","v":0},{"$f":"+IF(A43=\"T\",Q40=V46,V40)","v":false},{"$f":"+W46*VLOOKUP(U46,MatrizRequerimientos,8,FALSE)","v":0},{"$f":"+W46*VLOOKUP(U46,MatrizRequerimientos,9,FALSE)","v":0}]
["N",82,null,null,null,null,null,null,null,null,null,null,null,null,null,null,null,null,null,null,null,null,{"$f":"+IF(AND(A43=\"N\",H35=\"Voluntario\"),SUMIF(W43:W46,TRUE,IF(Uso_Edificio=\"Oficinas\",X43:X46,Y43:Y46)),IF(AND(A43=\"T\",H35=\"Obligatorio\"),VLOOKUP(Q40,V43:X46,3,FALSE)=1,W43))","v":0}]
["N",82]
["N",82,null,null,"Volver al índice"]

{"sheet":"Evaluacion CONST.Residuos Volun","index":21,"n_rows":17,"n_cols":25,"rows_kept":17,"cut":false,"hidden":false,"merged":[[2,21,2,23],[4,5,5,6],[4,7,5,11],[13,5,14,6],[13,7,14,11],[3,13,5,15],[3,16,5,16],[7,13,14,15],[7,16,14,16],[6,5,7,6],[6,7,7,11],[8,5,8,6],[8,7,8,11],[9,5,10,6],[9,7,10,11],[11,5,12,6],[0,4,0,5],[16,4,16,5],[1,3,15,3],[1,18,15,18],[2,5,3,6],[2,7,3,11],[15,5,15,11],[11,7,12,11]]}
["Texto/Número","Nº requisito",null,null,"Volver al índice"]
["T",84,null,"CONST.RESIDUOS 21 - MANEJO DE RESIDUOS DURANTE LA CONSTRUCCIÓN",null,null,null,null,null,null,null,null,null,null,null,null,null,null,"CONST.RESIDUOS 21 - MANEJO DE RESIDUOS DURANTE LA CONSTRUCCIÓN"]
["T",{"$f":"+B2","v":84},null,null,null,"Tipo requerimiento",null,{"$f":"+IF(VLOOKUP(B2,TablaResumen[],4)=\"C\",\"Voluntario\",\"Obligatorio\")","v":"Voluntario"},null,null,null,null,null,null,null,null,null,null,null,null,null,"Puntaje crédito numérico"]
["T",84,null,null,null,null,null,null,null,null,null,null,null,{"$f":"+IF(H3=\"Obligatorio\",\"Cumple Requisito\",\"Puntaje obtenido\")","v":"Puntaje obtenido"},null,null,{"$f":"+IF(H3=\"Obligatorio\",W15,IF(A5=\"N\",IF(Uso_Edificio=\"Oficinas\",SUM(W5:W8),SUM(X5:X8)),IF(Uso_Edificio=\"Oficinas\",SUM(X11:X14),SUM(Y11:Y14))))","v":0},null,null,null,null,"Calificación","Of. Y Serv.","Ed. Y Salud"]
["T",84,null,null,null,"Nombre Requerimiento",null,{"$f":"+VLOOKUP(B7,TablaResumen[],16,0)","v":"Manejo de residuos durante la construcción"},null,null,null,null,null,null,null,null,{"$f":"+IF(H2=\"Requisito\",W14,IF(#REF!=\"N\",IF(Uso_Edificio=\"Oficinas\",SUM(W4:W7),SUM(X4:X7)),IF(Uso_Edificio=\"Oficinas\",SUM(X10:X13),SUM(Y10:Y13))))","v":{"$error":"#REF!"}},null,null,null,{"$f":"+CONCATENATE(B5,\".\",4)","v":"84.4"},{"$f":"+AND(Q8>VLOOKUP(U5,MatrizRequerimientos,10,FALSE),Q8<=VLOOKUP(U5,MatrizRequerimientos,11,FALSE))","v":false},{"$f":"+V5*VLOOKUP(U5,MatrizRequerimientos,8,FALSE)","v":0},{"$f":"+V5*VLOOKUP(U5,MatrizRequerimientos,9,FALSE)","v":0}]
["T",84,null,null,null,null,null,null,null,null,null,null,null,null,null,null,{"$f":"+IF(H3=\"Requisito\",W15,IF(A2=\"N\",IF(Uso_Edificio=\"Oficinas\",SUM(W5:W8),SUM(X5:X8)),IF(Uso_Edificio=\"Oficinas\",SUM(X11:X14),SUM(Y11:Y14))))","v":0},null,null,null,{"$f":"+CONCATENATE(B6,\".\",5)","v":"84.5"},{"$f":"+AND(Q8>VLOOKUP(U6,MatrizRequerimientos,10,FALSE),Q8<=VLOOKUP(U6,MatrizRequerimientos,11,FALSE))","v":false},{"$f":"+V6*VLOOKUP(U6,MatrizRequerimientos,8,FALSE)","v":0},{"$f":"+V6*VLOOKUP(U6,MatrizRequerimientos,9,FALSE)","v":0}]
["T",84,null,null,null,"Indicador",null,{"$f":"+VLOOKUP(B8,TablaResumen[],21,0)","v":"Separación, control y reciclaje de residuos"},null,null,null,null,null,null,null,null,null,null,null,null,{"$f":"+CONCATENATE(B7,\".\",6)","v":"84.6"},{"$f":"+AND(Q8>VLOOKUP(U7,MatrizRequerimientos,10,FALSE),Q8<=VLOOKUP(U7,MatrizRequerimientos,11,FALSE))","v":false},{"$f":"+V7*VLOOKUP(U7,MatrizRequerimientos,8,FALSE)","v":0},{"$f":"+V7*VLOOKUP(U7,MatrizRequerimientos,9,FALSE)","v":0}]
["T",84,null,null,null,null,null,null,null,null,null,null,null,{"$f":"+IF(A7=\"N\",CONCATENATE(\"Valor obtenido en proyecto para \",H7),\"Seleccione Nivel de Cumplimiento\")","v":"Seleccione Nivel de Cumplimiento"},null,null,null,null,null,null,{"$f":"+CONCATENATE(B8,\".\",7)","v":"84.7"},{"$f":"+AND(Q8>VLOOKUP(U8,MatrizRequerimientos,10,FALSE),Q8<=VLOOKUP(U8,MatrizRequerimientos,11,FALSE))","v":false},{"$f":"+V8*VLOOKUP(U8,MatrizRequerimientos,8,FALSE)","v":0},{"$f":"+V8*VLOOKUP(U8,MatrizRequerimientos,9,FALSE)","v":0}]
["T",84]
["T",84,null,null,null,"OPCIÓN ",null,{"$f":"CONCATENATE(VLOOKUP(B10,'Resumen requerimientos'!$T$5:$AB$92,5,FALSE), \" de \",VLOOKUP(B10,'Resumen requerimientos'!$T$5:$AB$92,6,FALSE))","v":"1 de 1"},null,null,null,null,null,null,null,null,null,null,null,null,null,null,null,"Of. Y Serv.","Ed. Y Salud"]
["T",84,null,null,null,null,null,null,null,null,null,null,null,null,null,null,null,null,null,null,{"$f":"+CONCATENATE(B11,\".\",4)","v":"84.4"},{"$f":"+VLOOKUP(U11,MatrizRequerimientos,6,FALSE)","v":"Cumple con la separación, control y reciclaje de residuos"},{"$f":"+IF(A8=\"T\",Q8=V11,V5)","v":false},{"$f":"+W11*VLOOKUP(U11,MatrizRequerimientos,8,FALSE)","v":0},{"$f":"+W11*VLOOKUP(U11,MatrizRequerimientos,9,FALSE)","v":0}]
["T",84,null,null,null,{"$f":"+IF(H12=\"No\",\"¿OTROS REQUERIMIENTOS SIMULTÁNEOS?\",\"REQUERIMIENTOS SIMULTANEOS PARA LA OPCION\")","v":"¿OTROS REQUERIMIENTOS SIMULTÁNEOS?"},null,{"$f":"IF(VLOOKUP(B12,'Resumen requerimientos'!$T$5:$AB$92,7,FALSE)=0,\"No\",CONCATENATE(VLOOKUP(B12,'Resumen requerimientos'!$T$5:$AB$92,7,FALSE), \" de \",VLOOKUP(B12,'Resumen requerimientos'!$T$5:$AB$92,8,FALSE)))","v":"No"},null,null,null,null,null,null,null,null,null,null,null,null,{"$f":"+CONCATENATE(B12,\".\",5)","v":"84.5"},{"$f":"+VLOOKUP(U12,MatrizRequerimientos,6,FALSE)","v":"NO cumple con la separación, control y reciclaje de residuos"},{"$f":"+IF(A9=\"T\",Q8=V12,V6)","v":false},{"$f":"+W12*VLOOKUP(U12,MatrizRequerimientos,8,FALSE)","v":0},{"$f":"+W12*VLOOKUP(U12,MatrizRequerimientos,9,FALSE)","v":0}]
["T",84,null,null,null,null,null,null,null,null,null,null,null,null,null,null,null,null,null,null,{"$f":"+CONCATENATE(B13,\".\",6)","v":"84.6"},{"$f":"+VLOOKUP(U13,MatrizRequerimientos,6,FALSE)","v":0},{"$f":"+IF(A10=\"T\",Q8=V13,V7)","v":true},{"$f":"+W13*VLOOKUP(U13,MatrizRequerimientos,8,FALSE)","v":0},{"$f":"+W13*VLOOKUP(U13,MatrizRequerimientos,9,FALSE)","v":0}]
["T",84,null,null,null,"REQUERIMIENTO ADICIONAL",null,{"$f":"VLOOKUP(B14,'Resumen requerimientos'!$T$5:$AB$92,9,FALSE)","v":"No"},null,null,null,null,null,null,null,null,null,null,null,null,{"$f":"+CONCATENATE(B14,\".\",7)","v":"84.7"},{"$f":"+VLOOKUP(U14,MatrizRequerimientos,6,FALSE)","v":0},{"$f":"+IF(A11=\"T\",Q8=V14,V8)","v":true},{"$f":"+W14*VLOOKUP(U14,MatrizRequerimientos,8,FALSE)","v":0},{"$f":"+W14*VLOOKUP(U14,MatrizRequerimientos,9,FALSE)","v":0}]
["T",84,null,null,null,null,null,null,null,null,null,null,null,null,null,null,null,null,null,null,null,null,{"$f":"+IF(AND(A11=\"N\",H3=\"Voluntario\"),SUMIF(W11:W14,TRUE,IF(Uso_Edificio=\"Oficinas\",X11:X14,Y11:Y14)),IF(AND(A11=\"T\",H3=\"Obligatorio\"),VLOOKUP(Q8,V11:X14,3,FALSE)=1,W11))","v":false}]
["T",84]
["T",84,null,null,"Volver al índice"]

{"sheet":"Evaluacion GESTION Voluntarios","index":22,"n_rows":33,"n_cols":25,"rows_kept":33,"cut":false,"hidden":false,"merged":[[23,13,30,15],[23,16,30,16],[13,5,14,6],[13,7,14,11],[18,5,19,6],[18,7,19,11],[22,5,23,6],[22,7,23,11],[15,5,15,11],[29,7,30,11],[27,5,28,6],[27,7,28,11],[2,21,2,23],[18,21,18,23],[31,5,31,11],[2,5,3,6],[24,5,24,6],[24,7,24,11],[20,5,21,6],[20,7,21,11],[1,18,15,18],[17,18,31,18],[3,13,5,15],[3,16,5,16],[7,13,14,15],[7,16,14,16],[19,13,21,15],[19,16,21,16],[9,7,10,11],[11,5,12,6],[11,7,12,11],[25,5,26,6],[25,7,26,11],[8,7,8,11],[2,7,3,11],[4,5,5,6],[4,7,5,11],[6,5,7,6],[6,7,7,11],[0,4,0,5],[16,4,16,5],[32,4,32,5],[1,3,15,3],[17,3,31,3],[8,5,8,6],[29,5,30,6],[9,5,10,6]]}
["Texto/Número","Nº requisito",null,null,"Volver al índice"]
["T",86,null,"GESTIÓN.22 - PROCESO DE DISEÑO INTEGRADO",null,null,null,null,null,null,null,null,null,null,null,null,null,null,"GESTIÓN.22 - PROCESO DE DISEÑO INTEGRADO"]
["T",{"$f":"+B2","v":86},null,null,null,"Tipo requerimiento",null,{"$f":"+IF(VLOOKUP(B2,TablaResumen[],4)=\"C\",\"Voluntario\",\"Obligatorio\")","v":"Voluntario"},null,null,null,null,null,null,null,null,null,null,null,null,null,"Puntaje crédito numérico"]
["T",86,null,null,null,null,null,null,null,null,null,null,null,{"$f":"+IF(H3=\"Obligatorio\",\"Cumple Requisito\",\"Puntaje obtenido\")","v":"Puntaje obtenido"},null,null,{"$f":"+IF(H3=\"Obligatorio\",W15,IF(A5=\"N\",IF(Uso_Edificio=\"Oficinas\",SUM(W5:W8),SUM(X5:X8)),IF(Uso_Edificio=\"Oficinas\",SUM(X11:X14),SUM(Y11:Y14))))","v":0},null,null,null,null,"Calificación","Of. Y Serv.","Ed. Y Salud"]
["T",86,null,null,null,"Nombre Requerimiento",null,{"$f":"+VLOOKUP(B7,TablaResumen[],16,0)","v":"Proceso de diseño integrado"},null,null,null,null,null,null,null,null,{"$f":"+IF(H2=\"Requisito\",W14,IF(#REF!=\"N\",IF(Uso_Edificio=\"Oficinas\",SUM(W4:W7),SUM(X4:X7)),IF(Uso_Edificio=\"Oficinas\",SUM(X10:X13),SUM(Y10:Y13))))","v":{"$error":"#REF!"}},null,null,null,{"$f":"+CONCATENATE(B5,\".\",4)","v":"86.4"},{"$f":"+AND(Q8>VLOOKUP(U5,MatrizRequerimientos,10,FALSE),Q8<=VLOOKUP(U5,MatrizRequerimientos,11,FALSE))","v":false},{"$f":"+V5*VLOOKUP(U5,MatrizRequerimientos,8,FALSE)","v":0},{"$f":"+V5*VLOOKUP(U5,MatrizRequerimientos,9,FALSE)","v":0}]
["T",86,null,null,null,null,null,null,null,null,null,null,null,null,null,null,{"$f":"+IF(H3=\"Requisito\",W15,IF(A2=\"N\",IF(Uso_Edificio=\"Oficinas\",SUM(W5:W8),SUM(X5:X8)),IF(Uso_Edificio=\"Oficinas\",SUM(X11:X14),SUM(Y11:Y14))))","v":0},null,null,null,{"$f":"+CONCATENATE(B6,\".\",5)","v":"86.5"},{"$f":"+AND(Q8>VLOOKUP(U6,MatrizRequerimientos,10,FALSE),Q8<=VLOOKUP(U6,MatrizRequerimientos,11,FALSE))","v":false},{"$f":"+V6*VLOOKUP(U6,MatrizRequerimientos,8,FALSE)","v":0},{"$f":"+V6*VLOOKUP(U6,MatrizRequerimientos,9,FALSE)","v":0}]
["T",86,null,null,null,"Indicador",null,{"$f":"+VLOOKUP(B8,TablaResumen[],21,0)","v":"Actas de reuniones e informe"},null,null,null,null,null,null,null,null,null,null,null,null,{"$f":"+CONCATENATE(B7,\".\",6)","v":"86.6"},{"$f":"+AND(Q8>VLOOKUP(U7,MatrizRequerimientos,10,FALSE),Q8<=VLOOKUP(U7,MatrizRequerimientos,11,FALSE))","v":false},{"$f":"+V7*VLOOKUP(U7,MatrizRequerimientos,8,FALSE)","v":0},{"$f":"+V7*VLOOKUP(U7,MatrizRequerimientos,9,FALSE)","v":0}]
["T",86,null,null,null,null,null,null,null,null,null,null,null,{"$f":"+IF(A7=\"N\",CONCATENATE(\"Valor obtenido en proyecto para \",H7),\"Seleccione Nivel de Cumplimiento\")","v":"Seleccione Nivel de Cumplimiento"},null,null,null,null,null,null,{"$f":"+CONCATENATE(B8,\".\",7)","v":"86.7"},{"$f":"+AND(Q8>VLOOKUP(U8,MatrizRequerimientos,10,FALSE),Q8<=VLOOKUP(U8,MatrizRequerimientos,11,FALSE))","v":false},{"$f":"+V8*VLOOKUP(U8,MatrizRequerimientos,8,FALSE)","v":0},{"$f":"+V8*VLOOKUP(U8,MatrizRequerimientos,9,FALSE)","v":0}]
["T",86]
["T",86,null,null,null,"OPCIÓN ",null,{"$f":"CONCATENATE(VLOOKUP(B10,'Resumen requerimientos'!$T$5:$AB$92,5,FALSE), \" de \",VLOOKUP(B10,'Resumen requerimientos'!$T$5:$AB$92,6,FALSE))","v":"1 de 1"},null,null,null,null,null,null,null,null,null,null,null,null,null,null,null,"Of. Y Serv.","Ed. Y Salud"]
["T",86,null,null,null,null,null,null,null,null,null,null,null,null,null,null,null,null,null,null,{"$f":"+CONCATENATE(B11,\".\",4)","v":"86.4"},{"$f":"+VLOOKUP(U11,MatrizRequerimientos,6,FALSE)","v":"Proceso de diseño integrado"},{"$f":"+IF(A8=\"T\",Q8=V11,V5)","v":false},{"$f":"+W11*VLOOKUP(U11,MatrizRequerimientos,8,FALSE)","v":0},{"$f":"+W11*VLOOKUP(U11,MatrizRequerimientos,9,FALSE)","v":0}]
["T",86,null,null,null,{"$f":"+IF(H12=\"No\",\"¿OTROS REQUERIMIENTOS SIMULTÁNEOS?\",\"REQUERIMIENTOS SIMULTANEOS PARA LA OPCION\")","v":"¿OTROS REQUERIMIENTOS SIMULTÁNEOS?"},null,{"$f":"IF(VLOOKUP(B12,'Resumen requerimientos'!$T$5:$AB$92,7,FALSE)=0,\"No\",CONCATENATE(VLOOKUP(B12,'Resumen requerimientos'!$T$5:$AB$92,7,FALSE), \" de \",VLOOKUP(B12,'Resumen requerimientos'!$T$5:$AB$92,8,FALSE)))","v":"No"},null,null,null,null,null,null,null,null,null,null,null,null,{"$f":"+CONCATENATE(B12,\".\",5)","v":"86.5"},{"$f":"+VLOOKUP(U12,MatrizRequerimientos,6,FALSE)","v":"Condiciones para un proceso de diseño integrado"},{"$f":"+IF(A9=\"T\",Q8=V12,V6)","v":false},{"$f":"+W12*VLOOKUP(U12,MatrizRequerimientos,8,FALSE)","v":0},{"$f":"+W12*VLOOKUP(U12,MatrizRequerimientos,9,FALSE)","v":0}]
["T",86,null,null,null,null,null,null,null,null,null,null,null,null,null,null,null,null,null,null,{"$f":"+CONCATENATE(B13,\".\",6)","v":"86.6"},{"$f":"+VLOOKUP(U13,MatrizRequerimientos,6,FALSE)","v":0},{"$f":"+IF(A10=\"T\",Q8=V13,V7)","v":true},{"$f":"+W13*VLOOKUP(U13,MatrizRequerimientos,8,FALSE)","v":0},{"$f":"+W13*VLOOKUP(U13,MatrizRequerimientos,9,FALSE)","v":0}]
["T",86,null,null,null,"REQUERIMIENTO ADICIONAL",null,{"$f":"VLOOKUP(B14,'Resumen requerimientos'!$T$5:$AB$92,9,FALSE)","v":"Si"},null,null,null,null,null,null,null,null,null,null,null,null,{"$f":"+CONCATENATE(B14,\".\",7)","v":"86.7"},{"$f":"+VLOOKUP(U14,MatrizRequerimientos,6,FALSE)","v":0},{"$f":"+IF(A11=\"T\",Q8=V14,V8)","v":true},{"$f":"+W14*VLOOKUP(U14,MatrizRequerimientos,8,FALSE)","v":0},{"$f":"+W14*VLOOKUP(U14,MatrizRequerimientos,9,FALSE)","v":0}]
["T",86,null,null,null,null,null,null,null,null,null,null,null,null,null,null,null,null,null,null,null,null,{"$f":"+IF(AND(A11=\"N\",H3=\"Voluntario\"),SUMIF(W11:W14,TRUE,IF(Uso_Edificio=\"Oficinas\",X11:X14,Y11:Y14)),IF(AND(A11=\"T\",H3=\"Obligatorio\"),VLOOKUP(Q8,V11:X14,3,FALSE)=1,W11))","v":false}]
["T",86]
["T",86,null,null,"Volver al índice"]
["T",{"$f":"+IF(F17=\"\",B17+1,B17)","v":87},null,"GESTIÓN.23 - GESTIÓN DE LA OPERACIÓN Y MANTENIMIENTO",null,null,null,null,null,null,null,null,null,null,null,null,null,null,"GESTIÓN.23 - GESTIÓN DE LA OPERACIÓN Y MANTENIMIENTO"]
["T",{"$f":"+B18","v":87},null,null,null,"Tipo requerimiento",null,{"$f":"+IF(VLOOKUP(B18,TablaResumen[],4)=\"C\",\"Voluntario\",\"Obligatorio\")","v":"Voluntario"},null,null,null,null,null,null,null,null,null,null,null,null,null,"Puntaje crédito numérico"]
["T",87,null,null,null,null,null,null,null,null,null,null,null,{"$f":"+IF(H19=\"Obligatorio\",\"Cumple Requisito\",\"Puntaje obtenido\")","v":"Puntaje obtenido"},null,null,{"$f":"+IF(H19=\"Obligatorio\",W31,IF(A21=\"N\",IF(Uso_Edificio=\"Oficinas\",SUM(W21:W24),SUM(X21:X24)),IF(Uso_Edificio=\"Oficinas\",SUM(X27:X30),SUM(Y27:Y30))))","v":0},null,null,null,null,"Calificación","Of. Y Serv.","Ed. Y Salud"]
["T",87,null,null,null,"Nombre Requerimiento",null,{"$f":"+VLOOKUP(B23,TablaResumen[],16,0)","v":"Gestión de la Operación y Mantenimiento"},null,null,null,null,null,null,null,null,{"$f":"+IF(H18=\"Requisito\",W30,IF(#REF!=\"N\",IF(Uso_Edificio=\"Oficinas\",SUM(W20:W23),SUM(X20:X23)),IF(Uso_Edificio=\"Oficinas\",SUM(X26:X29),SUM(Y26:Y29))))","v":{"$error":"#REF!"}},null,null,null,{"$f":"+CONCATENATE(B21,\".\",4)","v":"87.4"},{"$f":"+AND(Q24>VLOOKUP(U21,MatrizRequerimientos,10,FALSE),Q24<=VLOOKUP(U21,MatrizRequerimientos,11,FALSE))","v":false},{"$f":"+V21*VLOOKUP(U21,MatrizRequerimientos,8,FALSE)","v":0},{"$f":"+V21*VLOOKUP(U21,MatrizRequerimientos,9,FALSE)","v":0}]
["T",87,null,null,null,null,null,null,null,null,null,null,null,null,null,null,{"$f":"+IF(H19=\"Requisito\",W31,IF(A18=\"N\",IF(Uso_Edificio=\"Oficinas\",SUM(W21:W24),SUM(X21:X24)),IF(Uso_Edificio=\"Oficinas\",SUM(X27:X30),SUM(Y27:Y30))))","v":0},null,null,null,{"$f":"+CONCATENATE(B22,\".\",5)","v":"87.5"},{"$f":"+AND(Q24>VLOOKUP(U22,MatrizRequerimientos,10,FALSE),Q24<=VLOOKUP(U22,MatrizRequerimientos,11,FALSE))","v":false},{"$f":"+V22*VLOOKUP(U22,MatrizRequerimientos,8,FALSE)","v":0},{"$f":"+V22*VLOOKUP(U22,MatrizRequerimientos,9,FALSE)","v":0}]
["T",87,null,null,null,"Indicador",null,{"$f":"+VLOOKUP(B24,TablaResumen[],21,0)","v":"Compromiso y plan de mejora continua"},null,null,null,null,null,null,null,null,null,null,null,null,{"$f":"+CONCATENATE(B23,\".\",6)","v":"87.6"},{"$f":"+AND(Q24>VLOOKUP(U23,MatrizRequerimientos,10,FALSE),Q24<=VLOOKUP(U23,MatrizRequerimientos,11,FALSE))","v":false},{"$f":"+V23*VLOOKUP(U23,MatrizRequerimientos,8,FALSE)","v":0},{"$f":"+V23*VLOOKUP(U23,MatrizRequerimientos,9,FALSE)","v":0}]
["T",87,null,null,null,null,null,null,null,null,null,null,null,{"$f":"+IF(A23=\"N\",CONCATENATE(\"Valor obtenido en proyecto para \",H23),\"Seleccione Nivel de Cumplimiento\")","v":"Seleccione Nivel de Cumplimiento"},null,null,null,null,null,null,{"$f":"+CONCATENATE(B24,\".\",7)","v":"87.7"},{"$f":"+AND(Q24>VLOOKUP(U24,MatrizRequerimientos,10,FALSE),Q24<=VLOOKUP(U24,MatrizRequerimientos,11,FALSE))","v":false},{"$f":"+V24*VLOOKUP(U24,MatrizRequerimientos,8,FALSE)","v":0},{"$f":"+V24*VLOOKUP(U24,MatrizRequerimientos,9,FALSE)","v":0}]
["T",87]
["T",87,null,null,null,"OPCIÓN ",null,{"$f":"CONCATENATE(VLOOKUP(B26,'Resumen requerimientos'!$T$5:$AB$92,5,FALSE), \" de \",VLOOKUP(B26,'Resumen requerimientos'!$T$5:$AB$92,6,FALSE))","v":"1 de 1"},null,null,null,null,null,null,null,null,null,null,null,null,null,null,null,"Of. Y Serv.","Ed. Y Salud"]
["T",87,null,null,null,null,null,null,null,null,null,null,null,null,null,null,null,null,null,null,{"$f":"+CONCATENATE(B27,\".\",4)","v":"87.4"},{"$f":"+VLOOKUP(U27,MatrizRequerimientos,6,FALSE)","v":"Cumple condiciones de sello plus"},{"$f":"+IF(A24=\"T\",Q24=V27,V21)","v":false},{"$f":"+W27*VLOOKUP(U27,MatrizRequerimientos,8,FALSE)","v":0},{"$f":"+W27*VLOOKUP(U27,MatrizRequerimientos,9,FALSE)","v":0}]
["T",87,null,null,null,{"$f":"+IF(H28=\"No\",\"¿OTROS REQUERIMIENTOS SIMULTÁNEOS?\",\"REQUERIMIENTOS SIMULTANEOS PARA LA OPCION\")","v":"¿OTROS REQUERIMIENTOS SIMULTÁNEOS?"},null,{"$f":"IF(VLOOKUP(B28,'Resumen requerimientos'!$T$5:$AB$92,7,FALSE)=0,\"No\",CONCATENATE(VLOOKUP(B28,'Resumen requerimientos'!$T$5:$AB$92,7,FALSE), \" de \",VLOOKUP(B28,'Resumen requerimientos'!$T$5:$AB$92,8,FALSE)))","v":"No"},null,null,null,null,null,null,null,null,null,null,null,null,{"$f":"+CONCATENATE(B28,\".\",5)","v":"87.5"},{"$f":"+VLOOKUP(U28,MatrizRequerimientos,6,FALSE)","v":"NO cumple condiciones de sello plus"},{"$f":"+IF(A25=\"T\",Q24=V28,V22)","v":false},{"$f":"+W28*VLOOKUP(U28,MatrizRequerimientos,8,FALSE)","v":0},{"$f":"+W28*VLOOKUP(U28,MatrizRequerimientos,9,FALSE)","v":0}]
["T",87,null,null,null,null,null,null,null,null,null,null,null,null,null,null,null,null,null,null,{"$f":"+CONCATENATE(B29,\".\",6)","v":"87.6"},{"$f":"+VLOOKUP(U29,MatrizRequerimientos,6,FALSE)","v":0},{"$f":"+IF(A26=\"T\",Q24=V29,V23)","v":true},{"$f":"+W29*VLOOKUP(U29,MatrizRequerimientos,8,FALSE)","v":0},{"$f":"+W29*VLOOKUP(U29,MatrizRequerimientos,9,FALSE)","v":0}]
["T",87,null,null,null,"REQUERIMIENTO ADICIONAL",null,{"$f":"VLOOKUP(B30,'Resumen requerimientos'!$T$5:$AB$92,9,FALSE)","v":"Si"},null,null,null,null,null,null,null,null,null,null,null,null,{"$f":"+CONCATENATE(B30,\".\",7)","v":"87.7"},{"$f":"+VLOOKUP(U30,MatrizRequerimientos,6,FALSE)","v":0},{"$f":"+IF(A27=\"T\",Q24=V30,V24)","v":true},{"$f":"+W30*VLOOKUP(U30,MatrizRequerimientos,8,FALSE)","v":0},{"$f":"+W30*VLOOKUP(U30,MatrizRequerimientos,9,FALSE)","v":0}]
["T",87,null,null,null,null,null,null,null,null,null,null,null,null,null,null,null,null,null,null,null,null,{"$f":"+IF(AND(A27=\"N\",H19=\"Voluntario\"),SUMIF(W27:W30,TRUE,IF(Uso_Edificio=\"Oficinas\",X27:X30,Y27:Y30)),IF(AND(A27=\"T\",H19=\"Obligatorio\"),VLOOKUP(Q24,V27:X30,3,FALSE)=1,W27))","v":false}]
["T",87]
[null,null,null,null,"Volver al índice"]

{"sheet":"RESUMEN GENERAL","index":23,"n_rows":108,"n_cols":16,"rows_kept":108,"cut":false,"hidden":false,"merged":[[1,9,2,9],[35,9,36,9],[10,15,11,15],[12,15,13,15],[15,15,23,15],[29,15,31,15],[33,15,36,15],[3,10,4,10],[5,10,6,10],[8,10,16,10],[22,10,24,10],[26,10,29,10],[102,5,105,7],[107,5,110,7],[35,8,36,8],[53,7,64,7],[71,7,73,7],[37,7,38,7],[39,7,42,7],[45,7,47,7],[50,7,52,7],[48,7,49,7],[88,7,90,7],[91,7,92,7],[65,7,66,7],[67,7,69,7],[78,7,79,7],[80,7,83,7],[1,6,2,6],[1,8,2,8],[1,7,2,7],[3,7,4,7],[35,6,36,6],[5,7,6,7],[8,7,16,7],[22,7,24,7],[26,7,29,7],[35,7,36,7],[3,3,4,3],[3,4,4,4],[5,3,6,3],[5,4,6,4],[8,3,16,3],[8,4,16,4],[19,3,21,3],[22,3,24,3],[22,4,24,4],[26,3,29,3],[26,4,29,4],[37,3,38,3],[37,4,38,4],[65,3,66,3],[65,4,66,4],[67,3,69,3],[67,4,69,4],[39,3,43,3],[39,4,42,4],[44,3,47,3],[45,4,47,4],[48,3,52,3],[48,4,49,4],[50,4,52,4],[0,8,0,9],[34,8,34,9],[95,3,96,3],[80,3,83,3],[80,4,83,4],[85,3,87,3],[88,3,92,3],[88,4,90,4],[91,4,92,4],[71,3,73,3],[71,4,73,4],[75,3,77,3],[78,3,79,3],[78,4,79,4],[53,3,64,3],[53,4,64,4],[1,3,1,4],[102,8,105,9],[107,8,110,9],[80,11,83,11],[88,11,90,11],[91,11,92,11],[53,11,64,11],[65,11,66,11],[67,11,69,11],[71,11,73,11],[78,11,79,11],[37,11,38,11],[39,11,42,11],[45,11,47,11],[48,11,49,11],[50,11,52,11]]}
[null,null,null,null,null,null,null,null,"Volver al índice"]
[null,null,null,null,null,"REQUERIMIENTOS OBLIGATORIOS","Cumplimiento Indicador \n(Obtenido por Herramienta de evaluación)","Cumplimiento de requerimiento","Cumplimiento Alternativo","Adjunta documentación"]
[null,null,null,"Variable","Código ","Nombre Indicador"]
[null,"ARQ.CAI","2R","ARQ. CAI Confort visual pasivo","2R","Factor Luz Día [FLD]",null,{"$f":"+IFERROR(IF(OR(G4=\"SI\",G5=\"SI\"),\"SI\",\"NO\"),\"-\")","v":"NO"},null,{"$f":"Documentos!F17","v":"Si"},{"$f":"+IFERROR(IF(OR(I4=\"SI\",I5=\"SI\"),\"SI\",\"NO\"),\"-\")","v":"NO"},{"$f":"+OR(H4=\"SI\",K4=\"SI\")","v":false},null,null,"SI"]
[null,"ARQ.CAI","2R",null,null,"Iluminancia útil [%]",null,null,null,{"$f":"Documentos!F17","v":"Si"},null,{"$f":"+OR(H6=\"SI\",K6=\"SI\")","v":false},null,null,"NO"]
[null,"ARQ.CAI","3R","ARQ. CAI Calidad del aire interior","3R","Superficie practicable de las ventanas",null,{"$f":"+IFERROR(IF(OR(G6=\"SI\",G7=\"SI\"),\"SI\",\"NO\"),\"-\")","v":"NO"},null,{"$f":"Documentos!F18","v":0},{"$f":"+IFERROR(IF(OR(I6=\"SI\",I7=\"SI\"),\"SI\",\"NO\"),\"-\")","v":"NO"},{"$f":"OR(H8=\"SI\",K8=\"SI\")","v":false}]
[null,"ARQ.CAI","3R",null,null,"Renovaciones de aire hora [RAH]",null,null,null,{"$f":"Documentos!F19","v":0},null,{"$f":"OR(H9=\"SI\",K9=\"SI\")","v":false}]
[null,"ARQ.CAI","4R","ARQ. CAI Confort Acústico","4R","Aislamiento acústico de fachada [dB(A)]",null,{"$f":"+IFERROR(IF(OR(G8=\"SI\"),\"SI\",\"NO\"),\"-\")","v":"NO"},null,{"$f":"Documentos!F20","v":0},{"$f":"+IFERROR(IF(OR(I8=\"SI\"),\"SI\",\"NO\"),\"-\")","v":"NO"},{"$f":"OR(H18=\"SI\",K18=\"SI\")","v":false}]
[null,"ARQ.ENERGIA","5R","ARQ. Energía Demanda de energía","5R","Transmitancia Térmica Cubierta [W/m2K]",null,{"$f":"+IFERROR(IF(AND(G10=\"SI\",G9=\"SI\",G11=\"SI\",G12=\"SI\",G13=\"SI\",G14=\"SI\",G15=\"SI\",G16=\"SI\",G17=\"SI\"),\"SI\",\"NO\"),\"-\")","v":"NO"},null,{"$f":"Documentos!F24","v":0},{"$f":"+IFERROR(IF(AND(I10=\"SI\",I9=\"SI\",I11=\"SI\",I12=\"SI\",I13=\"SI\",I14=\"SI\",I15=\"SI\",I16=\"SI\",I17=\"SI\"),\"SI\",\"NO\"),\"-\")","v":"NO"},false]
[null,"ARQ.ENERGIA","5R",null,null,"Transmitancia Térmica Piso Ventilado [W/m2K]",null,null,null,{"$f":"Documentos!F24","v":0},null,false]
[null,"ARQ.ENERGIA","5R",null,null,"Transmitancia Térmica Muro [W/m2K]",null,null,null,{"$f":"Documentos!F24","v":0},null,false,null,null,"CUMPLE","NO CUMPLE"]
[null,"ARQ.ENERGIA","5R",null,null,"Transmitancia Térmica Ventana [W/m2K]",null,null,null,{"$f":"Documentos!F24","v":0},null,false,null,null,false]
[null,"ARQ.ENERGIA","5R",null,null,"FSM - Norte",null,null,null,{"$f":"Documentos!F25","v":0},null,false,null,null,false,"CUMPLE"]
[null,"ARQ.ENERGIA","5R",null,null,"FSM - NorEste",null,null,null,{"$f":"Documentos!F25","v":0},null,{"$f":"OR(H26=\"SI\",K26=\"SI\")","v":false},null,null,true]
[null,"ARQ.ENERGIA","5R",null,null,"FSM - Nor Oeste",null,null,null,{"$f":"Documentos!F25","v":0},null,{"$f":"OR(H27=\"SI\",K27=\"SI\")","v":false},null,null,true,"CUMPLE"]
[null,"ARQ.ENERGIA","5R",null,null,"FSM - Este",null,null,null,{"$f":"Documentos!F25","v":0},null,{"$f":"OR(H31=\"SI\",K31=\"SI\")","v":false},null,null,false,"NO CUMPLE"]
[null,"ARQ.ENERGIA","5R",null,null,"FSM - Oeste",null,null,null,{"$f":"Documentos!F25","v":0},null,{"$f":"OR(H32=\"SI\",K32=\"SI\")","v":false},null,null,true]
[null,"ARQ.ENERGIA","6R","ARQ. Energía Hermeticidad de la envolvente ","6R","Especificación de sellos",null,{"$f":"+IFERROR(IF(OR(G18=\"SI\"),\"SI\",\"NO\"),\"-\")","v":"NO"},null,{"$f":"Documentos!F26","v":0},{"$f":"+IFERROR(IF(OR(I18=\"SI\"),\"SI\",\"NO\"),\"-\")","v":"NO"},{"$f":"OR(H33=\"SI\",K33=\"SI\")","v":false},null,null,true]
[null,"ARQ.AGUA","8R","ARQ. Agua Paisajismo","8R","Disminución de la evapotranspiración [%]",null,{"$f":"+IFERROR(IF(OR(G19=\"SI\"),\"SI\",\"NO\"),\"-\")","v":"NO"},null,{"$f":"Documentos!F27","v":0},{"$f":"+IFERROR(IF(OR(I19=\"SI\"),\"SI\",\"NO\"),\"-\")","v":"NO"},null,null,null,true]
[null,"INST.CAI","11R1","INST. CAI Ventilación mecánica","11R1","Caudal de diseño del sistema de ventilación mecánica",null,{"$f":"+IFERROR(IF(OR(G20=\"SI\"),\"SI\",\"NO\"),\"-\")","v":"NO"},null,{"$f":"Documentos!F28","v":0},{"$f":"+IFERROR(IF(OR(I20=\"SI\"),\"SI\",\"NO\"),\"-\")","v":"NO"},null,null,null,false]
[null,"INST.CAI","11R2",null,"11R2","Requisito Eficiencia promedio filtraje [% o MERV]",null,{"$f":"+IFERROR(IF(OR(G21=\"SI\"),\"SI\",\"NO\"),\"-\")","v":"NO"},null,{"$f":"Documentos!F30","v":0},{"$f":"+IFERROR(IF(OR(I21=\"SI\"),\"SI\",\"NO\"),\"-\")","v":"NO"},null,null,null,false]
[null,"INST.CAI","11R3",null,"11R3","Sistemas de calefacción utilizados",null,{"$f":"+IFERROR(IF(OR(G22=\"SI\"),\"SI\",\"NO\"),\"-\")","v":"NO"},null,{"$f":"Documentos!F31","v":0},{"$f":"+IFERROR(IF(OR(I22=\"SI\"),\"SI\",\"NO\"),\"-\")","v":"NO"},null,null,null,false]
[null,"INST.CAI","13R","INST. CAI Confort visual activo","13R","Iluminancia mínima [lux]",null,{"$f":"+IFERROR(IF(AND(G23=\"SI\",G24=\"SI\",G25=\"SI\"),\"SI\",\"NO\"),\"-\")","v":"NO"},null,{"$f":"Documentos!F33","v":0},{"$f":"+IFERROR(IF(AND(I23=\"SI\",I24=\"SI\",I25=\"SI\"),\"SI\",\"NO\"),\"-\")","v":"NO"},null,null,null,false]
[null,"INST.CAI","13R",null,null,"Índice de rendimiento cromático [IRC]",null,null,null,{"$f":"Documentos!F32","v":0},null,null,null,null,false]
[null,"INST.CAI","13R",null,null,"Índice de deslumbramiento unificado [UGR]",null,null,null,{"$f":"Documentos!F32","v":0},null,null,null,null,false,"NO CUMPLE"]
[null,"INST.CAI","14R","INST. CAI Confort térmico activo","14R","Declaración de condiciones de diseño del proyecto de climatización",null,{"$f":"+IFERROR(IF(OR(G26=\"SI\"),\"SI\",\"NO\"),\"-\")","v":"NO"},null,{"$f":"Documentos!F35","v":0},{"$f":"+IFERROR(IF(OR(I26=\"SI\"),\"SI\",\"NO\"),\"-\")","v":"NO"},"Existe?","Cumple?",null,true,"CUMPLE"]
[null,"INST.ENERGIA","16R","INST. Energía Climatización y ACS","16R","Espesor de aislación térmica de cañerías para climatización/líquido [mm]",null,{"$f":"+IFERROR(IF(AND(G27=\"SI\",G28=\"SI\",G29=\"SI\",G30=\"SI\"),\"SI\",\"NO\"),\"-\")","v":"NO"},null,{"$f":"Documentos!F36","v":0},{"$f":"+IFERROR(IF(AND(I27=\"SI\",I28=\"SI\",I29=\"SI\",I30=\"SI\"),\"SI\",\"NO\"),\"-\")","v":"NO"},{"$f":"+IF('Datos Generales Edificio'!F46<>\"\",TRUE,FALSE)","v":true},{"$f":"+IF(OR(AND(L27,G27=\"SI\"),AND(NOT(L27),G27=\"NO\")),TRUE,FALSE)","v":false},null,true,"CUMPLE"]
[null,"INST.ENERGIA","16R",null,null,"Espesor de aislación térmica de cañerías para ACS/líquido [mm]",null,null,null,{"$f":"Documentos!F36","v":0},null,{"$f":"+IF('Datos Generales Edificio'!F47<>\"\",TRUE,FALSE)","v":true},{"$f":"+IF(OR(AND(L28,G28=\"SI\"),AND(NOT(L28),G28=\"NO\")),TRUE,FALSE)","v":false},null,true,"CUMPLE"]
[null,"INST.ENERGIA","16R",null,null,"Espesor de aislación térmica de cañerías interiores de climatización/aire [mm]",null,null,null,{"$f":"Documentos!F36","v":0},null,{"$f":"+IF('Datos Generales Edificio'!F48<>\"\",TRUE,FALSE)","v":true},{"$f":"+IF(OR(AND(L29,G29=\"SI\"),AND(NOT(L29),G29=\"NO\")),TRUE,FALSE)","v":false},null,true,"CUMPLE"]
[null,"INST.ENERGIA","16R",null,null,"Espesor de aislación térmica de cañerías exteriores de climatización/aire [mm]",null,null,null,{"$f":"Documentos!F36","v":0},null,{"$f":"+IF('Datos Generales Edificio'!F49<>\"\",TRUE,FALSE)","v":true},{"$f":"+IF(OR(AND(L30,G30=\"SI\"),AND(NOT(L30),G30=\"NO\")),TRUE,FALSE)","v":false},null,true,"NO CUMPLE"]
[null,"INST.AGUA","19R","INST. Agua Instalación de agua potable","19R","Disminución del consumo de agua potable por griferías y artefactos [%]",null,{"$f":"+IFERROR(IF(OR(G31=\"SI\"),\"SI\",\"NO\"),\"-\")","v":"NO"},null,{"$f":"Documentos!F37","v":0},{"$f":"+IFERROR(IF(OR(I31=\"SI\"),\"SI\",\"NO\"),\"-\")","v":"NO"},null,null,null,false]
[null,"INST.AGUA","20R","INST. Agua Instalación de riego","20R","Disminución del consumo de agua para riego por sistema de riego [%]",null,{"$f":"+IFERROR(IF(OR(G32=\"SI\"),\"SI\",\"NO\"),\"-\")","v":"NO"},null,{"$f":"Documentos!F38","v":0},{"$f":"+IFERROR(IF(OR(I32=\"SI\"),\"SI\",\"NO\"),\"-\")","v":"NO"},null,null,null,true]
[null,"CONST.RESIDUOS","21R","CONST Manejo de residuos durante la construcción","21R","Separación, control y reciclaje de residuos",null,{"$f":"+IFERROR(IF(OR(G33=\"SI\"),\"SI\",\"NO\"),\"-\")","v":"NO"},null,{"$f":"Documentos!F39","v":0},{"$f":"+IFERROR(IF(OR(I33=\"SI\"),\"SI\",\"NO\"),\"-\")","v":"NO"},null,null,null,false,"NO CUMPLE"]
[null,null,null,null,null,null,null,null,null,null,null,null,null,null,false,"CUMPLE"]
[null,null,null,null,null,null,null,null,"Volver al índice",null,null,null,null,null,true]
[null,null,null,null,null,"REQUERIMIENTOS VOLUNTARIOS","PUNTAJE DEL INDICADOR obtenido por planilla.","PUNTAJE DEL REQUERIMIENTO ","PUNTAJE por cumplimiento alternativo ","Adjunta documentación",null,null,null,null,false]
[null,null,null,"Variable","Código ","Nombre Indicador",null,null,null,null,null,null,null,null,true]
[null,"ARQ.CAI",1,"Confort térmico pasivo","ARQ.CAI.1","Reducción % horas de disconfort Taire",null,{"$f":"+MAX(G38:G39)","v":0},null,{"$f":"Documentos!F43","v":0},{"$f":"+IF(I38>0,I38,G38)","v":0},{"$f":"+MAX(K38:K39)","v":0},null,null,true,"CUMPLE"]
[null,"ARQ.CAI",1,null,null,"Reducción % horas de disconfort Top y HR",null,null,null,{"$f":"Documentos!F43","v":0},{"$f":"+IF(I39>0,I39,G39)","v":0},null,null,null,true,"CUMPLE"]
[null,"ARQ.CAI","2.1","Confort visual pasivo","ARQ.CAI.2.1","FLD",null,{"$f":"+MAX(G40:G42)+G43","v":0},null,{"$f":"Documentos!F44","v":"Si"},0,{"$f":"+MAX(K40:K42)+K43","v":0},null,null,true,"CUMPLE"]
[null,"ARQ.CAI","2.1",null,null,"Iluminancia útil",null,null,null,{"$f":"Documentos!F44","v":"Si"},0]
[null,"ARQ.CAI","2.1",null,null,"Spatial Daylight Autonomy",null,null,null,{"$f":"Documentos!F44","v":"Si"},0]
[null,"ARQ.CAI","2.1",null,null,"Índice de probabilidad de deslumbramiento",null,null,null,{"$f":"Documentos!F44","v":"Si"},0]
[null,"ARQ.CAI","2.2",null,"ARQ.CAI.2.2","% de áreas con acceso visual al exterior",null,{"$f":"+MAX(G44)","v":0},null,{"$f":"Documentos!F46","v":0},0,{"$f":"+MAX(K44)","v":0}]
[null,"ARQ.CAI","3.1","Calidad del aire interior","ARQ.CAI.3.1","Cobertura de tasas de renovaciones de aire hora [RAH]",null,{"$f":"+MAX(G45)","v":0},null,{"$f":"Documentos!F47","v":0},0,{"$f":"+MAX(K45)","v":0}]
[null,"ARQ.CAI","3.2",null,"ARQ.CAI.3.2","Nº de grupos que cumplen con las características Opción 1",null,{"$f":"+MAX(G46:G48)","v":0},null,{"$f":"Documentos!F48","v":0},0,{"$f":"+MAX(K46:K48)","v":0}]
[null,"ARQ.CAI","3.2",null,null,"Nº de grupos que cumplen con la concentración límite de COV de Opción 2",null,null,null,{"$f":"Documentos!F48","v":0},0]
[null,"ARQ.CAI","3.2",null,null,"Reducción de la concentración ponderada de COV",null,null,null,{"$f":"Documentos!F49","v":0},0]
[null,"ARQ.CAI","4.1","Confort Acústico","ARQ.CAI.4.1","Aislamiento acústico de fachada [dB(A)",null,{"$f":"G49+G50","v":0},null,{"$f":"Documentos!F50","v":0},0,{"$f":"K49+K50","v":0}]
[null,"ARQ.CAI","4.1",null,null,"Aislamiento acústico entre recintos [dB(A)]",null,null,null,{"$f":"Documentos!F50","v":0},0]
[null,"ARQ.CAI","4.2",null,"ARQ.CAI.4.2","Tiempo de reverberación [s]",null,{"$f":"+MAX(G51+G52,G53)","v":0},null,{"$f":"Documentos!F51","v":0},0,{"$f":"+MAX(K51+K52,K53)","v":0}]
[null,"ARQ.CAI","4.2",null,null,"Inteligibidad de la palabra",null,null,null,{"$f":"Documentos!F51","v":0},0]
[null,"ARQ.CAI","4.2",null,null,"Material absorbente para Aulas y Auditorios",null,null,null,{"$f":"Documentos!F51","v":0},0]
[null,"ARQ.ENERGIA",7,"Demanda de energía","ARQ. Energía 5","Disminución demanda de energía [%]",null,{"$f":"MAX(G54,IF(OR(MIN(G55,G56)=0,MIN(G57,G58,G59,G60,G61,G62,G63,IF(lucernarias=\"Si\",G64,G63))=0),0,MIN(G55,G56)+MIN(G57,G58,G59,G60,G61,G62,G63,IF(lucernarias=\"Si\",G64,G63))+G65))","v":0},null,{"$f":"Documentos!F57","v":0},0,{"$f":"+MAX(K54,MIN(K55,K56)+MIN(K57,K58,K59,K60,K61,K62,K63,IF(lucernarias=\"Si\",K64,K63))+K65)","v":0}]
[null,"ARQ.ENERGIA",5,null,null,"Mejora de U en cubierta [W/m2K] ",null,null,null,{"$f":"Documentos!F53","v":0},0]
[null,"ARQ.ENERGIA",5,null,null,"Mejora de U en pisos ventilados [W/m2K] ",null,null,null,{"$f":"Documentos!F53","v":0},0]
[null,"ARQ.ENERGIA",5,null,null,"Mejora de U [W/m2K] en muros",null,null,null,{"$f":"Documentos!F53","v":0},0]
[null,"ARQ.ENERGIA",5,null,null,"Mejora de U [W/m2K] en ventanas",null,null,null,{"$f":"Documentos!F53","v":0},0]
[null,"ARQ.ENERGIA",5,null,null,"Mejora FSM - Norte",null,null,null,{"$f":"Documentos!F55","v":0},0]
[null,"ARQ.ENERGIA",5,null,null,"Mejora FSM - NorEste",null,null,null,{"$f":"Documentos!F55","v":0},0]
[null,"ARQ.ENERGIA",5,null,null,"Mejora FSM - NorOeste",null,null,null,{"$f":"Documentos!F55","v":0},0]
[null,"ARQ.ENERGIA",5,null,null,"Mejora FSM - Este",null,null,null,{"$f":"Documentos!F55","v":0},0]
[null,"ARQ.ENERGIA",5,null,null,"Mejora FSM - Oeste",null,null,null,{"$f":"Documentos!F55","v":0},0]
[null,"ARQ.ENERGIA",5,null,null,"Mejora FSM - Lucernarios",null,null,null,{"$f":"Documentos!F55","v":0},0]
[null,"ARQ.ENERGIA",5,null,null,"Mejora de U en pisos en contacto con el terreno [W/m2K] ",null,null,null,{"$f":"Documentos!F56","v":0},0]
[null,"ARQ.ENERGIA",6,"Hermeticidad de la envolvente","ARQ. Energía 6","Infiltración de aire por la envolvente [RAH]",null,{"$f":"+MAX(G66:G67)","v":0},null,{"$f":"Documentos!F58","v":0},0,{"$f":"+MAX(K66:K67)","v":0}]
[null,"ARQ.ENERGIA",6,null,null,"Permeabilidad al aire de carpintería de ventanas",null,null,null,{"$f":"Documentos!F59","v":0},0]
[null,"ARQ.ENERGIA",7,"Energía incorporada en los materiales estructurales del edificio","ARQ. Energía 7","Materiales con declaración de energía incorporada según UNE-EN-ISO 14.024",null,{"$f":"+MAX(G68:G70)","v":0},null,{"$f":"Documentos!F61","v":0},0,{"$f":"+MAX(K68:K70)","v":0}]
[null,"ARQ.ENERGIA",7,null,null,"Materiales con declaración de energía incorporada según UNE-EN-ISO 14.025",null,null,null,{"$f":"Documentos!F61","v":0},0]
[null,"ARQ.ENERGIA",8,null,null,"Porcentaje de elementos estructurales de edificios existentes utilizado con respecto al total de la estructura",null,null,null,{"$f":"Documentos!F61","v":0},0]
[null,"ARQ.AGUA",8,"Paisajismo","ARQ. Agua 8","Porcentaje de disminución de la evapotranspiración",null,{"$f":"+MAX(G71)","v":0},null,{"$f":"Documentos!F63","v":0},0,{"$f":"+MAX(K71)","v":0}]
[null,"ARQ.AGUA",9,"Agua incorporada en los materiales estructurales del edificio","ARQ. Agua 9","Cantidad de categorías de materiales en que se declara la información de agua incorporada",null,{"$f":"+MAX(G72:G74)","v":0},null,{"$f":"Documentos!F65","v":0},0,{"$f":"+MAX(K72:K74)","v":0}]
[null,"ARQ.AGUA",9,null,null,"Cantidad de categorías de materiales en que se declara la información de agua incorporada según UNE-14025",null,null,null,{"$f":"Documentos!F65","v":0},0]
[null,"ARQ.AGUA",9,null,null,"Porcentaje de la superficie del sistema estructural principal que se mantiene",null,null,null,{"$f":"Documentos!F65","v":0},0]
[null,"ARQ.RESIDUOS",10,"Equipamiento para el Manejo de Residuos durante la operación del edificio","ARQ. Residuos 10","Equipamiento para el manejo de residuos durante la operación del edificio",null,{"$f":"+MAX(G75)","v":0},null,{"$f":"Documentos!F66","v":0},0,{"$f":"+MAX(K75)","v":0}]
[null,"INST.CAI","11.1","Ventilación mecánica","INST.CAI 11.1","Aumento del caudal de ventilación [litros/seg]",null,{"$f":"+MAX(G76)","v":0},null,{"$f":"Documentos!F67","v":0},0,{"$f":"+MAX(K76)","v":0}]
[null,"INST.CAI","11.2",null,"INST.CAI 11.2","Eficiencia promedio filtraje [% ]",null,{"$f":"+MAX(G77)","v":0},null,{"$f":"Documentos!F69","v":0},0,{"$f":"+MAX(K77)","v":0}]
[null,"INST.CAI","11.3",null,"INST.CAI 11.3","Sistema de monitoreo de concentración de CO2",null,{"$f":"+MAX(G78)","v":0},null,{"$f":"Documentos!F70","v":0},0,{"$f":"+MAX(K78)","v":0}]
[null,"INST.CAI","12.1","Control del ruido y vibraciones provenientes de equipos","INST.CAI 12.1","Valores máximos del nivel sonoro",null,{"$f":"+MAX(G79:G80)","v":0},null,{"$f":"Documentos!F72","v":0},0,{"$f":"+MAX(K79:K80)","v":0}]
[null,"INST.CAI","12.1",null,null,"Elección de equipos y diseño",null,null,null,{"$f":"Documentos!F72","v":0},0]
[null,"INST.CAI",13,"Confort visual activo","INST.CAI 13","Iluminancia mínima",null,{"$f":"+MIN(G81:G84)","v":0},null,{"$f":"Documentos!F74","v":0},0,{"$f":"+MIN(K81:K84)","v":0}]
[null,"INST.CAI",13,null,null,"Uniformidad media",null,null,null,{"$f":"Documentos!F74","v":0},0]
[null,"INST.CAI",13,null,null,"Rendimiento Cromático",null,null,null,{"$f":"Documentos!F67","v":0},0]
[null,"INST.CAI",13,null,null,"Deslumbramiento",null,null,null,{"$f":"Documentos!F67","v":0},0]
[null,"INST.CAI",14,"Confort térmico activo","INST.CAI 14","Cantidad y distribución de los controles del sistema de climatización",null,{"$f":"+MAX(G85)","v":0},null,{"$f":"Documentos!F75","v":0},0,{"$f":"+MAX(K85)","v":0}]
[null,"INST.ENERGIA","15.1","Consumo de Energía","INST.Energía 15-18","Reducción del consumo anual de energía [kWh/m2] para todo el edificio",null,{"$f":"+MAX(G86)","v":0},null,null,0,{"$f":"+MAX(K86)","v":0},"puntaje prestacional"]
[null,"INST.ENERGIA","15.1",null,"INST.Energía 15.1","Reducción de potencia instalada de iluminación artificial [%]",null,{"$f":"+MAX(G87:G87)","v":0},null,{"$f":"Documentos!F76","v":0},0,{"$f":"+MAX(K87:K87)","v":0},{"$f":"+L86+L95","v":0}]
[null,"INST.ENERGIA","15.2",null,"INST.Energía 15.2","Incorporación de sistemas de control",null,{"$f":"+MAX(G88:G88)","v":0},null,{"$f":"Documentos!F77","v":0},0,{"$f":"+MAX(K88:K88)","v":0},"puntaje prescriptivo"]
[null,"INST.ENERGIA","15.2","Climatización y ACS","INST. Energía 16.1","Cobertura de Potencia requerida en climatización y ACS",null,{"$f":"+G89+MIN(G90:G91)","v":0},null,{"$f":"Documentos!F78","v":0},0,{"$f":"+K89+MIN(K90:K91)","v":0},{"$f":"+SUM(L87:L94)+L95","v":0}]
[null,"INST.ENERGIA","16.1",null,null,"Sobredimensionamiento de Potencia requerida en calefacción",null,null,null,{"$f":"Documentos!F78","v":0},0]
[null,"INST.ENERGIA","16.1",null,null,"Sobredimensionamiento de Potencia requerida en refrigeración",null,null,null,{"$f":"Documentos!F78","v":0},0]
[null,"INST.ENERGIA","16.2",null,"INST.Energía 16.2","Rendimiento nominal del sistema de calefacción por combustión",null,{"$f":"+IF('Datos Generales Edificio'!$F$50=\"Calefacción por combustión\",MIN(G92:G93),G93)","v":0},null,{"$f":"Documentos!F79","v":0},0,{"$f":"+IF('Datos Generales Edificio'!$F$50=\"Calefacción por combustión\",MIN(K92:K93),K93)","v":0}]
[null,"INST.ENERGIA","16.2",null,null,"Rendimiento nominal del sistema de calefacción y enfriamiento por electricidad",null,null,null,{"$f":"Documentos!F79","v":0},0]
[null,"INST.ENERGIA",17,"Otros consumos de energía","INST.Energía 17","Disminución de consumo de energía en equipos y artefactos",null,{"$f":"+MAX(G94)","v":0},null,{"$f":"Documentos!F81","v":0},0,{"$f":"+MAX(K94)","v":0}]
[null,"INST.ENERGIA",18,"Energía renovable no convencional","INST.Energía 18","Cobertura de demanda de energía primaria del edificio con ERNC",null,{"$f":"+MAX(G95)","v":0},null,{"$f":"Documentos!F80","v":0},0,{"$f":"+MAX(K95)","v":0}]
[null,"INST.AGUA",19,"Instalación de agua potable","INST.Agua 19.1","Disminución de consumo de agua potable [%]",null,0,null,{"$f":"Documentos!F82","v":0},0,0]
[null,"INST.AGUA",19,null,"INST.Agua 19.2","Tratamiento para la remoción de dureza de agua",null,0,null,{"$f":"Documentos!F83","v":0},0,0]
[null,"INST.AGUA",20,"Instalación de riego","INST.Agua 20","Disminución del consumo de agua para riego [%]",null,0,null,{"$f":"Documentos!F84","v":0},0,0]
[null,"CONST.RESIDUOS","21","Manejo de residuos durante la construcción","CONST. 21","Separación, control y reciclaje de residuos de construcción",null,{"$f":"+MAX(G99)","v":0},null,{"$f":"Documentos!F86","v":0},0,{"$f":"+MAX(K99)","v":0}]
[null,"GESTION",22,"Proceso de diseño integrado","GESTION 22","Actas de reuniones e informe",null,0,null,{"$f":"Documentos!F87","v":0},0,0]
[null,"GESTION",23,"Gestión de la operación y mantenimiento","GESTION 23","Compromiso y plan de mejora continua",null,0,null,{"$f":"Documentos!F88","v":0},0,0]
[]
[null,null,null,null,null,"CUMPLIMIENTO DE REQUERIMIENTOS OBLIGATORIOS",null,null,{"$f":"+IF(AND(L4,L5,L6,L7,L8,L9,L10,L11,L12,L13,L14,L15,L16,L17,L18),\"CUMPLE\",\"NO CUMPLE\")","v":"NO CUMPLE"}]
[]
[]
[]
[]
[null,null,null,null,null,"PUNTAJE OBTENIDO EN REQUERIMIENTOS VOLUNTARIOS",null,null,{"$f":"SUM(L38:L85)+SUM(L96:L100)+MAX(M87,M89)","v":0}]

{"sheet":"Documentos","index":24,"n_rows":91,"n_cols":7,"rows_kept":91,"cut":false,"hidden":false,"merged":[[84,1,85,1],[84,2,85,2],[87,1,90,1],[87,2,90,2],[60,4,61,4],[60,5,61,5],[60,6,61,6],[63,1,64,1],[63,2,64,2],[72,1,73,1],[72,2,73,2],[53,1,56,1],[53,2,56,2],[57,1,58,1],[57,2,58,2],[59,1,61,1],[59,2,61,2],[33,2,34,2],[40,2,40,6],[44,1,45,1],[44,2,45,2],[51,1,52,1],[51,2,52,2],[31,2,32,2],[1,4,1,6],[14,2,14,6],[17,2,18,2],[20,2,22,2],[23,2,24,2]]}
[]
[null,null,null,null,"DOCUMENTOS BÁSICOS PARA LA EVALUACIÓN DE PROYECTO"]
[null,null,null,null,"Documento","Adjunta (si/no)","Comentarios"]
[null,null,null,null,"Copia del permiso de edificación[1]","Si"]
[null,null,null,null,"Plano Ubicación y Emplazamiento, Cuadro de superficies, Plantas de arquitectura de todos los pisos del edificio."]
[null,null,null,null,"Elevaciones de fachadas"]
[null,null,null,null,"Cortes y escantillones"]
[null,null,null,null,"Especificaciones Técnicas "]
[null,null,null,null,"Memoria del proyecto, incluyendo imágenes reales o virtuales en 3D"]
[null,null,null,null,"Proyecto  de climatización (planimetría, memoria, EETT y fichas técnicas)"]
[null,null,null,null,"Proyecto de iluminación (planimetría, memoria, EETT y fichas técnicas)"]
[null,null,null,null,"Proyecto de paisajismo y riego (planimetría, memoria, EETT y fichas técnicas)"]
[null,null,null,null,"[1] En caso de no tener permiso de edificación, ver sección 4.1.1.b del “Manual de Operación”"]
[]
[null,null," ANTECEDENTES PARA LA EVALUACIÓN DE REQUERIMIENTOS OBLIGATORIOS"]
[null,null,"Requerimiento  Obligatorio","Código antecedente","Antecedente requerido","Adjunto (si/no/ no aplica)","Documento con la información"]
[null,null,"2R - Factor Luz Día o Iluminancia útil mínimos.","2R-1","Descripción de metodología de cálculo utilizada, indicando el valor de FLD o Iluminancia útil, según corresponda, para cada recinto del edificio. Deberá contener el porcentaje de recintos que cumplen con los requerimientos mínimos, y el valor ponderado obtenido.","Si"]
[null,null,"3R - Superficie mínima de ventana o caudal mínimo de aire.","3R-1","Tabla donde se indique para cada recinto evaluado: Superficie útil, Superficie y porcentaje del área practicable efectiva de las ventanas, profundidad de recinto desde la ventana practicable."]
[null,null,null,"3R-2","Descripción de metodología de cálculo utilizada y resultados para cada recinto evaluado indicando el requerimiento de caudal de aire mínimo, el obtenido por medio del cálculo y el porcentaje de área que cumple con el caudal de aire mínimo."]
[null,null,"4R - Aislación acústica mínima de fachadas exteriores.","4R-1","Descripción de metodología utilizada, indicando el listado de materiales utilizados de las zonas regularmente ocupadas y su nivel de aislamiento acústico. Indicar en cuánto se excede el nivel de aislación acústica mínima hacia el exterior y entre recintos"]
[null,null,"5R - Transmitancia térmica de la envolvente y Factor Solar modificado","5R-1","Tipo y espesor de los materiales utilizados para la aislación térmica del edificio, indicando la procedencia de la información."]
[null,null,null,"5R-2","Detalles constructivos de puentes térmicos lineales y un escantillón por fachada, incluyendo encuentros con cubierta."]
[null,null,null,"5R-3","Características de las ventanas, identificando transmitancia térmica, transmitancia lumínica y factor  solar (g) o coeficiente de sombra (CS) de los vidrios, y transmitancia térmica, tamaño y color de los marco. "]
[null,null,"5R - Transmitancia térmica de la envolvente y Factor Solar modificado","5R-4","Valores de transmitancia térmica de los muros, ventanas, lucernarios, cubiertas y pisos ventilados, incluyendo la memoria de cálculo y una indicación de la procedencia de la información de las propiedades de los materiales utilizados."]
[null,null,null,"5R-5","Memoria de cálculo del factor solar modificado (FSM) de las ventanas según lo indicado en el Apéndice 11: Definición de orientación y cálculo de Factor Solar Modificado, del Manual de Evaluación y Calificación."]
[null,null,"6R - Sellos exteriores para carpintería y paso de instalaciones","6R-1","Descripción y/o ficha técnica de los sellos exteriores utilizados para cada elemento tipo de la envolvente."]
[null,null,"8R - Reducir 20% evapotranspiración de proyecto de paisajismo.","8R-1","Memoria de cálculo de acuerdo al procedimiento indicado en el Apéndice 19: Procedimiento para cálculo de Paisajismo Eficiente, del Manual de Evaluación y Calificación"]
[null,null,"11R1 - Cumplir con las tasas mínimas de ventilación indicadas","11R1-1","Caudal de Diseño del sistema de ventilación. Indicar también aquellos recintos con contaminantes que poseen extracción forzada."]
[null,null,"11R1 - Cumplir con las tasas mínimas de ventilación indicadas","11R1-2","Lista de todos los recintos del edificio con  su caudal de diseño mínimo y caudal de proyecto, indicando % de aumento del caudal si corresponde, de acuerdo  al procedimiento indicado en el apéndice 5: Calidad del aire Ventilación Mecánica, del Manual de Evaluación y Calificación."]
[null,null,"11R2 - Eficiencia mínima de filtraje","11R2-1","Ficha Técnica del equipo de inyección de aire y/o filtros con especificación de eficiencia de filtraje o MERV y arrestancia mínima."]
[null,null,"11R3 - No utilizar sistemas de calefacción de combustión en base a llama abierta.","11R3-1","Memoria y/o Especificaciones Técnicas del proyecto de Climatización"]
[null,null,"13R - Condiciones de diseño mínimas (proyecto de iluminación)","13R-1","Ficha técnica de cada luminaria tipo a instalarse en  los recintos regularmente ocupados, detallando índice de Rendimiento Cromático (IRC o Ra)  y Deslumbramiento (UGR o Unified Glare Rating)"]
[null,null,null,"13R-2","Documento con memoria de cálculo indicando Iluminancias medias y uniformidad Media para cada recinto regularmente ocupado."]
[null,null,"14R - Definir condiciones de diseño del proyecto de climatización","14R-1","Especificaciones Técnicas del proyecto de Climatización"]
[null,null,null,"14R-2","Condiciones de diseño del proyecto de climatización: temperaturas interior y exterior, H.R., tasa ventilación, según la variable respectiva del Manual de Evaluación y Calificación."]
[null,null,"16R - Aislación térmica en distribución de calor y frío","16R-1","Tipos de ductos y su ubicación para la distribución de calor y frío (líquido, aire, interior, exterior) como también, el tipo, conductividad y espesor de aislación térmica definido para cada tipo."]
[null,null,"19R - Reducir en un 20% el consumo de agua potable","19R-1","Memoria de cálculo de acuerdo al procedimiento indicado en el apéndice 18: Sistemas de Agua Potable Eficientes, del Manual de Evaluación y Calificación"]
[null,null,"20R - Reducir en un 20% el consumo de agua para riego.","20R-1","Memoria de cálculo de acuerdo al procedimiento indicado en el apéndice 20: Procedimiento para cálculo de Instalación de Riego eficiente, del Manual de Evaluación y Calificación. Incluyendo cálculo de porcentaje de la superficie de paisajismo respecto a la superficie del terreno del edificio"]
[null,null,"21R - “Medidas de control y mitigación” durante la construcción","21R-1","Documento de “Medidas de control y mitigación” durante la construcción, de acuerdo a lo señalado en el artículo 5.8.3 de la OGUC."]
[]
[null,null,"Antecedentes  para la evaluación de requerimientos voluntarios"]
[null,"Opta al puntaje  ","Requerimiento  Voluntario","Código Antecedente","Antecedente requerido","Adjunto (Si/No/No aplica)","Documento con  información"]
[null,null,"ARQ.CAI 1","1-1","Descripción de metodología de cálculo utilizada, indicando todos la información de entrada  y de salida (confort térmico, demandas energéticas, consumos energéticos) del edificio de referencia y del edificio objeto, según el procedimiento indicado en el Apéndice 3 y Apéndice 9 del Manual de Evaluación y Calificación"]
[null,null,"ARQ.CAI 2.1","2.1-1","Ver antecedente 2R-1",{"$f":"F17","v":"Si"}]
[null,null,"ARQ.CAI 2.2","2.2-1","Esquemas de plantas que demuestren las zonas regularmente ocupadas que poseen vista al exterior."]
[null,null,null,"2.2-2","Listado con zonas regularmente ocupadas con verificación de áreas que cumplen con requisito de vistas."]
[null,null,"ARQ.CAI 3.1","3.1-1","Ver antecedente 3R-2 ",{"$f":"F19","v":0}]
[null,null,"ARQ.CAI 3.2","3.2-1","Memoria de cálculo indicando opción de cálculo de concentración  de COV y resultados."]
[null,null,"ARQ.CAI 3.2","3.2-2","Certificado o eco-etiqueta de concentración de COV por producto de acuerdo a UNE-EN-ISO 14024 o UNE-EN-ISO 14025"]
[null,null,"ARQ.CAI 4.1","4.1-1","Ver antecedente 4R-1",{"$f":"F20","v":0}]
[null,null,"ARQ.CAI 4.2","4.2-1","Memoria de cálculo de acuerdo al procedimiento indicado en el Apéndice 8: Acondicionamiento Acústico, del Manual de Evaluación y Calificación"]
[null,null,"ARQ. Energía 5","5-1","Ver antecedente 5R-1",{"$f":"F21","v":0}]
[null,null,null,"5-2","Ver antecedente  5R-3",{"$f":"F23","v":0}]
[null,null,"ARQ. Energía 5","5-3","Ver antecedente 5R-4",{"$f":"F24","v":0}]
[null,null,null,"5-4","Ver antecedente 5R-5",{"$f":"F25","v":0}]
[null,null,null,"5-5","Memoria de cálculo de Transmitancia térmica para pisos en contacto con el terreno según lo indicado en el Apéndice 12 Calculo simplificado de Transmitancia (U) para pisos en contacto con el terreno."]
[null,null,null,"5-6","Descripción de metodología de cálculo utilizada, indicando todos la información de entrada  y de salida (confort térmico, demandas energéticas, consumos energéticos) del edificio de referencia y del edificio objeto, según el procedimiento indicado en el Apéndice 9: Demanda y Consumo de Energía, del Manual de Evaluación y Calificación"]
[null,null,"ARQ. Energía 6","6-1","Descripción de metodología de cálculo de infiltraciones y resultados"]
[null,null,null,"6-2","Certificados de Ensayos de Carpintería o Test de Infiltraciones del edificio"]
[null,null,"ARQ. Energía 7","7-1","Descripción de opción utilizada (1, 2 o 3)"]
[null,null,null,"7-2","Etiqueta Ambiental Tipo I o Tipo III de los materiales o categorías de productos estructurales del edificio, o cuantificación de materiales estructurales que se mantienen en edificios existentes."]
[]
[null,null,"ARQ. Agua 8","8-1","Ver antecedente 8R-1",{"$f":"F27","v":0}]
[null,null,"ARQ. Agua 9","9-1","Descripción de opción utilizada (1, 2 o 3)"]
[null,null,null,"9-2","Etiqueta Ambiental Tipo I o Tipo III de los materiales o categorías de productos estructurales del edificio, o cuantificación de materiales estructurales que se mantienen en edificios existentes."]
[null,null,"ARQ. Residuos 10","10-1","Planimetría con ubicación de puntos limpios o contenedores para recibir material reciclable por separado."]
[null,null,"INST. CAI 11.1","11.1-1","Ver antecedente 11R1-1",{"$f":"F28","v":0}]
[null,null,"INST. CAI 11.1","11.1-2","Ver antecedente 11R1-2",{"$f":"F29","v":0}]
[null,null,"INST. CAI 11.2","11.2-1","Ver antecedente 11R2-1",{"$f":"F30","v":0}]
[null,null,"INST. CAI 11.3","11.3-1","Planimetría con ubicación de sensores de concentración de CO2"]
[null,null,"INST. CAI 11.3","11.3-2","Lista de recintos regularmente ocupados con densidad de ocupación igual o menor a los 4m2/p"]
[null,null,"INST.CAI 12","12-1","Descripción de metodología de cálculo para el cumplimiento del requerimiento."]
[null,null,"INST.CAI 13","13-1","Ver antecedente 13R-1",{"$f":"F32","v":0}]
[null,null,null,"13-2","Ver antecedente 13R-2",{"$f":"F33","v":0}]
[null,null,"INST.CAI 14","14-1","Planimetría con ubicación de termostatos, controles  y definición de bloques térmicos"]
[null,null,"INST.Energía15.1","15.1-1","Tabla con potencias de iluminación (W/m2) por cada recinto del edificio y cálculo de reducción respecto a valores del Apéndice 14, del Manual de Evaluación y Calificación"]
[null,null,"INST.Energía15.2","15.2-1","Descripción de los sistemas de control a implementar, indicando el porcentaje de cobertura de la potencia instalada de iluminación por cada tipo de sistema de control utilizado."]
[null,null,"INST.Energía 16.1","16.1-1","Cálculo del dimensionamiento de las instalaciones térmicas y porcentaje de sobredimensionamiento, utilizando como referencia el formato del Apéndice 16: Hoja de Cálculo tipo para carga térmica, del Manual de Evaluación y Calificación"]
[null,null,"INST.Energía 16.2","16.2-1","Rendimientos nominales, mediante fichas técnicas, de los equipos de las instalaciones térmicas del edificio."]
[null,null,"INST.Energía 18","18-1","Descripción de la metodología de cálculo utilizada indicando el porcentaje de cobertura de la demanda de energía primaria mediante ERNC"]
[null,null,"INST.Energía 17","17-1","Lista de equipos de oficina, indicando su potencia nominal y si poseen algún sello, según definición de la variable en referencia. "]
[null,null,"INST. Agua 19.1","19.1-1","Ver antecedente 19R-1",{"$f":"F37","v":0}]
[null,null,"INST. Agua 19.2","19.2-1","Memoria explicativa del funcionamiento y plan de mantenimiento del sistema de remoción de dureza del agua"]
[null,null,"INST. Agua 20","20.1-1","Ver antecedente 20R-1",{"$f":"F38","v":0}]
[null,null,"CONST. 21","21-1","Copia del contrato con empresa que manejará los residuos"]
[null,null,null,"21-2","Certificado de disposición final y reciclaje de residuos, desglosado por tipo de residuos y porcentaje de volumen."]
[null,null,"GESTION. 22","22-1","Descripción del Proceso de Diseño Integrado de Anteproyecto según lo indicado en el apéndice 23: Diseño integrado de anteproyecto, del Manual de Evaluación y Calificación. Incluir actas de reuniones e informes de eficiencia energética, calidad del ambiente interior y sistemas activos."]
[null,null,"GESTION.23","23-1","Plan anual de gestión, mantención y reposición de los sistemas del edificio según lo indicado en el Apéndice 24: Sello Plus Operación, del Manual de Evaluación y Calificación"]
[null,null,null,"23-2","Compromiso de registro y entrega de información de consumos mensuales de energía, agua, mantenciones y reposiciones según lo indicado en el Apéndice 24: Sello Plus Operación, del Manual de Evaluación y Calificación"]
[null,null,null,"23-3","Compromiso de realizar encuestas de satisfacción a los usuarios del edificio según lo indicado en el Apéndice 24: Sello Plus Operación, del Manual de Evaluación y Calificación"]
[null,null,null,"23-4","Informe de auto-diagnóstico según lo indicado en el Apéndice 24: Sello Plus Operación, del Manual de Evaluación y Calificación"]

{"sheet":"Informe","index":25,"n_rows":117,"n_cols":46,"rows_kept":117,"cut":false,"hidden":false,"merged":[[116,15,116,22],[117,15,117,22],[109,15,114,25],[115,15,115,25],[55,29,55,30],[56,29,56,30],[99,23,99,25],[94,1,94,25],[95,23,95,25],[96,23,96,25],[95,19,95,22],[96,19,96,22],[95,1,95,18],[96,1,96,18],[92,1,92,2],[92,22,92,23],[92,24,92,25],[93,1,93,2],[93,22,93,23],[93,24,93,25],[59,1,59,2],[48,34,48,37],[49,34,49,37],[50,34,50,37],[48,29,48,30],[49,29,49,30],[50,29,50,30],[51,29,51,30],[51,17,51,23],[90,16,90,21],[59,22,59,23],[59,24,59,25],[88,22,88,23],[88,24,88,25],[86,22,86,23],[86,24,86,25],[89,22,89,23],[89,24,89,25],[55,1,55,25],[49,14,49,16],[49,17,49,23],[50,3,50,13],[50,14,50,16],[50,17,50,23],[48,3,48,13],[46,24,46,25],[47,24,47,25],[48,24,48,25],[49,24,49,25],[50,24,50,25],[51,24,51,25],[52,29,52,30],[53,29,53,30],[54,29,54,30],[52,24,52,25],[53,24,53,25],[54,24,54,25],[51,1,51,2],[52,1,52,2],[53,1,53,2],[54,1,54,2],[38,1,38,25],[45,1,45,2],[46,1,46,2],[47,1,47,2],[48,1,48,2],[49,1,49,2],[50,1,50,2],[39,1,39,2],[40,1,40,2],[41,1,41,2],[42,1,42,2],[43,1,43,2],[44,1,44,2],[39,24,39,25],[40,24,40,25],[41,24,41,25],[42,24,42,25],[43,24,43,25],[44,24,44,25],[45,24,45,25],[36,1,36,4],[36,5,36,7],[36,8,36,10],[36,11,36,25],[33,1,33,25],[34,1,34,25],[35,1,35,11],[35,12,35,15],[35,16,35,25],[32,1,32,3],[32,4,32,6],[32,7,32,9],[32,10,32,12],[32,13,32,15],[31,16,31,25],[30,16,30,25],[30,1,31,3],[30,4,30,15],[31,13,31,15],[31,4,31,6],[31,7,31,9],[31,10,31,12],[32,16,32,25],[14,1,14,25],[20,1,20,25],[21,1,21,18],[22,1,22,18],[22,19,22,25],[18,1,18,5],[18,6,18,9],[18,10,18,13],[18,14,18,17],[18,18,18,21],[18,22,18,25],[16,1,16,8],[16,9,16,11],[16,12,16,16],[16,17,16,21],[16,22,16,25],[17,1,17,25],[15,1,15,8],[15,9,15,11],[15,12,15,16],[15,17,15,21],[15,22,15,25],[29,1,29,7],[27,14,27,18],[28,14,28,18],[28,1,28,13],[25,14,25,18],[26,14,26,18],[21,19,21,25],[19,1,19,5],[19,6,19,9],[19,10,19,13],[19,14,19,17],[19,18,19,21],[19,22,19,25],[25,19,25,25],[26,19,26,25],[27,19,27,25],[28,19,28,25],[25,1,25,13],[26,1,26,13],[27,1,27,13],[23,1,23,18],[23,19,23,25],[24,1,24,18],[24,19,24,25],[12,1,12,4],[12,21,12,25],[12,16,12,19],[1,1,1,25],[3,1,3,7],[4,3,5,8],[4,11,5,16],[4,19,5,24],[4,25,5,25],[7,1,7,19],[9,6,9,19],[10,6,10,19],[7,21,8,25],[11,6,11,15],[11,16,11,19],[11,1,11,4],[6,21,6,25],[9,21,9,25],[10,21,10,25],[11,21,11,25],[10,1,10,4],[6,1,6,19],[9,1,9,4],[12,6,12,15],[60,1,60,2],[60,22,60,23],[60,24,60,25],[56,1,56,25],[58,22,58,23],[58,24,58,25],[57,22,57,25],[57,1,58,2],[57,12,58,15],[59,12,59,15],[60,12,60,15],[57,16,58,21],[59,16,59,21],[60,16,60,21],[63,1,63,2],[63,22,63,23],[63,24,63,25],[64,1,64,2],[64,22,64,23],[64,24,64,25],[61,1,61,2],[61,22,61,23],[61,24,61,25],[62,1,62,2],[62,22,62,23],[62,24,62,25],[62,16,62,21],[63,16,63,21],[64,16,64,21],[61,12,61,15],[62,12,62,15],[63,12,63,15],[64,12,64,15],[61,16,61,21],[67,1,67,2],[67,22,67,23],[67,24,67,25],[68,1,68,2],[68,22,68,23],[68,24,68,25],[65,1,65,2],[65,22,65,23],[65,24,65,25],[66,1,66,2],[66,22,66,23],[66,24,66,25],[67,3,67,9],[68,3,68,9],[65,16,65,21],[66,16,66,21],[67,16,67,21],[68,16,68,21],[67,12,67,15],[68,12,68,15],[65,12,65,15],[66,12,66,15],[69,1,69,2],[69,22,69,23],[69,24,69,25],[70,1,70,2],[70,22,70,23],[70,24,70,25],[71,1,71,2],[71,22,71,23],[71,24,71,25],[69,3,69,9],[70,3,70,9],[69,16,69,21],[70,16,70,21],[71,16,71,21],[71,3,71,9],[69,12,69,15],[70,12,70,15],[71,12,71,15],[72,1,72,2],[72,22,72,23],[72,24,72,25],[73,1,73,2],[73,22,73,23],[73,24,73,25],[74,1,74,2],[74,22,74,23],[74,24,74,25],[72,3,72,9],[73,3,73,9],[74,3,74,9],[72,16,72,21],[73,16,73,21],[74,16,74,21],[72,12,72,15],[73,12,73,15],[74,12,74,15],[75,1,75,2],[75,22,75,23],[75,24,75,25],[76,1,76,2],[76,22,76,23],[76,24,76,25],[77,1,77,2],[77,22,77,23],[77,24,77,25],[75,3,75,9],[76,3,76,9],[75,16,75,21],[76,16,76,21],[77,16,77,21],[77,10,77,11],[77,3,77,9],[76,12,76,15],[77,12,77,15],[75,12,75,15],[78,1,78,2],[78,22,78,23],[78,24,78,25],[79,1,79,2],[79,22,79,23],[79,24,79,25],[80,1,80,2],[80,22,80,23],[80,24,80,25],[80,16,80,21],[78,3,78,9],[79,3,79,9],[80,3,80,9],[80,10,80,11],[79,12,79,15],[80,12,80,15],[78,16,78,21],[79,16,79,21],[78,10,78,11],[79,10,79,11],[78,12,78,15],[82,1,82,2],[82,22,82,23],[82,24,82,25],[83,1,83,2],[83,22,83,23],[83,24,83,25],[82,16,82,21],[83,16,83,21],[82,3,82,9],[83,3,83,9],[82,10,82,11],[83,10,83,11],[82,12,82,15],[83,12,83,15],[84,1,84,2],[84,22,84,23],[84,24,84,25],[85,1,85,2],[85,22,85,23],[85,24,85,25],[84,16,84,21],[84,3,84,9],[85,3,85,9],[84,10,84,11],[85,10,85,11],[84,12,84,15],[85,12,85,15],[85,16,85,21],[87,1,87,2],[87,22,87,23],[87,24,87,25],[86,3,86,9],[87,3,87,9],[86,10,86,11],[87,10,87,11],[86,12,86,15],[87,12,87,15],[86,16,86,21],[87,16,87,21],[86,1,86,2],[89,3,89,9],[88,10,88,11],[89,10,89,11],[88,12,88,15],[89,12,89,15],[88,16,88,21],[89,16,89,21],[107,2,107,25],[97,1,97,18],[97,19,97,22],[97,23,97,25],[98,1,98,18],[98,19,98,22],[98,23,98,25],[99,1,99,18],[99,19,99,22],[89,1,89,2],[91,16,91,21],[92,16,92,21],[93,16,93,21],[100,1,100,2],[101,1,101,2],[102,1,102,2],[100,19,100,22],[100,23,100,25],[103,1,103,25],[104,1,104,25],[105,2,105,25],[106,2,106,25],[101,19,101,22],[101,23,101,25],[102,19,102,22],[102,23,102,25],[100,3,100,18],[101,3,101,18],[102,3,102,18],[117,23,117,25],[53,3,53,13],[53,14,53,16],[53,17,53,23],[54,3,54,13],[54,14,54,16],[54,17,54,23],[57,3,58,9],[59,3,59,9],[60,3,60,9],[61,3,61,9],[62,3,62,9],[63,3,63,9],[64,3,64,9],[65,3,65,9],[66,3,66,9],[92,3,92,9],[93,3,93,9],[73,10,73,11],[74,10,74,11],[75,10,75,11],[76,10,76,11],[116,23,116,25],[88,3,88,9],[42,3,42,13],[42,14,42,16],[42,17,42,23],[43,3,43,13],[43,14,43,16],[43,17,43,23],[44,3,44,13],[44,14,44,16],[44,17,44,23],[39,14,39,16],[39,17,39,23],[40,17,40,23],[40,14,40,16],[39,3,39,13],[40,3,40,13],[41,3,41,13],[41,14,41,16],[41,17,41,23],[45,3,45,13],[45,14,45,16],[45,17,45,23],[46,3,46,13],[46,14,46,16],[46,17,46,23],[47,3,47,13],[47,14,47,16],[47,17,47,23],[48,14,48,16],[48,17,48,23],[51,3,51,13],[51,14,51,16],[52,3,52,13],[52,14,52,16],[52,17,52,23],[49,3,49,13],[88,1,88,2],[57,10,58,11],[59,10,59,11],[60,10,60,11],[61,10,61,11],[62,10,62,11],[63,10,63,11],[64,10,64,11],[65,10,65,11],[66,10,66,11],[67,10,67,11],[68,10,68,11],[69,10,69,11],[70,10,70,11],[71,10,71,11],[72,10,72,11],[118,1,120,25],[92,12,92,15],[93,12,93,15],[81,1,81,2],[81,3,81,9],[81,10,81,11],[81,12,81,15],[81,16,81,21],[81,22,81,23],[81,24,81,25],[92,10,92,11],[93,10,93,11],[90,1,90,2],[90,22,90,23],[90,24,90,25],[91,1,91,2],[91,22,91,23],[91,24,91,25],[90,3,90,9],[91,3,91,9],[90,10,90,11],[91,10,91,11],[90,12,90,15],[91,12,91,15]]}
[]
[null,"Informe de Evaluación Versión 1.1"]
[]
[null,"1. TIPO DE EVALUACIÓN"]
[null,"A.",null,"Evaluación de Diseño",null,null,null,null,null,"B",null,"Evaluación de Diseño y Construcción",null,null,null,null,null,"C",null,"Postula al sello “Plus Operación”"]
[]
[null,"I. ENTIDAD EVALUADORA",null,null,null,null,null,null,null,null,null,null,null,null,null,null,null,null,null,null,null,"Código CES de proyecto"]
[]
[]
[null,"Destino",null,null,null,null,"Nombre Proyecto",null,null,null,null,null,null,null,null,null,null,null,null,null,null,"Número Informe"]
[null,{"$f":"'Datos Generales Edificio'!C4","v":"Oficinas"},null,null,null,null,{"$f":"'Datos Generales Edificio'!C3","v":"Escuela Proceres del Bío Bío"}]
[null,"Zona Climática",null,null,null,null,"Representante de la entidad evaluadora",null,null,null,null,null,null,null,null,null,"R.U.T.",null,null,null,null,"Fecha Informe"]
[null,{"$f":"'Datos Generales Edificio'!F28","v":"CI - Central Interior"}]
[]
[null,"II. UBICACIÓN"]
[null,"Calle o camino",null,null,null,null,null,null,null,"Número",null,null,"Comuna",null,null,null,null,"Ciudad",null,null,null,null,"Rol SII"]
[null,{"$f":"'Datos Generales Edificio'!C7","v":"El río"},null,null,null,null,null,null,null,{"$f":"'Datos Generales Edificio'!F7","v":2050},null,null,{"$f":"'Datos Generales Edificio'!C6","v":"San José de Maipo"},null,null,null,null,{"$f":"'Datos Generales Edificio'!C5","v":"RM - Región Metropolitana de Santiago"}]
[null,"III. SUPERFICIES (m²)"]
[null,"Útil",null,null,null,null,"Construida total",null,null,null,"Construida \nsobre terreno",null,null,null,"Construida \nbajo terreno",null,null,null,"Terreno",null,null,null,"Paisajismo"]
[null,{"$f":"'Datos Generales Edificio'!F30","v":24000}]
[null,"IV. IDENTIFICACIÓN DEL CLIENTE"]
[null,"Nombre o razón social ",null,null,null,null,null,null,null,null,null,null,null,null,null,null,null,null,null,"R.U.T."]
[]
[null,"Representante del cliente para el proceso de certificación",null,null,null,null,null,null,null,null,null,null,null,null,null,null,null,null,null,"R.U.T."]
[]
[null,"Dirección   ",null,null,null,null,null,null,null,null,null,null,null,null,"nº ",null,null,null,null,"Comuna"]
[]
[null,"e-mail ",null,null,null,null,null,null,null,null,null,null,null,null,"Teléfono ",null,null,null,null,"Fax"]
[]
[null,"2. RESUMEN EVALUACIÓN"]
[null,"Requerimientos Obligatorios no cumplidos",null,null,"Desglose puntaje",null,null,null,null,null,null,null,null,null,null,null,"Nivel alcanzado por el proyecto evaluado"]
[null,null,null,null,"Al que opta",null,null,"Obtenido",null,null,"Con observaciones",null,null,"No logrados",null,null,{"$f":"AD32","v":"No logra Certificación"},null,null,null,null,null,null,null,null,null,null,null,null,{"$f":"IF(H33>=70,\"Certifición Sobresaliente\",AD33)","v":"No logra Certificación"}]
[null,{"$f":"COUNTIF(Y41:Z55,\"NO\")","v":15},null,null,{"$f":"SUMIFS(W60:X93,K60:L93,AD58)","v":105},null,null,{"$f":"SUMIFS(Y60:Z93,K60:L93,AD58)","v":0},null,null,null,null,null,{"$f":"E33-(SUMIFS(Y60:Z93,K60:L93,AD58))","v":105},null,null,{"$f":"IF(AND(Y94=W94,Q32<>\"No logra Certificación\"),CONCATENATE(\"Obtiene \",W94),CONCATENATE(\"No opta al \",W94))","v":"No opta al Sello Plus Operación"},null,null,null,null,null,null,null,null,null,null,null,null,{"$f":"IF(H33>=55,\"Certifición Destacada\",AD34)","v":"No logra Certificación"}]
[null,"3. RESULTADOS DE LA EVALUACIÓN",null,null,null,null,null,null,null,null,null,null,null,null,null,null,null,null,null,null,null,null,null,null,null,null,null,null,null,{"$f":"IF(H33>=30,\"Edificio Certificado\",\"No logra Certificación\")","v":"No logra Certificación"}]
[null,"En conformidad al Manual de Evaluación y Calificación y el Manual de Operación de la “Certificación Edificio Sus-"]
[null,"tentable”, y habiendo revisado el expediente Nº",null,null,null,null,null,null,null,null,null,null,null,null,null,null,"correspondiente a la solicitud de evaluación"]
[null,null,null,null,null,", con fecha",null,null,null,null,null,"comunico al solicitante las siguientes resultados de la evaluación:"]
[]
[null,"I. REQUERIMIENTOS OBLIGATORIOS"]
[null,"Código",null,"Requerimiento",null,null,null,null,null,null,null,null,null,null,"Indicador",null,null,"Metodología de cálculo",null,null,null,null,null,null,"¿Cumple?"]
[null,"2R",null,"Factor Luz Día o Iluminancia útil mínimos",null,null,null,null,null,null,null,null,null,null,{"$f":"MAX('Evaluacion ARQ.CAI Obligat.'!Q8,'Evaluacion ARQ.CAI Obligat.'!Q23)","v":0},null,null,{"$f":"LOOKUP(\"SI\",'RESUMEN GENERAL'!G4:G5,'RESUMEN GENERAL'!F4:F5)","v":{"$error":"#N/A"}},null,null,null,null,null,null,{"$f":"'RESUMEN GENERAL'!H4","v":"NO"}]
[null,"3R",null,"Superficie mínima de ventana o caudal mínimo de aire.",null,null,null,null,null,null,null,null,null,null,{"$f":"(MAX('Evaluacion ARQ.CAI Obligat.'!Q39,'Evaluacion ARQ.CAI Obligat.'!Q54))","v":0},null,null,{"$f":"LOOKUP(\"SI\",'RESUMEN GENERAL'!G6:G7,'RESUMEN GENERAL'!F6:F7)","v":{"$error":"#N/A"}},null,null,null,null,null,null,{"$f":"'RESUMEN GENERAL'!H6","v":"NO"}]
[null,"4R",null,"Aislación acústica mínima de fachadas exteriores",null,null,null,null,null,null,null,null,null,null,{"$f":"'Evaluacion ARQ.CAI Obligat.'!Q70","v":0},null,null,{"$f":"'RESUMEN GENERAL'!F8","v":"Aislamiento acústico de fachada [dB(A)]"},null,null,null,null,null,null,{"$f":"'RESUMEN GENERAL'!H8","v":"NO"}]
[null,"5R",null,"Transmitancia térmica de la envolvente y Factor Solar modificado",null,null,null,null,null,null,null,null,null,null,{"$f":"IF(Y44=\"SI\",\"W/m²K y FSM suficientes\",\"No Cumple\")","v":"No Cumple"},null,null,"W/m²K y FSM",null,null,null,null,null,null,{"$f":"'RESUMEN GENERAL'!H9","v":"NO"}]
[null,"6R",null,"Sellos exteriores para carpintería y paso de instalaciones",null,null,null,null,null,null,null,null,null,null,{"$f":"IF(Y45=\"SI\",\"Si especifica\",\"No especifica\")","v":"No especifica"},null,null,{"$f":"'RESUMEN GENERAL'!F18","v":"Especificación de sellos"},null,null,null,null,null,null,{"$f":"'RESUMEN GENERAL'!H18","v":"NO"},null,null,null,null,null,null,null,null,null,"Eficiencia promedio de filtraje y arrestancia"]
[null,"8R",null,"Reducir 20% evapotranspiración de proyecto de paisajismo.",null,null,null,null,null,null,null,null,null,null,{"$f":"'Evaluacion ARQ.Agua Obligat.'!Q8","v":0},null,null,{"$f":"'RESUMEN GENERAL'!F19","v":"Disminución de la evapotranspiración [%]"},null,null,null,null,null,null,{"$f":"'RESUMEN GENERAL'!H19","v":"NO"},null,null,null,null,null,null,null,null,null,"MERV y arrestancia"]
[null,"11R1",null,"Cumplir con las tasas mínimas de ventilación mecánica ",null,null,null,null,null,null,null,null,null,null,null,null,null,{"$f":"'Datos Generales Edificio'!F39","v":"ASHRAE 62.1 - 2007"},null,null,null,null,null,null,{"$f":"'RESUMEN GENERAL'!H20","v":"NO"},null,null,null,null,null,null,null,null,null,"No aplica"]
[null,"11R2",null,"Eficiencia mínima de filtraje",null,null,null,null,null,null,null,null,null,null,null,null,null,null,null,null,null,null,null,null,{"$f":"'RESUMEN GENERAL'!H21","v":"NO"}]
[null,"11R3",null,"No utilizar sistemas de calefacción de combustión en base a llama abierta.",null,null,null,null,null,null,null,null,null,null,{"$f":"IF(Y49=\"SI\",\"Sin llama abierta\",\"Con llama abierta\")","v":"Con llama abierta"},null,null,{"$f":"'RESUMEN GENERAL'!F22","v":"Sistemas de calefacción utilizados"},null,null,null,null,null,null,{"$f":"'RESUMEN GENERAL'!H22","v":"NO"},null,null,null,null,"NL - Norte Litoral",null,{"$f":"IF(AD49=$B$13,1,0)","v":0},null,null,"Oficinas",null,null,null,{"$f":"IF(AI49=$B$11,1,0)","v":1}]
[null,"13R",null,"Condiciones de diseño mínimas",null,null,null,null,null,null,null,null,null,null,{"$f":"IF(Y50=\"SI\",\"Cumple\",\"No Cumple\")","v":"No Cumple"},null,null,"[lux], [UGR] e [IRC]",null,null,null,null,null,null,{"$f":"'RESUMEN GENERAL'!H23","v":"NO"},null,null,null,null,"ND - Norte Desértico",null,{"$f":"IF(AD50=$B$13,1,0)","v":0},null,null,"Educacional",null,null,null,{"$f":"IF(AI50=$B$11,1,0)","v":0}]
[null,"14R",null,"Definir condiciones de diseño del proyecto de climatización",null,null,null,null,null,null,null,null,null,null,{"$f":"IF(Y51=\"SI\",\"Cumple condiciones de diseño\",\"No Cumple condiciones de diseño\")","v":"No Cumple condiciones de diseño"},null,null,"Declaración de condiciones de diseño de la climatización",null,null,null,null,null,null,{"$f":"'RESUMEN GENERAL'!H26","v":"NO"},null,null,null,null,"NVT - Norte Valle Transversal",null,0,null,null,"Salud",null,null,null,0]
[null,"16R",null,"Aislación térmica en distribución de calor y frío ",null,null,null,null,null,null,null,null,null,null,{"$f":"IF(Y52=\"SI\",\"Espesor suficiente\",\"Espesor insuficiente\")","v":"Espesor insuficiente"},null,null,"Espesor de aislación térmica de cañerías climatización/aire [mm]",null,null,null,null,null,null,{"$f":"'RESUMEN GENERAL'!H27","v":"NO"},null,null,null,null,"CL - Central Litoral",null,0]
[null,"19R",null,"Reducir en un 20% el consumo de agua potable",null,null,null,null,null,null,null,null,null,null,{"$f":"'Evaluacion INST.AGUA Obligat'!Q8","v":0},null,null,{"$f":"'RESUMEN GENERAL'!F31","v":"Disminución del consumo de agua potable por griferías y artefactos [%]"},null,null,null,null,null,null,{"$f":"'RESUMEN GENERAL'!H31","v":"NO"},null,null,null,null,"CI - Central Interior",null,1]
[null,"20R",null,"Reducir en un 20% el consumo de agua para riego",null,null,null,null,null,null,null,null,null,null,{"$f":"'Evaluacion INST.AGUA Obligat'!Q24","v":0},null,null,{"$f":"'RESUMEN GENERAL'!F32","v":"Disminución del consumo de agua para riego por sistema de riego [%]"},null,null,null,null,null,null,{"$f":"'RESUMEN GENERAL'!H32","v":"NO"},null,null,null,null,"SL - Sur Litoral",null,0]
[null,"21R",null,"“Medidas de control y mitigación” durante la construcción",null,null,null,null,null,null,null,null,null,null,{"$f":"'Evaluacion CONST.Residuos Oblig'!Q8","v":0},null,null,{"$f":"'RESUMEN GENERAL'!F33","v":"Separación, control y reciclaje de residuos"},null,null,null,null,null,null,{"$f":"'RESUMEN GENERAL'!H33","v":"NO"},null,null,null,null,"SI - Sur Interior",null,0]
[null,null,null,null,null,null,null,null,null,null,null,null,null,null,null,null,null,null,null,null,null,null,null,null,null,null,null,null,null,"SE - Sur Extremo",null,0]
[null,"II. REQUERIMIENTOS VOLUNTARIOS",null,null,null,null,null,null,null,null,null,null,null,null,null,null,null,null,null,null,null,null,null,null,null,null,null,null,null,"An - Andino",null,0,null,null,{"$f":"SUM(AF49:AF53)","v":1},{"$f":"SUM(AF49:AF53)","v":1},{"$f":"SUM(AF54:AF57)","v":0},{"$f":"SUM(AF54:AF57)","v":0},"zona climática"]
[null,"Código",null,"Requerimiento",null,null,null,null,null,null,"¿Opta al puntaje?",null,"Indicador",null,null,null,"Metodología de cálculo",null,null,null,null,null,"Puntaje",null,null,null,null,null,null,"Si",null,null,null,null,{"$f":"AM49","v":1},{"$f":"SUM(AM50:AM51)","v":0},{"$f":"AM49","v":1},{"$f":"SUM(AM50:AM51)","v":0},"destino"]
[null,null,null,null,null,null,null,null,null,null,null,null,null,null,null,null,null,null,null,null,null,null,"Máximo",null,"Obtenido",null,null,null,null,"No",null,null,null,null,{"$f":"SUM(AI57:AI58)","v":2},{"$f":"SUM(AJ57:AJ58)","v":1},1,0]
[null,"1.1",null,"% de tiempo que la T° dentro del rango de confort de manera pasiva.",null,null,null,null,null,null,"Si",null,{"$f":"IF(K60=AD58,MAX('Evaluacion ARQ.CAI Voluntarios'!Q8,'Evaluacion ARQ.CAI Voluntarios'!Q23),\"-\")","v":0},null,null,null,{"$f":"IF(K60=AD58,LOOKUP(MAX('RESUMEN GENERAL'!G38:G39),'RESUMEN GENERAL'!G38:G39,'RESUMEN GENERAL'!F38:F39),\"-\")","v":{"$error":"#N/A"}},null,null,null,null,null,{"$f":"LOOKUP(2,$AI$59:$AL$59,AI60:AL60)","v":10},null,{"$f":"IF(K60=AD58,'RESUMEN GENERAL'!H38*100,0)","v":0},null,null,null,null,"Confort térmico pasivo",null,null,null,null,16,10,16,10]
[null,"2.1.1",null,"Aporte luz natural",null,null,null,null,null,null,"Si",null,{"$f":"IF(K61=AD58,MAX('Evaluacion ARQ.CAI Voluntarios'!Q54,'Evaluacion ARQ.CAI Voluntarios'!Q54,'Evaluacion ARQ.CAI Voluntarios'!Q69),\"-\")","v":0},null,null,null,{"$f":"IF(K61=AD58,LOOKUP(MAX('RESUMEN GENERAL'!G40:G42),'RESUMEN GENERAL'!G40:G42,'RESUMEN GENERAL'!F40:F42),\"-\")","v":{"$error":"#N/A"}},null,null,null,null,null,{"$f":"LOOKUP(2,$AI$59:$AL$59,AI61:AL61)","v":6.5},null,{"$f":"IF(K61=AD58,(MAX('RESUMEN GENERAL'!G40:G42))*100,0)","v":0},null,null,null,null,"Aporte luz natural, en (FLD),  Iluminancia Útil o (SDA)",null,null,null,null,5,6.5,5,6.5]
[null,"2.1.2",null,"Control de Deslumbramiento (DGP)",null,null,null,null,null,null,"Si",null,{"$f":"IF(K62=AD58,'Evaluacion ARQ.CAI Voluntarios'!Q84,\"-\")","v":0},null,null,null,{"$f":"IF(K62=AD58,'RESUMEN GENERAL'!F43,\"-\")","v":"Índice de probabilidad de deslumbramiento"},null,null,null,null,null,{"$f":"LOOKUP(2,$AI$59:$AL$59,AI62:AL62)","v":1},null,{"$f":"IF(K62=AD58,'RESUMEN GENERAL'!G43*100,0)","v":0},null,null,null,null,"Control de Deslumbramiento (DGP)",null,null,null,null,1,1,1,1]
[null,"2.2",null,"Acceso visual al exterior",null,null,null,null,null,null,"Si",null,{"$f":"IF(K63=AD58,'Evaluacion ARQ.CAI Voluntarios'!Q100,\"-\")","v":0},null,null,null,{"$f":"IF(K63=AD58,'RESUMEN GENERAL'!F44,\"-\")","v":"% de áreas con acceso visual al exterior"},null,null,null,null,null,1.5,null,{"$f":"IF(K63=AD58,'RESUMEN GENERAL'!G44*100,0)","v":0},null,null,null,null,"Acceso visual al exterior",null,null,null,null,1,1.5,1,1.5]
[null,"3.1",null,"Cobertura de las tasas de renovación por ventilación natural",null,null,null,null,null,null,"Si",null,{"$f":"IF(K64=AD58,'Evaluacion ARQ.CAI Voluntarios'!Q116,\"-\")","v":"No Aplica"},null,null,null,{"$f":"IF(K64=AD58,'Datos Generales Edificio'!F38,\"-\")","v":"TDR MOP (opción 1)"},null,null,null,null,null,7.5,null,{"$f":"IF(K64=AD58,'RESUMEN GENERAL'!H45*100,0)","v":0},null,null,null,null,"Cobertura de las tasas de renovación por ventilación natural",null,null,null,null,6,7.5,6,7.5]
[null,"3.2",null,"Concentración máxima de Compuestos Orgánicos Volátiles ",null,null,null,null,null,null,"Si",null,{"$f":"IF(K65=AD58,(MAX('Evaluacion ARQ.CAI Voluntarios'!Q132,'Evaluacion ARQ.CAI Voluntarios'!Q147,'Evaluacion ARQ.CAI Voluntarios'!Q162)),\"-\")","v":0},null,null,null,{"$f":"IF(K65=AD58,(LOOKUP(Y65/100,'RESUMEN GENERAL'!G46:G48,'RESUMEN GENERAL'!F46:F48)),\"-\")","v":{"$error":"#N/A"}},null,null,null,null,null,3,null,{"$f":"IF(K65=AD58,'RESUMEN GENERAL'!H46*100,0)","v":0},null,null,null,null,"Compuestos Orgánicos Volátiles (COV)",null,null,null,null,2.5,3,2.5,3]
[null,"4.1.1",null,"Aislamiento acústico de fachada",null,null,null,null,null,null,"Si",null,{"$f":"IF(K66=AD58,'Evaluacion ARQ.CAI Voluntarios'!Q178,\"-\")","v":0},null,null,null,{"$f":"IF(K66=AD58,'RESUMEN GENERAL'!F49,\"-\")","v":"Aislamiento acústico de fachada [dB(A)"},null,null,null,null,null,3,null,{"$f":"IF(K66=AD58,'RESUMEN GENERAL'!G49*100,0)","v":0},null,null,null,null,"Aislamiento acústico de fachada",null,null,null,null,2,3,2,3]
[null,"4.1.2",null,"Aislamiento acústico al ruido aéreo entre dos recintos",null,null,null,null,null,null,"Si",null,34,null,null,null,{"$f":"IF(K67=AD58,'RESUMEN GENERAL'!F50,\"-\")","v":"Aislamiento acústico entre recintos [dB(A)]"},null,null,null,null,null,2,null,{"$f":"IF(K67=AD58,'RESUMEN GENERAL'!G50*100,0)","v":0},null,"OK",null,null,"Aislamiento acústico al ruido aéreo entre dos recintos",null,null,null,null,1,2,1,2]
[null,"4.2.1",null,"Tiempo de reverberación (segundos)",null,null,null,null,null,null,"Si",null,0.9,null,null,null,{"$f":"IF(K68=AD58,LOOKUP(Y68,AP69:AQ69,AN69:AO69),\"-\")","v":"Material absorbente para Aulas y Auditorios"},null,null,null,null,null,1.5,null,{"$f":"IF(K68=AD58,(MAX('RESUMEN GENERAL'!G51,'RESUMEN GENERAL'!G53)*100),0)","v":0},null,null,null,null,"Tiempo de reverberación",null,null,null,null,1.5,1.5,1.5,1.5]
[null,"4.2.2",null,"Inteligibilidad de la palabra (STI)",null,null,null,null,null,null,"Si",null,0.8,null,null,null,{"$f":"IF(K69=AD58,\"Speech Transmission Index\",\"-\")","v":"Speech Transmission Index"},null,null,null,null,null,0.5,null,{"$f":"IF(K69=AD58,'RESUMEN GENERAL'!G52*100,0)","v":0},null,null,null,null,"Inteligibilidad de la palabra (STI)",null,null,null,null,0.5,0.5,0.5,0.5,null,{"$f":"'RESUMEN GENERAL'!F51","v":"Tiempo de reverberación [s]"},{"$f":"'RESUMEN GENERAL'!F53","v":"Material absorbente para Aulas y Auditorios"},{"$f":"'RESUMEN GENERAL'!G51*100","v":0},{"$f":"'RESUMEN GENERAL'!G53*100","v":0}]
[null,5,null,"Disminución de demanda de energía para calefacción, enfriamiento e iluminación.",null,null,null,null,null,null,"Si",null,30,null,null,null,{"$f":"IF(K70=AD58,AN70,\"-\")","v":"Evaluación prescriptiva"},null,null,null,null,null,18,null,{"$f":"IF(K70=AD58,'RESUMEN GENERAL'!H54*100,0)","v":0},null,null,null,null,"Disminución de la demanda de energía ",null,null,null,null,18,18,18,18,null,{"$f":"IF(AND(Y70>0,'RESUMEN GENERAL'!G54>0),\"Evaluación prestacional\",\"Evaluación prescriptiva\")","v":"Evaluación prescriptiva"}]
[null,6,null,"Infiltraciones envolvente y permeabilidad al aire de carpinterías de ventana.",null,null,null,null,null,null,"Si",null,"Carpintería certificada",null,null,null,{"$f":"IF(K71=AD58,(LOOKUP(Y71,'RESUMEN GENERAL'!G66:G67,'RESUMEN GENERAL'!F66:F67)),\"-\")","v":{"$error":"#N/A"}},null,null,null,null,null,3,null,{"$f":"IF(K71=AD58,'RESUMEN GENERAL'!H66*100,0)","v":0},null,null,null,null,"Hermeticidad",null,null,null,null,3,3,3,3]
[null,7,null,"% de materiales estructurales con declaración de la energía incorporada.",null,null,null,null,null,null,"Si",null,{"$f":"IF(K72=AD58,LOOKUP(Q72,AN72:AP72,AQ72:AS72),\"-\")","v":{"$error":"#N/A"}},null,null,null,{"$f":"IF(K72=AD58,LOOKUP(Y72/100,'RESUMEN GENERAL'!G68:G70,'RESUMEN GENERAL'!F68:F70),\"-\")","v":{"$error":"#N/A"}},null,null,null,null,null,4,null,{"$f":"IF(K72=AD58,'RESUMEN GENERAL'!H68*100,0)","v":0},null,null,null,null,"Energía incorporada en materiales estructurales",null,null,null,null,4,4,4,4,null,{"$f":"'RESUMEN GENERAL'!F68","v":"Materiales con declaración de energía incorporada según UNE-EN-ISO 14.024"},{"$f":"'RESUMEN GENERAL'!F69","v":"Materiales con declaración de energía incorporada según UNE-EN-ISO 14.025"},{"$f":"'RESUMEN GENERAL'!F70","v":"Porcentaje de elementos estructurales de edificios existentes utilizado con respecto al total de la estructura"},{"$f":"'Evaluacion ARQ.Energia Voluntar'!Q220","v":0},{"$f":"'Evaluacion ARQ.Energia Voluntar'!Q235","v":0},{"$f":"'Evaluacion ARQ.Energia Voluntar'!Q250","v":0}]
[null,8,null,"Disminución de la evapotranspiración del proyecto de paisajismo",null,null,null,null,null,null,"Si",null,{"$f":"IF(K73=AD58,'Evaluacion ARQ.Agua Voluntarios'!Q8,\"-\")","v":0},null,null,null,{"$f":"IF(K73=AD58,'RESUMEN GENERAL'!F71,\"-\")","v":"Porcentaje de disminución de la evapotranspiración"},null,null,null,null,null,1,null,{"$f":"IF(K73=AD58,'RESUMEN GENERAL'!G71*100,0)","v":0},null,null,null,null,"Evapotranspiración Proyecto de Paisajismo",null,null,null,null,2,2,1,1]
[null,9,null,"% de los materiales estructurales con declaración de agua incorporada.",null,null,null,null,null,null,"Si",null,{"$f":"IF(K74=AD58,LOOKUP(Q74,AN74:AP74,AQ74:AS74),\"-\")","v":{"$error":"#N/A"}},null,null,null,{"$f":"IF(K74=AD58,LOOKUP(Y74/100,'RESUMEN GENERAL'!G72:G74,'RESUMEN GENERAL'!F72:F74),\"-\")","v":{"$error":"#N/A"}},null,null,null,null,null,1,null,{"$f":"IF(K74=AD58,'RESUMEN GENERAL'!H72*100,0)","v":0},null,null,null,null,"Agua incorporada en materiales estructurales",null,null,null,null,1,1,1,1,null,{"$f":"'RESUMEN GENERAL'!F72","v":"Cantidad de categorías de materiales en que se declara la información de agua incorporada"},{"$f":"'RESUMEN GENERAL'!F73","v":"Cantidad de categorías de materiales en que se declara la información de agua incorporada según UNE-14025"},{"$f":"'RESUMEN GENERAL'!F74","v":"Porcentaje de la superficie del sistema estructural principal que se mantiene"},{"$f":"'Evaluacion ARQ.Agua Voluntarios'!Q24","v":0},{"$f":"'Evaluacion ARQ.Agua Voluntarios'!Q39","v":0},{"$f":"'Evaluacion ARQ.Agua Voluntarios'!Q54","v":0}]
[null,10,null,"Equipamiento para la separación de los residuos durante la operación",null,null,null,null,null,null,"Si",null,{"$f":"IF(K75=AD58,AN75,\"-\")","v":"no incorpora equipamiento"},null,null,null,{"$f":"IF(K75=AD58,D75,\"-\")","v":"Equipamiento para la separación de los residuos durante la operación"},null,null,null,null,null,1.5,null,{"$f":"IF(K75=AD58,'RESUMEN GENERAL'!G75*100,0)","v":0},null,null,null,null,"Equipamiento para la separación de residuos ",null,null,null,null,1,1.5,1,1.5,null,{"$f":"IF(AND(K75=AD58,Y75>0),\"Incorpora equipamiento\",\"no incorpora equipamiento\")","v":"no incorpora equipamiento"}]
[null,"11.1",null,"Ventilación Mecánica – Caudal de diseño",null,null,null,null,null,null,"Si",null,{"$f":"IF(K76=AD58,'Evaluacion INST.CAI Voluntarios'!Q8,\"-\")","v":"No Aplica"},null,null,null,{"$f":"IF(K76=AD58,'RESUMEN GENERAL'!F76,\"-\")","v":"Aumento del caudal de ventilación [litros/seg]"},null,null,null,null,null,6,null,{"$f":"IF(K76=AD58,'RESUMEN GENERAL'!G76*100,0)","v":0},null,null,null,null,"Ventilación Mecánica – Caudal de diseño ",null,null,null,null,3,3,6,6]
[null,"11.2",null,"Ventilación Mecánica - Filtraje",null,null,null,null,null,null,"Si",null,{"$f":"IF(K77=AD58,(LOOKUP(AN77,AO77:AQ77,AR77:AT77)),\"-\")","v":"50% efic. o MERV 9 y arrestancia ≤ 98%."},null,null,null,{"$f":"IF(K77=AD58,'RESUMEN GENERAL'!F77,\"-\")","v":"Eficiencia promedio filtraje [% ]"},null,null,null,null,null,2,null,{"$f":"IF(K77=AD58,'RESUMEN GENERAL'!G77*100,0)","v":0},null,null,null,null,"Ventilación Mecánica - Filtraje",null,null,null,null,1,1,2,2,null,{"$f":"'Evaluacion INST.CAI Voluntarios'!Q24","v":"No Aplica"},"Eficiencia promedio de filtraje de 30% o MERV 7, con arrestancia mínima de 90%.","Eficiencia promedio de filtraje de 40% o MERV 8 con arrestancia mínima de 95%.","Eficiencia promedio de filtraje de 50% o MERV 9 con arrestancia mínima de 98%, o más.","30% efic. o MERV 7 y arrestancia ≤ 90%.","40% efic. o MERV 8 y arrestancia ≤ 95%.","50% efic. o MERV 9 y arrestancia ≤ 98%."]
[null,"11.3",null,"Monitoreo de la calidad del aire",null,null,null,null,null,null,"Si",null,{"$f":"IF(AND(K78=AD58,Y78<>0),\"Incluye monitoreo y alerta\",\"-\")","v":"-"},null,null,null,{"$f":"IF(K78=AD58,'RESUMEN GENERAL'!F78,\"-\")","v":"Sistema de monitoreo de concentración de CO2"},null,null,null,null,null,1,null,{"$f":"IF(K78=AD58,'RESUMEN GENERAL'!G78*100,0)","v":0},null,null,null,null,"Monitoreo de la calidad del aire",null,null,null,null,1,1,1,1]
[null,12,null,"Control del ruido proveniente de equipos",null,null,null,null,null,null,"Si",null,{"$f":"IF(K79=AD58,AQ79,\"-\")","v":{"$error":"#N/A"}},null,null,null,{"$f":"IF(K79=AD58,AR79,\"-\")","v":{"$error":"#N/A"}},null,null,null,null,null,0.5,null,{"$f":"IF(K79=AD58,'RESUMEN GENERAL'!H79*100,0)","v":0},null,null,null,null,"Control del ruido proveniente de equipos",null,null,null,null,1,0.5,1,0.5,null,{"$f":"LOOKUP(MAX('RESUMEN GENERAL'!G79:G80),'RESUMEN GENERAL'!G79:G80,'RESUMEN GENERAL'!F79:F80)","v":{"$error":"#N/A"}},{"$f":"'RESUMEN GENERAL'!F79","v":"Valores máximos del nivel sonoro"},{"$f":"'RESUMEN GENERAL'!F80","v":"Elección de equipos y diseño"},{"$f":"IF(AN79=AO79,'Evaluacion INST.CAI Voluntarios'!Q56,'Evaluacion INST.CAI Voluntarios'!Q71)","v":{"$error":"#N/A"}},{"$f":"IF(AN79=AO79,\"Evaluación prestacional: valores máximos de nivel sonoro en dB(A)\",\"Evaluación prescriptiva: características de las instalaciones\")","v":{"$error":"#N/A"}}]
[null,13,null,"UGR, IRC y Uniformidad media",null,null,null,null,null,null,"Si",null,{"$f":"IF(K80=AD58,AN80,\"-\")","v":"No cumple UGR, IRC y Um"},null,null,null,{"$f":"IF(K80=AD58,D80,\"-\")","v":"UGR, IRC y Uniformidad media"},null,null,null,null,null,2,null,{"$f":"IF(K80=AD58,'RESUMEN GENERAL'!H81*100,\"-\")","v":0},null,null,null,null,"UGR ≤ 19, IRC > 80, Uniformidad media ≥ 0.7  ",null,null,null,null,1,1,2,2,null,{"$f":"IF(Y80>0,\"Cumple UGR, IRC y Um\",\"No cumple UGR, IRC y Um\")","v":"No cumple UGR, IRC y Um"}]
[null,14,null,"Controlabilidad de la climatización",null,null,null,null,null,null,"Si",null,{"$f":"IF(K81=AD58,'Evaluacion INST.CAI Voluntarios'!Q148,\"-\")","v":0},null,null,null,{"$f":"IF(K81=AD58,'RESUMEN GENERAL'!F85,\"-\")","v":"Cantidad y distribución de los controles del sistema de climatización"},null,null,null,null,null,2,null,{"$f":"IF(K81=AD58,'RESUMEN GENERAL'!H85*100,\"-\")","v":0},null,null,null,null,"Controlabilidad de la climatización",null,null,null,null,2,2,2,2]
[null,"15 a 18",null,"Consumo de energía",null,null,null,null,null,null,"No",null,{"$f":"IF(K82=AD58,'Evaluacion INST.Energia Volunta'!Q8,\"-\")","v":"-"},null,null,null,{"$f":"IF(K82=AD58,\"Evaluación prestacional de consumo de energia de todo el edificio\",\"-\")","v":"-"},null,null,null,null,null,{"$f":"LOOKUP(2,$AI$59:$AL$59,AI82:AL82)","v":18},null,{"$f":"IF(K82=AD58,'RESUMEN GENERAL'!H86*100,0)","v":0},null,null,null,null,null,null,null,null,null,18,18,18,18]
[null,"15.1",null,"Potencia instalada  iluminación, en w/m2",null,null,null,null,null,null,"Si",null,{"$f":"IF(K83=AD58,'Evaluacion INST.Energia Volunta'!Q24,\"-\")","v":0},null,null,null,{"$f":"IF(K83=AD58,'RESUMEN GENERAL'!F87,\"-\")","v":"Reducción de potencia instalada de iluminación artificial [%]"},null,null,null,null,null,3,null,{"$f":"IF(AND(K83=AD58,Y82=0),'RESUMEN GENERAL'!G87*100,0)","v":0},null,null,null,null,"Potencia instalada ilumnación, en w/m2",null,null,null,null,3,3,3,3]
[null,"15.2",null,"Sistemas de control iluminación",null,null,null,null,null,null,"Si",null,{"$f":"IF(K84=AD58,'Evaluacion INST.Energia Volunta'!Q40,\"-\")","v":0},null,null,null,{"$f":"IF(K84=AD58,'RESUMEN GENERAL'!F88,\"-\")","v":"Incorporación de sistemas de control"},null,null,null,null,null,2,null,{"$f":"IF(AND(K84=AD58,Y82=0),'RESUMEN GENERAL'!H88*100,0)","v":0},null,null,null,null,"Sistemas de control iluminación",null,null,null,null,2,2,2,2]
[null,"16.1",null,"Relación de la potencia requerida (Pr) e instalada en climatización",null,null,null,null,null,null,"Si",null,{"$f":"IF(K85=AD58,AN85,\"-\")","v":"Cubre apropiadamente la potencia requerida"},null,null,null,{"$f":"IF(K85=AD58,\"Cobertura de potencia requerida y sobredimensionamiento máximo\",\"-\")","v":"Cobertura de potencia requerida y sobredimensionamiento máximo"},null,null,null,null,null,2,null,{"$f":"IF(AND(K85=AD58,Y82=0),'RESUMEN GENERAL'!H89*100,0)","v":0},null,null,null,null,"Relación de la potencia requerida e instalada",null,null,null,null,2,2,2,2,null,{"$f":"IF(Y85=W85,\"Potencia requerida e instalada apropiada\",AO85)","v":"Cubre apropiadamente la potencia requerida"},{"$f":"IF(Y85<2,\"Cubre apropiadamente la potencia requerida\",\"no cubre la potencia requerida\")","v":"Cubre apropiadamente la potencia requerida"}]
[null,"16.2",null,"Rendimiento nominal de equipos de climatización y ACS",null,null,null,null,null,null,"Si",null,{"$f":"IF(K86=AD58,LOOKUP(Q86,AQ86:AR86,AS86:AT86),\"-\")","v":0},null,null,null,{"$f":"IF(K86=AD58,LOOKUP(AN86,AO86:AP86,AQ86:AR86),\"-\")","v":"Rendimiento nominal del sistema de calefacción y enfriamiento por electricidad"},null,null,null,null,null,8,null,{"$f":"IF(AND(K86=AD58,Y82=0),MAX('RESUMEN GENERAL'!G92:G93)*100,0)","v":0},null,null,null,null,"Rendimiento nominal de equipos de climatización y ACS",null,null,null,null,8,8,8,8,null,{"$f":"MAX('RESUMEN GENERAL'!G92:G93)*100","v":0},{"$f":"'RESUMEN GENERAL'!G92*100","v":0},{"$f":"'RESUMEN GENERAL'!G93*100","v":0},{"$f":"'RESUMEN GENERAL'!F92","v":"Rendimiento nominal del sistema de calefacción por combustión"},{"$f":"'RESUMEN GENERAL'!F93","v":"Rendimiento nominal del sistema de calefacción y enfriamiento por electricidad"},{"$f":"'Evaluacion INST.Energia Volunta'!Q102","v":0},{"$f":"'Evaluacion INST.Energia Volunta'!Q117","v":0}]
[null,17,null,"Reducción de la potencia de equipos y artefactos",null,null,null,null,null,null,"Si",null,{"$f":"IF(K87=AD58,'Evaluacion INST.Energia Volunta'!Q133,\"-\")","v":0},null,null,null,{"$f":"IF(K87=AD58,'RESUMEN GENERAL'!F94,\"-\")","v":"Disminución de consumo de energía en equipos y artefactos"},null,null,null,null,null,1,null,{"$f":"IF(AND(K87=AD58,Y82=0),'RESUMEN GENERAL'!H94*100,0)","v":0},null,null,null,null,"Reducción de la potencia de equipos y artefactos",null,null,null,null,1,1,1,1]
[null,18,null,"ERNC o procesos de cogeneración de alta eficiencia.",null,null,null,null,null,null,"Si",null,{"$f":"IF(K88=AD58,'Evaluacion INST.Energia Volunta'!Q149,\"-\")","v":0},null,null,null,{"$f":"IF(K88=AD58,'RESUMEN GENERAL'!F95,\"-\")","v":"Cobertura de demanda de energía primaria del edificio con ERNC"},null,null,null,null,null,2,null,{"$f":"IF(AND(K88=AD58,Y82=0),'RESUMEN GENERAL'!H95*100,0)","v":0},null,null,null,null,"ERNC o procesos de cogeneración de alta eficiencia.",null,null,null,null,2,2,2,2]
[null,"19.1",null,"Reducción del consumo de agua potable, en m3 año",null,null,null,null,null,null,"Si",null,{"$f":"IF(K89=AD58,'Evaluacion INST.AGUA Voluntario'!Q8,\"-\")","v":0},null,null,null,{"$f":"IF(K89=AD58,'RESUMEN GENERAL'!F96,\"-\")","v":"Disminución de consumo de agua potable [%]"},null,null,null,null,null,2.5,null,{"$f":"IF(K89=AD58,'RESUMEN GENERAL'!H96*100,0)","v":0},null,null,null,null,"Reducción del consumo de agua potable",null,null,null,null,6,6,2.5,2.5]
[null,"19.2",null,"Reducción de la dureza del agua",null,null,null,null,null,null,"Si",null,{"$f":"IF(AND(K90=AD58,AN90<>0),\"Posee sistema de tratamiento de dureza\",\"-\")","v":"-"},null,null,null,{"$f":"IF(K90=AD58,'RESUMEN GENERAL'!F97,\"-\")","v":"Tratamiento para la remoción de dureza de agua"},null,null,null,null,null,0.5,null,{"$f":"IF(K90=AD58,'RESUMEN GENERAL'!H97*100,0)","v":0},null,null,null,null,"Reducción de la dureza del agua",null,null,null,null,0.5,0.5,0.5,0.5]
[null,20,null,"Eficiencia hídrica del sistema de riego",null,null,null,null,null,null,"Si",null,{"$f":"IF(K91=AD58,'Evaluacion INST.AGUA Voluntario'!Q40,\"-\")","v":0},null,null,null,{"$f":"IF(K91=AD58,'RESUMEN GENERAL'!F98,\"-\")","v":"Disminución del consumo de agua para riego [%]"},null,null,null,null,null,0.5,null,{"$f":"IF(K91=AD58,'RESUMEN GENERAL'!H98*100,0)","v":0},null,null,null,null,"Eficiencia hídrica del sistema de riego",null,null,null,null,1,1,0.5,0.5]
[null,21,null,"Separación, control y reciclaje de residuos generados durante la construcción",null,null,null,null,null,null,"Si",null,{"$f":"IF(AND(K92=AD58,Y92>0),\"Separa, controla y recicla residuos\",\"-\")","v":"-"},null,null,null,{"$f":"IF(K92=AD58,'RESUMEN GENERAL'!F99,\"-\")","v":"Separación, control y reciclaje de residuos de construcción"},null,null,null,null,null,1,null,{"$f":"IF(K92=AD58,'RESUMEN GENERAL'!H99*100,0)","v":0},null,null,null,null,"Separación, control y reciclaje de residuos generados durante la construcción",null,null,null,null,1,1,1,1]
[null,22,null,"Generar las condiciones y desarrollar un proceso de diseño integrado",null,null,null,null,null,null,"Si",null,{"$f":"IF(AND(K93=AD58,'Evaluacion GESTION Voluntarios'!Q8>0),AN93,\"-\")","v":"-"},null,null,null,{"$f":"IF(K93=AD58,'Evaluacion GESTION Voluntarios'!Q8,\"-\")","v":0},null,null,null,null,null,4,null,{"$f":"'RESUMEN GENERAL'!H100*100","v":0},null,null,null,null,"Generar las condiciones y desarrollar un proceso de diseño integrado",null,null,null,null,4,4,4,4,null,{"$f":"IF(AND(Y93>0,Y93<4),\"Actas de reuniones\",'RESUMEN GENERAL'!F100)","v":"Actas de reuniones e informe"}]
[null,23,null,"Gestión de la operación y mantenimiento",null,null,null,null,null,null,"Si",null,{"$f":"IF(K94=AD58,'Evaluacion GESTION Voluntarios'!Q24,\"-\")","v":0},null,null,null,{"$f":"IF(K94=AD58,'RESUMEN GENERAL'!F101,\"-\")","v":"Compromiso y plan de mejora continua"},null,null,null,null,null,"Sello Plus Operación",null,{"$f":"IF(AND(K94=AD58,M94=\"Cumple condiciones de sello plus\"),W94,\"-\")","v":"-"},null,null,null,null,"Gestión de la operación y mantenimiento",null,null,null,null,null,null,null,null,null,{"$f":"IF(AND(K93=AD58,Y93>0),AN93,\"-\")","v":"-"}]
[null,"4. INFORMACIÓN QUE SE ADJUNTA A ESTE INFORME",null,null,null,null,null,null,null,null,null,null,null,null,null,null,null,null,null,null,null,null,null,null,null,null,null,null,null,null,null,null,null,null,{"$f":"SUM(AI60:AI94)","v":123},{"$f":"SUM(AJ60:AJ94)","v":123},123,123]
[null,"Documento",null,null,null,null,null,null,null,null,null,null,null,null,null,null,null,null,null,"Número",null,null,null,"Fecha"]
[null,"Solicitud de evaluación",null,null,null,null,null,null,null,null,null,null,null,null,null,null,null,null,null,null,null,null,null,"2015-12-22"]
[null,"Acta de observaciones"]
[null,"Acta de visita a terreno"]
[null,"Oficio de respuesta a observaciones"]
[null,"Otro 1"]
[null,"Otro 2"]
[null,"Otro 3"]
[null,"5. RESPONSABILIDADES"]
[null,"Mediante el presente informe, la entidad evaluadora declara que:"]
[null,null,"A. Está en pleno conocimiento de las responsabilidades que se le atribuyen en el Manual de Operación de la “Certificación Edificio Sustentable”."]
[null,null,"B. Los indicadores y los cálculos realizados por la entidad evaluadora para definirlos, fueron obtenidos según lo definido en el Manual de Evaluación y Calificación de la “Certificación Edificio Sustentable”."]
[null,null,"C. La información aquí declarada es verídica."]
[]
[]
[]
[]
[]
[]
[]
[null,null,null,null,null,null,null,null,null,null,null,null,null,null,null,"Firma y timbre del representante Entidad Evaluadora"]
[null,null,null,null,null,null,null,null,null,null,null,null,null,null,null,"Nombre",null,null,null,null,null,null,null,"R.U.T."]